{"text_format":"1","workbook":"xlsx","n_sheets":6,"sheets":["PARTITA","Statistiche della partita","Tables","Points","Istruzioni","Licenza_Attribuzione"],"not_rendered":{"charts":0,"images":1,"macros":1,"external_links":0,"defined_names":2,"comments":0,"pivot_tables":0},"unopened":[],"bounds":{"document_bytes":16777216,"sheet_cells":100000,"rows_first":2000,"rows_last":500,"rows_between":2000,"halvings":0,"cell_chars":16384,"cell_head_chars":4096},"cells_cut":0,"cells_raw":0,"read":"whole","date_system":"1900"}

{"sheet":"PARTITA","index":0,"n_rows":505,"n_cols":58,"rows_kept":505,"cut":false,"hidden":false,"merged":[]}
["Giocatore 1",null,"* (Giocatore che inizia a servire; nome per intero)",null,null,null,null,null,{"$f":"LEFT(B1,1)&IF(ISERROR(FIND(\" \",B1,1)),\"\",MID(B1,FIND(\" \",B1,1)+1,1))&IF(ISERROR(FIND(\" \",B1,FIND(\" \",B1,1)+1)),\"\",MID(B1,FIND(\" \",B1,FIND(\" \",B1,1)+1)+1,1))","v":""},null,null,null,null,"MatchChart è uno strumento per registrare nel dettaglio ogni punto di una partita di tennis. Alcune statistiche note (e meno note)"]
["Giocatore 2",null,"* (Giocatore che inizia alla risposta; nome per intero)",null,null,null,null,null,{"$f":"LEFT(B2,1)&IF(ISERROR(FIND(\" \",B2,1)),\"\",MID(B2,FIND(\" \",B2,1)+1,1))&IF(ISERROR(FIND(\" \",B2,FIND(\" \",B2,1)+1)),\"\",MID(B2,FIND(\" \",B2,FIND(\" \",B2,1)+1)+1,1))","v":""},null,null,null,null,"sono disponibili nella sezione \"Statistiche della partita\". Analisi più approfondite sono disponibili dopo l'invio della partita mappata."]
["Mano Giocatore 1",null,"* (R = Destro, L = Mancino)"]
["Mano Giocatore 2",null,"* (R = Destro, L = Mancino)",null,null,null,null,null,null,null,null,null,null,"Prima di iniziare, salvate il file con un nuovo nome identificativo della partita che state mappando, ad esempio \"MatchChart 0.2.0 2013 US Open Djokovic Nadal\"."]
["Sesso",null,"* (M = Uomini, W = Donne)"]
["Data",null,"* (AAAAMMGG)",null,null,null,null,null,null,null,null,null,null,"Per iniziare, scrivete i nomi dei giocatori nelle celle B1 e B2. 'Giocatore 1' è il giocatore che serve per primo."]
["Torneo",null,"* (ad esempio US Open)",null,null,null,null,null,null,null,null,null,null,"E' obbligatorio compilare le celle da B1 a B8; indicazioni specifiche si trovano nella colonna C."]
["Turno",null,"* (ad esempio R32; QF)"]
["Ora inizio",null,"(ora locale; ad esempio 9:00 PM)",null,null,null,null,null,null,null,null,null,null,"Per iniziare a mappare, inserite la squenza di colpi del primo punto nella cella N18 e O18. Una volta terminata la notazione del punto, con il tasto invio la fila successiva"]
["Campo",null,"(ad esempio Centrale)",null,null,null,null,null,null,null,null,null,null,"si aggiorna automaticamente. Istruzioni dettagliate per la mappatura sono nella sezione \"Istruzioni\"."]
["Superficie",null,"(Clay = Terra, Grass = Erba, Hard = Cemento o Indoor)"]
["Giudice di sedia",null,"(ad esempio Lars Graff)",null,null,null,null,null,null,null,null,null,null,"Quando avete completato la vostra mappatura, inviatela a Jeff Sackmann, jeffsackmann@gmail.com, per il caricamento su tennisabstract.com."]
["Al meglio di",null,"* (3 o 5)"]
["Tiebreak ultimo set?",null,"* (tipicamente 1; vedere la sezione Istruzioni per altre opzioni)",null,null,null,null,null,{"$f":"IF(B14=\"W\",8,6)","v":6},{"$f":"I14+1","v":7},null,null,null,null,null,null,null,null,null,null,null,null,null,null,null,null,null,null,null,{"$f":"SUM(IF(AD18:AD21,1,0))","v":{"$error":"#VALUE!"}}]
["Mappato da",null,"* (il vostro nome o soprannome; da mantenere uguale per ogni partita)",null,null,null,null,null,null,null,null,null,null,null,null,null,null,null,null,null,null,null,null,null,null,null,null,null,null,{"$f":"COUNTIFS(PARTITA!AD18:AD500, \"=TRUE\", PARTITA!AN18:AN500, \"=2\")","v":0}]
[null,null,null,null,null,null,null,null,null,null,null,null,null,null,null,null,null,null,null,null,null,null,null,null,null,null,null,null,null,null,null,null,null,null,null,null,null,null,null,null,null,null,null,null,null,{"$f":"IF(AN16=\"\",\"\",IF(AR16=7,1,IF(AS16=7,2,IF(AND(AR16=6,AS16<5),1,IF(AND(AS16=6,AR16<5),2,0)))))","v":""}]
["Punti","Set1","Set2","Gm1","Gm2","Punti","# Game (#Punti)","TbSet","TB?","TBpt","Svr","Ret","Al servizio","Prima","Seconda","Note","1stNoLet","2ndNoLet","1stSV","2ndSV","1stNoSV","2ndNoSV","1stIn","2ndIn","isRally1st","isRally2nd","Sv1","Sv2","Rally","isAce","isUnret","isRallyWinner","isForced","isUnforced","isDouble","rallyNoSpec","rallyNoError","rallyNoDirection","rallyLen","PtWinner","isSvrWinner","PuntoSuccessivo","GmW","Gm1","Gm2","SetW","Set1","Set2","RevTB","TBrev","ConteggioScambio",null,null,null,null,null,"Gm#","GmPt"]
[1,0,0,0,0,"0-0",{"$f":"IF(BE18=\"\",\"\",BE18&\" (\"&BF18&\")\")","v":"1 (1)"},{"$f":"IF(A18=\"\",\"\",IF(OR(B$14=1,B$14=\"S\",AND(B$14<>\"V\",(B18+C18+1)<B$13)),1,0))","v":0},{"$f":"IF(A18=\"\",\"\",IF(AND(D18=$I$14,E18=$I$14,H18=1),1,IF(AND(B$14=\"S\",(B18+C18+1)=B$13),\"S\",0)))","v":0},{"$f":"IF(OR(I18=1,I18=\"S\"),IF(F18=\"0-0\",1,J17+1),\"\")","v":""},{"$f":"IF(A18=\"\",\"\",IF(OR(I18=1,I18=\"S\"),IF(VLOOKUP(J18,Tables!E$1:F$50,2,FALSE)=1,IF(MOD(BE18,2)=1,1,2),IF(MOD(BE18,2)=1,2,1)),IF(MOD(BE18,2)=1,1,2)))","v":1},{"$f":"IF(A18=\"\",\"\",IF(K18=1,2,1))","v":2},{"$f":"IF(A18=\"\",\"\",IF(K18=1,I$1,I$2))","v":""},null,null,null,{"$f":"IF(N18=\"\",\"\",SUBSTITUTE(N18, \"c\", \"\"))","v":""},{"$f":"SUBSTITUTE(O18, \"c\", \"\")","v":""},{"$f":"IF(N18=\"\",\"\",IF(MID(Q18,2,1)=\"+\",1,0))","v":""},{"$f":"IF(O18=\"\",\"\",IF(MID(R18,2,1)=\"+\",1,0))","v":""},{"$f":"IF(N18=\"\",\"\",IF(S18=1,SUBSTITUTE(Q18, \"+\", \"\",1),Q18))","v":""},{"$f":"IF(T18=1,SUBSTITUTE(R18, \"+\", \"\",1),R18)","v":""},{"$f":"IF(N18=\"\",\"\",IF(LEN(N18)=1,0,IF(ISERROR(FIND(MID(U18,2,1),\"wdnxge!VPQRS\"))=TRUE,1,0)))","v":""},{"$f":"IF(O18=\"\",\"\",IF(ISERROR(FIND(MID(V18,2,1),\"wdnxge!VPQRS\"))=TRUE,1,0))","v":""},{"$f":"IF(N18=\"\",\"\",IF(W18=0,0,IF(LEN(U18)>2,1,0)))","v":""},{"$f":"IF(N18=\"\",\"\",IF(X18=0,0,IF(LEN(V18)>2,1,0)))","v":""},{"$f":"IF(N18=\"\",\"\",IF(Y18=0,Q18,LEFT(U18,1)))","v":""},{"$f":"IF(N18=\"\",\"\",IF(Z18=0,V18,LEFT(V18,1)))","v":""},{"$f":"IF(N18=\"\",\"\",IF(Y18=1,RIGHT(U18,(LEN(U18)-1)),IF(Z18=1,RIGHT(V18,(LEN(V18)-1)),\"\")))","v":""},{"$f":"IF(AA18=\"\",\"\",OR(IF(ISERR(FIND(\"*\",AA18)),FALSE,TRUE), IF(ISERR(FIND(\"*\",AB18)),FALSE,TRUE)))","v":""},{"$f":"IF(AA18=\"\",\"\",OR(IF(ISERR(FIND(\"#\",AA18)),FALSE,TRUE), IF(ISERR(FIND(\"#\",AB18)),FALSE,TRUE)))","v":""},{"$f":"IF(AA18=\"\",\"\",IF(ISERR(FIND(\"*\",AC18)),FALSE,TRUE))","v":""},{"$f":"IF(AA18=\"\",\"\",IF(ISERR(FIND(\"#\",AC18)),FALSE,TRUE))","v":""},{"$f":"IF(AA18=\"\",\"\",IF(ISERR(FIND(\"@\",AC18)),FALSE,TRUE))","v":""},{"$f":"IF(N18=\"\",\"\",IF(AND(W18=0,X18=0),TRUE,FALSE))","v":""},{"$f":"SUBSTITUTE(SUBSTITUTE(SUBSTITUTE(SUBSTITUTE(SUBSTITUTE(SUBSTITUTE(SUBSTITUTE(SUBSTITUTE(AC18, \"-\", \"\"), \"=\", \"\"), \"@\", \"\"), \"#\", \"\"), \"*\", \"\"), \";\", \"\"), \"+\", \"\"), \"^\", \"\")","v":""},{"$f":"SUBSTITUTE(SUBSTITUTE(SUBSTITUTE(SUBSTITUTE(SUBSTITUTE(SUBSTITUTE(AJ18, \"d\", \"\"), \"w\", \"\"), \"x\", \"\"), \"e\", \"\"), \"n\", \"\"), \"!\", \"\")","v":""},{"$f":"SUBSTITUTE(SUBSTITUTE(SUBSTITUTE(SUBSTITUTE(SUBSTITUTE(SUBSTITUTE(AK18, \"1\", \"\"), \"2\", \"\"), \"3\", \"\"), \"7\", \"\"), \"8\", \"\"), \"9\", \"\")","v":""},{"$f":"IF(N18=\"\",\"\",LEN(AL18))","v":""},{"$f":"IF(OR(N18=\"P\",N18=\"R\"),L18,IF(OR(N18=\"Q\",N18=\"S\"),K18,IF(AND(AC18=\"\",OR(AD18=FALSE,AD18=\"\"),OR(AE18=FALSE,AE18=\"\"),OR(AI18=FALSE,AI18=\"\")),\"\",IF(OR(AD18=TRUE,AE18=TRUE,AND((MOD(AM18,2)=0),AF18=TRUE),AND((MOD(AM18,2)=1),OR(AG18=TRUE,AH18=TRUE))),K18,L18))))","v":""},{"$f":"IF(AN18=\"\",\"\",IF(AN18=K18,1,0))","v":""},{"$f":"IF(AN18=\"\",\"\",IF(I18=0,IF(AO18=1,VLOOKUP(F18,Tables!A$1:C$18,2,FALSE),VLOOKUP(F18,Tables!A$1:C$18,3,FALSE)),IF(I18=1, IF(AO18=1,VLOOKUP(F18,Tables!H$1:J$95,2,FALSE),VLOOKUP(F18,Tables!H$1:J$95,3,FALSE)),IF(AO18=1,VLOOKUP(F18,Tables!Q$1:S$137,2,FALSE),VLOOKUP(F18,Tables!Q$1:S$137,3,FALSE)))))","v":""},{"$f":"IF(AN18=\"\",\"\",IF(AP18=\"GM\",AN18,0))","v":""},{"$f":"IF(AN18=\"\",\"\",IF(AQ18=1,D18+1,D18))","v":""},{"$f":"IF(AN18=\"\",\"\",IF(AQ18=2,E18+1,E18))","v":""},{"$f":"IF(AN18=\"\",\"\",IF(AND(AR18>5,(AR18-AS18)>1),1,IF(AND(AS18>5,(AS18-AR18)>1),2,IF(AND(H18=1,AR18=$J$14),1,IF(AND(H18=1,AS18=$J$14),2,IF(AND(I18=\"S\",AR18=1),1,IF(AND(I18=\"S\",AS18=1),2,0)))))))","v":""},{"$f":"IF(AN18=\"\",\"\",IF(AT18=1,B18+1,B18))","v":""},{"$f":"IF(AN18=\"\",\"\",IF(AT18=2,C18+1,C18))","v":""},{"$f":"IF(J18=\"\",\"\",IF(AND(OR(I18=1,I18=\"S\"),MOD(J18,2)=1,NOT(AP18=\"GM\")),1,\"\"))","v":""},{"$f":"IF(AW18=1,CONCATENATE(RIGHT(AP18,(LEN(AP18)-FIND(\"-\",AP18))),\"-\",LEFT(AP18,FIND(\"-\",AP18)-1)),\"\")","v":""},{"$f":"IF(AA18=\"\",\"\",IF(OR(RIGHT(AC18,1)=\"@\",RIGHT(AC18,1)=\"#\"),AM18,IF(AI18=TRUE,0,AM18+1)))","v":""},null,{"$f":"IF(AA18=\"\",\"\",SUM(B18,C18,1))","v":""},{"$f":"IF(AA18=\"\",\"\",\"SET \"&BA18&\": \"&D18&\"-\"&E18&\", \"&F18)","v":""},{"$f":"IF(AA18=\"\",\"\",IF(AT18>0,(AU18+AV18),IF(AND(NOT(D19=\"\"),D20=\"\"),AU18+AV18+1,\"\")))","v":""},{"$f":"IF(NOT(BC18=\"\"),AR18&\"-\"&AS18,\"\")","v":""},1,1]
[{"$f":"IF(AN18=\"\",\"\",A18+1)","v":""},{"$f":"IF(A19=\"\",\"\",AU18)","v":""},{"$f":"IF(A19=\"\",\"\",AV18)","v":""},{"$f":"IF(A19=\"\",\"\",IF(AT18=0,AR18,0))","v":""},{"$f":"IF(A19=\"\",\"\",IF(AT18=0,AS18,0))","v":""},{"$f":"IF(A19=\"\",\"\",IF(AW18=1,AX18,IF(AP18=\"GM\",\"0-0\",AP18)))","v":""},{"$f":"IF(BE19=\"\",\"\",BE19&\" (\"&BF19&\")\")","v":""},"","","",{"$f":"IF(A19=\"\",\"\",IF(OR(I19=1,I19=\"S\"),IF(VLOOKUP(J19,Tables!E$1:F$50,2,FALSE)=1,IF(MOD(BE19,2)=1,1,2),IF(MOD(BE19,2)=1,2,1)),IF(MOD(BE19,2)=1,1,2)))","v":""},"","",null,null,null,"",{"$f":"SUBSTITUTE(O19, \"c\", \"\")","v":""},{"$f":"IF(N19=\"\",\"\",IF(MID(Q19,2,1)=\"+\",1,0))","v":""},{"$f":"IF(O19=\"\",\"\",IF(MID(R19,2,1)=\"+\",1,0))","v":""},{"$f":"IF(N19=\"\",\"\",IF(S19=1,SUBSTITUTE(Q19, \"+\", \"\",1),Q19))","v":""},{"$f":"IF(T19=1,SUBSTITUTE(R19, \"+\", \"\",1),R19)","v":""},{"$f":"IF(N19=\"\",\"\",IF(LEN(N19)=1,0,IF(ISERROR(FIND(MID(U19,2,1),\"wdnxge!VPQRS\"))=TRUE,1,0)))","v":""},{"$f":"IF(O19=\"\",\"\",IF(ISERROR(FIND(MID(V19,2,1),\"wdnxge!VPQRS\"))=TRUE,1,0))","v":""},{"$f":"IF(N19=\"\",\"\",IF(W19=0,0,IF(LEN(U19)>2,1,0)))","v":""},{"$f":"IF(N19=\"\",\"\",IF(X19=0,0,IF(LEN(V19)>2,1,0)))","v":""},{"$f":"IF(N19=\"\",\"\",IF(Y19=0,Q19,LEFT(U19,1)))","v":""},{"$f":"IF(N19=\"\",\"\",IF(Z19=0,V19,LEFT(V19,1)))","v":""},{"$f":"IF(N19=\"\",\"\",IF(Y19=1,RIGHT(U19,(LEN(U19)-1)),IF(Z19=1,RIGHT(V19,(LEN(V19)-1)),\"\")))","v":""},{"$f":"IF(AA19=\"\",\"\",OR(IF(ISERR(FIND(\"*\",AA19)),FALSE,TRUE), IF(ISERR(FIND(\"*\",AB19)),FALSE,TRUE)))","v":""},{"$f":"IF(AA19=\"\",\"\",OR(IF(ISERR(FIND(\"#\",AA19)),FALSE,TRUE), IF(ISERR(FIND(\"#\",AB19)),FALSE,TRUE)))","v":""},{"$f":"IF(AA19=\"\",\"\",IF(ISERR(FIND(\"*\",AC19)),FALSE,TRUE))","v":""},{"$f":"IF(AA19=\"\",\"\",IF(ISERR(FIND(\"#\",AC19)),FALSE,TRUE))","v":""},{"$f":"IF(AA19=\"\",\"\",IF(ISERR(FIND(\"@\",AC19)),FALSE,TRUE))","v":""},"",{"$f":"SUBSTITUTE(SUBSTITUTE(SUBSTITUTE(SUBSTITUTE(SUBSTITUTE(SUBSTITUTE(SUBSTITUTE(SUBSTITUTE(AC19, \"-\", \"\"), \"=\", \"\"), \"@\", \"\"), \"#\", \"\"), \"*\", \"\"), \";\", \"\"), \"+\", \"\"), \"^\", \"\")","v":""},{"$f":"SUBSTITUTE(SUBSTITUTE(SUBSTITUTE(SUBSTITUTE(SUBSTITUTE(SUBSTITUTE(AJ19, \"d\", \"\"), \"w\", \"\"), \"x\", \"\"), \"e\", \"\"), \"n\", \"\"), \"!\", \"\")","v":""},{"$f":"SUBSTITUTE(SUBSTITUTE(SUBSTITUTE(SUBSTITUTE(SUBSTITUTE(SUBSTITUTE(AK19, \"1\", \"\"), \"2\", \"\"), \"3\", \"\"), \"7\", \"\"), \"8\", \"\"), \"9\", \"\")","v":""},"","","",{"$f":"IF(AN19=\"\",\"\",IF(I19=0,IF(AO19=1,VLOOKUP(F19,Tables!A$1:C$18,2,FALSE),VLOOKUP(F19,Tables!A$1:C$18,3,FALSE)),IF(I19=1, IF(AO19=1,VLOOKUP(F19,Tables!H$1:J$95,2,FALSE),VLOOKUP(F19,Tables!H$1:J$95,3,FALSE)),IF(AO19=1,VLOOKUP(F19,Tables!Q$1:S$137,2,FALSE),VLOOKUP(F19,Tables!Q$1:S$137,3,FALSE)))))","v":""},{"$f":"IF(AN19=\"\",\"\",IF(AP19=\"GM\",AN19,0))","v":""},"","","","","",{"$f":"IF(J19=\"\",\"\",IF(AND(OR(I19=1,I19=\"S\"),MOD(J19,2)=1,NOT(AP19=\"GM\")),1,\"\"))","v":""},{"$f":"IF(AW19=1,CONCATENATE(RIGHT(AP19,(LEN(AP19)-FIND(\"-\",AP19))),\"-\",LEFT(AP19,FIND(\"-\",AP19)-1)),\"\")","v":""},{"$f":"IF(AA19=\"\",\"\",IF(OR(RIGHT(AC19,1)=\"@\",RIGHT(AC19,1)=\"#\"),AM19,IF(AI19=TRUE,0,AM19+1)))","v":""},null,"","","","",{"$f":"IF(A19=\"\",\"\",IF(AP18=\"GM\",BE18+1,BE18))","v":""},{"$f":"IF(A19=\"\",\"\",IF(AQ18=0,BF18+1,1))","v":""}]
["","","","","","","","","","",{"$f":"IF(A20=\"\",\"\",IF(OR(I20=1,I20=\"S\"),IF(VLOOKUP(J20,Tables!E$1:F$50,2,FALSE)=1,IF(MOD(BE20,2)=1,1,2),IF(MOD(BE20,2)=1,2,1)),IF(MOD(BE20,2)=1,1,2)))","v":""},"","",null,null,null,"","","",{"$f":"IF(O20=\"\",\"\",IF(MID(R20,2,1)=\"+\",1,0))","v":""},"","","","","","","","","","","","","","","","","","","","","",{"$f":"IF(AN20=\"\",\"\",IF(I20=0,IF(AO20=1,VLOOKUP(F20,Tables!A$1:C$18,2,FALSE),VLOOKUP(F20,Tables!A$1:C$18,3,FALSE)),IF(I20=1, IF(AO20=1,VLOOKUP(F20,Tables!H$1:J$95,2,FALSE),VLOOKUP(F20,Tables!H$1:J$95,3,FALSE)),IF(AO20=1,VLOOKUP(F20,Tables!Q$1:S$137,2,FALSE),VLOOKUP(F20,Tables!Q$1:S$137,3,FALSE)))))","v":""},"","","","","","","","","",null,"","","","","",""]
["","","","","","","","","","",{"$f":"IF(A21=\"\",\"\",IF(OR(I21=1,I21=\"S\"),IF(VLOOKUP(J21,Tables!E$1:F$50,2,FALSE)=1,IF(MOD(BE21,2)=1,1,2),IF(MOD(BE21,2)=1,2,1)),IF(MOD(BE21,2)=1,1,2)))","v":""},"","",null,null,null,"","","","","","","","","","","","","","","","","","","","","","","","","",{"$f":"IF(AN21=\"\",\"\",IF(I21=0,IF(AO21=1,VLOOKUP(F21,Tables!A$1:C$18,2,FALSE),VLOOKUP(F21,Tables!A$1:C$18,3,FALSE)),IF(I21=1, IF(AO21=1,VLOOKUP(F21,Tables!H$1:J$95,2,FALSE),VLOOKUP(F21,Tables!H$1:J$95,3,FALSE)),IF(AO21=1,VLOOKUP(F21,Tables!Q$1:S$137,2,FALSE),VLOOKUP(F21,Tables!Q$1:S$137,3,FALSE)))))","v":""},"","","","","","","","","",null,"","","","","",""]
["","","","","","","","","","",{"$f":"IF(A22=\"\",\"\",IF(OR(I22=1,I22=\"S\"),IF(VLOOKUP(J22,Tables!E$1:F$50,2,FALSE)=1,IF(MOD(BE22,2)=1,1,2),IF(MOD(BE22,2)=1,2,1)),IF(MOD(BE22,2)=1,1,2)))","v":""},"","",null,null,null,"","","","","","","","","","","","","","","","","","","","","","","","","",{"$f":"IF(AN22=\"\",\"\",IF(I22=0,IF(AO22=1,VLOOKUP(F22,Tables!A$1:C$18,2,FALSE),VLOOKUP(F22,Tables!A$1:C$18,3,FALSE)),IF(I22=1, IF(AO22=1,VLOOKUP(F22,Tables!H$1:J$95,2,FALSE),VLOOKUP(F22,Tables!H$1:J$95,3,FALSE)),IF(AO22=1,VLOOKUP(F22,Tables!Q$1:S$137,2,FALSE),VLOOKUP(F22,Tables!Q$1:S$137,3,FALSE)))))","v":""},"","","","","","","","","",null,"","","","","",""]
["","","","","","","","","","",{"$f":"IF(A23=\"\",\"\",IF(OR(I23=1,I23=\"S\"),IF(VLOOKUP(J23,Tables!E$1:F$50,2,FALSE)=1,IF(MOD(BE23,2)=1,1,2),IF(MOD(BE23,2)=1,2,1)),IF(MOD(BE23,2)=1,1,2)))","v":""},"","",null,null,null,"","","","","","","","","","","","","","","","","","","","","","","","","",{"$f":"IF(AN23=\"\",\"\",IF(I23=0,IF(AO23=1,VLOOKUP(F23,Tables!A$1:C$18,2,FALSE),VLOOKUP(F23,Tables!A$1:C$18,3,FALSE)),IF(I23=1, IF(AO23=1,VLOOKUP(F23,Tables!H$1:J$95,2,FALSE),VLOOKUP(F23,Tables!H$1:J$95,3,FALSE)),IF(AO23=1,VLOOKUP(F23,Tables!Q$1:S$137,2,FALSE),VLOOKUP(F23,Tables!Q$1:S$137,3,FALSE)))))","v":""},"","","","","","","","","",null,"","","","","",""]
["","","","","","","","","","",{"$f":"IF(A24=\"\",\"\",IF(OR(I24=1,I24=\"S\"),IF(VLOOKUP(J24,Tables!E$1:F$50,2,FALSE)=1,IF(MOD(BE24,2)=1,1,2),IF(MOD(BE24,2)=1,2,1)),IF(MOD(BE24,2)=1,1,2)))","v":""},"","",null,null,null,"","","","","","","","","","","","","","","","","","","","","","","","","",{"$f":"IF(AN24=\"\",\"\",IF(I24=0,IF(AO24=1,VLOOKUP(F24,Tables!A$1:C$18,2,FALSE),VLOOKUP(F24,Tables!A$1:C$18,3,FALSE)),IF(I24=1, IF(AO24=1,VLOOKUP(F24,Tables!H$1:J$95,2,FALSE),VLOOKUP(F24,Tables!H$1:J$95,3,FALSE)),IF(AO24=1,VLOOKUP(F24,Tables!Q$1:S$137,2,FALSE),VLOOKUP(F24,Tables!Q$1:S$137,3,FALSE)))))","v":""},"","","","","","","","","",null,"","","","","",""]
["","","","","","","","","","",{"$f":"IF(A25=\"\",\"\",IF(OR(I25=1,I25=\"S\"),IF(VLOOKUP(J25,Tables!E$1:F$50,2,FALSE)=1,IF(MOD(BE25,2)=1,1,2),IF(MOD(BE25,2)=1,2,1)),IF(MOD(BE25,2)=1,1,2)))","v":""},"","",null,null,null,"","","","","","","","","","","","","","","","","","","","","","","","","",{"$f":"IF(AN25=\"\",\"\",IF(I25=0,IF(AO25=1,VLOOKUP(F25,Tables!A$1:C$18,2,FALSE),VLOOKUP(F25,Tables!A$1:C$18,3,FALSE)),IF(I25=1, IF(AO25=1,VLOOKUP(F25,Tables!H$1:J$95,2,FALSE),VLOOKUP(F25,Tables!H$1:J$95,3,FALSE)),IF(AO25=1,VLOOKUP(F25,Tables!Q$1:S$137,2,FALSE),VLOOKUP(F25,Tables!Q$1:S$137,3,FALSE)))))","v":""},"","","","","","","","","",null,"","","","","",""]
["","","","","","","","","","",{"$f":"IF(A26=\"\",\"\",IF(OR(I26=1,I26=\"S\"),IF(VLOOKUP(J26,Tables!E$1:F$50,2,FALSE)=1,IF(MOD(BE26,2)=1,1,2),IF(MOD(BE26,2)=1,2,1)),IF(MOD(BE26,2)=1,1,2)))","v":""},"","",null,null,null,"","","","","","","","","","","","","","","","","","","","","","","","","",{"$f":"IF(AN26=\"\",\"\",IF(I26=0,IF(AO26=1,VLOOKUP(F26,Tables!A$1:C$18,2,FALSE),VLOOKUP(F26,Tables!A$1:C$18,3,FALSE)),IF(I26=1, IF(AO26=1,VLOOKUP(F26,Tables!H$1:J$95,2,FALSE),VLOOKUP(F26,Tables!H$1:J$95,3,FALSE)),IF(AO26=1,VLOOKUP(F26,Tables!Q$1:S$137,2,FALSE),VLOOKUP(F26,Tables!Q$1:S$137,3,FALSE)))))","v":""},"","","","","","","","","",null,"","","","","",""]
["","","","","","","","","","",{"$f":"IF(A27=\"\",\"\",IF(OR(I27=1,I27=\"S\"),IF(VLOOKUP(J27,Tables!E$1:F$50,2,FALSE)=1,IF(MOD(BE27,2)=1,1,2),IF(MOD(BE27,2)=1,2,1)),IF(MOD(BE27,2)=1,1,2)))","v":""},"","",null,null,null,"","","","","","","","","","","","","","","","","","","","","","","","","",{"$f":"IF(AN27=\"\",\"\",IF(I27=0,IF(AO27=1,VLOOKUP(F27,Tables!A$1:C$18,2,FALSE),VLOOKUP(F27,Tables!A$1:C$18,3,FALSE)),IF(I27=1, IF(AO27=1,VLOOKUP(F27,Tables!H$1:J$95,2,FALSE),VLOOKUP(F27,Tables!H$1:J$95,3,FALSE)),IF(AO27=1,VLOOKUP(F27,Tables!Q$1:S$137,2,FALSE),VLOOKUP(F27,Tables!Q$1:S$137,3,FALSE)))))","v":""},"","","","","","","","","",null,"","","","","",""]
["","","","","","","","","","",{"$f":"IF(A28=\"\",\"\",IF(OR(I28=1,I28=\"S\"),IF(VLOOKUP(J28,Tables!E$1:F$50,2,FALSE)=1,IF(MOD(BE28,2)=1,1,2),IF(MOD(BE28,2)=1,2,1)),IF(MOD(BE28,2)=1,1,2)))","v":""},"","",null,null,null,"","","","","","","","","","","","","","","","","","","","","","","","","",{"$f":"IF(AN28=\"\",\"\",IF(I28=0,IF(AO28=1,VLOOKUP(F28,Tables!A$1:C$18,2,FALSE),VLOOKUP(F28,Tables!A$1:C$18,3,FALSE)),IF(I28=1, IF(AO28=1,VLOOKUP(F28,Tables!H$1:J$95,2,FALSE),VLOOKUP(F28,Tables!H$1:J$95,3,FALSE)),IF(AO28=1,VLOOKUP(F28,Tables!Q$1:S$137,2,FALSE),VLOOKUP(F28,Tables!Q$1:S$137,3,FALSE)))))","v":""},"","","","","","","","","",null,"","","","","",""]
["","","","","","","","","","",{"$f":"IF(A29=\"\",\"\",IF(OR(I29=1,I29=\"S\"),IF(VLOOKUP(J29,Tables!E$1:F$50,2,FALSE)=1,IF(MOD(BE29,2)=1,1,2),IF(MOD(BE29,2)=1,2,1)),IF(MOD(BE29,2)=1,1,2)))","v":""},"","",null,null,null,"","","","","","","","","","","","","","","","","","","","","","","","","",{"$f":"IF(AN29=\"\",\"\",IF(I29=0,IF(AO29=1,VLOOKUP(F29,Tables!A$1:C$18,2,FALSE),VLOOKUP(F29,Tables!A$1:C$18,3,FALSE)),IF(I29=1, IF(AO29=1,VLOOKUP(F29,Tables!H$1:J$95,2,FALSE),VLOOKUP(F29,Tables!H$1:J$95,3,FALSE)),IF(AO29=1,VLOOKUP(F29,Tables!Q$1:S$137,2,FALSE),VLOOKUP(F29,Tables!Q$1:S$137,3,FALSE)))))","v":""},"","","","","","","","","",null,"","","","","",""]
["","","","","","","","","","",{"$f":"IF(A30=\"\",\"\",IF(OR(I30=1,I30=\"S\"),IF(VLOOKUP(J30,Tables!E$1:F$50,2,FALSE)=1,IF(MOD(BE30,2)=1,1,2),IF(MOD(BE30,2)=1,2,1)),IF(MOD(BE30,2)=1,1,2)))","v":""},"","",null,null,null,"","","","","","","","","","","","","","","","","","","","","","","","","",{"$f":"IF(AN30=\"\",\"\",IF(I30=0,IF(AO30=1,VLOOKUP(F30,Tables!A$1:C$18,2,FALSE),VLOOKUP(F30,Tables!A$1:C$18,3,FALSE)),IF(I30=1, IF(AO30=1,VLOOKUP(F30,Tables!H$1:J$95,2,FALSE),VLOOKUP(F30,Tables!H$1:J$95,3,FALSE)),IF(AO30=1,VLOOKUP(F30,Tables!Q$1:S$137,2,FALSE),VLOOKUP(F30,Tables!Q$1:S$137,3,FALSE)))))","v":""},"","","","","","","","","",null,"","","","","",""]
["","","","","","","","","","",{"$f":"IF(A31=\"\",\"\",IF(OR(I31=1,I31=\"S\"),IF(VLOOKUP(J31,Tables!E$1:F$50,2,FALSE)=1,IF(MOD(BE31,2)=1,1,2),IF(MOD(BE31,2)=1,2,1)),IF(MOD(BE31,2)=1,1,2)))","v":""},"","",null,null,null,"","","","","","","","","","","","","","","","","","","","","","","","","",{"$f":"IF(AN31=\"\",\"\",IF(I31=0,IF(AO31=1,VLOOKUP(F31,Tables!A$1:C$18,2,FALSE),VLOOKUP(F31,Tables!A$1:C$18,3,FALSE)),IF(I31=1, IF(AO31=1,VLOOKUP(F31,Tables!H$1:J$95,2,FALSE),VLOOKUP(F31,Tables!H$1:J$95,3,FALSE)),IF(AO31=1,VLOOKUP(F31,Tables!Q$1:S$137,2,FALSE),VLOOKUP(F31,Tables!Q$1:S$137,3,FALSE)))))","v":""},"","","","","","","","","",null,"","","","","",""]
["","","","","","","","","","",{"$f":"IF(A32=\"\",\"\",IF(OR(I32=1,I32=\"S\"),IF(VLOOKUP(J32,Tables!E$1:F$50,2,FALSE)=1,IF(MOD(BE32,2)=1,1,2),IF(MOD(BE32,2)=1,2,1)),IF(MOD(BE32,2)=1,1,2)))","v":""},"","",null,null,null,"","","","","","","","","","","","","","","","","","","","","","","","","",{"$f":"IF(AN32=\"\",\"\",IF(I32=0,IF(AO32=1,VLOOKUP(F32,Tables!A$1:C$18,2,FALSE),VLOOKUP(F32,Tables!A$1:C$18,3,FALSE)),IF(I32=1, IF(AO32=1,VLOOKUP(F32,Tables!H$1:J$95,2,FALSE),VLOOKUP(F32,Tables!H$1:J$95,3,FALSE)),IF(AO32=1,VLOOKUP(F32,Tables!Q$1:S$137,2,FALSE),VLOOKUP(F32,Tables!Q$1:S$137,3,FALSE)))))","v":""},"","","","","","","","","",null,"","","","","",""]
["","","","","","","","","","",{"$f":"IF(A33=\"\",\"\",IF(OR(I33=1,I33=\"S\"),IF(VLOOKUP(J33,Tables!E$1:F$50,2,FALSE)=1,IF(MOD(BE33,2)=1,1,2),IF(MOD(BE33,2)=1,2,1)),IF(MOD(BE33,2)=1,1,2)))","v":""},"","",null,null,null,"","","","","","","","","","","","","","","","","","","","","","","","","",{"$f":"IF(AN33=\"\",\"\",IF(I33=0,IF(AO33=1,VLOOKUP(F33,Tables!A$1:C$18,2,FALSE),VLOOKUP(F33,Tables!A$1:C$18,3,FALSE)),IF(I33=1, IF(AO33=1,VLOOKUP(F33,Tables!H$1:J$95,2,FALSE),VLOOKUP(F33,Tables!H$1:J$95,3,FALSE)),IF(AO33=1,VLOOKUP(F33,Tables!Q$1:S$137,2,FALSE),VLOOKUP(F33,Tables!Q$1:S$137,3,FALSE)))))","v":""},"","","","","","","","","",null,"","","","","",""]
["","","","","","","","","","",{"$f":"IF(A34=\"\",\"\",IF(OR(I34=1,I34=\"S\"),IF(VLOOKUP(J34,Tables!E$1:F$50,2,FALSE)=1,IF(MOD(BE34,2)=1,1,2),IF(MOD(BE34,2)=1,2,1)),IF(MOD(BE34,2)=1,1,2)))","v":""},"","",null,null,null,"","","","","","","","","","","","","","","","","","","","","","","","","",{"$f":"IF(AN34=\"\",\"\",IF(I34=0,IF(AO34=1,VLOOKUP(F34,Tables!A$1:C$18,2,FALSE),VLOOKUP(F34,Tables!A$1:C$18,3,FALSE)),IF(I34=1, IF(AO34=1,VLOOKUP(F34,Tables!H$1:J$95,2,FALSE),VLOOKUP(F34,Tables!H$1:J$95,3,FALSE)),IF(AO34=1,VLOOKUP(F34,Tables!Q$1:S$137,2,FALSE),VLOOKUP(F34,Tables!Q$1:S$137,3,FALSE)))))","v":""},"","","","","","","","","",null,"","","","","",""]
["","","","","","","","","","",{"$f":"IF(A35=\"\",\"\",IF(OR(I35=1,I35=\"S\"),IF(VLOOKUP(J35,Tables!E$1:F$50,2,FALSE)=1,IF(MOD(BE35,2)=1,1,2),IF(MOD(BE35,2)=1,2,1)),IF(MOD(BE35,2)=1,1,2)))","v":""},"","",null,null,null,"","","","","","","","","","","","","","","","","","","","","","","","","",{"$f":"IF(AN35=\"\",\"\",IF(I35=0,IF(AO35=1,VLOOKUP(F35,Tables!A$1:C$18,2,FALSE),VLOOKUP(F35,Tables!A$1:C$18,3,FALSE)),IF(I35=1, IF(AO35=1,VLOOKUP(F35,Tables!H$1:J$95,2,FALSE),VLOOKUP(F35,Tables!H$1:J$95,3,FALSE)),IF(AO35=1,VLOOKUP(F35,Tables!Q$1:S$137,2,FALSE),VLOOKUP(F35,Tables!Q$1:S$137,3,FALSE)))))","v":""},"","","","","","","","","",null,"","","","","",""]
["","","","","","","","","","",{"$f":"IF(A36=\"\",\"\",IF(OR(I36=1,I36=\"S\"),IF(VLOOKUP(J36,Tables!E$1:F$50,2,FALSE)=1,IF(MOD(BE36,2)=1,1,2),IF(MOD(BE36,2)=1,2,1)),IF(MOD(BE36,2)=1,1,2)))","v":""},"","",null,null,null,"","","","","","","","","","","","","","","","","","","","","","","","","",{"$f":"IF(AN36=\"\",\"\",IF(I36=0,IF(AO36=1,VLOOKUP(F36,Tables!A$1:C$18,2,FALSE),VLOOKUP(F36,Tables!A$1:C$18,3,FALSE)),IF(I36=1, IF(AO36=1,VLOOKUP(F36,Tables!H$1:J$95,2,FALSE),VLOOKUP(F36,Tables!H$1:J$95,3,FALSE)),IF(AO36=1,VLOOKUP(F36,Tables!Q$1:S$137,2,FALSE),VLOOKUP(F36,Tables!Q$1:S$137,3,FALSE)))))","v":""},"","","","","","","","","",null,"","","","","",""]
["","","","","","","","","","",{"$f":"IF(A37=\"\",\"\",IF(OR(I37=1,I37=\"S\"),IF(VLOOKUP(J37,Tables!E$1:F$50,2,FALSE)=1,IF(MOD(BE37,2)=1,1,2),IF(MOD(BE37,2)=1,2,1)),IF(MOD(BE37,2)=1,1,2)))","v":""},"","",null,null,null,"","","","","","","","","","","","","","","","","","","","","","","","","",{"$f":"IF(AN37=\"\",\"\",IF(I37=0,IF(AO37=1,VLOOKUP(F37,Tables!A$1:C$18,2,FALSE),VLOOKUP(F37,Tables!A$1:C$18,3,FALSE)),IF(I37=1, IF(AO37=1,VLOOKUP(F37,Tables!H$1:J$95,2,FALSE),VLOOKUP(F37,Tables!H$1:J$95,3,FALSE)),IF(AO37=1,VLOOKUP(F37,Tables!Q$1:S$137,2,FALSE),VLOOKUP(F37,Tables!Q$1:S$137,3,FALSE)))))","v":""},"","","","","","","","","",null,"","","","","",""]
["","","","","","","","","","",{"$f":"IF(A38=\"\",\"\",IF(OR(I38=1,I38=\"S\"),IF(VLOOKUP(J38,Tables!E$1:F$50,2,FALSE)=1,IF(MOD(BE38,2)=1,1,2),IF(MOD(BE38,2)=1,2,1)),IF(MOD(BE38,2)=1,1,2)))","v":""},"","",null,null,null,"","","","","","","","","","","","","","","","","","","","","","","","","",{"$f":"IF(AN38=\"\",\"\",IF(I38=0,IF(AO38=1,VLOOKUP(F38,Tables!A$1:C$18,2,FALSE),VLOOKUP(F38,Tables!A$1:C$18,3,FALSE)),IF(I38=1, IF(AO38=1,VLOOKUP(F38,Tables!H$1:J$95,2,FALSE),VLOOKUP(F38,Tables!H$1:J$95,3,FALSE)),IF(AO38=1,VLOOKUP(F38,Tables!Q$1:S$137,2,FALSE),VLOOKUP(F38,Tables!Q$1:S$137,3,FALSE)))))","v":""},"","","","","","","","","",null,"","","","","",""]
["","","","","","","","","","",{"$f":"IF(A39=\"\",\"\",IF(OR(I39=1,I39=\"S\"),IF(VLOOKUP(J39,Tables!E$1:F$50,2,FALSE)=1,IF(MOD(BE39,2)=1,1,2),IF(MOD(BE39,2)=1,2,1)),IF(MOD(BE39,2)=1,1,2)))","v":""},"","",null,null,null,"","","","","","","","","","","","","","","","","","","","","","","","","",{"$f":"IF(AN39=\"\",\"\",IF(I39=0,IF(AO39=1,VLOOKUP(F39,Tables!A$1:C$18,2,FALSE),VLOOKUP(F39,Tables!A$1:C$18,3,FALSE)),IF(I39=1, IF(AO39=1,VLOOKUP(F39,Tables!H$1:J$95,2,FALSE),VLOOKUP(F39,Tables!H$1:J$95,3,FALSE)),IF(AO39=1,VLOOKUP(F39,Tables!Q$1:S$137,2,FALSE),VLOOKUP(F39,Tables!Q$1:S$137,3,FALSE)))))","v":""},"","","","","","","","","",null,"","","","","",""]
["","","","","","","","","","",{"$f":"IF(A40=\"\",\"\",IF(OR(I40=1,I40=\"S\"),IF(VLOOKUP(J40,Tables!E$1:F$50,2,FALSE)=1,IF(MOD(BE40,2)=1,1,2),IF(MOD(BE40,2)=1,2,1)),IF(MOD(BE40,2)=1,1,2)))","v":""},"","",null,null,null,"","","","","","","","","","","","","","","","","","","","","","","","","",{"$f":"IF(AN40=\"\",\"\",IF(I40=0,IF(AO40=1,VLOOKUP(F40,Tables!A$1:C$18,2,FALSE),VLOOKUP(F40,Tables!A$1:C$18,3,FALSE)),IF(I40=1, IF(AO40=1,VLOOKUP(F40,Tables!H$1:J$95,2,FALSE),VLOOKUP(F40,Tables!H$1:J$95,3,FALSE)),IF(AO40=1,VLOOKUP(F40,Tables!Q$1:S$137,2,FALSE),VLOOKUP(F40,Tables!Q$1:S$137,3,FALSE)))))","v":""},"","","","","","","","","",null,"","","","","",""]
["","","","","","","","","","",{"$f":"IF(A41=\"\",\"\",IF(OR(I41=1,I41=\"S\"),IF(VLOOKUP(J41,Tables!E$1:F$50,2,FALSE)=1,IF(MOD(BE41,2)=1,1,2),IF(MOD(BE41,2)=1,2,1)),IF(MOD(BE41,2)=1,1,2)))","v":""},"","",null,null,null,"","","","","","","","","","","","","","","","","","","","","","","","","",{"$f":"IF(AN41=\"\",\"\",IF(I41=0,IF(AO41=1,VLOOKUP(F41,Tables!A$1:C$18,2,FALSE),VLOOKUP(F41,Tables!A$1:C$18,3,FALSE)),IF(I41=1, IF(AO41=1,VLOOKUP(F41,Tables!H$1:J$95,2,FALSE),VLOOKUP(F41,Tables!H$1:J$95,3,FALSE)),IF(AO41=1,VLOOKUP(F41,Tables!Q$1:S$137,2,FALSE),VLOOKUP(F41,Tables!Q$1:S$137,3,FALSE)))))","v":""},"","","","","","","","","",null,"","","","","",""]
["","","","","","","","","","",{"$f":"IF(A42=\"\",\"\",IF(OR(I42=1,I42=\"S\"),IF(VLOOKUP(J42,Tables!E$1:F$50,2,FALSE)=1,IF(MOD(BE42,2)=1,1,2),IF(MOD(BE42,2)=1,2,1)),IF(MOD(BE42,2)=1,1,2)))","v":""},"","",null,null,null,"","","","","","","","","","","","","","","","","","","","","","","","","",{"$f":"IF(AN42=\"\",\"\",IF(I42=0,IF(AO42=1,VLOOKUP(F42,Tables!A$1:C$18,2,FALSE),VLOOKUP(F42,Tables!A$1:C$18,3,FALSE)),IF(I42=1, IF(AO42=1,VLOOKUP(F42,Tables!H$1:J$95,2,FALSE),VLOOKUP(F42,Tables!H$1:J$95,3,FALSE)),IF(AO42=1,VLOOKUP(F42,Tables!Q$1:S$137,2,FALSE),VLOOKUP(F42,Tables!Q$1:S$137,3,FALSE)))))","v":""},"","","","","","","","","",null,"","","","","",""]
["","","","","","","","","","",{"$f":"IF(A43=\"\",\"\",IF(OR(I43=1,I43=\"S\"),IF(VLOOKUP(J43,Tables!E$1:F$50,2,FALSE)=1,IF(MOD(BE43,2)=1,1,2),IF(MOD(BE43,2)=1,2,1)),IF(MOD(BE43,2)=1,1,2)))","v":""},"","",null,null,null,"","","","","","","","","","","","","","","","","","","","","","","","","",{"$f":"IF(AN43=\"\",\"\",IF(I43=0,IF(AO43=1,VLOOKUP(F43,Tables!A$1:C$18,2,FALSE),VLOOKUP(F43,Tables!A$1:C$18,3,FALSE)),IF(I43=1, IF(AO43=1,VLOOKUP(F43,Tables!H$1:J$95,2,FALSE),VLOOKUP(F43,Tables!H$1:J$95,3,FALSE)),IF(AO43=1,VLOOKUP(F43,Tables!Q$1:S$137,2,FALSE),VLOOKUP(F43,Tables!Q$1:S$137,3,FALSE)))))","v":""},"","","","","","","","","",null,"","","","","",""]
["","","","","","","","","","",{"$f":"IF(A44=\"\",\"\",IF(OR(I44=1,I44=\"S\"),IF(VLOOKUP(J44,Tables!E$1:F$50,2,FALSE)=1,IF(MOD(BE44,2)=1,1,2),IF(MOD(BE44,2)=1,2,1)),IF(MOD(BE44,2)=1,1,2)))","v":""},"","",null,null,null,"","","","","","","","","","","","","","","","","","","","","","","","","",{"$f":"IF(AN44=\"\",\"\",IF(I44=0,IF(AO44=1,VLOOKUP(F44,Tables!A$1:C$18,2,FALSE),VLOOKUP(F44,Tables!A$1:C$18,3,FALSE)),IF(I44=1, IF(AO44=1,VLOOKUP(F44,Tables!H$1:J$95,2,FALSE),VLOOKUP(F44,Tables!H$1:J$95,3,FALSE)),IF(AO44=1,VLOOKUP(F44,Tables!Q$1:S$137,2,FALSE),VLOOKUP(F44,Tables!Q$1:S$137,3,FALSE)))))","v":""},"","","","","","","","","",null,"","","","","",""]
["","","","","","","","","","",{"$f":"IF(A45=\"\",\"\",IF(OR(I45=1,I45=\"S\"),IF(VLOOKUP(J45,Tables!E$1:F$50,2,FALSE)=1,IF(MOD(BE45,2)=1,1,2),IF(MOD(BE45,2)=1,2,1)),IF(MOD(BE45,2)=1,1,2)))","v":""},"","",null,null,null,"","","","","","","","","","","","","","","","","","","","","","","","","",{"$f":"IF(AN45=\"\",\"\",IF(I45=0,IF(AO45=1,VLOOKUP(F45,Tables!A$1:C$18,2,FALSE),VLOOKUP(F45,Tables!A$1:C$18,3,FALSE)),IF(I45=1, IF(AO45=1,VLOOKUP(F45,Tables!H$1:J$95,2,FALSE),VLOOKUP(F45,Tables!H$1:J$95,3,FALSE)),IF(AO45=1,VLOOKUP(F45,Tables!Q$1:S$137,2,FALSE),VLOOKUP(F45,Tables!Q$1:S$137,3,FALSE)))))","v":""},"","","","","","","","","",null,"","","","","",""]
["","","","","","","","","","",{"$f":"IF(A46=\"\",\"\",IF(OR(I46=1,I46=\"S\"),IF(VLOOKUP(J46,Tables!E$1:F$50,2,FALSE)=1,IF(MOD(BE46,2)=1,1,2),IF(MOD(BE46,2)=1,2,1)),IF(MOD(BE46,2)=1,1,2)))","v":""},"","",null,null,null,"","","","","","","","","","","","","","","","","","","","","","","","","",{"$f":"IF(AN46=\"\",\"\",IF(I46=0,IF(AO46=1,VLOOKUP(F46,Tables!A$1:C$18,2,FALSE),VLOOKUP(F46,Tables!A$1:C$18,3,FALSE)),IF(I46=1, IF(AO46=1,VLOOKUP(F46,Tables!H$1:J$95,2,FALSE),VLOOKUP(F46,Tables!H$1:J$95,3,FALSE)),IF(AO46=1,VLOOKUP(F46,Tables!Q$1:S$137,2,FALSE),VLOOKUP(F46,Tables!Q$1:S$137,3,FALSE)))))","v":""},"","","","","","","","","",null,"","","",{"$f":"IF(NOT(BC46=\"\"),AR46&\"-\"&AS46,\"\")","v":""},"",""]
["","","","","","","","","","",{"$f":"IF(A47=\"\",\"\",IF(OR(I47=1,I47=\"S\"),IF(VLOOKUP(J47,Tables!E$1:F$50,2,FALSE)=1,IF(MOD(BE47,2)=1,1,2),IF(MOD(BE47,2)=1,2,1)),IF(MOD(BE47,2)=1,1,2)))","v":""},"","",null,null,null,"","","","","","","","","","","","","","","","","","","","","","","","","",{"$f":"IF(AN47=\"\",\"\",IF(I47=0,IF(AO47=1,VLOOKUP(F47,Tables!A$1:C$18,2,FALSE),VLOOKUP(F47,Tables!A$1:C$18,3,FALSE)),IF(I47=1, IF(AO47=1,VLOOKUP(F47,Tables!H$1:J$95,2,FALSE),VLOOKUP(F47,Tables!H$1:J$95,3,FALSE)),IF(AO47=1,VLOOKUP(F47,Tables!Q$1:S$137,2,FALSE),VLOOKUP(F47,Tables!Q$1:S$137,3,FALSE)))))","v":""},"","","","","","","","","",null,"","","",{"$f":"IF(NOT(BC47=\"\"),AR47&\"-\"&AS47,\"\")","v":""},"",""]
["","","","","","","","","","",{"$f":"IF(A48=\"\",\"\",IF(OR(I48=1,I48=\"S\"),IF(VLOOKUP(J48,Tables!E$1:F$50,2,FALSE)=1,IF(MOD(BE48,2)=1,1,2),IF(MOD(BE48,2)=1,2,1)),IF(MOD(BE48,2)=1,1,2)))","v":""},"","",null,null,null,"","","","","","","","","","","","","","","","","","","","","","","","","",{"$f":"IF(AN48=\"\",\"\",IF(I48=0,IF(AO48=1,VLOOKUP(F48,Tables!A$1:C$18,2,FALSE),VLOOKUP(F48,Tables!A$1:C$18,3,FALSE)),IF(I48=1, IF(AO48=1,VLOOKUP(F48,Tables!H$1:J$95,2,FALSE),VLOOKUP(F48,Tables!H$1:J$95,3,FALSE)),IF(AO48=1,VLOOKUP(F48,Tables!Q$1:S$137,2,FALSE),VLOOKUP(F48,Tables!Q$1:S$137,3,FALSE)))))","v":""},"","","","","","","","","",null,"","","","","",""]
["","","","","","","","","","",{"$f":"IF(A49=\"\",\"\",IF(OR(I49=1,I49=\"S\"),IF(VLOOKUP(J49,Tables!E$1:F$50,2,FALSE)=1,IF(MOD(BE49,2)=1,1,2),IF(MOD(BE49,2)=1,2,1)),IF(MOD(BE49,2)=1,1,2)))","v":""},"","",null,null,null,"","","","","","","","","","","","","","","","","","","","","","","","","",{"$f":"IF(AN49=\"\",\"\",IF(I49=0,IF(AO49=1,VLOOKUP(F49,Tables!A$1:C$18,2,FALSE),VLOOKUP(F49,Tables!A$1:C$18,3,FALSE)),IF(I49=1, IF(AO49=1,VLOOKUP(F49,Tables!H$1:J$95,2,FALSE),VLOOKUP(F49,Tables!H$1:J$95,3,FALSE)),IF(AO49=1,VLOOKUP(F49,Tables!Q$1:S$137,2,FALSE),VLOOKUP(F49,Tables!Q$1:S$137,3,FALSE)))))","v":""},"","","","","","","","","",null,"","","","","",""]
["","","","","","","","","","",{"$f":"IF(A50=\"\",\"\",IF(OR(I50=1,I50=\"S\"),IF(VLOOKUP(J50,Tables!E$1:F$50,2,FALSE)=1,IF(MOD(BE50,2)=1,1,2),IF(MOD(BE50,2)=1,2,1)),IF(MOD(BE50,2)=1,1,2)))","v":""},{"$f":"IF(A50=\"\",\"\",IF(K50=1,2,1))","v":""},"",null,null,null,"","","","","","","","","","","","","","","","","","","","","","","","","",{"$f":"IF(AN50=\"\",\"\",IF(I50=0,IF(AO50=1,VLOOKUP(F50,Tables!A$1:C$18,2,FALSE),VLOOKUP(F50,Tables!A$1:C$18,3,FALSE)),IF(I50=1, IF(AO50=1,VLOOKUP(F50,Tables!H$1:J$95,2,FALSE),VLOOKUP(F50,Tables!H$1:J$95,3,FALSE)),IF(AO50=1,VLOOKUP(F50,Tables!Q$1:S$137,2,FALSE),VLOOKUP(F50,Tables!Q$1:S$137,3,FALSE)))))","v":""},"","","","","","","","","",null,"","","","","",""]
["","","","","","","","","","",{"$f":"IF(A51=\"\",\"\",IF(OR(I51=1,I51=\"S\"),IF(VLOOKUP(J51,Tables!E$1:F$50,2,FALSE)=1,IF(MOD(BE51,2)=1,1,2),IF(MOD(BE51,2)=1,2,1)),IF(MOD(BE51,2)=1,1,2)))","v":""},"","",null,null,null,"","","","","","","","","","","","","","","","","","","","","","","","","",{"$f":"IF(AN51=\"\",\"\",IF(I51=0,IF(AO51=1,VLOOKUP(F51,Tables!A$1:C$18,2,FALSE),VLOOKUP(F51,Tables!A$1:C$18,3,FALSE)),IF(I51=1, IF(AO51=1,VLOOKUP(F51,Tables!H$1:J$95,2,FALSE),VLOOKUP(F51,Tables!H$1:J$95,3,FALSE)),IF(AO51=1,VLOOKUP(F51,Tables!Q$1:S$137,2,FALSE),VLOOKUP(F51,Tables!Q$1:S$137,3,FALSE)))))","v":""},"","","","","","","","","",null,"","","","","",""]
["","","","","","","","","","",{"$f":"IF(A52=\"\",\"\",IF(OR(I52=1,I52=\"S\"),IF(VLOOKUP(J52,Tables!E$1:F$50,2,FALSE)=1,IF(MOD(BE52,2)=1,1,2),IF(MOD(BE52,2)=1,2,1)),IF(MOD(BE52,2)=1,1,2)))","v":""},"","",null,null,null,"","","","","","","","","","","","","","","","","","","","","","","","","",{"$f":"IF(AN52=\"\",\"\",IF(I52=0,IF(AO52=1,VLOOKUP(F52,Tables!A$1:C$18,2,FALSE),VLOOKUP(F52,Tables!A$1:C$18,3,FALSE)),IF(I52=1, IF(AO52=1,VLOOKUP(F52,Tables!H$1:J$95,2,FALSE),VLOOKUP(F52,Tables!H$1:J$95,3,FALSE)),IF(AO52=1,VLOOKUP(F52,Tables!Q$1:S$137,2,FALSE),VLOOKUP(F52,Tables!Q$1:S$137,3,FALSE)))))","v":""},"","","","","","","","","",null,"","","","","",""]
["","","","","","","","","","",{"$f":"IF(A53=\"\",\"\",IF(OR(I53=1,I53=\"S\"),IF(VLOOKUP(J53,Tables!E$1:F$50,2,FALSE)=1,IF(MOD(BE53,2)=1,1,2),IF(MOD(BE53,2)=1,2,1)),IF(MOD(BE53,2)=1,1,2)))","v":""},"","",null,null,null,"","","","","","","","","","","","","","","","","","","","","","","","","",{"$f":"IF(AN53=\"\",\"\",IF(I53=0,IF(AO53=1,VLOOKUP(F53,Tables!A$1:C$18,2,FALSE),VLOOKUP(F53,Tables!A$1:C$18,3,FALSE)),IF(I53=1, IF(AO53=1,VLOOKUP(F53,Tables!H$1:J$95,2,FALSE),VLOOKUP(F53,Tables!H$1:J$95,3,FALSE)),IF(AO53=1,VLOOKUP(F53,Tables!Q$1:S$137,2,FALSE),VLOOKUP(F53,Tables!Q$1:S$137,3,FALSE)))))","v":""},"","","","","","","","","",null,"","","","","",""]
["","","","","","","","","","",{"$f":"IF(A54=\"\",\"\",IF(OR(I54=1,I54=\"S\"),IF(VLOOKUP(J54,Tables!E$1:F$50,2,FALSE)=1,IF(MOD(BE54,2)=1,1,2),IF(MOD(BE54,2)=1,2,1)),IF(MOD(BE54,2)=1,1,2)))","v":""},"","",null,null,null,"","","","","","","","","","","","","","","","","","","","","","","","","",{"$f":"IF(AN54=\"\",\"\",IF(I54=0,IF(AO54=1,VLOOKUP(F54,Tables!A$1:C$18,2,FALSE),VLOOKUP(F54,Tables!A$1:C$18,3,FALSE)),IF(I54=1, IF(AO54=1,VLOOKUP(F54,Tables!H$1:J$95,2,FALSE),VLOOKUP(F54,Tables!H$1:J$95,3,FALSE)),IF(AO54=1,VLOOKUP(F54,Tables!Q$1:S$137,2,FALSE),VLOOKUP(F54,Tables!Q$1:S$137,3,FALSE)))))","v":""},"","","","","","","","","",null,"","","","","",""]
["","","","","","","","","","",{"$f":"IF(A55=\"\",\"\",IF(OR(I55=1,I55=\"S\"),IF(VLOOKUP(J55,Tables!E$1:F$50,2,FALSE)=1,IF(MOD(BE55,2)=1,1,2),IF(MOD(BE55,2)=1,2,1)),IF(MOD(BE55,2)=1,1,2)))","v":""},"","",null,null,null,"","","","","","","","","","","","","","","","","","","","","","","","","",{"$f":"IF(AN55=\"\",\"\",IF(I55=0,IF(AO55=1,VLOOKUP(F55,Tables!A$1:C$18,2,FALSE),VLOOKUP(F55,Tables!A$1:C$18,3,FALSE)),IF(I55=1, IF(AO55=1,VLOOKUP(F55,Tables!H$1:J$95,2,FALSE),VLOOKUP(F55,Tables!H$1:J$95,3,FALSE)),IF(AO55=1,VLOOKUP(F55,Tables!Q$1:S$137,2,FALSE),VLOOKUP(F55,Tables!Q$1:S$137,3,FALSE)))))","v":""},"","","","","","","","","",null,"","","","","",""]
["","","","","","","","","","",{"$f":"IF(A56=\"\",\"\",IF(OR(I56=1,I56=\"S\"),IF(VLOOKUP(J56,Tables!E$1:F$50,2,FALSE)=1,IF(MOD(BE56,2)=1,1,2),IF(MOD(BE56,2)=1,2,1)),IF(MOD(BE56,2)=1,1,2)))","v":""},"","",null,null,null,"","","","","","","","","","","","","","","","","","","","","","","","","",{"$f":"IF(AN56=\"\",\"\",IF(I56=0,IF(AO56=1,VLOOKUP(F56,Tables!A$1:C$18,2,FALSE),VLOOKUP(F56,Tables!A$1:C$18,3,FALSE)),IF(I56=1, IF(AO56=1,VLOOKUP(F56,Tables!H$1:J$95,2,FALSE),VLOOKUP(F56,Tables!H$1:J$95,3,FALSE)),IF(AO56=1,VLOOKUP(F56,Tables!Q$1:S$137,2,FALSE),VLOOKUP(F56,Tables!Q$1:S$137,3,FALSE)))))","v":""},"","","","","","","","","",null,"","","","","",""]
["","","","","","","","","","",{"$f":"IF(A57=\"\",\"\",IF(OR(I57=1,I57=\"S\"),IF(VLOOKUP(J57,Tables!E$1:F$50,2,FALSE)=1,IF(MOD(BE57,2)=1,1,2),IF(MOD(BE57,2)=1,2,1)),IF(MOD(BE57,2)=1,1,2)))","v":""},"","",null,null,null,"","","","","","","","","","","","","","","","","","","","","","","","","",{"$f":"IF(AN57=\"\",\"\",IF(I57=0,IF(AO57=1,VLOOKUP(F57,Tables!A$1:C$18,2,FALSE),VLOOKUP(F57,Tables!A$1:C$18,3,FALSE)),IF(I57=1, IF(AO57=1,VLOOKUP(F57,Tables!H$1:J$95,2,FALSE),VLOOKUP(F57,Tables!H$1:J$95,3,FALSE)),IF(AO57=1,VLOOKUP(F57,Tables!Q$1:S$137,2,FALSE),VLOOKUP(F57,Tables!Q$1:S$137,3,FALSE)))))","v":""},"","","","","","","","","",null,"","","","","",""]
["","","","","","","","","","",{"$f":"IF(A58=\"\",\"\",IF(OR(I58=1,I58=\"S\"),IF(VLOOKUP(J58,Tables!E$1:F$50,2,FALSE)=1,IF(MOD(BE58,2)=1,1,2),IF(MOD(BE58,2)=1,2,1)),IF(MOD(BE58,2)=1,1,2)))","v":""},"","",null,null,null,"","","","","","","","","","","","","","","","","","","","","","","","","",{"$f":"IF(AN58=\"\",\"\",IF(I58=0,IF(AO58=1,VLOOKUP(F58,Tables!A$1:C$18,2,FALSE),VLOOKUP(F58,Tables!A$1:C$18,3,FALSE)),IF(I58=1, IF(AO58=1,VLOOKUP(F58,Tables!H$1:J$95,2,FALSE),VLOOKUP(F58,Tables!H$1:J$95,3,FALSE)),IF(AO58=1,VLOOKUP(F58,Tables!Q$1:S$137,2,FALSE),VLOOKUP(F58,Tables!Q$1:S$137,3,FALSE)))))","v":""},"","","","","","","","","",null,"","","","","",""]
["","","","","","","","","","",{"$f":"IF(A59=\"\",\"\",IF(OR(I59=1,I59=\"S\"),IF(VLOOKUP(J59,Tables!E$1:F$50,2,FALSE)=1,IF(MOD(BE59,2)=1,1,2),IF(MOD(BE59,2)=1,2,1)),IF(MOD(BE59,2)=1,1,2)))","v":""},"","",null,null,null,"","","","","","","","","","","","","","","","","","","","","","","","","",{"$f":"IF(AN59=\"\",\"\",IF(I59=0,IF(AO59=1,VLOOKUP(F59,Tables!A$1:C$18,2,FALSE),VLOOKUP(F59,Tables!A$1:C$18,3,FALSE)),IF(I59=1, IF(AO59=1,VLOOKUP(F59,Tables!H$1:J$95,2,FALSE),VLOOKUP(F59,Tables!H$1:J$95,3,FALSE)),IF(AO59=1,VLOOKUP(F59,Tables!Q$1:S$137,2,FALSE),VLOOKUP(F59,Tables!Q$1:S$137,3,FALSE)))))","v":""},"","","","","","","","","",null,"","","","","",""]
["","","","","","","","","","",{"$f":"IF(A60=\"\",\"\",IF(OR(I60=1,I60=\"S\"),IF(VLOOKUP(J60,Tables!E$1:F$50,2,FALSE)=1,IF(MOD(BE60,2)=1,1,2),IF(MOD(BE60,2)=1,2,1)),IF(MOD(BE60,2)=1,1,2)))","v":""},"","",null,null,null,"","","","","","","","","","","","","","","","","","","","","","","","","",{"$f":"IF(AN60=\"\",\"\",IF(I60=0,IF(AO60=1,VLOOKUP(F60,Tables!A$1:C$18,2,FALSE),VLOOKUP(F60,Tables!A$1:C$18,3,FALSE)),IF(I60=1, IF(AO60=1,VLOOKUP(F60,Tables!H$1:J$95,2,FALSE),VLOOKUP(F60,Tables!H$1:J$95,3,FALSE)),IF(AO60=1,VLOOKUP(F60,Tables!Q$1:S$137,2,FALSE),VLOOKUP(F60,Tables!Q$1:S$137,3,FALSE)))))","v":""},"","","","","","","","","",null,"","","","","",""]
["","","","","","","","","","",{"$f":"IF(A61=\"\",\"\",IF(OR(I61=1,I61=\"S\"),IF(VLOOKUP(J61,Tables!E$1:F$50,2,FALSE)=1,IF(MOD(BE61,2)=1,1,2),IF(MOD(BE61,2)=1,2,1)),IF(MOD(BE61,2)=1,1,2)))","v":""},"","",null,null,null,"","","","","","","","","","","","","","","","","","","","","","","","","",{"$f":"IF(AN61=\"\",\"\",IF(I61=0,IF(AO61=1,VLOOKUP(F61,Tables!A$1:C$18,2,FALSE),VLOOKUP(F61,Tables!A$1:C$18,3,FALSE)),IF(I61=1, IF(AO61=1,VLOOKUP(F61,Tables!H$1:J$95,2,FALSE),VLOOKUP(F61,Tables!H$1:J$95,3,FALSE)),IF(AO61=1,VLOOKUP(F61,Tables!Q$1:S$137,2,FALSE),VLOOKUP(F61,Tables!Q$1:S$137,3,FALSE)))))","v":""},"","","","","","","","","",null,"","","","","",""]
["","","","","","","","","","",{"$f":"IF(A62=\"\",\"\",IF(OR(I62=1,I62=\"S\"),IF(VLOOKUP(J62,Tables!E$1:F$50,2,FALSE)=1,IF(MOD(BE62,2)=1,1,2),IF(MOD(BE62,2)=1,2,1)),IF(MOD(BE62,2)=1,1,2)))","v":""},"","",null,null,null,"","","","","","","","","","","","","","","","","","","","","","","","","",{"$f":"IF(AN62=\"\",\"\",IF(I62=0,IF(AO62=1,VLOOKUP(F62,Tables!A$1:C$18,2,FALSE),VLOOKUP(F62,Tables!A$1:C$18,3,FALSE)),IF(I62=1, IF(AO62=1,VLOOKUP(F62,Tables!H$1:J$95,2,FALSE),VLOOKUP(F62,Tables!H$1:J$95,3,FALSE)),IF(AO62=1,VLOOKUP(F62,Tables!Q$1:S$137,2,FALSE),VLOOKUP(F62,Tables!Q$1:S$137,3,FALSE)))))","v":""},"","","","","","","","","",null,"","","","","",""]
["","","","","","","","","","",{"$f":"IF(A63=\"\",\"\",IF(OR(I63=1,I63=\"S\"),IF(VLOOKUP(J63,Tables!E$1:F$50,2,FALSE)=1,IF(MOD(BE63,2)=1,1,2),IF(MOD(BE63,2)=1,2,1)),IF(MOD(BE63,2)=1,1,2)))","v":""},"","",null,null,null,"","","","","","","","","","","","","","","","","","","","","","","","","",{"$f":"IF(AN63=\"\",\"\",IF(I63=0,IF(AO63=1,VLOOKUP(F63,Tables!A$1:C$18,2,FALSE),VLOOKUP(F63,Tables!A$1:C$18,3,FALSE)),IF(I63=1, IF(AO63=1,VLOOKUP(F63,Tables!H$1:J$95,2,FALSE),VLOOKUP(F63,Tables!H$1:J$95,3,FALSE)),IF(AO63=1,VLOOKUP(F63,Tables!Q$1:S$137,2,FALSE),VLOOKUP(F63,Tables!Q$1:S$137,3,FALSE)))))","v":""},"","","","","","","","","",null,"","","","","",""]
["","","","","","","","","","",{"$f":"IF(A64=\"\",\"\",IF(OR(I64=1,I64=\"S\"),IF(VLOOKUP(J64,Tables!E$1:F$50,2,FALSE)=1,IF(MOD(BE64,2)=1,1,2),IF(MOD(BE64,2)=1,2,1)),IF(MOD(BE64,2)=1,1,2)))","v":""},"","",null,null,null,"","","","","","","","","","","","","","","","","","","","","","","","","",{"$f":"IF(AN64=\"\",\"\",IF(I64=0,IF(AO64=1,VLOOKUP(F64,Tables!A$1:C$18,2,FALSE),VLOOKUP(F64,Tables!A$1:C$18,3,FALSE)),IF(I64=1, IF(AO64=1,VLOOKUP(F64,Tables!H$1:J$95,2,FALSE),VLOOKUP(F64,Tables!H$1:J$95,3,FALSE)),IF(AO64=1,VLOOKUP(F64,Tables!Q$1:S$137,2,FALSE),VLOOKUP(F64,Tables!Q$1:S$137,3,FALSE)))))","v":""},"","","","","","","","","",null,"","","","","",""]
["","","","","","","","","","",{"$f":"IF(A65=\"\",\"\",IF(OR(I65=1,I65=\"S\"),IF(VLOOKUP(J65,Tables!E$1:F$50,2,FALSE)=1,IF(MOD(BE65,2)=1,1,2),IF(MOD(BE65,2)=1,2,1)),IF(MOD(BE65,2)=1,1,2)))","v":""},"","",null,null,null,"","","","","","","","","","","","","","","","","","","","","","","","","",{"$f":"IF(AN65=\"\",\"\",IF(I65=0,IF(AO65=1,VLOOKUP(F65,Tables!A$1:C$18,2,FALSE),VLOOKUP(F65,Tables!A$1:C$18,3,FALSE)),IF(I65=1, IF(AO65=1,VLOOKUP(F65,Tables!H$1:J$95,2,FALSE),VLOOKUP(F65,Tables!H$1:J$95,3,FALSE)),IF(AO65=1,VLOOKUP(F65,Tables!Q$1:S$137,2,FALSE),VLOOKUP(F65,Tables!Q$1:S$137,3,FALSE)))))","v":""},"","","","","","","","","",null,"","","","","",""]
["","","","","","","","","","",{"$f":"IF(A66=\"\",\"\",IF(OR(I66=1,I66=\"S\"),IF(VLOOKUP(J66,Tables!E$1:F$50,2,FALSE)=1,IF(MOD(BE66,2)=1,1,2),IF(MOD(BE66,2)=1,2,1)),IF(MOD(BE66,2)=1,1,2)))","v":""},"","",null,null,null,"","","","","","","","","","","","","","","","","","","","","","","","","",{"$f":"IF(AN66=\"\",\"\",IF(I66=0,IF(AO66=1,VLOOKUP(F66,Tables!A$1:C$18,2,FALSE),VLOOKUP(F66,Tables!A$1:C$18,3,FALSE)),IF(I66=1, IF(AO66=1,VLOOKUP(F66,Tables!H$1:J$95,2,FALSE),VLOOKUP(F66,Tables!H$1:J$95,3,FALSE)),IF(AO66=1,VLOOKUP(F66,Tables!Q$1:S$137,2,FALSE),VLOOKUP(F66,Tables!Q$1:S$137,3,FALSE)))))","v":""},"","","","","","","","","",null,"","","","","",""]
["","","","","","","","","","",{"$f":"IF(A67=\"\",\"\",IF(OR(I67=1,I67=\"S\"),IF(VLOOKUP(J67,Tables!E$1:F$50,2,FALSE)=1,IF(MOD(BE67,2)=1,1,2),IF(MOD(BE67,2)=1,2,1)),IF(MOD(BE67,2)=1,1,2)))","v":""},"","",null,null,null,"","","","","","","","","","","","","","","","","","","","","","","","","",{"$f":"IF(AN67=\"\",\"\",IF(I67=0,IF(AO67=1,VLOOKUP(F67,Tables!A$1:C$18,2,FALSE),VLOOKUP(F67,Tables!A$1:C$18,3,FALSE)),IF(I67=1, IF(AO67=1,VLOOKUP(F67,Tables!H$1:J$95,2,FALSE),VLOOKUP(F67,Tables!H$1:J$95,3,FALSE)),IF(AO67=1,VLOOKUP(F67,Tables!Q$1:S$137,2,FALSE),VLOOKUP(F67,Tables!Q$1:S$137,3,FALSE)))))","v":""},"","","","","","","","","",null,"","","","","",""]
["","","","","","","","","","",{"$f":"IF(A68=\"\",\"\",IF(OR(I68=1,I68=\"S\"),IF(VLOOKUP(J68,Tables!E$1:F$50,2,FALSE)=1,IF(MOD(BE68,2)=1,1,2),IF(MOD(BE68,2)=1,2,1)),IF(MOD(BE68,2)=1,1,2)))","v":""},"","",null,null,null,"","","","","","","","","","","","","","","","","","","","","","","","","",{"$f":"IF(AN68=\"\",\"\",IF(I68=0,IF(AO68=1,VLOOKUP(F68,Tables!A$1:C$18,2,FALSE),VLOOKUP(F68,Tables!A$1:C$18,3,FALSE)),IF(I68=1, IF(AO68=1,VLOOKUP(F68,Tables!H$1:J$95,2,FALSE),VLOOKUP(F68,Tables!H$1:J$95,3,FALSE)),IF(AO68=1,VLOOKUP(F68,Tables!Q$1:S$137,2,FALSE),VLOOKUP(F68,Tables!Q$1:S$137,3,FALSE)))))","v":""},"","","","","","","","","",null,"","","","","",""]
["","","","","","","","","","",{"$f":"IF(A69=\"\",\"\",IF(OR(I69=1,I69=\"S\"),IF(VLOOKUP(J69,Tables!E$1:F$50,2,FALSE)=1,IF(MOD(BE69,2)=1,1,2),IF(MOD(BE69,2)=1,2,1)),IF(MOD(BE69,2)=1,1,2)))","v":""},"","",null,null,null,"","","","","","","","","","","","","","","","","","","","","","","","","",{"$f":"IF(AN69=\"\",\"\",IF(I69=0,IF(AO69=1,VLOOKUP(F69,Tables!A$1:C$18,2,FALSE),VLOOKUP(F69,Tables!A$1:C$18,3,FALSE)),IF(I69=1, IF(AO69=1,VLOOKUP(F69,Tables!H$1:J$95,2,FALSE),VLOOKUP(F69,Tables!H$1:J$95,3,FALSE)),IF(AO69=1,VLOOKUP(F69,Tables!Q$1:S$137,2,FALSE),VLOOKUP(F69,Tables!Q$1:S$137,3,FALSE)))))","v":""},"","","",{"$f":"IF(AN69=\"\",\"\",IF(AND(AR69>5,(AR69-AS69)>1),1,IF(AND(AS69>5,(AS69-AR69)>1),2,IF(AND(H69=1,AR69=$J$14),1,IF(AND(H69=1,AS69=$J$14),2,IF(AND(I69=\"S\",AR69=1),1,IF(AND(I69=\"S\",AS69=1),2,0)))))))","v":""},"","","","","",null,"","","","","",""]
["","","","","","","","","","",{"$f":"IF(A70=\"\",\"\",IF(OR(I70=1,I70=\"S\"),IF(VLOOKUP(J70,Tables!E$1:F$50,2,FALSE)=1,IF(MOD(BE70,2)=1,1,2),IF(MOD(BE70,2)=1,2,1)),IF(MOD(BE70,2)=1,1,2)))","v":""},"","",null,null,null,"","","","","","","","","","","","","","","","","","","","","","","","","",{"$f":"IF(AN70=\"\",\"\",IF(I70=0,IF(AO70=1,VLOOKUP(F70,Tables!A$1:C$18,2,FALSE),VLOOKUP(F70,Tables!A$1:C$18,3,FALSE)),IF(I70=1, IF(AO70=1,VLOOKUP(F70,Tables!H$1:J$95,2,FALSE),VLOOKUP(F70,Tables!H$1:J$95,3,FALSE)),IF(AO70=1,VLOOKUP(F70,Tables!Q$1:S$137,2,FALSE),VLOOKUP(F70,Tables!Q$1:S$137,3,FALSE)))))","v":""},"","","",{"$f":"IF(AN70=\"\",\"\",IF(AND(AR70>5,(AR70-AS70)>1),1,IF(AND(AS70>5,(AS70-AR70)>1),2,IF(AND(H70=1,AR70=$J$14),1,IF(AND(H70=1,AS70=$J$14),2,IF(AND(I70=\"S\",AR70=1),1,IF(AND(I70=\"S\",AS70=1),2,0)))))))","v":""},"","","","","",null,"","","","","",""]
["","","","","","","","","","",{"$f":"IF(A71=\"\",\"\",IF(OR(I71=1,I71=\"S\"),IF(VLOOKUP(J71,Tables!E$1:F$50,2,FALSE)=1,IF(MOD(BE71,2)=1,1,2),IF(MOD(BE71,2)=1,2,1)),IF(MOD(BE71,2)=1,1,2)))","v":""},"","",null,null,null,"","","","","","","","","","","","","","","","","","","","","","","","","",{"$f":"IF(AN71=\"\",\"\",IF(I71=0,IF(AO71=1,VLOOKUP(F71,Tables!A$1:C$18,2,FALSE),VLOOKUP(F71,Tables!A$1:C$18,3,FALSE)),IF(I71=1, IF(AO71=1,VLOOKUP(F71,Tables!H$1:J$95,2,FALSE),VLOOKUP(F71,Tables!H$1:J$95,3,FALSE)),IF(AO71=1,VLOOKUP(F71,Tables!Q$1:S$137,2,FALSE),VLOOKUP(F71,Tables!Q$1:S$137,3,FALSE)))))","v":""},"","","","","","","","","",null,"","","","","",""]
["","","","","","","","","","",{"$f":"IF(A72=\"\",\"\",IF(OR(I72=1,I72=\"S\"),IF(VLOOKUP(J72,Tables!E$1:F$50,2,FALSE)=1,IF(MOD(BE72,2)=1,1,2),IF(MOD(BE72,2)=1,2,1)),IF(MOD(BE72,2)=1,1,2)))","v":""},{"$f":"IF(A72=\"\",\"\",IF(MOD(K72,2)=1,2,1))","v":""},"",null,null,null,"","","","","","","","","","","","","","","","","","","","","","","","","",{"$f":"IF(AN72=\"\",\"\",IF(I72=0,IF(AO72=1,VLOOKUP(F72,Tables!A$1:C$18,2,FALSE),VLOOKUP(F72,Tables!A$1:C$18,3,FALSE)),IF(I72=1, IF(AO72=1,VLOOKUP(F72,Tables!H$1:J$95,2,FALSE),VLOOKUP(F72,Tables!H$1:J$95,3,FALSE)),IF(AO72=1,VLOOKUP(F72,Tables!Q$1:S$137,2,FALSE),VLOOKUP(F72,Tables!Q$1:S$137,3,FALSE)))))","v":""},"","","","","","","","","",null,"","","","","",""]
["","","","","","","","","","",{"$f":"IF(A73=\"\",\"\",IF(OR(I73=1,I73=\"S\"),IF(VLOOKUP(J73,Tables!E$1:F$50,2,FALSE)=1,IF(MOD(BE73,2)=1,1,2),IF(MOD(BE73,2)=1,2,1)),IF(MOD(BE73,2)=1,1,2)))","v":""},"","",null,null,null,"","","","","","","","","","","","","","","","","","","","","","","","","",{"$f":"IF(AN73=\"\",\"\",IF(I73=0,IF(AO73=1,VLOOKUP(F73,Tables!A$1:C$18,2,FALSE),VLOOKUP(F73,Tables!A$1:C$18,3,FALSE)),IF(I73=1, IF(AO73=1,VLOOKUP(F73,Tables!H$1:J$95,2,FALSE),VLOOKUP(F73,Tables!H$1:J$95,3,FALSE)),IF(AO73=1,VLOOKUP(F73,Tables!Q$1:S$137,2,FALSE),VLOOKUP(F73,Tables!Q$1:S$137,3,FALSE)))))","v":""},"","","","","","","","","",null,"","","","","",""]
["","","","","","","","","","",{"$f":"IF(A74=\"\",\"\",IF(OR(I74=1,I74=\"S\"),IF(VLOOKUP(J74,Tables!E$1:F$50,2,FALSE)=1,IF(MOD(BE74,2)=1,1,2),IF(MOD(BE74,2)=1,2,1)),IF(MOD(BE74,2)=1,1,2)))","v":""},"","",null,null,null,"","","","","","","","","","","","","","","","","","","","","","","","","",{"$f":"IF(AN74=\"\",\"\",IF(I74=0,IF(AO74=1,VLOOKUP(F74,Tables!A$1:C$18,2,FALSE),VLOOKUP(F74,Tables!A$1:C$18,3,FALSE)),IF(I74=1, IF(AO74=1,VLOOKUP(F74,Tables!H$1:J$95,2,FALSE),VLOOKUP(F74,Tables!H$1:J$95,3,FALSE)),IF(AO74=1,VLOOKUP(F74,Tables!Q$1:S$137,2,FALSE),VLOOKUP(F74,Tables!Q$1:S$137,3,FALSE)))))","v":""},"","","","","","","","","",null,"","","","","",""]
["","","","","","","","","","",{"$f":"IF(A75=\"\",\"\",IF(OR(I75=1,I75=\"S\"),IF(VLOOKUP(J75,Tables!E$1:F$50,2,FALSE)=1,IF(MOD(BE75,2)=1,1,2),IF(MOD(BE75,2)=1,2,1)),IF(MOD(BE75,2)=1,1,2)))","v":""},"","",null,null,null,"","","","","","","","","","","","","","","","","","","","","","","","","",{"$f":"IF(AN75=\"\",\"\",IF(I75=0,IF(AO75=1,VLOOKUP(F75,Tables!A$1:C$18,2,FALSE),VLOOKUP(F75,Tables!A$1:C$18,3,FALSE)),IF(I75=1, IF(AO75=1,VLOOKUP(F75,Tables!H$1:J$95,2,FALSE),VLOOKUP(F75,Tables!H$1:J$95,3,FALSE)),IF(AO75=1,VLOOKUP(F75,Tables!Q$1:S$137,2,FALSE),VLOOKUP(F75,Tables!Q$1:S$137,3,FALSE)))))","v":""},"","","","","","","","","",null,"","","","","",""]
["","","","","","","","","","",{"$f":"IF(A76=\"\",\"\",IF(OR(I76=1,I76=\"S\"),IF(VLOOKUP(J76,Tables!E$1:F$50,2,FALSE)=1,IF(MOD(BE76,2)=1,1,2),IF(MOD(BE76,2)=1,2,1)),IF(MOD(BE76,2)=1,1,2)))","v":""},"","",null,null,null,"","","","","","","","","","","","","","","","","","","","","","","","","",{"$f":"IF(AN76=\"\",\"\",IF(I76=0,IF(AO76=1,VLOOKUP(F76,Tables!A$1:C$18,2,FALSE),VLOOKUP(F76,Tables!A$1:C$18,3,FALSE)),IF(I76=1, IF(AO76=1,VLOOKUP(F76,Tables!H$1:J$95,2,FALSE),VLOOKUP(F76,Tables!H$1:J$95,3,FALSE)),IF(AO76=1,VLOOKUP(F76,Tables!Q$1:S$137,2,FALSE),VLOOKUP(F76,Tables!Q$1:S$137,3,FALSE)))))","v":""},"","","","","","","","","",null,"","","","","",""]
["","","","","","","","","","",{"$f":"IF(A77=\"\",\"\",IF(OR(I77=1,I77=\"S\"),IF(VLOOKUP(J77,Tables!E$1:F$50,2,FALSE)=1,IF(MOD(BE77,2)=1,1,2),IF(MOD(BE77,2)=1,2,1)),IF(MOD(BE77,2)=1,1,2)))","v":""},"","",null,null,null,"","","","","","","","","","","","","","","","","","","","","","","","","",{"$f":"IF(AN77=\"\",\"\",IF(I77=0,IF(AO77=1,VLOOKUP(F77,Tables!A$1:C$18,2,FALSE),VLOOKUP(F77,Tables!A$1:C$18,3,FALSE)),IF(I77=1, IF(AO77=1,VLOOKUP(F77,Tables!H$1:J$95,2,FALSE),VLOOKUP(F77,Tables!H$1:J$95,3,FALSE)),IF(AO77=1,VLOOKUP(F77,Tables!Q$1:S$137,2,FALSE),VLOOKUP(F77,Tables!Q$1:S$137,3,FALSE)))))","v":""},"","","","","","","","","",null,"","","","","",""]
["","","","","","","","","","",{"$f":"IF(A78=\"\",\"\",IF(OR(I78=1,I78=\"S\"),IF(VLOOKUP(J78,Tables!E$1:F$50,2,FALSE)=1,IF(MOD(BE78,2)=1,1,2),IF(MOD(BE78,2)=1,2,1)),IF(MOD(BE78,2)=1,1,2)))","v":""},"","",null,null,null,"","","","","","","","","","","","","","","","","","","","","","","","","",{"$f":"IF(AN78=\"\",\"\",IF(I78=0,IF(AO78=1,VLOOKUP(F78,Tables!A$1:C$18,2,FALSE),VLOOKUP(F78,Tables!A$1:C$18,3,FALSE)),IF(I78=1, IF(AO78=1,VLOOKUP(F78,Tables!H$1:J$95,2,FALSE),VLOOKUP(F78,Tables!H$1:J$95,3,FALSE)),IF(AO78=1,VLOOKUP(F78,Tables!Q$1:S$137,2,FALSE),VLOOKUP(F78,Tables!Q$1:S$137,3,FALSE)))))","v":""},"","","","","","","","","",null,"","","","","",""]
["","","","","","","","","","",{"$f":"IF(A79=\"\",\"\",IF(OR(I79=1,I79=\"S\"),IF(VLOOKUP(J79,Tables!E$1:F$50,2,FALSE)=1,IF(MOD(BE79,2)=1,1,2),IF(MOD(BE79,2)=1,2,1)),IF(MOD(BE79,2)=1,1,2)))","v":""},"","",null,null,null,"","","","","","","","","","","","","","","","","","","","","","","","","",{"$f":"IF(AN79=\"\",\"\",IF(I79=0,IF(AO79=1,VLOOKUP(F79,Tables!A$1:C$18,2,FALSE),VLOOKUP(F79,Tables!A$1:C$18,3,FALSE)),IF(I79=1, IF(AO79=1,VLOOKUP(F79,Tables!H$1:J$95,2,FALSE),VLOOKUP(F79,Tables!H$1:J$95,3,FALSE)),IF(AO79=1,VLOOKUP(F79,Tables!Q$1:S$137,2,FALSE),VLOOKUP(F79,Tables!Q$1:S$137,3,FALSE)))))","v":""},"","","","","","","","","",null,"","","","","",""]
["","","","","","","","","","",{"$f":"IF(A80=\"\",\"\",IF(OR(I80=1,I80=\"S\"),IF(VLOOKUP(J80,Tables!E$1:F$50,2,FALSE)=1,IF(MOD(BE80,2)=1,1,2),IF(MOD(BE80,2)=1,2,1)),IF(MOD(BE80,2)=1,1,2)))","v":""},"","",null,null,null,"","","","","","","","","","","","","","","","","","","","","","","","","",{"$f":"IF(AN80=\"\",\"\",IF(I80=0,IF(AO80=1,VLOOKUP(F80,Tables!A$1:C$18,2,FALSE),VLOOKUP(F80,Tables!A$1:C$18,3,FALSE)),IF(I80=1, IF(AO80=1,VLOOKUP(F80,Tables!H$1:J$95,2,FALSE),VLOOKUP(F80,Tables!H$1:J$95,3,FALSE)),IF(AO80=1,VLOOKUP(F80,Tables!Q$1:S$137,2,FALSE),VLOOKUP(F80,Tables!Q$1:S$137,3,FALSE)))))","v":""},"","","","","","","","","",null,"","","","","",""]
["","","","","","","","","","",{"$f":"IF(A81=\"\",\"\",IF(OR(I81=1,I81=\"S\"),IF(VLOOKUP(J81,Tables!E$1:F$50,2,FALSE)=1,IF(MOD(BE81,2)=1,1,2),IF(MOD(BE81,2)=1,2,1)),IF(MOD(BE81,2)=1,1,2)))","v":""},"","",null,null,null,"","","","","","","","","","","","","","","","","","","","","","","","","",{"$f":"IF(AN81=\"\",\"\",IF(I81=0,IF(AO81=1,VLOOKUP(F81,Tables!A$1:C$18,2,FALSE),VLOOKUP(F81,Tables!A$1:C$18,3,FALSE)),IF(I81=1, IF(AO81=1,VLOOKUP(F81,Tables!H$1:J$95,2,FALSE),VLOOKUP(F81,Tables!H$1:J$95,3,FALSE)),IF(AO81=1,VLOOKUP(F81,Tables!Q$1:S$137,2,FALSE),VLOOKUP(F81,Tables!Q$1:S$137,3,FALSE)))))","v":""},"","","","","","","","","",null,"","","","","",""]
["","","","","","","",{"$f":"IF(A82=\"\",\"\",IF(OR(B$14=1,B$14=\"S\",AND(B$14<>\"V\",(B82+C82+1)<B$13)),1,0))","v":""},{"$f":"IF(A82=\"\",\"\",IF(AND(D82=$I$14,E82=$I$14,H82=1),1,IF(AND(B$14=\"S\",(B82+C82+1)=B$13),\"S\",0)))","v":""},{"$f":"IF(OR(I82=1,I82=\"S\"),IF(F82=\"0-0\",1,J81+1),\"\")","v":""},{"$f":"IF(A82=\"\",\"\",IF(OR(I82=1,I82=\"S\"),IF(VLOOKUP(J82,Tables!E$1:F$50,2,FALSE)=1,IF(MOD(BE82,2)=1,1,2),IF(MOD(BE82,2)=1,2,1)),IF(MOD(BE82,2)=1,1,2)))","v":""},"",{"$f":"IF(A82=\"\",\"\",IF(K82=1,I$1,I$2))","v":""},null,null,null,"","","","","","","","","","","","","","","","","","",{"$f":"IF(N82=\"\",\"\",IF(AND(W82=0,X82=0),TRUE,FALSE))","v":""},"","","",{"$f":"IF(N82=\"\",\"\",LEN(AL82))","v":""},{"$f":"IF(OR(N82=\"P\",N82=\"R\"),L82,IF(OR(N82=\"Q\",N82=\"S\"),K82,IF(AND(AC82=\"\",OR(AD82=FALSE,AD82=\"\"),OR(AE82=FALSE,AE82=\"\"),OR(AI82=FALSE,AI82=\"\")),\"\",IF(OR(AD82=TRUE,AE82=TRUE,AND((MOD(AM82,2)=0),AF82=TRUE),AND((MOD(AM82,2)=1),OR(AG82=TRUE,AH82=TRUE))),K82,L82))))","v":""},{"$f":"IF(AN82=\"\",\"\",IF(AN82=K82,1,0))","v":""},{"$f":"IF(AN82=\"\",\"\",IF(I82=0,IF(AO82=1,VLOOKUP(F82,Tables!A$1:C$18,2,FALSE),VLOOKUP(F82,Tables!A$1:C$18,3,FALSE)),IF(I82=1, IF(AO82=1,VLOOKUP(F82,Tables!H$1:J$95,2,FALSE),VLOOKUP(F82,Tables!H$1:J$95,3,FALSE)),IF(AO82=1,VLOOKUP(F82,Tables!Q$1:S$137,2,FALSE),VLOOKUP(F82,Tables!Q$1:S$137,3,FALSE)))))","v":""},"",{"$f":"IF(AN82=\"\",\"\",IF(AQ82=1,D82+1,D82))","v":""},{"$f":"IF(AN82=\"\",\"\",IF(AQ82=2,E82+1,E82))","v":""},"",{"$f":"IF(AN82=\"\",\"\",IF(AT82=1,B82+1,B82))","v":""},{"$f":"IF(AN82=\"\",\"\",IF(AT82=2,C82+1,C82))","v":""},"","","",null,{"$f":"IF(AA82=\"\",\"\",SUM(B82,C82,1))","v":""},{"$f":"IF(AA82=\"\",\"\",\"SET \"&BA82&\": \"&D82&\"-\"&E82&\", \"&F82)","v":""},{"$f":"IF(AA82=\"\",\"\",IF(AT82>0,(AU82+AV82),IF(AND(NOT(D83=\"\"),D84=\"\"),AU82+AV82+1,\"\")))","v":""},"","",""]
[{"$f":"IF(AN82=\"\",\"\",A82+1)","v":""},{"$f":"IF(A83=\"\",\"\",AU82)","v":""},{"$f":"IF(A83=\"\",\"\",AV82)","v":""},{"$f":"IF(A83=\"\",\"\",IF(AT82=0,AR82,0))","v":""},{"$f":"IF(A83=\"\",\"\",IF(AT82=0,AS82,0))","v":""},{"$f":"IF(A83=\"\",\"\",IF(AW82=1,AX82,IF(AP82=\"GM\",\"0-0\",AP82)))","v":""},{"$f":"IF(BE83=\"\",\"\",BE83&\" (\"&BF83&\")\")","v":""},"","","",{"$f":"IF(A83=\"\",\"\",IF(OR(I83=1,I83=\"S\"),IF(VLOOKUP(J83,Tables!E$1:F$50,2,FALSE)=1,IF(MOD(BE83,2)=1,1,2),IF(MOD(BE83,2)=1,2,1)),IF(MOD(BE83,2)=1,1,2)))","v":""},"","",null,null,null,{"$f":"IF(N83=\"\",\"\",SUBSTITUTE(N83, \"c\", \"\"))","v":""},{"$f":"SUBSTITUTE(O83, \"c\", \"\")","v":""},{"$f":"IF(N83=\"\",\"\",IF(MID(Q83,2,1)=\"+\",1,0))","v":""},{"$f":"IF(O83=\"\",\"\",IF(MID(R83,2,1)=\"+\",1,0))","v":""},{"$f":"IF(N83=\"\",\"\",IF(S83=1,SUBSTITUTE(Q83, \"+\", \"\",1),Q83))","v":""},{"$f":"IF(T83=1,SUBSTITUTE(R83, \"+\", \"\",1),R83)","v":""},{"$f":"IF(N83=\"\",\"\",IF(LEN(N83)=1,0,IF(ISERROR(FIND(MID(U83,2,1),\"wdnxge!VPQRS\"))=TRUE,1,0)))","v":""},{"$f":"IF(O83=\"\",\"\",IF(ISERROR(FIND(MID(V83,2,1),\"wdnxge!VPQRS\"))=TRUE,1,0))","v":""},{"$f":"IF(N83=\"\",\"\",IF(W83=0,0,IF(LEN(U83)>2,1,0)))","v":""},{"$f":"IF(N83=\"\",\"\",IF(X83=0,0,IF(LEN(V83)>2,1,0)))","v":""},{"$f":"IF(N83=\"\",\"\",IF(Y83=0,Q83,LEFT(U83,1)))","v":""},{"$f":"IF(N83=\"\",\"\",IF(Z83=0,V83,LEFT(V83,1)))","v":""},{"$f":"IF(N83=\"\",\"\",IF(Y83=1,RIGHT(U83,(LEN(U83)-1)),IF(Z83=1,RIGHT(V83,(LEN(V83)-1)),\"\")))","v":""},{"$f":"IF(AA83=\"\",\"\",OR(IF(ISERR(FIND(\"*\",AA83)),FALSE,TRUE), IF(ISERR(FIND(\"*\",AB83)),FALSE,TRUE)))","v":""},{"$f":"IF(AA83=\"\",\"\",OR(IF(ISERR(FIND(\"#\",AA83)),FALSE,TRUE), IF(ISERR(FIND(\"#\",AB83)),FALSE,TRUE)))","v":""},{"$f":"IF(AA83=\"\",\"\",IF(ISERR(FIND(\"*\",AC83)),FALSE,TRUE))","v":""},{"$f":"IF(AA83=\"\",\"\",IF(ISERR(FIND(\"#\",AC83)),FALSE,TRUE))","v":""},{"$f":"IF(AA83=\"\",\"\",IF(ISERR(FIND(\"@\",AC83)),FALSE,TRUE))","v":""},"",{"$f":"SUBSTITUTE(SUBSTITUTE(SUBSTITUTE(SUBSTITUTE(SUBSTITUTE(SUBSTITUTE(SUBSTITUTE(SUBSTITUTE(AC83, \"-\", \"\"), \"=\", \"\"), \"@\", \"\"), \"#\", \"\"), \"*\", \"\"), \";\", \"\"), \"+\", \"\"), \"^\", \"\")","v":""},{"$f":"SUBSTITUTE(SUBSTITUTE(SUBSTITUTE(SUBSTITUTE(SUBSTITUTE(SUBSTITUTE(AJ83, \"d\", \"\"), \"w\", \"\"), \"x\", \"\"), \"e\", \"\"), \"n\", \"\"), \"!\", \"\")","v":""},{"$f":"SUBSTITUTE(SUBSTITUTE(SUBSTITUTE(SUBSTITUTE(SUBSTITUTE(SUBSTITUTE(AK83, \"1\", \"\"), \"2\", \"\"), \"3\", \"\"), \"7\", \"\"), \"8\", \"\"), \"9\", \"\")","v":""},"","","",{"$f":"IF(AN83=\"\",\"\",IF(I83=0,IF(AO83=1,VLOOKUP(F83,Tables!A$1:C$18,2,FALSE),VLOOKUP(F83,Tables!A$1:C$18,3,FALSE)),IF(I83=1, IF(AO83=1,VLOOKUP(F83,Tables!H$1:J$95,2,FALSE),VLOOKUP(F83,Tables!H$1:J$95,3,FALSE)),IF(AO83=1,VLOOKUP(F83,Tables!Q$1:S$137,2,FALSE),VLOOKUP(F83,Tables!Q$1:S$137,3,FALSE)))))","v":""},{"$f":"IF(AN83=\"\",\"\",IF(AP83=\"GM\",AN83,0))","v":""},"","","","","",{"$f":"IF(J83=\"\",\"\",IF(AND(OR(I83=1,I83=\"S\"),MOD(J83,2)=1,NOT(AP83=\"GM\")),1,\"\"))","v":""},{"$f":"IF(AW83=1,CONCATENATE(RIGHT(AP83,(LEN(AP83)-FIND(\"-\",AP83))),\"-\",LEFT(AP83,FIND(\"-\",AP83)-1)),\"\")","v":""},{"$f":"IF(AA83=\"\",\"\",IF(OR(RIGHT(AC83,1)=\"@\",RIGHT(AC83,1)=\"#\"),AM83,IF(AI83=TRUE,0,AM83+1)))","v":""},null,"","","","",{"$f":"IF(A83=\"\",\"\",IF(AP82=\"GM\",BE82+1,BE82))","v":""},{"$f":"IF(A83=\"\",\"\",IF(AQ82=0,BF82+1,1))","v":""}]
["","","","","","","","","","",{"$f":"IF(A84=\"\",\"\",IF(OR(I84=1,I84=\"S\"),IF(VLOOKUP(J84,Tables!E$1:F$50,2,FALSE)=1,IF(MOD(BE84,2)=1,1,2),IF(MOD(BE84,2)=1,2,1)),IF(MOD(BE84,2)=1,1,2)))","v":""},"","",null,null,null,"","","","","","","","","","","","","","","","","","","","","","","","","",{"$f":"IF(AN84=\"\",\"\",IF(I84=0,IF(AO84=1,VLOOKUP(F84,Tables!A$1:C$18,2,FALSE),VLOOKUP(F84,Tables!A$1:C$18,3,FALSE)),IF(I84=1, IF(AO84=1,VLOOKUP(F84,Tables!H$1:J$95,2,FALSE),VLOOKUP(F84,Tables!H$1:J$95,3,FALSE)),IF(AO84=1,VLOOKUP(F84,Tables!Q$1:S$137,2,FALSE),VLOOKUP(F84,Tables!Q$1:S$137,3,FALSE)))))","v":""},"","","","","","","","","",null,"","","","","",""]
["","","","","","","","","","",{"$f":"IF(A85=\"\",\"\",IF(OR(I85=1,I85=\"S\"),IF(VLOOKUP(J85,Tables!E$1:F$50,2,FALSE)=1,IF(MOD(BE85,2)=1,1,2),IF(MOD(BE85,2)=1,2,1)),IF(MOD(BE85,2)=1,1,2)))","v":""},"","",null,null,null,"","","","","","","","","","","","","","","","","","","","","","","","","",{"$f":"IF(AN85=\"\",\"\",IF(I85=0,IF(AO85=1,VLOOKUP(F85,Tables!A$1:C$18,2,FALSE),VLOOKUP(F85,Tables!A$1:C$18,3,FALSE)),IF(I85=1, IF(AO85=1,VLOOKUP(F85,Tables!H$1:J$95,2,FALSE),VLOOKUP(F85,Tables!H$1:J$95,3,FALSE)),IF(AO85=1,VLOOKUP(F85,Tables!Q$1:S$137,2,FALSE),VLOOKUP(F85,Tables!Q$1:S$137,3,FALSE)))))","v":""},"","","","","","","","","",null,"","","","","",""]
["","","","","","","","","","",{"$f":"IF(A86=\"\",\"\",IF(OR(I86=1,I86=\"S\"),IF(VLOOKUP(J86,Tables!E$1:F$50,2,FALSE)=1,IF(MOD(BE86,2)=1,1,2),IF(MOD(BE86,2)=1,2,1)),IF(MOD(BE86,2)=1,1,2)))","v":""},"","",null,null,null,"","","","","","","","","","","","","","","","","","","","","","","","","",{"$f":"IF(AN86=\"\",\"\",IF(I86=0,IF(AO86=1,VLOOKUP(F86,Tables!A$1:C$18,2,FALSE),VLOOKUP(F86,Tables!A$1:C$18,3,FALSE)),IF(I86=1, IF(AO86=1,VLOOKUP(F86,Tables!H$1:J$95,2,FALSE),VLOOKUP(F86,Tables!H$1:J$95,3,FALSE)),IF(AO86=1,VLOOKUP(F86,Tables!Q$1:S$137,2,FALSE),VLOOKUP(F86,Tables!Q$1:S$137,3,FALSE)))))","v":""},"","","","","","","","","",null,"","","","","",""]
["","","","","","","","","","",{"$f":"IF(A87=\"\",\"\",IF(OR(I87=1,I87=\"S\"),IF(VLOOKUP(J87,Tables!E$1:F$50,2,FALSE)=1,IF(MOD(BE87,2)=1,1,2),IF(MOD(BE87,2)=1,2,1)),IF(MOD(BE87,2)=1,1,2)))","v":""},"","",null,null,null,"","","","","","","","","","","","","","","","","","","","","","","","","",{"$f":"IF(AN87=\"\",\"\",IF(I87=0,IF(AO87=1,VLOOKUP(F87,Tables!A$1:C$18,2,FALSE),VLOOKUP(F87,Tables!A$1:C$18,3,FALSE)),IF(I87=1, IF(AO87=1,VLOOKUP(F87,Tables!H$1:J$95,2,FALSE),VLOOKUP(F87,Tables!H$1:J$95,3,FALSE)),IF(AO87=1,VLOOKUP(F87,Tables!Q$1:S$137,2,FALSE),VLOOKUP(F87,Tables!Q$1:S$137,3,FALSE)))))","v":""},"","","","","","","","","",null,"","","","","",""]
["","","","","","","","","","",{"$f":"IF(A88=\"\",\"\",IF(OR(I88=1,I88=\"S\"),IF(VLOOKUP(J88,Tables!E$1:F$50,2,FALSE)=1,IF(MOD(BE88,2)=1,1,2),IF(MOD(BE88,2)=1,2,1)),IF(MOD(BE88,2)=1,1,2)))","v":""},"","",null,null,null,"","","","","","","","","","","","","","","","","","","","","","","","","",{"$f":"IF(AN88=\"\",\"\",IF(I88=0,IF(AO88=1,VLOOKUP(F88,Tables!A$1:C$18,2,FALSE),VLOOKUP(F88,Tables!A$1:C$18,3,FALSE)),IF(I88=1, IF(AO88=1,VLOOKUP(F88,Tables!H$1:J$95,2,FALSE),VLOOKUP(F88,Tables!H$1:J$95,3,FALSE)),IF(AO88=1,VLOOKUP(F88,Tables!Q$1:S$137,2,FALSE),VLOOKUP(F88,Tables!Q$1:S$137,3,FALSE)))))","v":""},"","","","","","","","","",null,"","","","","",""]
["","","","","","","","","","",{"$f":"IF(A89=\"\",\"\",IF(OR(I89=1,I89=\"S\"),IF(VLOOKUP(J89,Tables!E$1:F$50,2,FALSE)=1,IF(MOD(BE89,2)=1,1,2),IF(MOD(BE89,2)=1,2,1)),IF(MOD(BE89,2)=1,1,2)))","v":""},"","",null,null,null,"","","","","","","","","","","","","","","","","","","","","","","","","",{"$f":"IF(AN89=\"\",\"\",IF(I89=0,IF(AO89=1,VLOOKUP(F89,Tables!A$1:C$18,2,FALSE),VLOOKUP(F89,Tables!A$1:C$18,3,FALSE)),IF(I89=1, IF(AO89=1,VLOOKUP(F89,Tables!H$1:J$95,2,FALSE),VLOOKUP(F89,Tables!H$1:J$95,3,FALSE)),IF(AO89=1,VLOOKUP(F89,Tables!Q$1:S$137,2,FALSE),VLOOKUP(F89,Tables!Q$1:S$137,3,FALSE)))))","v":""},"","","","","","","","","",null,"","","","","",""]
["","","","","","","","","","",{"$f":"IF(A90=\"\",\"\",IF(OR(I90=1,I90=\"S\"),IF(VLOOKUP(J90,Tables!E$1:F$50,2,FALSE)=1,IF(MOD(BE90,2)=1,1,2),IF(MOD(BE90,2)=1,2,1)),IF(MOD(BE90,2)=1,1,2)))","v":""},"","",null,null,null,"","","","","","","","","","","","","","","","","","","","","","","","","",{"$f":"IF(AN90=\"\",\"\",IF(I90=0,IF(AO90=1,VLOOKUP(F90,Tables!A$1:C$18,2,FALSE),VLOOKUP(F90,Tables!A$1:C$18,3,FALSE)),IF(I90=1, IF(AO90=1,VLOOKUP(F90,Tables!H$1:J$95,2,FALSE),VLOOKUP(F90,Tables!H$1:J$95,3,FALSE)),IF(AO90=1,VLOOKUP(F90,Tables!Q$1:S$137,2,FALSE),VLOOKUP(F90,Tables!Q$1:S$137,3,FALSE)))))","v":""},"","","","","","","","","",null,"","","","","",""]
["","","","","","","","","","",{"$f":"IF(A91=\"\",\"\",IF(OR(I91=1,I91=\"S\"),IF(VLOOKUP(J91,Tables!E$1:F$50,2,FALSE)=1,IF(MOD(BE91,2)=1,1,2),IF(MOD(BE91,2)=1,2,1)),IF(MOD(BE91,2)=1,1,2)))","v":""},"","",null,null,null,"","","","","","","","","","","","","","","","","","","","","","","","","",{"$f":"IF(AN91=\"\",\"\",IF(I91=0,IF(AO91=1,VLOOKUP(F91,Tables!A$1:C$18,2,FALSE),VLOOKUP(F91,Tables!A$1:C$18,3,FALSE)),IF(I91=1, IF(AO91=1,VLOOKUP(F91,Tables!H$1:J$95,2,FALSE),VLOOKUP(F91,Tables!H$1:J$95,3,FALSE)),IF(AO91=1,VLOOKUP(F91,Tables!Q$1:S$137,2,FALSE),VLOOKUP(F91,Tables!Q$1:S$137,3,FALSE)))))","v":""},"","","","","","","","","",null,"","","","","",""]
["","","","","","","","","","",{"$f":"IF(A92=\"\",\"\",IF(OR(I92=1,I92=\"S\"),IF(VLOOKUP(J92,Tables!E$1:F$50,2,FALSE)=1,IF(MOD(BE92,2)=1,1,2),IF(MOD(BE92,2)=1,2,1)),IF(MOD(BE92,2)=1,1,2)))","v":""},"","",null,null,null,"","","","","","","","","","","","","","","","","","","","","","","","","",{"$f":"IF(AN92=\"\",\"\",IF(I92=0,IF(AO92=1,VLOOKUP(F92,Tables!A$1:C$18,2,FALSE),VLOOKUP(F92,Tables!A$1:C$18,3,FALSE)),IF(I92=1, IF(AO92=1,VLOOKUP(F92,Tables!H$1:J$95,2,FALSE),VLOOKUP(F92,Tables!H$1:J$95,3,FALSE)),IF(AO92=1,VLOOKUP(F92,Tables!Q$1:S$137,2,FALSE),VLOOKUP(F92,Tables!Q$1:S$137,3,FALSE)))))","v":""},"","","","","","","","","",null,"","","","","",""]
["","","","","","","","","","",{"$f":"IF(A93=\"\",\"\",IF(OR(I93=1,I93=\"S\"),IF(VLOOKUP(J93,Tables!E$1:F$50,2,FALSE)=1,IF(MOD(BE93,2)=1,1,2),IF(MOD(BE93,2)=1,2,1)),IF(MOD(BE93,2)=1,1,2)))","v":""},"","",null,null,null,"","","","","","","","","","","","","","","","","","","","","","","","","",{"$f":"IF(AN93=\"\",\"\",IF(I93=0,IF(AO93=1,VLOOKUP(F93,Tables!A$1:C$18,2,FALSE),VLOOKUP(F93,Tables!A$1:C$18,3,FALSE)),IF(I93=1, IF(AO93=1,VLOOKUP(F93,Tables!H$1:J$95,2,FALSE),VLOOKUP(F93,Tables!H$1:J$95,3,FALSE)),IF(AO93=1,VLOOKUP(F93,Tables!Q$1:S$137,2,FALSE),VLOOKUP(F93,Tables!Q$1:S$137,3,FALSE)))))","v":""},"","","","","","","","","",null,"","","","","",""]
["","","","","","","","","","",{"$f":"IF(A94=\"\",\"\",IF(OR(I94=1,I94=\"S\"),IF(VLOOKUP(J94,Tables!E$1:F$50,2,FALSE)=1,IF(MOD(BE94,2)=1,1,2),IF(MOD(BE94,2)=1,2,1)),IF(MOD(BE94,2)=1,1,2)))","v":""},"","",null,null,null,"","","","","","","","","","","","","","","","","","","","","","","","","",{"$f":"IF(AN94=\"\",\"\",IF(I94=0,IF(AO94=1,VLOOKUP(F94,Tables!A$1:C$18,2,FALSE),VLOOKUP(F94,Tables!A$1:C$18,3,FALSE)),IF(I94=1, IF(AO94=1,VLOOKUP(F94,Tables!H$1:J$95,2,FALSE),VLOOKUP(F94,Tables!H$1:J$95,3,FALSE)),IF(AO94=1,VLOOKUP(F94,Tables!Q$1:S$137,2,FALSE),VLOOKUP(F94,Tables!Q$1:S$137,3,FALSE)))))","v":""},"","","","","","","","","",null,"","","","","",""]
["","","","","","","","","","",{"$f":"IF(A95=\"\",\"\",IF(OR(I95=1,I95=\"S\"),IF(VLOOKUP(J95,Tables!E$1:F$50,2,FALSE)=1,IF(MOD(BE95,2)=1,1,2),IF(MOD(BE95,2)=1,2,1)),IF(MOD(BE95,2)=1,1,2)))","v":""},"","",null,null,null,"","","","","","","","","","","","","","","","","","","","","","","","","",{"$f":"IF(AN95=\"\",\"\",IF(I95=0,IF(AO95=1,VLOOKUP(F95,Tables!A$1:C$18,2,FALSE),VLOOKUP(F95,Tables!A$1:C$18,3,FALSE)),IF(I95=1, IF(AO95=1,VLOOKUP(F95,Tables!H$1:J$95,2,FALSE),VLOOKUP(F95,Tables!H$1:J$95,3,FALSE)),IF(AO95=1,VLOOKUP(F95,Tables!Q$1:S$137,2,FALSE),VLOOKUP(F95,Tables!Q$1:S$137,3,FALSE)))))","v":""},"","","","","","","","","",null,"","","","","",""]
["","","","","","","","","","",{"$f":"IF(A96=\"\",\"\",IF(OR(I96=1,I96=\"S\"),IF(VLOOKUP(J96,Tables!E$1:F$50,2,FALSE)=1,IF(MOD(BE96,2)=1,1,2),IF(MOD(BE96,2)=1,2,1)),IF(MOD(BE96,2)=1,1,2)))","v":""},"","",null,null,null,"","","","","","","","","","","","","","","","","","","","","","","","","",{"$f":"IF(AN96=\"\",\"\",IF(I96=0,IF(AO96=1,VLOOKUP(F96,Tables!A$1:C$18,2,FALSE),VLOOKUP(F96,Tables!A$1:C$18,3,FALSE)),IF(I96=1, IF(AO96=1,VLOOKUP(F96,Tables!H$1:J$95,2,FALSE),VLOOKUP(F96,Tables!H$1:J$95,3,FALSE)),IF(AO96=1,VLOOKUP(F96,Tables!Q$1:S$137,2,FALSE),VLOOKUP(F96,Tables!Q$1:S$137,3,FALSE)))))","v":""},"","","","","","","","","",null,"","","","","",""]
["","","","","","","","","","",{"$f":"IF(A97=\"\",\"\",IF(OR(I97=1,I97=\"S\"),IF(VLOOKUP(J97,Tables!E$1:F$50,2,FALSE)=1,IF(MOD(BE97,2)=1,1,2),IF(MOD(BE97,2)=1,2,1)),IF(MOD(BE97,2)=1,1,2)))","v":""},"","",null,null,null,"","","","","","","","","","","","","","","","","","","","","","","","","",{"$f":"IF(AN97=\"\",\"\",IF(I97=0,IF(AO97=1,VLOOKUP(F97,Tables!A$1:C$18,2,FALSE),VLOOKUP(F97,Tables!A$1:C$18,3,FALSE)),IF(I97=1, IF(AO97=1,VLOOKUP(F97,Tables!H$1:J$95,2,FALSE),VLOOKUP(F97,Tables!H$1:J$95,3,FALSE)),IF(AO97=1,VLOOKUP(F97,Tables!Q$1:S$137,2,FALSE),VLOOKUP(F97,Tables!Q$1:S$137,3,FALSE)))))","v":""},"","","","","","","","","",null,"","","","","",""]
["","","","","","","","","","",{"$f":"IF(A98=\"\",\"\",IF(OR(I98=1,I98=\"S\"),IF(VLOOKUP(J98,Tables!E$1:F$50,2,FALSE)=1,IF(MOD(BE98,2)=1,1,2),IF(MOD(BE98,2)=1,2,1)),IF(MOD(BE98,2)=1,1,2)))","v":""},"","",null,null,null,"","","","","","","","","","","","","","","","","","","","","","","","","",{"$f":"IF(AN98=\"\",\"\",IF(I98=0,IF(AO98=1,VLOOKUP(F98,Tables!A$1:C$18,2,FALSE),VLOOKUP(F98,Tables!A$1:C$18,3,FALSE)),IF(I98=1, IF(AO98=1,VLOOKUP(F98,Tables!H$1:J$95,2,FALSE),VLOOKUP(F98,Tables!H$1:J$95,3,FALSE)),IF(AO98=1,VLOOKUP(F98,Tables!Q$1:S$137,2,FALSE),VLOOKUP(F98,Tables!Q$1:S$137,3,FALSE)))))","v":""},"","","","","","","","","",null,"","","","","",""]
["","","","","","","","","","",{"$f":"IF(A99=\"\",\"\",IF(OR(I99=1,I99=\"S\"),IF(VLOOKUP(J99,Tables!E$1:F$50,2,FALSE)=1,IF(MOD(BE99,2)=1,1,2),IF(MOD(BE99,2)=1,2,1)),IF(MOD(BE99,2)=1,1,2)))","v":""},"","",null,null,null,"","","","","","","","","","","","","","","","","","","","","","","","","",{"$f":"IF(AN99=\"\",\"\",IF(I99=0,IF(AO99=1,VLOOKUP(F99,Tables!A$1:C$18,2,FALSE),VLOOKUP(F99,Tables!A$1:C$18,3,FALSE)),IF(I99=1, IF(AO99=1,VLOOKUP(F99,Tables!H$1:J$95,2,FALSE),VLOOKUP(F99,Tables!H$1:J$95,3,FALSE)),IF(AO99=1,VLOOKUP(F99,Tables!Q$1:S$137,2,FALSE),VLOOKUP(F99,Tables!Q$1:S$137,3,FALSE)))))","v":""},"","","","","","","","","",null,"","","","","",""]
["","","","","","","","","","",{"$f":"IF(A100=\"\",\"\",IF(OR(I100=1,I100=\"S\"),IF(VLOOKUP(J100,Tables!E$1:F$50,2,FALSE)=1,IF(MOD(BE100,2)=1,1,2),IF(MOD(BE100,2)=1,2,1)),IF(MOD(BE100,2)=1,1,2)))","v":""},"","",null,null,null,"","","","","","","","","","","","","","","","","","","","","","","","","",{"$f":"IF(AN100=\"\",\"\",IF(I100=0,IF(AO100=1,VLOOKUP(F100,Tables!A$1:C$18,2,FALSE),VLOOKUP(F100,Tables!A$1:C$18,3,FALSE)),IF(I100=1, IF(AO100=1,VLOOKUP(F100,Tables!H$1:J$95,2,FALSE),VLOOKUP(F100,Tables!H$1:J$95,3,FALSE)),IF(AO100=1,VLOOKUP(F100,Tables!Q$1:S$137,2,FALSE),VLOOKUP(F100,Tables!Q$1:S$137,3,FALSE)))))","v":""},"","","","","","","","","",null,"","","","","",""]
["","","","","","","","","","",{"$f":"IF(A101=\"\",\"\",IF(OR(I101=1,I101=\"S\"),IF(VLOOKUP(J101,Tables!E$1:F$50,2,FALSE)=1,IF(MOD(BE101,2)=1,1,2),IF(MOD(BE101,2)=1,2,1)),IF(MOD(BE101,2)=1,1,2)))","v":""},"","",null,null,null,"","","","","","","","","","","","","","","","","","","","","","","","","",{"$f":"IF(AN101=\"\",\"\",IF(I101=0,IF(AO101=1,VLOOKUP(F101,Tables!A$1:C$18,2,FALSE),VLOOKUP(F101,Tables!A$1:C$18,3,FALSE)),IF(I101=1, IF(AO101=1,VLOOKUP(F101,Tables!H$1:J$95,2,FALSE),VLOOKUP(F101,Tables!H$1:J$95,3,FALSE)),IF(AO101=1,VLOOKUP(F101,Tables!Q$1:S$137,2,FALSE),VLOOKUP(F101,Tables!Q$1:S$137,3,FALSE)))))","v":""},"","","","","","","","","",null,"","","","","",""]
["","","","","","","","","","",{"$f":"IF(A102=\"\",\"\",IF(OR(I102=1,I102=\"S\"),IF(VLOOKUP(J102,Tables!E$1:F$50,2,FALSE)=1,IF(MOD(BE102,2)=1,1,2),IF(MOD(BE102,2)=1,2,1)),IF(MOD(BE102,2)=1,1,2)))","v":""},"","",null,null,null,"","","","","","","","","","","","","","","","","","","","","","","","","",{"$f":"IF(AN102=\"\",\"\",IF(I102=0,IF(AO102=1,VLOOKUP(F102,Tables!A$1:C$18,2,FALSE),VLOOKUP(F102,Tables!A$1:C$18,3,FALSE)),IF(I102=1, IF(AO102=1,VLOOKUP(F102,Tables!H$1:J$95,2,FALSE),VLOOKUP(F102,Tables!H$1:J$95,3,FALSE)),IF(AO102=1,VLOOKUP(F102,Tables!Q$1:S$137,2,FALSE),VLOOKUP(F102,Tables!Q$1:S$137,3,FALSE)))))","v":""},"","","","","","","","","",null,"","","","","",""]
["","","","","","","","","","",{"$f":"IF(A103=\"\",\"\",IF(OR(I103=1,I103=\"S\"),IF(VLOOKUP(J103,Tables!E$1:F$50,2,FALSE)=1,IF(MOD(BE103,2)=1,1,2),IF(MOD(BE103,2)=1,2,1)),IF(MOD(BE103,2)=1,1,2)))","v":""},"","",null,null,null,"","","","","","","","","","","","","","","","","","","","","","","","","",{"$f":"IF(AN103=\"\",\"\",IF(I103=0,IF(AO103=1,VLOOKUP(F103,Tables!A$1:C$18,2,FALSE),VLOOKUP(F103,Tables!A$1:C$18,3,FALSE)),IF(I103=1, IF(AO103=1,VLOOKUP(F103,Tables!H$1:J$95,2,FALSE),VLOOKUP(F103,Tables!H$1:J$95,3,FALSE)),IF(AO103=1,VLOOKUP(F103,Tables!Q$1:S$137,2,FALSE),VLOOKUP(F103,Tables!Q$1:S$137,3,FALSE)))))","v":""},"","","","","","","","","",null,"","","","","",""]
["","","","","","","","","","",{"$f":"IF(A104=\"\",\"\",IF(OR(I104=1,I104=\"S\"),IF(VLOOKUP(J104,Tables!E$1:F$50,2,FALSE)=1,IF(MOD(BE104,2)=1,1,2),IF(MOD(BE104,2)=1,2,1)),IF(MOD(BE104,2)=1,1,2)))","v":""},"","",null,null,null,"","","","","","","","","","","","","","","","","","","","","","","","","",{"$f":"IF(AN104=\"\",\"\",IF(I104=0,IF(AO104=1,VLOOKUP(F104,Tables!A$1:C$18,2,FALSE),VLOOKUP(F104,Tables!A$1:C$18,3,FALSE)),IF(I104=1, IF(AO104=1,VLOOKUP(F104,Tables!H$1:J$95,2,FALSE),VLOOKUP(F104,Tables!H$1:J$95,3,FALSE)),IF(AO104=1,VLOOKUP(F104,Tables!Q$1:S$137,2,FALSE),VLOOKUP(F104,Tables!Q$1:S$137,3,FALSE)))))","v":""},"","","","","","","","","",null,"","","","","",""]
["","","","","","","","","","",{"$f":"IF(A105=\"\",\"\",IF(OR(I105=1,I105=\"S\"),IF(VLOOKUP(J105,Tables!E$1:F$50,2,FALSE)=1,IF(MOD(BE105,2)=1,1,2),IF(MOD(BE105,2)=1,2,1)),IF(MOD(BE105,2)=1,1,2)))","v":""},"","",null,null,null,"","","","","","","","","","","","","","","","","","","","","","","","","",{"$f":"IF(AN105=\"\",\"\",IF(I105=0,IF(AO105=1,VLOOKUP(F105,Tables!A$1:C$18,2,FALSE),VLOOKUP(F105,Tables!A$1:C$18,3,FALSE)),IF(I105=1, IF(AO105=1,VLOOKUP(F105,Tables!H$1:J$95,2,FALSE),VLOOKUP(F105,Tables!H$1:J$95,3,FALSE)),IF(AO105=1,VLOOKUP(F105,Tables!Q$1:S$137,2,FALSE),VLOOKUP(F105,Tables!Q$1:S$137,3,FALSE)))))","v":""},"","","","","","","","","",null,"","","","","",""]
["","","","","","","","","","",{"$f":"IF(A106=\"\",\"\",IF(OR(I106=1,I106=\"S\"),IF(VLOOKUP(J106,Tables!E$1:F$50,2,FALSE)=1,IF(MOD(BE106,2)=1,1,2),IF(MOD(BE106,2)=1,2,1)),IF(MOD(BE106,2)=1,1,2)))","v":""},"","",null,null,null,"","","","","","","","","","","","","","","","","","","","","","","","","",{"$f":"IF(AN106=\"\",\"\",IF(I106=0,IF(AO106=1,VLOOKUP(F106,Tables!A$1:C$18,2,FALSE),VLOOKUP(F106,Tables!A$1:C$18,3,FALSE)),IF(I106=1, IF(AO106=1,VLOOKUP(F106,Tables!H$1:J$95,2,FALSE),VLOOKUP(F106,Tables!H$1:J$95,3,FALSE)),IF(AO106=1,VLOOKUP(F106,Tables!Q$1:S$137,2,FALSE),VLOOKUP(F106,Tables!Q$1:S$137,3,FALSE)))))","v":""},"","","","","","","","","",null,"","","","","",""]
["","","","","","","","","","",{"$f":"IF(A107=\"\",\"\",IF(OR(I107=1,I107=\"S\"),IF(VLOOKUP(J107,Tables!E$1:F$50,2,FALSE)=1,IF(MOD(BE107,2)=1,1,2),IF(MOD(BE107,2)=1,2,1)),IF(MOD(BE107,2)=1,1,2)))","v":""},"","",null,null,null,"","","","","","","","","","","","","","","","","","","","","","","","","",{"$f":"IF(AN107=\"\",\"\",IF(I107=0,IF(AO107=1,VLOOKUP(F107,Tables!A$1:C$18,2,FALSE),VLOOKUP(F107,Tables!A$1:C$18,3,FALSE)),IF(I107=1, IF(AO107=1,VLOOKUP(F107,Tables!H$1:J$95,2,FALSE),VLOOKUP(F107,Tables!H$1:J$95,3,FALSE)),IF(AO107=1,VLOOKUP(F107,Tables!Q$1:S$137,2,FALSE),VLOOKUP(F107,Tables!Q$1:S$137,3,FALSE)))))","v":""},"","","","","","","","","",null,"","","","","",""]
["","","","","","","","","","",{"$f":"IF(A108=\"\",\"\",IF(OR(I108=1,I108=\"S\"),IF(VLOOKUP(J108,Tables!E$1:F$50,2,FALSE)=1,IF(MOD(BE108,2)=1,1,2),IF(MOD(BE108,2)=1,2,1)),IF(MOD(BE108,2)=1,1,2)))","v":""},"","",null,null,null,"","","","","","","","","","","","","","","","","","","","","","","","","",{"$f":"IF(AN108=\"\",\"\",IF(I108=0,IF(AO108=1,VLOOKUP(F108,Tables!A$1:C$18,2,FALSE),VLOOKUP(F108,Tables!A$1:C$18,3,FALSE)),IF(I108=1, IF(AO108=1,VLOOKUP(F108,Tables!H$1:J$95,2,FALSE),VLOOKUP(F108,Tables!H$1:J$95,3,FALSE)),IF(AO108=1,VLOOKUP(F108,Tables!Q$1:S$137,2,FALSE),VLOOKUP(F108,Tables!Q$1:S$137,3,FALSE)))))","v":""},"","","","","","","","","",null,"","","","","",""]
["","","","","","","","","","",{"$f":"IF(A109=\"\",\"\",IF(OR(I109=1,I109=\"S\"),IF(VLOOKUP(J109,Tables!E$1:F$50,2,FALSE)=1,IF(MOD(BE109,2)=1,1,2),IF(MOD(BE109,2)=1,2,1)),IF(MOD(BE109,2)=1,1,2)))","v":""},"","",null,null,null,"","","","","","","","","","","","","","","","","","","","","","","","","",{"$f":"IF(AN109=\"\",\"\",IF(I109=0,IF(AO109=1,VLOOKUP(F109,Tables!A$1:C$18,2,FALSE),VLOOKUP(F109,Tables!A$1:C$18,3,FALSE)),IF(I109=1, IF(AO109=1,VLOOKUP(F109,Tables!H$1:J$95,2,FALSE),VLOOKUP(F109,Tables!H$1:J$95,3,FALSE)),IF(AO109=1,VLOOKUP(F109,Tables!Q$1:S$137,2,FALSE),VLOOKUP(F109,Tables!Q$1:S$137,3,FALSE)))))","v":""},"","","","","","","","","",null,"","","","","",""]
["","","","","","","","","","",{"$f":"IF(A110=\"\",\"\",IF(OR(I110=1,I110=\"S\"),IF(VLOOKUP(J110,Tables!E$1:F$50,2,FALSE)=1,IF(MOD(BE110,2)=1,1,2),IF(MOD(BE110,2)=1,2,1)),IF(MOD(BE110,2)=1,1,2)))","v":""},"","",null,null,null,"","","","","","","","","","","","","","","","","","","","","","","","","",{"$f":"IF(AN110=\"\",\"\",IF(I110=0,IF(AO110=1,VLOOKUP(F110,Tables!A$1:C$18,2,FALSE),VLOOKUP(F110,Tables!A$1:C$18,3,FALSE)),IF(I110=1, IF(AO110=1,VLOOKUP(F110,Tables!H$1:J$95,2,FALSE),VLOOKUP(F110,Tables!H$1:J$95,3,FALSE)),IF(AO110=1,VLOOKUP(F110,Tables!Q$1:S$137,2,FALSE),VLOOKUP(F110,Tables!Q$1:S$137,3,FALSE)))))","v":""},"","","","","","","","","",null,"","","","","",""]
["","","","","","","","","","",{"$f":"IF(A111=\"\",\"\",IF(OR(I111=1,I111=\"S\"),IF(VLOOKUP(J111,Tables!E$1:F$50,2,FALSE)=1,IF(MOD(BE111,2)=1,1,2),IF(MOD(BE111,2)=1,2,1)),IF(MOD(BE111,2)=1,1,2)))","v":""},"","",null,null,null,"","","","","","","","","","","","","","","","","","","","","","","","","",{"$f":"IF(AN111=\"\",\"\",IF(I111=0,IF(AO111=1,VLOOKUP(F111,Tables!A$1:C$18,2,FALSE),VLOOKUP(F111,Tables!A$1:C$18,3,FALSE)),IF(I111=1, IF(AO111=1,VLOOKUP(F111,Tables!H$1:J$95,2,FALSE),VLOOKUP(F111,Tables!H$1:J$95,3,FALSE)),IF(AO111=1,VLOOKUP(F111,Tables!Q$1:S$137,2,FALSE),VLOOKUP(F111,Tables!Q$1:S$137,3,FALSE)))))","v":""},"","","","","","","","","",null,"","","",{"$f":"IF(NOT(BC111=\"\"),AR111&\"-\"&AS111,\"\")","v":""},"",""]
["","","","","","","","","","",{"$f":"IF(A112=\"\",\"\",IF(OR(I112=1,I112=\"S\"),IF(VLOOKUP(J112,Tables!E$1:F$50,2,FALSE)=1,IF(MOD(BE112,2)=1,1,2),IF(MOD(BE112,2)=1,2,1)),IF(MOD(BE112,2)=1,1,2)))","v":""},"","",null,null,null,"","","","","","","","","","","","","","","","","","","","","","","","","",{"$f":"IF(AN112=\"\",\"\",IF(I112=0,IF(AO112=1,VLOOKUP(F112,Tables!A$1:C$18,2,FALSE),VLOOKUP(F112,Tables!A$1:C$18,3,FALSE)),IF(I112=1, IF(AO112=1,VLOOKUP(F112,Tables!H$1:J$95,2,FALSE),VLOOKUP(F112,Tables!H$1:J$95,3,FALSE)),IF(AO112=1,VLOOKUP(F112,Tables!Q$1:S$137,2,FALSE),VLOOKUP(F112,Tables!Q$1:S$137,3,FALSE)))))","v":""},"","","","","","","","","",null,"","","","","",""]
["","","","","","","","","","",{"$f":"IF(A113=\"\",\"\",IF(OR(I113=1,I113=\"S\"),IF(VLOOKUP(J113,Tables!E$1:F$50,2,FALSE)=1,IF(MOD(BE113,2)=1,1,2),IF(MOD(BE113,2)=1,2,1)),IF(MOD(BE113,2)=1,1,2)))","v":""},"","",null,null,null,"","","","","","","","","","","","","","","","","","","","","","","","","",{"$f":"IF(AN113=\"\",\"\",IF(I113=0,IF(AO113=1,VLOOKUP(F113,Tables!A$1:C$18,2,FALSE),VLOOKUP(F113,Tables!A$1:C$18,3,FALSE)),IF(I113=1, IF(AO113=1,VLOOKUP(F113,Tables!H$1:J$95,2,FALSE),VLOOKUP(F113,Tables!H$1:J$95,3,FALSE)),IF(AO113=1,VLOOKUP(F113,Tables!Q$1:S$137,2,FALSE),VLOOKUP(F113,Tables!Q$1:S$137,3,FALSE)))))","v":""},"","","","","","","","","",null,"","","","","",""]
["","","","","","","","","","",{"$f":"IF(A114=\"\",\"\",IF(OR(I114=1,I114=\"S\"),IF(VLOOKUP(J114,Tables!E$1:F$50,2,FALSE)=1,IF(MOD(BE114,2)=1,1,2),IF(MOD(BE114,2)=1,2,1)),IF(MOD(BE114,2)=1,1,2)))","v":""},"","",null,null,null,"","","","","","","","","","","","","","","","","","","","","","","","","",{"$f":"IF(AN114=\"\",\"\",IF(I114=0,IF(AO114=1,VLOOKUP(F114,Tables!A$1:C$18,2,FALSE),VLOOKUP(F114,Tables!A$1:C$18,3,FALSE)),IF(I114=1, IF(AO114=1,VLOOKUP(F114,Tables!H$1:J$95,2,FALSE),VLOOKUP(F114,Tables!H$1:J$95,3,FALSE)),IF(AO114=1,VLOOKUP(F114,Tables!Q$1:S$137,2,FALSE),VLOOKUP(F114,Tables!Q$1:S$137,3,FALSE)))))","v":""},"","","","","","","","","",null,"","","","","",""]
["","","","","","","","","","",{"$f":"IF(A115=\"\",\"\",IF(OR(I115=1,I115=\"S\"),IF(VLOOKUP(J115,Tables!E$1:F$50,2,FALSE)=1,IF(MOD(BE115,2)=1,1,2),IF(MOD(BE115,2)=1,2,1)),IF(MOD(BE115,2)=1,1,2)))","v":""},"","",null,null,null,"","","","","","","","","","","","","","","","","","","","","","","","","",{"$f":"IF(AN115=\"\",\"\",IF(I115=0,IF(AO115=1,VLOOKUP(F115,Tables!A$1:C$18,2,FALSE),VLOOKUP(F115,Tables!A$1:C$18,3,FALSE)),IF(I115=1, IF(AO115=1,VLOOKUP(F115,Tables!H$1:J$95,2,FALSE),VLOOKUP(F115,Tables!H$1:J$95,3,FALSE)),IF(AO115=1,VLOOKUP(F115,Tables!Q$1:S$137,2,FALSE),VLOOKUP(F115,Tables!Q$1:S$137,3,FALSE)))))","v":""},"","","","","","","","","",null,"","","","","",""]
["","","","","","","","","","",{"$f":"IF(A116=\"\",\"\",IF(OR(I116=1,I116=\"S\"),IF(VLOOKUP(J116,Tables!E$1:F$50,2,FALSE)=1,IF(MOD(BE116,2)=1,1,2),IF(MOD(BE116,2)=1,2,1)),IF(MOD(BE116,2)=1,1,2)))","v":""},"","",null,null,null,"","","","","","","","","","","","","","","","","","","","","","","","","",{"$f":"IF(AN116=\"\",\"\",IF(I116=0,IF(AO116=1,VLOOKUP(F116,Tables!A$1:C$18,2,FALSE),VLOOKUP(F116,Tables!A$1:C$18,3,FALSE)),IF(I116=1, IF(AO116=1,VLOOKUP(F116,Tables!H$1:J$95,2,FALSE),VLOOKUP(F116,Tables!H$1:J$95,3,FALSE)),IF(AO116=1,VLOOKUP(F116,Tables!Q$1:S$137,2,FALSE),VLOOKUP(F116,Tables!Q$1:S$137,3,FALSE)))))","v":""},"","","","","","","","","",null,"","","","","",""]
["","","","","","","","","","",{"$f":"IF(A117=\"\",\"\",IF(OR(I117=1,I117=\"S\"),IF(VLOOKUP(J117,Tables!E$1:F$50,2,FALSE)=1,IF(MOD(BE117,2)=1,1,2),IF(MOD(BE117,2)=1,2,1)),IF(MOD(BE117,2)=1,1,2)))","v":""},"","",null,null,null,"","","","","","","","","","","","","","","","","","","","","","","","","",{"$f":"IF(AN117=\"\",\"\",IF(I117=0,IF(AO117=1,VLOOKUP(F117,Tables!A$1:C$18,2,FALSE),VLOOKUP(F117,Tables!A$1:C$18,3,FALSE)),IF(I117=1, IF(AO117=1,VLOOKUP(F117,Tables!H$1:J$95,2,FALSE),VLOOKUP(F117,Tables!H$1:J$95,3,FALSE)),IF(AO117=1,VLOOKUP(F117,Tables!Q$1:S$137,2,FALSE),VLOOKUP(F117,Tables!Q$1:S$137,3,FALSE)))))","v":""},"","","","","","","","","",null,"","","","","",""]
["","","","","","","","","","",{"$f":"IF(A118=\"\",\"\",IF(OR(I118=1,I118=\"S\"),IF(VLOOKUP(J118,Tables!E$1:F$50,2,FALSE)=1,IF(MOD(BE118,2)=1,1,2),IF(MOD(BE118,2)=1,2,1)),IF(MOD(BE118,2)=1,1,2)))","v":""},"","",null,null,null,"","","","","","","","","","","","","","","","","","","","","","","","","",{"$f":"IF(AN118=\"\",\"\",IF(I118=0,IF(AO118=1,VLOOKUP(F118,Tables!A$1:C$18,2,FALSE),VLOOKUP(F118,Tables!A$1:C$18,3,FALSE)),IF(I118=1, IF(AO118=1,VLOOKUP(F118,Tables!H$1:J$95,2,FALSE),VLOOKUP(F118,Tables!H$1:J$95,3,FALSE)),IF(AO118=1,VLOOKUP(F118,Tables!Q$1:S$137,2,FALSE),VLOOKUP(F118,Tables!Q$1:S$137,3,FALSE)))))","v":""},"","","","","","","","","",null,"","","","","",""]
["","","","","","","","","","",{"$f":"IF(A119=\"\",\"\",IF(OR(I119=1,I119=\"S\"),IF(VLOOKUP(J119,Tables!E$1:F$50,2,FALSE)=1,IF(MOD(BE119,2)=1,1,2),IF(MOD(BE119,2)=1,2,1)),IF(MOD(BE119,2)=1,1,2)))","v":""},"","",null,null,null,"","","","","","","","","","","","","","","","","","","","","","","","","",{"$f":"IF(AN119=\"\",\"\",IF(I119=0,IF(AO119=1,VLOOKUP(F119,Tables!A$1:C$18,2,FALSE),VLOOKUP(F119,Tables!A$1:C$18,3,FALSE)),IF(I119=1, IF(AO119=1,VLOOKUP(F119,Tables!H$1:J$95,2,FALSE),VLOOKUP(F119,Tables!H$1:J$95,3,FALSE)),IF(AO119=1,VLOOKUP(F119,Tables!Q$1:S$137,2,FALSE),VLOOKUP(F119,Tables!Q$1:S$137,3,FALSE)))))","v":""},"","","","","","","","","",null,"","","","","",""]
["","","","","","","","","","",{"$f":"IF(A120=\"\",\"\",IF(OR(I120=1,I120=\"S\"),IF(VLOOKUP(J120,Tables!E$1:F$50,2,FALSE)=1,IF(MOD(BE120,2)=1,1,2),IF(MOD(BE120,2)=1,2,1)),IF(MOD(BE120,2)=1,1,2)))","v":""},"","",null,null,null,"","","","","","","","","","","","","","","","","","","","","","","","","",{"$f":"IF(AN120=\"\",\"\",IF(I120=0,IF(AO120=1,VLOOKUP(F120,Tables!A$1:C$18,2,FALSE),VLOOKUP(F120,Tables!A$1:C$18,3,FALSE)),IF(I120=1, IF(AO120=1,VLOOKUP(F120,Tables!H$1:J$95,2,FALSE),VLOOKUP(F120,Tables!H$1:J$95,3,FALSE)),IF(AO120=1,VLOOKUP(F120,Tables!Q$1:S$137,2,FALSE),VLOOKUP(F120,Tables!Q$1:S$137,3,FALSE)))))","v":""},"","","","","","","","","",null,"","","","","",""]
["","","","","","","","","","",{"$f":"IF(A121=\"\",\"\",IF(OR(I121=1,I121=\"S\"),IF(VLOOKUP(J121,Tables!E$1:F$50,2,FALSE)=1,IF(MOD(BE121,2)=1,1,2),IF(MOD(BE121,2)=1,2,1)),IF(MOD(BE121,2)=1,1,2)))","v":""},"","",null,null,null,"","","","","","","","","","","","","","","","","","","","","","","","","",{"$f":"IF(AN121=\"\",\"\",IF(I121=0,IF(AO121=1,VLOOKUP(F121,Tables!A$1:C$18,2,FALSE),VLOOKUP(F121,Tables!A$1:C$18,3,FALSE)),IF(I121=1, IF(AO121=1,VLOOKUP(F121,Tables!H$1:J$95,2,FALSE),VLOOKUP(F121,Tables!H$1:J$95,3,FALSE)),IF(AO121=1,VLOOKUP(F121,Tables!Q$1:S$137,2,FALSE),VLOOKUP(F121,Tables!Q$1:S$137,3,FALSE)))))","v":""},"","","","","","","","","",null,"","","","","",""]
["","","","","","","","","","",{"$f":"IF(A122=\"\",\"\",IF(OR(I122=1,I122=\"S\"),IF(VLOOKUP(J122,Tables!E$1:F$50,2,FALSE)=1,IF(MOD(BE122,2)=1,1,2),IF(MOD(BE122,2)=1,2,1)),IF(MOD(BE122,2)=1,1,2)))","v":""},"","",null,null,null,"","","","","","","","","","","","","","","","","","","","","","","","","",{"$f":"IF(AN122=\"\",\"\",IF(I122=0,IF(AO122=1,VLOOKUP(F122,Tables!A$1:C$18,2,FALSE),VLOOKUP(F122,Tables!A$1:C$18,3,FALSE)),IF(I122=1, IF(AO122=1,VLOOKUP(F122,Tables!H$1:J$95,2,FALSE),VLOOKUP(F122,Tables!H$1:J$95,3,FALSE)),IF(AO122=1,VLOOKUP(F122,Tables!Q$1:S$137,2,FALSE),VLOOKUP(F122,Tables!Q$1:S$137,3,FALSE)))))","v":""},"","","","","","","","","",null,"","","","","",""]
["","","","","","","","","","",{"$f":"IF(A123=\"\",\"\",IF(OR(I123=1,I123=\"S\"),IF(VLOOKUP(J123,Tables!E$1:F$50,2,FALSE)=1,IF(MOD(BE123,2)=1,1,2),IF(MOD(BE123,2)=1,2,1)),IF(MOD(BE123,2)=1,1,2)))","v":""},"","",null,null,null,"","","","","","","","","","","","","","","","","","","","","","","","","",{"$f":"IF(AN123=\"\",\"\",IF(I123=0,IF(AO123=1,VLOOKUP(F123,Tables!A$1:C$18,2,FALSE),VLOOKUP(F123,Tables!A$1:C$18,3,FALSE)),IF(I123=1, IF(AO123=1,VLOOKUP(F123,Tables!H$1:J$95,2,FALSE),VLOOKUP(F123,Tables!H$1:J$95,3,FALSE)),IF(AO123=1,VLOOKUP(F123,Tables!Q$1:S$137,2,FALSE),VLOOKUP(F123,Tables!Q$1:S$137,3,FALSE)))))","v":""},"","","","","","","","","",null,"","","","","",""]
["","","","","","","","","","",{"$f":"IF(A124=\"\",\"\",IF(OR(I124=1,I124=\"S\"),IF(VLOOKUP(J124,Tables!E$1:F$50,2,FALSE)=1,IF(MOD(BE124,2)=1,1,2),IF(MOD(BE124,2)=1,2,1)),IF(MOD(BE124,2)=1,1,2)))","v":""},"","",null,null,null,"","","","","","","","","","","","","","","","","","","","","","","","","",{"$f":"IF(AN124=\"\",\"\",IF(I124=0,IF(AO124=1,VLOOKUP(F124,Tables!A$1:C$18,2,FALSE),VLOOKUP(F124,Tables!A$1:C$18,3,FALSE)),IF(I124=1, IF(AO124=1,VLOOKUP(F124,Tables!H$1:J$95,2,FALSE),VLOOKUP(F124,Tables!H$1:J$95,3,FALSE)),IF(AO124=1,VLOOKUP(F124,Tables!Q$1:S$137,2,FALSE),VLOOKUP(F124,Tables!Q$1:S$137,3,FALSE)))))","v":""},"","","","","","","","","",null,"","","","","",""]
["","","","","","","","","","",{"$f":"IF(A125=\"\",\"\",IF(OR(I125=1,I125=\"S\"),IF(VLOOKUP(J125,Tables!E$1:F$50,2,FALSE)=1,IF(MOD(BE125,2)=1,1,2),IF(MOD(BE125,2)=1,2,1)),IF(MOD(BE125,2)=1,1,2)))","v":""},"","",null,null,null,"","","","","","","","","","","","","","","","","","","","","","","","","",{"$f":"IF(AN125=\"\",\"\",IF(I125=0,IF(AO125=1,VLOOKUP(F125,Tables!A$1:C$18,2,FALSE),VLOOKUP(F125,Tables!A$1:C$18,3,FALSE)),IF(I125=1, IF(AO125=1,VLOOKUP(F125,Tables!H$1:J$95,2,FALSE),VLOOKUP(F125,Tables!H$1:J$95,3,FALSE)),IF(AO125=1,VLOOKUP(F125,Tables!Q$1:S$137,2,FALSE),VLOOKUP(F125,Tables!Q$1:S$137,3,FALSE)))))","v":""},"","","","","","","","","",null,"","","","","",""]
["","","","","","","","","","",{"$f":"IF(A126=\"\",\"\",IF(OR(I126=1,I126=\"S\"),IF(VLOOKUP(J126,Tables!E$1:F$50,2,FALSE)=1,IF(MOD(BE126,2)=1,1,2),IF(MOD(BE126,2)=1,2,1)),IF(MOD(BE126,2)=1,1,2)))","v":""},"","",null,null,null,"","","","","","","","","","","","","","","","","","","","","","","","","",{"$f":"IF(AN126=\"\",\"\",IF(I126=0,IF(AO126=1,VLOOKUP(F126,Tables!A$1:C$18,2,FALSE),VLOOKUP(F126,Tables!A$1:C$18,3,FALSE)),IF(I126=1, IF(AO126=1,VLOOKUP(F126,Tables!H$1:J$95,2,FALSE),VLOOKUP(F126,Tables!H$1:J$95,3,FALSE)),IF(AO126=1,VLOOKUP(F126,Tables!Q$1:S$137,2,FALSE),VLOOKUP(F126,Tables!Q$1:S$137,3,FALSE)))))","v":""},"","","","","","","","","",null,"","","","","",""]
["","","","","","","","","","",{"$f":"IF(A127=\"\",\"\",IF(OR(I127=1,I127=\"S\"),IF(VLOOKUP(J127,Tables!E$1:F$50,2,FALSE)=1,IF(MOD(BE127,2)=1,1,2),IF(MOD(BE127,2)=1,2,1)),IF(MOD(BE127,2)=1,1,2)))","v":""},"","",null,null,null,"","","","","","","","","","","","","","","","","","","","","","","","","",{"$f":"IF(AN127=\"\",\"\",IF(I127=0,IF(AO127=1,VLOOKUP(F127,Tables!A$1:C$18,2,FALSE),VLOOKUP(F127,Tables!A$1:C$18,3,FALSE)),IF(I127=1, IF(AO127=1,VLOOKUP(F127,Tables!H$1:J$95,2,FALSE),VLOOKUP(F127,Tables!H$1:J$95,3,FALSE)),IF(AO127=1,VLOOKUP(F127,Tables!Q$1:S$137,2,FALSE),VLOOKUP(F127,Tables!Q$1:S$137,3,FALSE)))))","v":""},"","","","","","","","","",null,"","","","","",""]
["","","","","","","","","","",{"$f":"IF(A128=\"\",\"\",IF(OR(I128=1,I128=\"S\"),IF(VLOOKUP(J128,Tables!E$1:F$50,2,FALSE)=1,IF(MOD(BE128,2)=1,1,2),IF(MOD(BE128,2)=1,2,1)),IF(MOD(BE128,2)=1,1,2)))","v":""},"","",null,null,null,"","","","","","","","","","","","","","","","","","","","","","","","","",{"$f":"IF(AN128=\"\",\"\",IF(I128=0,IF(AO128=1,VLOOKUP(F128,Tables!A$1:C$18,2,FALSE),VLOOKUP(F128,Tables!A$1:C$18,3,FALSE)),IF(I128=1, IF(AO128=1,VLOOKUP(F128,Tables!H$1:J$95,2,FALSE),VLOOKUP(F128,Tables!H$1:J$95,3,FALSE)),IF(AO128=1,VLOOKUP(F128,Tables!Q$1:S$137,2,FALSE),VLOOKUP(F128,Tables!Q$1:S$137,3,FALSE)))))","v":""},"","","","","","","","","",null,"","","","","",""]
["","","","","","","","","","",{"$f":"IF(A129=\"\",\"\",IF(OR(I129=1,I129=\"S\"),IF(VLOOKUP(J129,Tables!E$1:F$50,2,FALSE)=1,IF(MOD(BE129,2)=1,1,2),IF(MOD(BE129,2)=1,2,1)),IF(MOD(BE129,2)=1,1,2)))","v":""},"","",null,null,null,"","","","","","","","","","","","","","","","","","","","","","","","","",{"$f":"IF(AN129=\"\",\"\",IF(I129=0,IF(AO129=1,VLOOKUP(F129,Tables!A$1:C$18,2,FALSE),VLOOKUP(F129,Tables!A$1:C$18,3,FALSE)),IF(I129=1, IF(AO129=1,VLOOKUP(F129,Tables!H$1:J$95,2,FALSE),VLOOKUP(F129,Tables!H$1:J$95,3,FALSE)),IF(AO129=1,VLOOKUP(F129,Tables!Q$1:S$137,2,FALSE),VLOOKUP(F129,Tables!Q$1:S$137,3,FALSE)))))","v":""},"","","","","","","","","",null,"","","","","",""]
["","","","","","","","","","",{"$f":"IF(A130=\"\",\"\",IF(OR(I130=1,I130=\"S\"),IF(VLOOKUP(J130,Tables!E$1:F$50,2,FALSE)=1,IF(MOD(BE130,2)=1,1,2),IF(MOD(BE130,2)=1,2,1)),IF(MOD(BE130,2)=1,1,2)))","v":""},"","",null,null,null,"","","","","","","","","","","","","","","","","","","","","","","","","",{"$f":"IF(AN130=\"\",\"\",IF(I130=0,IF(AO130=1,VLOOKUP(F130,Tables!A$1:C$18,2,FALSE),VLOOKUP(F130,Tables!A$1:C$18,3,FALSE)),IF(I130=1, IF(AO130=1,VLOOKUP(F130,Tables!H$1:J$95,2,FALSE),VLOOKUP(F130,Tables!H$1:J$95,3,FALSE)),IF(AO130=1,VLOOKUP(F130,Tables!Q$1:S$137,2,FALSE),VLOOKUP(F130,Tables!Q$1:S$137,3,FALSE)))))","v":""},"","","","","","","","","",null,"","","","","",""]
["","","","","","","","","","",{"$f":"IF(A131=\"\",\"\",IF(OR(I131=1,I131=\"S\"),IF(VLOOKUP(J131,Tables!E$1:F$50,2,FALSE)=1,IF(MOD(BE131,2)=1,1,2),IF(MOD(BE131,2)=1,2,1)),IF(MOD(BE131,2)=1,1,2)))","v":""},"","",null,null,null,"","","","","","","","","","","","","","","","","","","","","","","","","",{"$f":"IF(AN131=\"\",\"\",IF(I131=0,IF(AO131=1,VLOOKUP(F131,Tables!A$1:C$18,2,FALSE),VLOOKUP(F131,Tables!A$1:C$18,3,FALSE)),IF(I131=1, IF(AO131=1,VLOOKUP(F131,Tables!H$1:J$95,2,FALSE),VLOOKUP(F131,Tables!H$1:J$95,3,FALSE)),IF(AO131=1,VLOOKUP(F131,Tables!Q$1:S$137,2,FALSE),VLOOKUP(F131,Tables!Q$1:S$137,3,FALSE)))))","v":""},"","","","","","","","","",null,"","","","","",""]
["","","","","","","","","","",{"$f":"IF(A132=\"\",\"\",IF(OR(I132=1,I132=\"S\"),IF(VLOOKUP(J132,Tables!E$1:F$50,2,FALSE)=1,IF(MOD(BE132,2)=1,1,2),IF(MOD(BE132,2)=1,2,1)),IF(MOD(BE132,2)=1,1,2)))","v":""},"","",null,null,null,"","","","","","","","","","","","","","","","","","","","","","","","","",{"$f":"IF(AN132=\"\",\"\",IF(I132=0,IF(AO132=1,VLOOKUP(F132,Tables!A$1:C$18,2,FALSE),VLOOKUP(F132,Tables!A$1:C$18,3,FALSE)),IF(I132=1, IF(AO132=1,VLOOKUP(F132,Tables!H$1:J$95,2,FALSE),VLOOKUP(F132,Tables!H$1:J$95,3,FALSE)),IF(AO132=1,VLOOKUP(F132,Tables!Q$1:S$137,2,FALSE),VLOOKUP(F132,Tables!Q$1:S$137,3,FALSE)))))","v":""},"","","","","","","","","",null,"","","","","",""]
["","","","","","","","","","",{"$f":"IF(A133=\"\",\"\",IF(OR(I133=1,I133=\"S\"),IF(VLOOKUP(J133,Tables!E$1:F$50,2,FALSE)=1,IF(MOD(BE133,2)=1,1,2),IF(MOD(BE133,2)=1,2,1)),IF(MOD(BE133,2)=1,1,2)))","v":""},"","",null,null,null,"","","","","","","","","","","","","","","","","","","","","","","","","",{"$f":"IF(AN133=\"\",\"\",IF(I133=0,IF(AO133=1,VLOOKUP(F133,Tables!A$1:C$18,2,FALSE),VLOOKUP(F133,Tables!A$1:C$18,3,FALSE)),IF(I133=1, IF(AO133=1,VLOOKUP(F133,Tables!H$1:J$95,2,FALSE),VLOOKUP(F133,Tables!H$1:J$95,3,FALSE)),IF(AO133=1,VLOOKUP(F133,Tables!Q$1:S$137,2,FALSE),VLOOKUP(F133,Tables!Q$1:S$137,3,FALSE)))))","v":""},"","","","","","","","","",null,"","","","","",""]
["","","","","","","","","","",{"$f":"IF(A134=\"\",\"\",IF(OR(I134=1,I134=\"S\"),IF(VLOOKUP(J134,Tables!E$1:F$50,2,FALSE)=1,IF(MOD(BE134,2)=1,1,2),IF(MOD(BE134,2)=1,2,1)),IF(MOD(BE134,2)=1,1,2)))","v":""},"","",null,null,null,"","","","","","","","","","","","","","","","","","","","","","","","","",{"$f":"IF(AN134=\"\",\"\",IF(I134=0,IF(AO134=1,VLOOKUP(F134,Tables!A$1:C$18,2,FALSE),VLOOKUP(F134,Tables!A$1:C$18,3,FALSE)),IF(I134=1, IF(AO134=1,VLOOKUP(F134,Tables!H$1:J$95,2,FALSE),VLOOKUP(F134,Tables!H$1:J$95,3,FALSE)),IF(AO134=1,VLOOKUP(F134,Tables!Q$1:S$137,2,FALSE),VLOOKUP(F134,Tables!Q$1:S$137,3,FALSE)))))","v":""},"","","",{"$f":"IF(AN134=\"\",\"\",IF(AND(AR134>5,(AR134-AS134)>1),1,IF(AND(AS134>5,(AS134-AR134)>1),2,IF(AND(H134=1,AR134=$J$14),1,IF(AND(H134=1,AS134=$J$14),2,IF(AND(I134=\"S\",AR134=1),1,IF(AND(I134=\"S\",AS134=1),2,0)))))))","v":""},"","","","","",null,"","","","","",""]
["","","","","","","","","","",{"$f":"IF(A135=\"\",\"\",IF(OR(I135=1,I135=\"S\"),IF(VLOOKUP(J135,Tables!E$1:F$50,2,FALSE)=1,IF(MOD(BE135,2)=1,1,2),IF(MOD(BE135,2)=1,2,1)),IF(MOD(BE135,2)=1,1,2)))","v":""},"","",null,null,null,"","","","","","","","","","","","","","","","","","","","","","","","","",{"$f":"IF(AN135=\"\",\"\",IF(I135=0,IF(AO135=1,VLOOKUP(F135,Tables!A$1:C$18,2,FALSE),VLOOKUP(F135,Tables!A$1:C$18,3,FALSE)),IF(I135=1, IF(AO135=1,VLOOKUP(F135,Tables!H$1:J$95,2,FALSE),VLOOKUP(F135,Tables!H$1:J$95,3,FALSE)),IF(AO135=1,VLOOKUP(F135,Tables!Q$1:S$137,2,FALSE),VLOOKUP(F135,Tables!Q$1:S$137,3,FALSE)))))","v":""},"","","","","","","","","",null,"","","","","",""]
["","","","","","","","","","",{"$f":"IF(A136=\"\",\"\",IF(OR(I136=1,I136=\"S\"),IF(VLOOKUP(J136,Tables!E$1:F$50,2,FALSE)=1,IF(MOD(BE136,2)=1,1,2),IF(MOD(BE136,2)=1,2,1)),IF(MOD(BE136,2)=1,1,2)))","v":""},{"$f":"IF(A136=\"\",\"\",IF(MOD(K136,2)=1,2,1))","v":""},"",null,null,null,"","","","","","","","","","","","","","","","","","","","","","","","","",{"$f":"IF(AN136=\"\",\"\",IF(I136=0,IF(AO136=1,VLOOKUP(F136,Tables!A$1:C$18,2,FALSE),VLOOKUP(F136,Tables!A$1:C$18,3,FALSE)),IF(I136=1, IF(AO136=1,VLOOKUP(F136,Tables!H$1:J$95,2,FALSE),VLOOKUP(F136,Tables!H$1:J$95,3,FALSE)),IF(AO136=1,VLOOKUP(F136,Tables!Q$1:S$137,2,FALSE),VLOOKUP(F136,Tables!Q$1:S$137,3,FALSE)))))","v":""},"","","","","","","","","",null,"","","","","",""]
["","","","","","","","","","",{"$f":"IF(A137=\"\",\"\",IF(OR(I137=1,I137=\"S\"),IF(VLOOKUP(J137,Tables!E$1:F$50,2,FALSE)=1,IF(MOD(BE137,2)=1,1,2),IF(MOD(BE137,2)=1,2,1)),IF(MOD(BE137,2)=1,1,2)))","v":""},"","",null,null,null,"","","","","","","","","","","","","","","","","","","","","","","","","",{"$f":"IF(AN137=\"\",\"\",IF(I137=0,IF(AO137=1,VLOOKUP(F137,Tables!A$1:C$18,2,FALSE),VLOOKUP(F137,Tables!A$1:C$18,3,FALSE)),IF(I137=1, IF(AO137=1,VLOOKUP(F137,Tables!H$1:J$95,2,FALSE),VLOOKUP(F137,Tables!H$1:J$95,3,FALSE)),IF(AO137=1,VLOOKUP(F137,Tables!Q$1:S$137,2,FALSE),VLOOKUP(F137,Tables!Q$1:S$137,3,FALSE)))))","v":""},"","","","","","","","","",null,"","","","","",""]
["","","","","","","","","","",{"$f":"IF(A138=\"\",\"\",IF(OR(I138=1,I138=\"S\"),IF(VLOOKUP(J138,Tables!E$1:F$50,2,FALSE)=1,IF(MOD(BE138,2)=1,1,2),IF(MOD(BE138,2)=1,2,1)),IF(MOD(BE138,2)=1,1,2)))","v":""},"","",null,null,null,"","","","","","","","","","","","","","","","","","","","","","","","","",{"$f":"IF(AN138=\"\",\"\",IF(I138=0,IF(AO138=1,VLOOKUP(F138,Tables!A$1:C$18,2,FALSE),VLOOKUP(F138,Tables!A$1:C$18,3,FALSE)),IF(I138=1, IF(AO138=1,VLOOKUP(F138,Tables!H$1:J$95,2,FALSE),VLOOKUP(F138,Tables!H$1:J$95,3,FALSE)),IF(AO138=1,VLOOKUP(F138,Tables!Q$1:S$137,2,FALSE),VLOOKUP(F138,Tables!Q$1:S$137,3,FALSE)))))","v":""},"","","","","","","","","",null,"","","","","",""]
["","","","","","","","","","",{"$f":"IF(A139=\"\",\"\",IF(OR(I139=1,I139=\"S\"),IF(VLOOKUP(J139,Tables!E$1:F$50,2,FALSE)=1,IF(MOD(BE139,2)=1,1,2),IF(MOD(BE139,2)=1,2,1)),IF(MOD(BE139,2)=1,1,2)))","v":""},"","",null,null,null,"","","","","","","","","","","","","","","","","","","","","","","","","",{"$f":"IF(AN139=\"\",\"\",IF(I139=0,IF(AO139=1,VLOOKUP(F139,Tables!A$1:C$18,2,FALSE),VLOOKUP(F139,Tables!A$1:C$18,3,FALSE)),IF(I139=1, IF(AO139=1,VLOOKUP(F139,Tables!H$1:J$95,2,FALSE),VLOOKUP(F139,Tables!H$1:J$95,3,FALSE)),IF(AO139=1,VLOOKUP(F139,Tables!Q$1:S$137,2,FALSE),VLOOKUP(F139,Tables!Q$1:S$137,3,FALSE)))))","v":""},"","","","","","","","","",null,"","","","","",""]
["","","","","","","","","","",{"$f":"IF(A140=\"\",\"\",IF(OR(I140=1,I140=\"S\"),IF(VLOOKUP(J140,Tables!E$1:F$50,2,FALSE)=1,IF(MOD(BE140,2)=1,1,2),IF(MOD(BE140,2)=1,2,1)),IF(MOD(BE140,2)=1,1,2)))","v":""},"","",null,null,null,"","","","","","","","","","","","","","","","","","","","","","","","","",{"$f":"IF(AN140=\"\",\"\",IF(I140=0,IF(AO140=1,VLOOKUP(F140,Tables!A$1:C$18,2,FALSE),VLOOKUP(F140,Tables!A$1:C$18,3,FALSE)),IF(I140=1, IF(AO140=1,VLOOKUP(F140,Tables!H$1:J$95,2,FALSE),VLOOKUP(F140,Tables!H$1:J$95,3,FALSE)),IF(AO140=1,VLOOKUP(F140,Tables!Q$1:S$137,2,FALSE),VLOOKUP(F140,Tables!Q$1:S$137,3,FALSE)))))","v":""},"","","","","","","","","",null,"","","","","",""]
["","","","","","","","","","",{"$f":"IF(A141=\"\",\"\",IF(OR(I141=1,I141=\"S\"),IF(VLOOKUP(J141,Tables!E$1:F$50,2,FALSE)=1,IF(MOD(BE141,2)=1,1,2),IF(MOD(BE141,2)=1,2,1)),IF(MOD(BE141,2)=1,1,2)))","v":""},"","",null,null,null,"","","","","","","","","","","","","","","","","","","","","","","","","",{"$f":"IF(AN141=\"\",\"\",IF(I141=0,IF(AO141=1,VLOOKUP(F141,Tables!A$1:C$18,2,FALSE),VLOOKUP(F141,Tables!A$1:C$18,3,FALSE)),IF(I141=1, IF(AO141=1,VLOOKUP(F141,Tables!H$1:J$95,2,FALSE),VLOOKUP(F141,Tables!H$1:J$95,3,FALSE)),IF(AO141=1,VLOOKUP(F141,Tables!Q$1:S$137,2,FALSE),VLOOKUP(F141,Tables!Q$1:S$137,3,FALSE)))))","v":""},"","","","","","","","","",null,"","","","","",""]
["","","","","","","","","","",{"$f":"IF(A142=\"\",\"\",IF(OR(I142=1,I142=\"S\"),IF(VLOOKUP(J142,Tables!E$1:F$50,2,FALSE)=1,IF(MOD(BE142,2)=1,1,2),IF(MOD(BE142,2)=1,2,1)),IF(MOD(BE142,2)=1,1,2)))","v":""},"","",null,null,null,"","","","","","","","","","","","","","","","","","","","","","","","","",{"$f":"IF(AN142=\"\",\"\",IF(I142=0,IF(AO142=1,VLOOKUP(F142,Tables!A$1:C$18,2,FALSE),VLOOKUP(F142,Tables!A$1:C$18,3,FALSE)),IF(I142=1, IF(AO142=1,VLOOKUP(F142,Tables!H$1:J$95,2,FALSE),VLOOKUP(F142,Tables!H$1:J$95,3,FALSE)),IF(AO142=1,VLOOKUP(F142,Tables!Q$1:S$137,2,FALSE),VLOOKUP(F142,Tables!Q$1:S$137,3,FALSE)))))","v":""},"","","","","","","","","",null,"","","","","",""]
["","","","","","","","","","",{"$f":"IF(A143=\"\",\"\",IF(OR(I143=1,I143=\"S\"),IF(VLOOKUP(J143,Tables!E$1:F$50,2,FALSE)=1,IF(MOD(BE143,2)=1,1,2),IF(MOD(BE143,2)=1,2,1)),IF(MOD(BE143,2)=1,1,2)))","v":""},"","",null,null,null,"","","","","","","","","","","","","","","","","","","","","","","","","",{"$f":"IF(AN143=\"\",\"\",IF(I143=0,IF(AO143=1,VLOOKUP(F143,Tables!A$1:C$18,2,FALSE),VLOOKUP(F143,Tables!A$1:C$18,3,FALSE)),IF(I143=1, IF(AO143=1,VLOOKUP(F143,Tables!H$1:J$95,2,FALSE),VLOOKUP(F143,Tables!H$1:J$95,3,FALSE)),IF(AO143=1,VLOOKUP(F143,Tables!Q$1:S$137,2,FALSE),VLOOKUP(F143,Tables!Q$1:S$137,3,FALSE)))))","v":""},"","","","","","","","","",null,"","","","","",""]
["","","","","","","","","","",{"$f":"IF(A144=\"\",\"\",IF(OR(I144=1,I144=\"S\"),IF(VLOOKUP(J144,Tables!E$1:F$50,2,FALSE)=1,IF(MOD(BE144,2)=1,1,2),IF(MOD(BE144,2)=1,2,1)),IF(MOD(BE144,2)=1,1,2)))","v":""},"","",null,null,null,"","","","","","","","","","","","","","","","","","","","","","","","","",{"$f":"IF(AN144=\"\",\"\",IF(I144=0,IF(AO144=1,VLOOKUP(F144,Tables!A$1:C$18,2,FALSE),VLOOKUP(F144,Tables!A$1:C$18,3,FALSE)),IF(I144=1, IF(AO144=1,VLOOKUP(F144,Tables!H$1:J$95,2,FALSE),VLOOKUP(F144,Tables!H$1:J$95,3,FALSE)),IF(AO144=1,VLOOKUP(F144,Tables!Q$1:S$137,2,FALSE),VLOOKUP(F144,Tables!Q$1:S$137,3,FALSE)))))","v":""},"","","","","","","","","",null,"","","","","",""]
["","","","","","","","","","",{"$f":"IF(A145=\"\",\"\",IF(OR(I145=1,I145=\"S\"),IF(VLOOKUP(J145,Tables!E$1:F$50,2,FALSE)=1,IF(MOD(BE145,2)=1,1,2),IF(MOD(BE145,2)=1,2,1)),IF(MOD(BE145,2)=1,1,2)))","v":""},"","",null,null,null,"","","","","","","","","","","","","","","","","","","","","","","","","",{"$f":"IF(AN145=\"\",\"\",IF(I145=0,IF(AO145=1,VLOOKUP(F145,Tables!A$1:C$18,2,FALSE),VLOOKUP(F145,Tables!A$1:C$18,3,FALSE)),IF(I145=1, IF(AO145=1,VLOOKUP(F145,Tables!H$1:J$95,2,FALSE),VLOOKUP(F145,Tables!H$1:J$95,3,FALSE)),IF(AO145=1,VLOOKUP(F145,Tables!Q$1:S$137,2,FALSE),VLOOKUP(F145,Tables!Q$1:S$137,3,FALSE)))))","v":""},"","","","","","","","","",null,"","","","","",""]
["","","","","","","",{"$f":"IF(A146=\"\",\"\",IF(OR(B$14=1,B$14=\"S\",AND(B$14<>\"V\",(B146+C146+1)<B$13)),1,0))","v":""},{"$f":"IF(A146=\"\",\"\",IF(AND(D146=$I$14,E146=$I$14,H146=1),1,IF(AND(B$14=\"S\",(B146+C146+1)=B$13),\"S\",0)))","v":""},{"$f":"IF(OR(I146=1,I146=\"S\"),IF(F146=\"0-0\",1,J145+1),\"\")","v":""},{"$f":"IF(A146=\"\",\"\",IF(OR(I146=1,I146=\"S\"),IF(VLOOKUP(J146,Tables!E$1:F$50,2,FALSE)=1,IF(MOD(BE146,2)=1,1,2),IF(MOD(BE146,2)=1,2,1)),IF(MOD(BE146,2)=1,1,2)))","v":""},"",{"$f":"IF(A146=\"\",\"\",IF(K146=1,I$1,I$2))","v":""},null,null,null,"","","","","","","","","","","","","","","","","","",{"$f":"IF(N146=\"\",\"\",IF(AND(W146=0,X146=0),TRUE,FALSE))","v":""},"","","",{"$f":"IF(N146=\"\",\"\",LEN(AL146))","v":""},{"$f":"IF(OR(N146=\"P\",N146=\"R\"),L146,IF(OR(N146=\"Q\",N146=\"S\"),K146,IF(AND(AC146=\"\",OR(AD146=FALSE,AD146=\"\"),OR(AE146=FALSE,AE146=\"\"),OR(AI146=FALSE,AI146=\"\")),\"\",IF(OR(AD146=TRUE,AE146=TRUE,AND((MOD(AM146,2)=0),AF146=TRUE),AND((MOD(AM146,2)=1),OR(AG146=TRUE,AH146=TRUE))),K146,L146))))","v":""},{"$f":"IF(AN146=\"\",\"\",IF(AN146=K146,1,0))","v":""},{"$f":"IF(AN146=\"\",\"\",IF(I146=0,IF(AO146=1,VLOOKUP(F146,Tables!A$1:C$18,2,FALSE),VLOOKUP(F146,Tables!A$1:C$18,3,FALSE)),IF(I146=1, IF(AO146=1,VLOOKUP(F146,Tables!H$1:J$95,2,FALSE),VLOOKUP(F146,Tables!H$1:J$95,3,FALSE)),IF(AO146=1,VLOOKUP(F146,Tables!Q$1:S$137,2,FALSE),VLOOKUP(F146,Tables!Q$1:S$137,3,FALSE)))))","v":""},"",{"$f":"IF(AN146=\"\",\"\",IF(AQ146=1,D146+1,D146))","v":""},{"$f":"IF(AN146=\"\",\"\",IF(AQ146=2,E146+1,E146))","v":""},"",{"$f":"IF(AN146=\"\",\"\",IF(AT146=1,B146+1,B146))","v":""},{"$f":"IF(AN146=\"\",\"\",IF(AT146=2,C146+1,C146))","v":""},"","","",null,{"$f":"IF(AA146=\"\",\"\",SUM(B146,C146,1))","v":""},{"$f":"IF(AA146=\"\",\"\",\"SET \"&BA146&\": \"&D146&\"-\"&E146&\", \"&F146)","v":""},{"$f":"IF(AA146=\"\",\"\",IF(AT146>0,(AU146+AV146),IF(AND(NOT(D147=\"\"),D148=\"\"),AU146+AV146+1,\"\")))","v":""},"","",""]
[{"$f":"IF(AN146=\"\",\"\",A146+1)","v":""},{"$f":"IF(A147=\"\",\"\",AU146)","v":""},{"$f":"IF(A147=\"\",\"\",AV146)","v":""},{"$f":"IF(A147=\"\",\"\",IF(AT146=0,AR146,0))","v":""},{"$f":"IF(A147=\"\",\"\",IF(AT146=0,AS146,0))","v":""},{"$f":"IF(A147=\"\",\"\",IF(AW146=1,AX146,IF(AP146=\"GM\",\"0-0\",AP146)))","v":""},{"$f":"IF(BE147=\"\",\"\",BE147&\" (\"&BF147&\")\")","v":""},"","","",{"$f":"IF(A147=\"\",\"\",IF(OR(I147=1,I147=\"S\"),IF(VLOOKUP(J147,Tables!E$1:F$50,2,FALSE)=1,IF(MOD(BE147,2)=1,1,2),IF(MOD(BE147,2)=1,2,1)),IF(MOD(BE147,2)=1,1,2)))","v":""},"","",null,null,null,{"$f":"IF(N147=\"\",\"\",SUBSTITUTE(N147, \"c\", \"\"))","v":""},{"$f":"SUBSTITUTE(O147, \"c\", \"\")","v":""},{"$f":"IF(N147=\"\",\"\",IF(MID(Q147,2,1)=\"+\",1,0))","v":""},{"$f":"IF(O147=\"\",\"\",IF(MID(R147,2,1)=\"+\",1,0))","v":""},{"$f":"IF(N147=\"\",\"\",IF(S147=1,SUBSTITUTE(Q147, \"+\", \"\",1),Q147))","v":""},{"$f":"IF(T147=1,SUBSTITUTE(R147, \"+\", \"\",1),R147)","v":""},{"$f":"IF(N147=\"\",\"\",IF(LEN(N147)=1,0,IF(ISERROR(FIND(MID(U147,2,1),\"wdnxge!VPQRS\"))=TRUE,1,0)))","v":""},{"$f":"IF(O147=\"\",\"\",IF(ISERROR(FIND(MID(V147,2,1),\"wdnxge!VPQRS\"))=TRUE,1,0))","v":""},{"$f":"IF(N147=\"\",\"\",IF(W147=0,0,IF(LEN(U147)>2,1,0)))","v":""},{"$f":"IF(N147=\"\",\"\",IF(X147=0,0,IF(LEN(V147)>2,1,0)))","v":""},{"$f":"IF(N147=\"\",\"\",IF(Y147=0,Q147,LEFT(U147,1)))","v":""},{"$f":"IF(N147=\"\",\"\",IF(Z147=0,V147,LEFT(V147,1)))","v":""},{"$f":"IF(N147=\"\",\"\",IF(Y147=1,RIGHT(U147,(LEN(U147)-1)),IF(Z147=1,RIGHT(V147,(LEN(V147)-1)),\"\")))","v":""},{"$f":"IF(AA147=\"\",\"\",OR(IF(ISERR(FIND(\"*\",AA147)),FALSE,TRUE), IF(ISERR(FIND(\"*\",AB147)),FALSE,TRUE)))","v":""},{"$f":"IF(AA147=\"\",\"\",OR(IF(ISERR(FIND(\"#\",AA147)),FALSE,TRUE), IF(ISERR(FIND(\"#\",AB147)),FALSE,TRUE)))","v":""},{"$f":"IF(AA147=\"\",\"\",IF(ISERR(FIND(\"*\",AC147)),FALSE,TRUE))","v":""},{"$f":"IF(AA147=\"\",\"\",IF(ISERR(FIND(\"#\",AC147)),FALSE,TRUE))","v":""},{"$f":"IF(AA147=\"\",\"\",IF(ISERR(FIND(\"@\",AC147)),FALSE,TRUE))","v":""},"",{"$f":"SUBSTITUTE(SUBSTITUTE(SUBSTITUTE(SUBSTITUTE(SUBSTITUTE(SUBSTITUTE(SUBSTITUTE(SUBSTITUTE(AC147, \"-\", \"\"), \"=\", \"\"), \"@\", \"\"), \"#\", \"\"), \"*\", \"\"), \";\", \"\"), \"+\", \"\"), \"^\", \"\")","v":""},{"$f":"SUBSTITUTE(SUBSTITUTE(SUBSTITUTE(SUBSTITUTE(SUBSTITUTE(SUBSTITUTE(AJ147, \"d\", \"\"), \"w\", \"\"), \"x\", \"\"), \"e\", \"\"), \"n\", \"\"), \"!\", \"\")","v":""},{"$f":"SUBSTITUTE(SUBSTITUTE(SUBSTITUTE(SUBSTITUTE(SUBSTITUTE(SUBSTITUTE(AK147, \"1\", \"\"), \"2\", \"\"), \"3\", \"\"), \"7\", \"\"), \"8\", \"\"), \"9\", \"\")","v":""},"","","",{"$f":"IF(AN147=\"\",\"\",IF(I147=0,IF(AO147=1,VLOOKUP(F147,Tables!A$1:C$18,2,FALSE),VLOOKUP(F147,Tables!A$1:C$18,3,FALSE)),IF(I147=1, IF(AO147=1,VLOOKUP(F147,Tables!H$1:J$95,2,FALSE),VLOOKUP(F147,Tables!H$1:J$95,3,FALSE)),IF(AO147=1,VLOOKUP(F147,Tables!Q$1:S$137,2,FALSE),VLOOKUP(F147,Tables!Q$1:S$137,3,FALSE)))))","v":""},{"$f":"IF(AN147=\"\",\"\",IF(AP147=\"GM\",AN147,0))","v":""},"","","","","",{"$f":"IF(J147=\"\",\"\",IF(AND(OR(I147=1,I147=\"S\"),MOD(J147,2)=1,NOT(AP147=\"GM\")),1,\"\"))","v":""},{"$f":"IF(AW147=1,CONCATENATE(RIGHT(AP147,(LEN(AP147)-FIND(\"-\",AP147))),\"-\",LEFT(AP147,FIND(\"-\",AP147)-1)),\"\")","v":""},{"$f":"IF(AA147=\"\",\"\",IF(OR(RIGHT(AC147,1)=\"@\",RIGHT(AC147,1)=\"#\"),AM147,IF(AI147=TRUE,0,AM147+1)))","v":""},null,"","","","",{"$f":"IF(A147=\"\",\"\",IF(AP146=\"GM\",BE146+1,BE146))","v":""},{"$f":"IF(A147=\"\",\"\",IF(AQ146=0,BF146+1,1))","v":""}]
["","","","","","","","","","",{"$f":"IF(A148=\"\",\"\",IF(OR(I148=1,I148=\"S\"),IF(VLOOKUP(J148,Tables!E$1:F$50,2,FALSE)=1,IF(MOD(BE148,2)=1,1,2),IF(MOD(BE148,2)=1,2,1)),IF(MOD(BE148,2)=1,1,2)))","v":""},"","",null,null,null,"","","","","","","","","","","","","","","","","","","","","","","","","",{"$f":"IF(AN148=\"\",\"\",IF(I148=0,IF(AO148=1,VLOOKUP(F148,Tables!A$1:C$18,2,FALSE),VLOOKUP(F148,Tables!A$1:C$18,3,FALSE)),IF(I148=1, IF(AO148=1,VLOOKUP(F148,Tables!H$1:J$95,2,FALSE),VLOOKUP(F148,Tables!H$1:J$95,3,FALSE)),IF(AO148=1,VLOOKUP(F148,Tables!Q$1:S$137,2,FALSE),VLOOKUP(F148,Tables!Q$1:S$137,3,FALSE)))))","v":""},"","","","","","","","","",null,"","","","","",""]
["","","","","","","","","","",{"$f":"IF(A149=\"\",\"\",IF(OR(I149=1,I149=\"S\"),IF(VLOOKUP(J149,Tables!E$1:F$50,2,FALSE)=1,IF(MOD(BE149,2)=1,1,2),IF(MOD(BE149,2)=1,2,1)),IF(MOD(BE149,2)=1,1,2)))","v":""},"","",null,null,null,"","","","","","","","","","","","","","","","","","","","","","","","","",{"$f":"IF(AN149=\"\",\"\",IF(I149=0,IF(AO149=1,VLOOKUP(F149,Tables!A$1:C$18,2,FALSE),VLOOKUP(F149,Tables!A$1:C$18,3,FALSE)),IF(I149=1, IF(AO149=1,VLOOKUP(F149,Tables!H$1:J$95,2,FALSE),VLOOKUP(F149,Tables!H$1:J$95,3,FALSE)),IF(AO149=1,VLOOKUP(F149,Tables!Q$1:S$137,2,FALSE),VLOOKUP(F149,Tables!Q$1:S$137,3,FALSE)))))","v":""},"","","","","","","","","",null,"","","","","",""]
["","","","","","","","","","",{"$f":"IF(A150=\"\",\"\",IF(OR(I150=1,I150=\"S\"),IF(VLOOKUP(J150,Tables!E$1:F$50,2,FALSE)=1,IF(MOD(BE150,2)=1,1,2),IF(MOD(BE150,2)=1,2,1)),IF(MOD(BE150,2)=1,1,2)))","v":""},"","",null,null,null,"","","","","","","","","","","","","","","","","","","","","","","","","",{"$f":"IF(AN150=\"\",\"\",IF(I150=0,IF(AO150=1,VLOOKUP(F150,Tables!A$1:C$18,2,FALSE),VLOOKUP(F150,Tables!A$1:C$18,3,FALSE)),IF(I150=1, IF(AO150=1,VLOOKUP(F150,Tables!H$1:J$95,2,FALSE),VLOOKUP(F150,Tables!H$1:J$95,3,FALSE)),IF(AO150=1,VLOOKUP(F150,Tables!Q$1:S$137,2,FALSE),VLOOKUP(F150,Tables!Q$1:S$137,3,FALSE)))))","v":""},"","","","","","","","","",null,"","","","","",""]
["","","","","","","","","","",{"$f":"IF(A151=\"\",\"\",IF(OR(I151=1,I151=\"S\"),IF(VLOOKUP(J151,Tables!E$1:F$50,2,FALSE)=1,IF(MOD(BE151,2)=1,1,2),IF(MOD(BE151,2)=1,2,1)),IF(MOD(BE151,2)=1,1,2)))","v":""},"","",null,null,null,"","","","","","","","","","","","","","","","","","","","","","","","","",{"$f":"IF(AN151=\"\",\"\",IF(I151=0,IF(AO151=1,VLOOKUP(F151,Tables!A$1:C$18,2,FALSE),VLOOKUP(F151,Tables!A$1:C$18,3,FALSE)),IF(I151=1, IF(AO151=1,VLOOKUP(F151,Tables!H$1:J$95,2,FALSE),VLOOKUP(F151,Tables!H$1:J$95,3,FALSE)),IF(AO151=1,VLOOKUP(F151,Tables!Q$1:S$137,2,FALSE),VLOOKUP(F151,Tables!Q$1:S$137,3,FALSE)))))","v":""},"","","","","","","","","",null,"","","","","",""]
["","","","","","","","","","",{"$f":"IF(A152=\"\",\"\",IF(OR(I152=1,I152=\"S\"),IF(VLOOKUP(J152,Tables!E$1:F$50,2,FALSE)=1,IF(MOD(BE152,2)=1,1,2),IF(MOD(BE152,2)=1,2,1)),IF(MOD(BE152,2)=1,1,2)))","v":""},"","",null,null,null,"","","","","","","","","","","","","","","","","","","","","","","","","",{"$f":"IF(AN152=\"\",\"\",IF(I152=0,IF(AO152=1,VLOOKUP(F152,Tables!A$1:C$18,2,FALSE),VLOOKUP(F152,Tables!A$1:C$18,3,FALSE)),IF(I152=1, IF(AO152=1,VLOOKUP(F152,Tables!H$1:J$95,2,FALSE),VLOOKUP(F152,Tables!H$1:J$95,3,FALSE)),IF(AO152=1,VLOOKUP(F152,Tables!Q$1:S$137,2,FALSE),VLOOKUP(F152,Tables!Q$1:S$137,3,FALSE)))))","v":""},"","","","","","","","","",null,"","","","","",""]
["","","","","","","","","","",{"$f":"IF(A153=\"\",\"\",IF(OR(I153=1,I153=\"S\"),IF(VLOOKUP(J153,Tables!E$1:F$50,2,FALSE)=1,IF(MOD(BE153,2)=1,1,2),IF(MOD(BE153,2)=1,2,1)),IF(MOD(BE153,2)=1,1,2)))","v":""},"","",null,null,null,"","","","","","","","","","","","","","","","","","","","","","","","","",{"$f":"IF(AN153=\"\",\"\",IF(I153=0,IF(AO153=1,VLOOKUP(F153,Tables!A$1:C$18,2,FALSE),VLOOKUP(F153,Tables!A$1:C$18,3,FALSE)),IF(I153=1, IF(AO153=1,VLOOKUP(F153,Tables!H$1:J$95,2,FALSE),VLOOKUP(F153,Tables!H$1:J$95,3,FALSE)),IF(AO153=1,VLOOKUP(F153,Tables!Q$1:S$137,2,FALSE),VLOOKUP(F153,Tables!Q$1:S$137,3,FALSE)))))","v":""},"","","","","","","","","",null,"","","","","",""]
["","","","","","","","","","",{"$f":"IF(A154=\"\",\"\",IF(OR(I154=1,I154=\"S\"),IF(VLOOKUP(J154,Tables!E$1:F$50,2,FALSE)=1,IF(MOD(BE154,2)=1,1,2),IF(MOD(BE154,2)=1,2,1)),IF(MOD(BE154,2)=1,1,2)))","v":""},"","",null,null,null,"","","","","","","","","","","","","","","","","","","","","","","","","",{"$f":"IF(AN154=\"\",\"\",IF(I154=0,IF(AO154=1,VLOOKUP(F154,Tables!A$1:C$18,2,FALSE),VLOOKUP(F154,Tables!A$1:C$18,3,FALSE)),IF(I154=1, IF(AO154=1,VLOOKUP(F154,Tables!H$1:J$95,2,FALSE),VLOOKUP(F154,Tables!H$1:J$95,3,FALSE)),IF(AO154=1,VLOOKUP(F154,Tables!Q$1:S$137,2,FALSE),VLOOKUP(F154,Tables!Q$1:S$137,3,FALSE)))))","v":""},"","","","","","","","","",null,"","","","","",""]
["","","","","","","","","","",{"$f":"IF(A155=\"\",\"\",IF(OR(I155=1,I155=\"S\"),IF(VLOOKUP(J155,Tables!E$1:F$50,2,FALSE)=1,IF(MOD(BE155,2)=1,1,2),IF(MOD(BE155,2)=1,2,1)),IF(MOD(BE155,2)=1,1,2)))","v":""},"","",null,null,null,"","","","","","","","","","","","","","","","","","","","","","","","","",{"$f":"IF(AN155=\"\",\"\",IF(I155=0,IF(AO155=1,VLOOKUP(F155,Tables!A$1:C$18,2,FALSE),VLOOKUP(F155,Tables!A$1:C$18,3,FALSE)),IF(I155=1, IF(AO155=1,VLOOKUP(F155,Tables!H$1:J$95,2,FALSE),VLOOKUP(F155,Tables!H$1:J$95,3,FALSE)),IF(AO155=1,VLOOKUP(F155,Tables!Q$1:S$137,2,FALSE),VLOOKUP(F155,Tables!Q$1:S$137,3,FALSE)))))","v":""},"","","","","","","","","",null,"","","","","",""]
["","","","","","","","","","",{"$f":"IF(A156=\"\",\"\",IF(OR(I156=1,I156=\"S\"),IF(VLOOKUP(J156,Tables!E$1:F$50,2,FALSE)=1,IF(MOD(BE156,2)=1,1,2),IF(MOD(BE156,2)=1,2,1)),IF(MOD(BE156,2)=1,1,2)))","v":""},"","",null,null,null,"","","","","","","","","","","","","","","","","","","","","","","","","",{"$f":"IF(AN156=\"\",\"\",IF(I156=0,IF(AO156=1,VLOOKUP(F156,Tables!A$1:C$18,2,FALSE),VLOOKUP(F156,Tables!A$1:C$18,3,FALSE)),IF(I156=1, IF(AO156=1,VLOOKUP(F156,Tables!H$1:J$95,2,FALSE),VLOOKUP(F156,Tables!H$1:J$95,3,FALSE)),IF(AO156=1,VLOOKUP(F156,Tables!Q$1:S$137,2,FALSE),VLOOKUP(F156,Tables!Q$1:S$137,3,FALSE)))))","v":""},"","","","","","","","","",null,"","","","","",""]
["","","","","","","","","","",{"$f":"IF(A157=\"\",\"\",IF(OR(I157=1,I157=\"S\"),IF(VLOOKUP(J157,Tables!E$1:F$50,2,FALSE)=1,IF(MOD(BE157,2)=1,1,2),IF(MOD(BE157,2)=1,2,1)),IF(MOD(BE157,2)=1,1,2)))","v":""},"","",null,null,null,"","","","","","","","","","","","","","","","","","","","","","","","","",{"$f":"IF(AN157=\"\",\"\",IF(I157=0,IF(AO157=1,VLOOKUP(F157,Tables!A$1:C$18,2,FALSE),VLOOKUP(F157,Tables!A$1:C$18,3,FALSE)),IF(I157=1, IF(AO157=1,VLOOKUP(F157,Tables!H$1:J$95,2,FALSE),VLOOKUP(F157,Tables!H$1:J$95,3,FALSE)),IF(AO157=1,VLOOKUP(F157,Tables!Q$1:S$137,2,FALSE),VLOOKUP(F157,Tables!Q$1:S$137,3,FALSE)))))","v":""},"","","","","","","","","",null,"","","","","",""]
["","","","","","","","","","",{"$f":"IF(A158=\"\",\"\",IF(OR(I158=1,I158=\"S\"),IF(VLOOKUP(J158,Tables!E$1:F$50,2,FALSE)=1,IF(MOD(BE158,2)=1,1,2),IF(MOD(BE158,2)=1,2,1)),IF(MOD(BE158,2)=1,1,2)))","v":""},"","",null,null,null,"","","","","","","","","","","","","","","","","","","","","","","","","",{"$f":"IF(AN158=\"\",\"\",IF(I158=0,IF(AO158=1,VLOOKUP(F158,Tables!A$1:C$18,2,FALSE),VLOOKUP(F158,Tables!A$1:C$18,3,FALSE)),IF(I158=1, IF(AO158=1,VLOOKUP(F158,Tables!H$1:J$95,2,FALSE),VLOOKUP(F158,Tables!H$1:J$95,3,FALSE)),IF(AO158=1,VLOOKUP(F158,Tables!Q$1:S$137,2,FALSE),VLOOKUP(F158,Tables!Q$1:S$137,3,FALSE)))))","v":""},"","","","","","","","","",null,"","","","","",""]
["","","","","","","","","","",{"$f":"IF(A159=\"\",\"\",IF(OR(I159=1,I159=\"S\"),IF(VLOOKUP(J159,Tables!E$1:F$50,2,FALSE)=1,IF(MOD(BE159,2)=1,1,2),IF(MOD(BE159,2)=1,2,1)),IF(MOD(BE159,2)=1,1,2)))","v":""},"","",null,null,null,"","","","","","","","","","","","","","","","","","","","","","","","","",{"$f":"IF(AN159=\"\",\"\",IF(I159=0,IF(AO159=1,VLOOKUP(F159,Tables!A$1:C$18,2,FALSE),VLOOKUP(F159,Tables!A$1:C$18,3,FALSE)),IF(I159=1, IF(AO159=1,VLOOKUP(F159,Tables!H$1:J$95,2,FALSE),VLOOKUP(F159,Tables!H$1:J$95,3,FALSE)),IF(AO159=1,VLOOKUP(F159,Tables!Q$1:S$137,2,FALSE),VLOOKUP(F159,Tables!Q$1:S$137,3,FALSE)))))","v":""},"","","","","","","","","",null,"","","","","",""]
["","","","","","","","","","",{"$f":"IF(A160=\"\",\"\",IF(OR(I160=1,I160=\"S\"),IF(VLOOKUP(J160,Tables!E$1:F$50,2,FALSE)=1,IF(MOD(BE160,2)=1,1,2),IF(MOD(BE160,2)=1,2,1)),IF(MOD(BE160,2)=1,1,2)))","v":""},"","",null,null,null,"","","","","","","","","","","","","","","","","","","","","","","","","",{"$f":"IF(AN160=\"\",\"\",IF(I160=0,IF(AO160=1,VLOOKUP(F160,Tables!A$1:C$18,2,FALSE),VLOOKUP(F160,Tables!A$1:C$18,3,FALSE)),IF(I160=1, IF(AO160=1,VLOOKUP(F160,Tables!H$1:J$95,2,FALSE),VLOOKUP(F160,Tables!H$1:J$95,3,FALSE)),IF(AO160=1,VLOOKUP(F160,Tables!Q$1:S$137,2,FALSE),VLOOKUP(F160,Tables!Q$1:S$137,3,FALSE)))))","v":""},"","","","","","","","","",null,"","","","","",""]
["","","","","","","","","","",{"$f":"IF(A161=\"\",\"\",IF(OR(I161=1,I161=\"S\"),IF(VLOOKUP(J161,Tables!E$1:F$50,2,FALSE)=1,IF(MOD(BE161,2)=1,1,2),IF(MOD(BE161,2)=1,2,1)),IF(MOD(BE161,2)=1,1,2)))","v":""},"","",null,null,null,"","","","","","","","","","","","","","","","","","","","","","","","","",{"$f":"IF(AN161=\"\",\"\",IF(I161=0,IF(AO161=1,VLOOKUP(F161,Tables!A$1:C$18,2,FALSE),VLOOKUP(F161,Tables!A$1:C$18,3,FALSE)),IF(I161=1, IF(AO161=1,VLOOKUP(F161,Tables!H$1:J$95,2,FALSE),VLOOKUP(F161,Tables!H$1:J$95,3,FALSE)),IF(AO161=1,VLOOKUP(F161,Tables!Q$1:S$137,2,FALSE),VLOOKUP(F161,Tables!Q$1:S$137,3,FALSE)))))","v":""},"","","","","","","","","",null,"","","","","",""]
["","","","","","","","","","",{"$f":"IF(A162=\"\",\"\",IF(OR(I162=1,I162=\"S\"),IF(VLOOKUP(J162,Tables!E$1:F$50,2,FALSE)=1,IF(MOD(BE162,2)=1,1,2),IF(MOD(BE162,2)=1,2,1)),IF(MOD(BE162,2)=1,1,2)))","v":""},"","",null,null,null,"","","","","","","","","","","","","","","","","","","","","","","","","",{"$f":"IF(AN162=\"\",\"\",IF(I162=0,IF(AO162=1,VLOOKUP(F162,Tables!A$1:C$18,2,FALSE),VLOOKUP(F162,Tables!A$1:C$18,3,FALSE)),IF(I162=1, IF(AO162=1,VLOOKUP(F162,Tables!H$1:J$95,2,FALSE),VLOOKUP(F162,Tables!H$1:J$95,3,FALSE)),IF(AO162=1,VLOOKUP(F162,Tables!Q$1:S$137,2,FALSE),VLOOKUP(F162,Tables!Q$1:S$137,3,FALSE)))))","v":""},"","","","","","","","","",null,"","","","","",""]
["","","","","","","","","","",{"$f":"IF(A163=\"\",\"\",IF(OR(I163=1,I163=\"S\"),IF(VLOOKUP(J163,Tables!E$1:F$50,2,FALSE)=1,IF(MOD(BE163,2)=1,1,2),IF(MOD(BE163,2)=1,2,1)),IF(MOD(BE163,2)=1,1,2)))","v":""},"","",null,null,null,"","","","","","","","","","","","","","","","","","","","","","","","","",{"$f":"IF(AN163=\"\",\"\",IF(I163=0,IF(AO163=1,VLOOKUP(F163,Tables!A$1:C$18,2,FALSE),VLOOKUP(F163,Tables!A$1:C$18,3,FALSE)),IF(I163=1, IF(AO163=1,VLOOKUP(F163,Tables!H$1:J$95,2,FALSE),VLOOKUP(F163,Tables!H$1:J$95,3,FALSE)),IF(AO163=1,VLOOKUP(F163,Tables!Q$1:S$137,2,FALSE),VLOOKUP(F163,Tables!Q$1:S$137,3,FALSE)))))","v":""},"","","","","","","","","",null,"","","","","",""]
["","","","","","","","","","",{"$f":"IF(A164=\"\",\"\",IF(OR(I164=1,I164=\"S\"),IF(VLOOKUP(J164,Tables!E$1:F$50,2,FALSE)=1,IF(MOD(BE164,2)=1,1,2),IF(MOD(BE164,2)=1,2,1)),IF(MOD(BE164,2)=1,1,2)))","v":""},"","",null,null,null,"","","","","","","","","","","","","","","","","","","","","","","","","",{"$f":"IF(AN164=\"\",\"\",IF(I164=0,IF(AO164=1,VLOOKUP(F164,Tables!A$1:C$18,2,FALSE),VLOOKUP(F164,Tables!A$1:C$18,3,FALSE)),IF(I164=1, IF(AO164=1,VLOOKUP(F164,Tables!H$1:J$95,2,FALSE),VLOOKUP(F164,Tables!H$1:J$95,3,FALSE)),IF(AO164=1,VLOOKUP(F164,Tables!Q$1:S$137,2,FALSE),VLOOKUP(F164,Tables!Q$1:S$137,3,FALSE)))))","v":""},"","","","","","","","","",null,"","","","","",""]
["","","","","","","","","","",{"$f":"IF(A165=\"\",\"\",IF(OR(I165=1,I165=\"S\"),IF(VLOOKUP(J165,Tables!E$1:F$50,2,FALSE)=1,IF(MOD(BE165,2)=1,1,2),IF(MOD(BE165,2)=1,2,1)),IF(MOD(BE165,2)=1,1,2)))","v":""},"","",null,null,null,"","","","","","","","","","","","","","","","","","","","","","","","","",{"$f":"IF(AN165=\"\",\"\",IF(I165=0,IF(AO165=1,VLOOKUP(F165,Tables!A$1:C$18,2,FALSE),VLOOKUP(F165,Tables!A$1:C$18,3,FALSE)),IF(I165=1, IF(AO165=1,VLOOKUP(F165,Tables!H$1:J$95,2,FALSE),VLOOKUP(F165,Tables!H$1:J$95,3,FALSE)),IF(AO165=1,VLOOKUP(F165,Tables!Q$1:S$137,2,FALSE),VLOOKUP(F165,Tables!Q$1:S$137,3,FALSE)))))","v":""},"","","","","","","","","",null,"","","","","",""]
["","","","","","","","","","",{"$f":"IF(A166=\"\",\"\",IF(OR(I166=1,I166=\"S\"),IF(VLOOKUP(J166,Tables!E$1:F$50,2,FALSE)=1,IF(MOD(BE166,2)=1,1,2),IF(MOD(BE166,2)=1,2,1)),IF(MOD(BE166,2)=1,1,2)))","v":""},"","",null,null,null,"","","","","","","","","","","","","","","","","","","","","","","","","",{"$f":"IF(AN166=\"\",\"\",IF(I166=0,IF(AO166=1,VLOOKUP(F166,Tables!A$1:C$18,2,FALSE),VLOOKUP(F166,Tables!A$1:C$18,3,FALSE)),IF(I166=1, IF(AO166=1,VLOOKUP(F166,Tables!H$1:J$95,2,FALSE),VLOOKUP(F166,Tables!H$1:J$95,3,FALSE)),IF(AO166=1,VLOOKUP(F166,Tables!Q$1:S$137,2,FALSE),VLOOKUP(F166,Tables!Q$1:S$137,3,FALSE)))))","v":""},"","","","","","","","","",null,"","","","","",""]
["","","","","","","","","","",{"$f":"IF(A167=\"\",\"\",IF(OR(I167=1,I167=\"S\"),IF(VLOOKUP(J167,Tables!E$1:F$50,2,FALSE)=1,IF(MOD(BE167,2)=1,1,2),IF(MOD(BE167,2)=1,2,1)),IF(MOD(BE167,2)=1,1,2)))","v":""},"","",null,null,null,"","","","","","","","","","","","","","","","","","","","","","","","","",{"$f":"IF(AN167=\"\",\"\",IF(I167=0,IF(AO167=1,VLOOKUP(F167,Tables!A$1:C$18,2,FALSE),VLOOKUP(F167,Tables!A$1:C$18,3,FALSE)),IF(I167=1, IF(AO167=1,VLOOKUP(F167,Tables!H$1:J$95,2,FALSE),VLOOKUP(F167,Tables!H$1:J$95,3,FALSE)),IF(AO167=1,VLOOKUP(F167,Tables!Q$1:S$137,2,FALSE),VLOOKUP(F167,Tables!Q$1:S$137,3,FALSE)))))","v":""},"","","","","","","","","",null,"","","","","",""]
["","","","","","","","","","",{"$f":"IF(A168=\"\",\"\",IF(OR(I168=1,I168=\"S\"),IF(VLOOKUP(J168,Tables!E$1:F$50,2,FALSE)=1,IF(MOD(BE168,2)=1,1,2),IF(MOD(BE168,2)=1,2,1)),IF(MOD(BE168,2)=1,1,2)))","v":""},"","",null,null,null,"","","","","","","","","","","","","","","","","","","","","","","","","",{"$f":"IF(AN168=\"\",\"\",IF(I168=0,IF(AO168=1,VLOOKUP(F168,Tables!A$1:C$18,2,FALSE),VLOOKUP(F168,Tables!A$1:C$18,3,FALSE)),IF(I168=1, IF(AO168=1,VLOOKUP(F168,Tables!H$1:J$95,2,FALSE),VLOOKUP(F168,Tables!H$1:J$95,3,FALSE)),IF(AO168=1,VLOOKUP(F168,Tables!Q$1:S$137,2,FALSE),VLOOKUP(F168,Tables!Q$1:S$137,3,FALSE)))))","v":""},"","","","","","","","","",null,"","","","","",""]
["","","","","","","","","","",{"$f":"IF(A169=\"\",\"\",IF(OR(I169=1,I169=\"S\"),IF(VLOOKUP(J169,Tables!E$1:F$50,2,FALSE)=1,IF(MOD(BE169,2)=1,1,2),IF(MOD(BE169,2)=1,2,1)),IF(MOD(BE169,2)=1,1,2)))","v":""},"","",null,null,null,"","","","","","","","","","","","","","","","","","","","","","","","","",{"$f":"IF(AN169=\"\",\"\",IF(I169=0,IF(AO169=1,VLOOKUP(F169,Tables!A$1:C$18,2,FALSE),VLOOKUP(F169,Tables!A$1:C$18,3,FALSE)),IF(I169=1, IF(AO169=1,VLOOKUP(F169,Tables!H$1:J$95,2,FALSE),VLOOKUP(F169,Tables!H$1:J$95,3,FALSE)),IF(AO169=1,VLOOKUP(F169,Tables!Q$1:S$137,2,FALSE),VLOOKUP(F169,Tables!Q$1:S$137,3,FALSE)))))","v":""},"","","","","","","","","",null,"","","","","",""]
["","","","","","","","","","",{"$f":"IF(A170=\"\",\"\",IF(OR(I170=1,I170=\"S\"),IF(VLOOKUP(J170,Tables!E$1:F$50,2,FALSE)=1,IF(MOD(BE170,2)=1,1,2),IF(MOD(BE170,2)=1,2,1)),IF(MOD(BE170,2)=1,1,2)))","v":""},"","",null,null,null,"","","","","","","","","","","","","","","","","","","","","","","","","",{"$f":"IF(AN170=\"\",\"\",IF(I170=0,IF(AO170=1,VLOOKUP(F170,Tables!A$1:C$18,2,FALSE),VLOOKUP(F170,Tables!A$1:C$18,3,FALSE)),IF(I170=1, IF(AO170=1,VLOOKUP(F170,Tables!H$1:J$95,2,FALSE),VLOOKUP(F170,Tables!H$1:J$95,3,FALSE)),IF(AO170=1,VLOOKUP(F170,Tables!Q$1:S$137,2,FALSE),VLOOKUP(F170,Tables!Q$1:S$137,3,FALSE)))))","v":""},"","","","","","","","","",null,"","","","","",""]
["","","","","","","","","","",{"$f":"IF(A171=\"\",\"\",IF(OR(I171=1,I171=\"S\"),IF(VLOOKUP(J171,Tables!E$1:F$50,2,FALSE)=1,IF(MOD(BE171,2)=1,1,2),IF(MOD(BE171,2)=1,2,1)),IF(MOD(BE171,2)=1,1,2)))","v":""},"","",null,null,null,"","","","","","","","","","","","","","","","","","","","","","","","","",{"$f":"IF(AN171=\"\",\"\",IF(I171=0,IF(AO171=1,VLOOKUP(F171,Tables!A$1:C$18,2,FALSE),VLOOKUP(F171,Tables!A$1:C$18,3,FALSE)),IF(I171=1, IF(AO171=1,VLOOKUP(F171,Tables!H$1:J$95,2,FALSE),VLOOKUP(F171,Tables!H$1:J$95,3,FALSE)),IF(AO171=1,VLOOKUP(F171,Tables!Q$1:S$137,2,FALSE),VLOOKUP(F171,Tables!Q$1:S$137,3,FALSE)))))","v":""},"","","","","","","","","",null,"","","","","",""]
["","","","","","","","","","",{"$f":"IF(A172=\"\",\"\",IF(OR(I172=1,I172=\"S\"),IF(VLOOKUP(J172,Tables!E$1:F$50,2,FALSE)=1,IF(MOD(BE172,2)=1,1,2),IF(MOD(BE172,2)=1,2,1)),IF(MOD(BE172,2)=1,1,2)))","v":""},"","",null,null,null,"","","","","","","","","","","","","","","","","","","","","","","","","",{"$f":"IF(AN172=\"\",\"\",IF(I172=0,IF(AO172=1,VLOOKUP(F172,Tables!A$1:C$18,2,FALSE),VLOOKUP(F172,Tables!A$1:C$18,3,FALSE)),IF(I172=1, IF(AO172=1,VLOOKUP(F172,Tables!H$1:J$95,2,FALSE),VLOOKUP(F172,Tables!H$1:J$95,3,FALSE)),IF(AO172=1,VLOOKUP(F172,Tables!Q$1:S$137,2,FALSE),VLOOKUP(F172,Tables!Q$1:S$137,3,FALSE)))))","v":""},"","","","","","","","","",null,"","","","","",""]
["","","","","","","","","","",{"$f":"IF(A173=\"\",\"\",IF(OR(I173=1,I173=\"S\"),IF(VLOOKUP(J173,Tables!E$1:F$50,2,FALSE)=1,IF(MOD(BE173,2)=1,1,2),IF(MOD(BE173,2)=1,2,1)),IF(MOD(BE173,2)=1,1,2)))","v":""},"","",null,null,null,"","","","","","","","","","","","","","","","","","","","","","","","","",{"$f":"IF(AN173=\"\",\"\",IF(I173=0,IF(AO173=1,VLOOKUP(F173,Tables!A$1:C$18,2,FALSE),VLOOKUP(F173,Tables!A$1:C$18,3,FALSE)),IF(I173=1, IF(AO173=1,VLOOKUP(F173,Tables!H$1:J$95,2,FALSE),VLOOKUP(F173,Tables!H$1:J$95,3,FALSE)),IF(AO173=1,VLOOKUP(F173,Tables!Q$1:S$137,2,FALSE),VLOOKUP(F173,Tables!Q$1:S$137,3,FALSE)))))","v":""},"","","","","","","","","",null,"","","","","",""]
["","","","","","","","","","",{"$f":"IF(A174=\"\",\"\",IF(OR(I174=1,I174=\"S\"),IF(VLOOKUP(J174,Tables!E$1:F$50,2,FALSE)=1,IF(MOD(BE174,2)=1,1,2),IF(MOD(BE174,2)=1,2,1)),IF(MOD(BE174,2)=1,1,2)))","v":""},"","",null,null,null,"","","","","","","","","","","","","","","","","","","","","","","","","",{"$f":"IF(AN174=\"\",\"\",IF(I174=0,IF(AO174=1,VLOOKUP(F174,Tables!A$1:C$18,2,FALSE),VLOOKUP(F174,Tables!A$1:C$18,3,FALSE)),IF(I174=1, IF(AO174=1,VLOOKUP(F174,Tables!H$1:J$95,2,FALSE),VLOOKUP(F174,Tables!H$1:J$95,3,FALSE)),IF(AO174=1,VLOOKUP(F174,Tables!Q$1:S$137,2,FALSE),VLOOKUP(F174,Tables!Q$1:S$137,3,FALSE)))))","v":""},"","","","","","","","","",null,"","","","","",""]
["","","","","","","","","","",{"$f":"IF(A175=\"\",\"\",IF(OR(I175=1,I175=\"S\"),IF(VLOOKUP(J175,Tables!E$1:F$50,2,FALSE)=1,IF(MOD(BE175,2)=1,1,2),IF(MOD(BE175,2)=1,2,1)),IF(MOD(BE175,2)=1,1,2)))","v":""},"","",null,null,null,"","","","","","","","","","","","","","","","","","","","","","","","","",{"$f":"IF(AN175=\"\",\"\",IF(I175=0,IF(AO175=1,VLOOKUP(F175,Tables!A$1:C$18,2,FALSE),VLOOKUP(F175,Tables!A$1:C$18,3,FALSE)),IF(I175=1, IF(AO175=1,VLOOKUP(F175,Tables!H$1:J$95,2,FALSE),VLOOKUP(F175,Tables!H$1:J$95,3,FALSE)),IF(AO175=1,VLOOKUP(F175,Tables!Q$1:S$137,2,FALSE),VLOOKUP(F175,Tables!Q$1:S$137,3,FALSE)))))","v":""},"","","","","","","","","",null,"","","",{"$f":"IF(NOT(BC175=\"\"),AR175&\"-\"&AS175,\"\")","v":""},"",""]
["","","","","","","","","","",{"$f":"IF(A176=\"\",\"\",IF(OR(I176=1,I176=\"S\"),IF(VLOOKUP(J176,Tables!E$1:F$50,2,FALSE)=1,IF(MOD(BE176,2)=1,1,2),IF(MOD(BE176,2)=1,2,1)),IF(MOD(BE176,2)=1,1,2)))","v":""},"","",null,null,null,"","","","","","","","","","","","","","","","","","","","","","","","","",{"$f":"IF(AN176=\"\",\"\",IF(I176=0,IF(AO176=1,VLOOKUP(F176,Tables!A$1:C$18,2,FALSE),VLOOKUP(F176,Tables!A$1:C$18,3,FALSE)),IF(I176=1, IF(AO176=1,VLOOKUP(F176,Tables!H$1:J$95,2,FALSE),VLOOKUP(F176,Tables!H$1:J$95,3,FALSE)),IF(AO176=1,VLOOKUP(F176,Tables!Q$1:S$137,2,FALSE),VLOOKUP(F176,Tables!Q$1:S$137,3,FALSE)))))","v":""},"","","","","","","","","",null,"","","","","",""]
["","","","","","","","","","",{"$f":"IF(A177=\"\",\"\",IF(OR(I177=1,I177=\"S\"),IF(VLOOKUP(J177,Tables!E$1:F$50,2,FALSE)=1,IF(MOD(BE177,2)=1,1,2),IF(MOD(BE177,2)=1,2,1)),IF(MOD(BE177,2)=1,1,2)))","v":""},"","",null,null,null,"","","","","","","","","","","","","","","","","","","","","","","","","",{"$f":"IF(AN177=\"\",\"\",IF(I177=0,IF(AO177=1,VLOOKUP(F177,Tables!A$1:C$18,2,FALSE),VLOOKUP(F177,Tables!A$1:C$18,3,FALSE)),IF(I177=1, IF(AO177=1,VLOOKUP(F177,Tables!H$1:J$95,2,FALSE),VLOOKUP(F177,Tables!H$1:J$95,3,FALSE)),IF(AO177=1,VLOOKUP(F177,Tables!Q$1:S$137,2,FALSE),VLOOKUP(F177,Tables!Q$1:S$137,3,FALSE)))))","v":""},"","","","","","","","","",null,"","","","","",""]
["","","","","","","","","","",{"$f":"IF(A178=\"\",\"\",IF(OR(I178=1,I178=\"S\"),IF(VLOOKUP(J178,Tables!E$1:F$50,2,FALSE)=1,IF(MOD(BE178,2)=1,1,2),IF(MOD(BE178,2)=1,2,1)),IF(MOD(BE178,2)=1,1,2)))","v":""},"","",null,null,null,"","","","","","","","","","","","","","","","","","","","","","","","","",{"$f":"IF(AN178=\"\",\"\",IF(I178=0,IF(AO178=1,VLOOKUP(F178,Tables!A$1:C$18,2,FALSE),VLOOKUP(F178,Tables!A$1:C$18,3,FALSE)),IF(I178=1, IF(AO178=1,VLOOKUP(F178,Tables!H$1:J$95,2,FALSE),VLOOKUP(F178,Tables!H$1:J$95,3,FALSE)),IF(AO178=1,VLOOKUP(F178,Tables!Q$1:S$137,2,FALSE),VLOOKUP(F178,Tables!Q$1:S$137,3,FALSE)))))","v":""},"","","","","","","","","",null,"","","","","",""]
["","","","","","","","","","",{"$f":"IF(A179=\"\",\"\",IF(OR(I179=1,I179=\"S\"),IF(VLOOKUP(J179,Tables!E$1:F$50,2,FALSE)=1,IF(MOD(BE179,2)=1,1,2),IF(MOD(BE179,2)=1,2,1)),IF(MOD(BE179,2)=1,1,2)))","v":""},"","",null,null,null,"","","","","","","","","","","","","","","","","","","","","","","","","",{"$f":"IF(AN179=\"\",\"\",IF(I179=0,IF(AO179=1,VLOOKUP(F179,Tables!A$1:C$18,2,FALSE),VLOOKUP(F179,Tables!A$1:C$18,3,FALSE)),IF(I179=1, IF(AO179=1,VLOOKUP(F179,Tables!H$1:J$95,2,FALSE),VLOOKUP(F179,Tables!H$1:J$95,3,FALSE)),IF(AO179=1,VLOOKUP(F179,Tables!Q$1:S$137,2,FALSE),VLOOKUP(F179,Tables!Q$1:S$137,3,FALSE)))))","v":""},"","","","","","","","","",null,"","","","","",""]
["","","","","","","","","","",{"$f":"IF(A180=\"\",\"\",IF(OR(I180=1,I180=\"S\"),IF(VLOOKUP(J180,Tables!E$1:F$50,2,FALSE)=1,IF(MOD(BE180,2)=1,1,2),IF(MOD(BE180,2)=1,2,1)),IF(MOD(BE180,2)=1,1,2)))","v":""},"","",null,null,null,"","","","","","","","","","","","","","","","","","","","","","","","","",{"$f":"IF(AN180=\"\",\"\",IF(I180=0,IF(AO180=1,VLOOKUP(F180,Tables!A$1:C$18,2,FALSE),VLOOKUP(F180,Tables!A$1:C$18,3,FALSE)),IF(I180=1, IF(AO180=1,VLOOKUP(F180,Tables!H$1:J$95,2,FALSE),VLOOKUP(F180,Tables!H$1:J$95,3,FALSE)),IF(AO180=1,VLOOKUP(F180,Tables!Q$1:S$137,2,FALSE),VLOOKUP(F180,Tables!Q$1:S$137,3,FALSE)))))","v":""},"","","","","","","","","",null,"","","","","",""]
["","","","","","","","","","",{"$f":"IF(A181=\"\",\"\",IF(OR(I181=1,I181=\"S\"),IF(VLOOKUP(J181,Tables!E$1:F$50,2,FALSE)=1,IF(MOD(BE181,2)=1,1,2),IF(MOD(BE181,2)=1,2,1)),IF(MOD(BE181,2)=1,1,2)))","v":""},"","",null,null,null,"","","","","","","","","","","","","","","","","","","","","","","","","",{"$f":"IF(AN181=\"\",\"\",IF(I181=0,IF(AO181=1,VLOOKUP(F181,Tables!A$1:C$18,2,FALSE),VLOOKUP(F181,Tables!A$1:C$18,3,FALSE)),IF(I181=1, IF(AO181=1,VLOOKUP(F181,Tables!H$1:J$95,2,FALSE),VLOOKUP(F181,Tables!H$1:J$95,3,FALSE)),IF(AO181=1,VLOOKUP(F181,Tables!Q$1:S$137,2,FALSE),VLOOKUP(F181,Tables!Q$1:S$137,3,FALSE)))))","v":""},"","","","","","","","","",null,"","","","","",""]
["","","","","","","","","","",{"$f":"IF(A182=\"\",\"\",IF(OR(I182=1,I182=\"S\"),IF(VLOOKUP(J182,Tables!E$1:F$50,2,FALSE)=1,IF(MOD(BE182,2)=1,1,2),IF(MOD(BE182,2)=1,2,1)),IF(MOD(BE182,2)=1,1,2)))","v":""},"","",null,null,null,"","","","","","","","","","","","","","","","","","","","","","","","","",{"$f":"IF(AN182=\"\",\"\",IF(I182=0,IF(AO182=1,VLOOKUP(F182,Tables!A$1:C$18,2,FALSE),VLOOKUP(F182,Tables!A$1:C$18,3,FALSE)),IF(I182=1, IF(AO182=1,VLOOKUP(F182,Tables!H$1:J$95,2,FALSE),VLOOKUP(F182,Tables!H$1:J$95,3,FALSE)),IF(AO182=1,VLOOKUP(F182,Tables!Q$1:S$137,2,FALSE),VLOOKUP(F182,Tables!Q$1:S$137,3,FALSE)))))","v":""},"","","","","","","","","",null,"","","","","",""]
["","","","","","","","","","",{"$f":"IF(A183=\"\",\"\",IF(OR(I183=1,I183=\"S\"),IF(VLOOKUP(J183,Tables!E$1:F$50,2,FALSE)=1,IF(MOD(BE183,2)=1,1,2),IF(MOD(BE183,2)=1,2,1)),IF(MOD(BE183,2)=1,1,2)))","v":""},"","",null,null,null,"","","","","","","","","","","","","","","","","","","","","","","","","",{"$f":"IF(AN183=\"\",\"\",IF(I183=0,IF(AO183=1,VLOOKUP(F183,Tables!A$1:C$18,2,FALSE),VLOOKUP(F183,Tables!A$1:C$18,3,FALSE)),IF(I183=1, IF(AO183=1,VLOOKUP(F183,Tables!H$1:J$95,2,FALSE),VLOOKUP(F183,Tables!H$1:J$95,3,FALSE)),IF(AO183=1,VLOOKUP(F183,Tables!Q$1:S$137,2,FALSE),VLOOKUP(F183,Tables!Q$1:S$137,3,FALSE)))))","v":""},"","","","","","","","","",null,"","","","","",""]
["","","","","","","","","","",{"$f":"IF(A184=\"\",\"\",IF(OR(I184=1,I184=\"S\"),IF(VLOOKUP(J184,Tables!E$1:F$50,2,FALSE)=1,IF(MOD(BE184,2)=1,1,2),IF(MOD(BE184,2)=1,2,1)),IF(MOD(BE184,2)=1,1,2)))","v":""},"","",null,null,null,"","","","","","","","","","","","","","","","","","","","","","","","","",{"$f":"IF(AN184=\"\",\"\",IF(I184=0,IF(AO184=1,VLOOKUP(F184,Tables!A$1:C$18,2,FALSE),VLOOKUP(F184,Tables!A$1:C$18,3,FALSE)),IF(I184=1, IF(AO184=1,VLOOKUP(F184,Tables!H$1:J$95,2,FALSE),VLOOKUP(F184,Tables!H$1:J$95,3,FALSE)),IF(AO184=1,VLOOKUP(F184,Tables!Q$1:S$137,2,FALSE),VLOOKUP(F184,Tables!Q$1:S$137,3,FALSE)))))","v":""},"","","","","","","","","",null,"","","","","",""]
["","","","","","","","","","",{"$f":"IF(A185=\"\",\"\",IF(OR(I185=1,I185=\"S\"),IF(VLOOKUP(J185,Tables!E$1:F$50,2,FALSE)=1,IF(MOD(BE185,2)=1,1,2),IF(MOD(BE185,2)=1,2,1)),IF(MOD(BE185,2)=1,1,2)))","v":""},"","",null,null,null,"","","","","","","","","","","","","","","","","","","","","","","","","",{"$f":"IF(AN185=\"\",\"\",IF(I185=0,IF(AO185=1,VLOOKUP(F185,Tables!A$1:C$18,2,FALSE),VLOOKUP(F185,Tables!A$1:C$18,3,FALSE)),IF(I185=1, IF(AO185=1,VLOOKUP(F185,Tables!H$1:J$95,2,FALSE),VLOOKUP(F185,Tables!H$1:J$95,3,FALSE)),IF(AO185=1,VLOOKUP(F185,Tables!Q$1:S$137,2,FALSE),VLOOKUP(F185,Tables!Q$1:S$137,3,FALSE)))))","v":""},"","","","","","","","","",null,"","","","","",""]
["","","","","","","","","","",{"$f":"IF(A186=\"\",\"\",IF(OR(I186=1,I186=\"S\"),IF(VLOOKUP(J186,Tables!E$1:F$50,2,FALSE)=1,IF(MOD(BE186,2)=1,1,2),IF(MOD(BE186,2)=1,2,1)),IF(MOD(BE186,2)=1,1,2)))","v":""},"","",null,null,null,"","","","","","","","","","","","","","","","","","","","","","","","","",{"$f":"IF(AN186=\"\",\"\",IF(I186=0,IF(AO186=1,VLOOKUP(F186,Tables!A$1:C$18,2,FALSE),VLOOKUP(F186,Tables!A$1:C$18,3,FALSE)),IF(I186=1, IF(AO186=1,VLOOKUP(F186,Tables!H$1:J$95,2,FALSE),VLOOKUP(F186,Tables!H$1:J$95,3,FALSE)),IF(AO186=1,VLOOKUP(F186,Tables!Q$1:S$137,2,FALSE),VLOOKUP(F186,Tables!Q$1:S$137,3,FALSE)))))","v":""},"","","","","","","","","",null,"","","","","",""]
["","","","","","","","","","",{"$f":"IF(A187=\"\",\"\",IF(OR(I187=1,I187=\"S\"),IF(VLOOKUP(J187,Tables!E$1:F$50,2,FALSE)=1,IF(MOD(BE187,2)=1,1,2),IF(MOD(BE187,2)=1,2,1)),IF(MOD(BE187,2)=1,1,2)))","v":""},"","",null,null,null,"","","","","","","","","","","","","","","","","","","","","","","","","",{"$f":"IF(AN187=\"\",\"\",IF(I187=0,IF(AO187=1,VLOOKUP(F187,Tables!A$1:C$18,2,FALSE),VLOOKUP(F187,Tables!A$1:C$18,3,FALSE)),IF(I187=1, IF(AO187=1,VLOOKUP(F187,Tables!H$1:J$95,2,FALSE),VLOOKUP(F187,Tables!H$1:J$95,3,FALSE)),IF(AO187=1,VLOOKUP(F187,Tables!Q$1:S$137,2,FALSE),VLOOKUP(F187,Tables!Q$1:S$137,3,FALSE)))))","v":""},"","","","","","","","","",null,"","","","","",""]
["","","","","","","","","","",{"$f":"IF(A188=\"\",\"\",IF(OR(I188=1,I188=\"S\"),IF(VLOOKUP(J188,Tables!E$1:F$50,2,FALSE)=1,IF(MOD(BE188,2)=1,1,2),IF(MOD(BE188,2)=1,2,1)),IF(MOD(BE188,2)=1,1,2)))","v":""},"","",null,null,null,"","","","","","","","","","","","","","","","","","","","","","","","","",{"$f":"IF(AN188=\"\",\"\",IF(I188=0,IF(AO188=1,VLOOKUP(F188,Tables!A$1:C$18,2,FALSE),VLOOKUP(F188,Tables!A$1:C$18,3,FALSE)),IF(I188=1, IF(AO188=1,VLOOKUP(F188,Tables!H$1:J$95,2,FALSE),VLOOKUP(F188,Tables!H$1:J$95,3,FALSE)),IF(AO188=1,VLOOKUP(F188,Tables!Q$1:S$137,2,FALSE),VLOOKUP(F188,Tables!Q$1:S$137,3,FALSE)))))","v":""},"","","","","","","","","",null,"","","","","",""]
["","","","","","","","","","",{"$f":"IF(A189=\"\",\"\",IF(OR(I189=1,I189=\"S\"),IF(VLOOKUP(J189,Tables!E$1:F$50,2,FALSE)=1,IF(MOD(BE189,2)=1,1,2),IF(MOD(BE189,2)=1,2,1)),IF(MOD(BE189,2)=1,1,2)))","v":""},"","",null,null,null,"","","","","","","","","","","","","","","","","","","","","","","","","",{"$f":"IF(AN189=\"\",\"\",IF(I189=0,IF(AO189=1,VLOOKUP(F189,Tables!A$1:C$18,2,FALSE),VLOOKUP(F189,Tables!A$1:C$18,3,FALSE)),IF(I189=1, IF(AO189=1,VLOOKUP(F189,Tables!H$1:J$95,2,FALSE),VLOOKUP(F189,Tables!H$1:J$95,3,FALSE)),IF(AO189=1,VLOOKUP(F189,Tables!Q$1:S$137,2,FALSE),VLOOKUP(F189,Tables!Q$1:S$137,3,FALSE)))))","v":""},"","","","","","","","","",null,"","","","","",""]
["","","","","","","","","","",{"$f":"IF(A190=\"\",\"\",IF(OR(I190=1,I190=\"S\"),IF(VLOOKUP(J190,Tables!E$1:F$50,2,FALSE)=1,IF(MOD(BE190,2)=1,1,2),IF(MOD(BE190,2)=1,2,1)),IF(MOD(BE190,2)=1,1,2)))","v":""},"","",null,null,null,"","","","","","","","","","","","","","","","","","","","","","","","","",{"$f":"IF(AN190=\"\",\"\",IF(I190=0,IF(AO190=1,VLOOKUP(F190,Tables!A$1:C$18,2,FALSE),VLOOKUP(F190,Tables!A$1:C$18,3,FALSE)),IF(I190=1, IF(AO190=1,VLOOKUP(F190,Tables!H$1:J$95,2,FALSE),VLOOKUP(F190,Tables!H$1:J$95,3,FALSE)),IF(AO190=1,VLOOKUP(F190,Tables!Q$1:S$137,2,FALSE),VLOOKUP(F190,Tables!Q$1:S$137,3,FALSE)))))","v":""},"","","","","","","","","",null,"","","","","",""]
["","","","","","","","","","",{"$f":"IF(A191=\"\",\"\",IF(OR(I191=1,I191=\"S\"),IF(VLOOKUP(J191,Tables!E$1:F$50,2,FALSE)=1,IF(MOD(BE191,2)=1,1,2),IF(MOD(BE191,2)=1,2,1)),IF(MOD(BE191,2)=1,1,2)))","v":""},"","",null,null,null,"","","","","","","","","","","","","","","","","","","","","","","","","",{"$f":"IF(AN191=\"\",\"\",IF(I191=0,IF(AO191=1,VLOOKUP(F191,Tables!A$1:C$18,2,FALSE),VLOOKUP(F191,Tables!A$1:C$18,3,FALSE)),IF(I191=1, IF(AO191=1,VLOOKUP(F191,Tables!H$1:J$95,2,FALSE),VLOOKUP(F191,Tables!H$1:J$95,3,FALSE)),IF(AO191=1,VLOOKUP(F191,Tables!Q$1:S$137,2,FALSE),VLOOKUP(F191,Tables!Q$1:S$137,3,FALSE)))))","v":""},"","","","","","","","","",null,"","","","","",""]
["","","","","","","","","","",{"$f":"IF(A192=\"\",\"\",IF(OR(I192=1,I192=\"S\"),IF(VLOOKUP(J192,Tables!E$1:F$50,2,FALSE)=1,IF(MOD(BE192,2)=1,1,2),IF(MOD(BE192,2)=1,2,1)),IF(MOD(BE192,2)=1,1,2)))","v":""},"","",null,null,null,"","","","","","","","","","","","","","","","","","","","","","","","","",{"$f":"IF(AN192=\"\",\"\",IF(I192=0,IF(AO192=1,VLOOKUP(F192,Tables!A$1:C$18,2,FALSE),VLOOKUP(F192,Tables!A$1:C$18,3,FALSE)),IF(I192=1, IF(AO192=1,VLOOKUP(F192,Tables!H$1:J$95,2,FALSE),VLOOKUP(F192,Tables!H$1:J$95,3,FALSE)),IF(AO192=1,VLOOKUP(F192,Tables!Q$1:S$137,2,FALSE),VLOOKUP(F192,Tables!Q$1:S$137,3,FALSE)))))","v":""},"","","","","","","","","",null,"","","","","",""]
["","","","","","","","","","",{"$f":"IF(A193=\"\",\"\",IF(OR(I193=1,I193=\"S\"),IF(VLOOKUP(J193,Tables!E$1:F$50,2,FALSE)=1,IF(MOD(BE193,2)=1,1,2),IF(MOD(BE193,2)=1,2,1)),IF(MOD(BE193,2)=1,1,2)))","v":""},"","",null,null,null,"","","","","","","","","","","","","","","","","","","","","","","","","",{"$f":"IF(AN193=\"\",\"\",IF(I193=0,IF(AO193=1,VLOOKUP(F193,Tables!A$1:C$18,2,FALSE),VLOOKUP(F193,Tables!A$1:C$18,3,FALSE)),IF(I193=1, IF(AO193=1,VLOOKUP(F193,Tables!H$1:J$95,2,FALSE),VLOOKUP(F193,Tables!H$1:J$95,3,FALSE)),IF(AO193=1,VLOOKUP(F193,Tables!Q$1:S$137,2,FALSE),VLOOKUP(F193,Tables!Q$1:S$137,3,FALSE)))))","v":""},"","","","","","","","","",null,"","","","","",""]
["","","","","","","","","","",{"$f":"IF(A194=\"\",\"\",IF(OR(I194=1,I194=\"S\"),IF(VLOOKUP(J194,Tables!E$1:F$50,2,FALSE)=1,IF(MOD(BE194,2)=1,1,2),IF(MOD(BE194,2)=1,2,1)),IF(MOD(BE194,2)=1,1,2)))","v":""},"","",null,null,null,"","","","","","","","","","","","","","","","","","","","","","","","","",{"$f":"IF(AN194=\"\",\"\",IF(I194=0,IF(AO194=1,VLOOKUP(F194,Tables!A$1:C$18,2,FALSE),VLOOKUP(F194,Tables!A$1:C$18,3,FALSE)),IF(I194=1, IF(AO194=1,VLOOKUP(F194,Tables!H$1:J$95,2,FALSE),VLOOKUP(F194,Tables!H$1:J$95,3,FALSE)),IF(AO194=1,VLOOKUP(F194,Tables!Q$1:S$137,2,FALSE),VLOOKUP(F194,Tables!Q$1:S$137,3,FALSE)))))","v":""},"","","","","","","","","",null,"","","","","",""]
["","","","","","","","","","",{"$f":"IF(A195=\"\",\"\",IF(OR(I195=1,I195=\"S\"),IF(VLOOKUP(J195,Tables!E$1:F$50,2,FALSE)=1,IF(MOD(BE195,2)=1,1,2),IF(MOD(BE195,2)=1,2,1)),IF(MOD(BE195,2)=1,1,2)))","v":""},"","",null,null,null,"","","","","","","","","","","","","","","","","","","","","","","","","",{"$f":"IF(AN195=\"\",\"\",IF(I195=0,IF(AO195=1,VLOOKUP(F195,Tables!A$1:C$18,2,FALSE),VLOOKUP(F195,Tables!A$1:C$18,3,FALSE)),IF(I195=1, IF(AO195=1,VLOOKUP(F195,Tables!H$1:J$95,2,FALSE),VLOOKUP(F195,Tables!H$1:J$95,3,FALSE)),IF(AO195=1,VLOOKUP(F195,Tables!Q$1:S$137,2,FALSE),VLOOKUP(F195,Tables!Q$1:S$137,3,FALSE)))))","v":""},"","","","","","","","","",null,"","","","","",""]
["","","","","","","","","","",{"$f":"IF(A196=\"\",\"\",IF(OR(I196=1,I196=\"S\"),IF(VLOOKUP(J196,Tables!E$1:F$50,2,FALSE)=1,IF(MOD(BE196,2)=1,1,2),IF(MOD(BE196,2)=1,2,1)),IF(MOD(BE196,2)=1,1,2)))","v":""},"","",null,null,null,"","","","","","","","","","","","","","","","","","","","","","","","","",{"$f":"IF(AN196=\"\",\"\",IF(I196=0,IF(AO196=1,VLOOKUP(F196,Tables!A$1:C$18,2,FALSE),VLOOKUP(F196,Tables!A$1:C$18,3,FALSE)),IF(I196=1, IF(AO196=1,VLOOKUP(F196,Tables!H$1:J$95,2,FALSE),VLOOKUP(F196,Tables!H$1:J$95,3,FALSE)),IF(AO196=1,VLOOKUP(F196,Tables!Q$1:S$137,2,FALSE),VLOOKUP(F196,Tables!Q$1:S$137,3,FALSE)))))","v":""},"","","","","","","","","",null,"","","","","",""]
["","","","","","","","","","",{"$f":"IF(A197=\"\",\"\",IF(OR(I197=1,I197=\"S\"),IF(VLOOKUP(J197,Tables!E$1:F$50,2,FALSE)=1,IF(MOD(BE197,2)=1,1,2),IF(MOD(BE197,2)=1,2,1)),IF(MOD(BE197,2)=1,1,2)))","v":""},"","",null,null,null,"","","","","","","","","","","","","","","","","","","","","","","","","",{"$f":"IF(AN197=\"\",\"\",IF(I197=0,IF(AO197=1,VLOOKUP(F197,Tables!A$1:C$18,2,FALSE),VLOOKUP(F197,Tables!A$1:C$18,3,FALSE)),IF(I197=1, IF(AO197=1,VLOOKUP(F197,Tables!H$1:J$95,2,FALSE),VLOOKUP(F197,Tables!H$1:J$95,3,FALSE)),IF(AO197=1,VLOOKUP(F197,Tables!Q$1:S$137,2,FALSE),VLOOKUP(F197,Tables!Q$1:S$137,3,FALSE)))))","v":""},"","","","","","","","","",null,"","","","","",""]
["","","","","","","","","","",{"$f":"IF(A198=\"\",\"\",IF(OR(I198=1,I198=\"S\"),IF(VLOOKUP(J198,Tables!E$1:F$50,2,FALSE)=1,IF(MOD(BE198,2)=1,1,2),IF(MOD(BE198,2)=1,2,1)),IF(MOD(BE198,2)=1,1,2)))","v":""},"","",null,null,null,"","","","","","","","","","","","","","","","","","","","","","","","","",{"$f":"IF(AN198=\"\",\"\",IF(I198=0,IF(AO198=1,VLOOKUP(F198,Tables!A$1:C$18,2,FALSE),VLOOKUP(F198,Tables!A$1:C$18,3,FALSE)),IF(I198=1, IF(AO198=1,VLOOKUP(F198,Tables!H$1:J$95,2,FALSE),VLOOKUP(F198,Tables!H$1:J$95,3,FALSE)),IF(AO198=1,VLOOKUP(F198,Tables!Q$1:S$137,2,FALSE),VLOOKUP(F198,Tables!Q$1:S$137,3,FALSE)))))","v":""},"","","",{"$f":"IF(AN198=\"\",\"\",IF(AND(AR198>5,(AR198-AS198)>1),1,IF(AND(AS198>5,(AS198-AR198)>1),2,IF(AND(H198=1,AR198=$J$14),1,IF(AND(H198=1,AS198=$J$14),2,IF(AND(I198=\"S\",AR198=1),1,IF(AND(I198=\"S\",AS198=1),2,0)))))))","v":""},"","","","","",null,"","","","","",""]
["","","","","","","","","","",{"$f":"IF(A199=\"\",\"\",IF(OR(I199=1,I199=\"S\"),IF(VLOOKUP(J199,Tables!E$1:F$50,2,FALSE)=1,IF(MOD(BE199,2)=1,1,2),IF(MOD(BE199,2)=1,2,1)),IF(MOD(BE199,2)=1,1,2)))","v":""},"","",null,null,null,"","","","","","","","","","","","","","","","","","","","","","","","","",{"$f":"IF(AN199=\"\",\"\",IF(I199=0,IF(AO199=1,VLOOKUP(F199,Tables!A$1:C$18,2,FALSE),VLOOKUP(F199,Tables!A$1:C$18,3,FALSE)),IF(I199=1, IF(AO199=1,VLOOKUP(F199,Tables!H$1:J$95,2,FALSE),VLOOKUP(F199,Tables!H$1:J$95,3,FALSE)),IF(AO199=1,VLOOKUP(F199,Tables!Q$1:S$137,2,FALSE),VLOOKUP(F199,Tables!Q$1:S$137,3,FALSE)))))","v":""},"","","","","","","","","",null,"","","","","",""]
["","","","","","","","","","",{"$f":"IF(A200=\"\",\"\",IF(OR(I200=1,I200=\"S\"),IF(VLOOKUP(J200,Tables!E$1:F$50,2,FALSE)=1,IF(MOD(BE200,2)=1,1,2),IF(MOD(BE200,2)=1,2,1)),IF(MOD(BE200,2)=1,1,2)))","v":""},{"$f":"IF(A200=\"\",\"\",IF(MOD(K200,2)=1,2,1))","v":""},"",null,null,null,"","","","","","","","","","","","","","","","","","","","","","","","","",{"$f":"IF(AN200=\"\",\"\",IF(I200=0,IF(AO200=1,VLOOKUP(F200,Tables!A$1:C$18,2,FALSE),VLOOKUP(F200,Tables!A$1:C$18,3,FALSE)),IF(I200=1, IF(AO200=1,VLOOKUP(F200,Tables!H$1:J$95,2,FALSE),VLOOKUP(F200,Tables!H$1:J$95,3,FALSE)),IF(AO200=1,VLOOKUP(F200,Tables!Q$1:S$137,2,FALSE),VLOOKUP(F200,Tables!Q$1:S$137,3,FALSE)))))","v":""},"","","","","","","","","",null,"","","","","",""]
["","","","","","","","","","",{"$f":"IF(A201=\"\",\"\",IF(OR(I201=1,I201=\"S\"),IF(VLOOKUP(J201,Tables!E$1:F$50,2,FALSE)=1,IF(MOD(BE201,2)=1,1,2),IF(MOD(BE201,2)=1,2,1)),IF(MOD(BE201,2)=1,1,2)))","v":""},"","",null,null,null,"","","","","","","","","","","","","","","","","","","","","","","","","",{"$f":"IF(AN201=\"\",\"\",IF(I201=0,IF(AO201=1,VLOOKUP(F201,Tables!A$1:C$18,2,FALSE),VLOOKUP(F201,Tables!A$1:C$18,3,FALSE)),IF(I201=1, IF(AO201=1,VLOOKUP(F201,Tables!H$1:J$95,2,FALSE),VLOOKUP(F201,Tables!H$1:J$95,3,FALSE)),IF(AO201=1,VLOOKUP(F201,Tables!Q$1:S$137,2,FALSE),VLOOKUP(F201,Tables!Q$1:S$137,3,FALSE)))))","v":""},"","","","","","","","","",null,"","","","","",""]
["","","","","","","","","","",{"$f":"IF(A202=\"\",\"\",IF(OR(I202=1,I202=\"S\"),IF(VLOOKUP(J202,Tables!E$1:F$50,2,FALSE)=1,IF(MOD(BE202,2)=1,1,2),IF(MOD(BE202,2)=1,2,1)),IF(MOD(BE202,2)=1,1,2)))","v":""},"","",null,null,null,"","","","","","","","","","","","","","","","","","","","","","","","","",{"$f":"IF(AN202=\"\",\"\",IF(I202=0,IF(AO202=1,VLOOKUP(F202,Tables!A$1:C$18,2,FALSE),VLOOKUP(F202,Tables!A$1:C$18,3,FALSE)),IF(I202=1, IF(AO202=1,VLOOKUP(F202,Tables!H$1:J$95,2,FALSE),VLOOKUP(F202,Tables!H$1:J$95,3,FALSE)),IF(AO202=1,VLOOKUP(F202,Tables!Q$1:S$137,2,FALSE),VLOOKUP(F202,Tables!Q$1:S$137,3,FALSE)))))","v":""},"","","","","","","","","",null,"","","","","",""]
["","","","","","","","","","",{"$f":"IF(A203=\"\",\"\",IF(OR(I203=1,I203=\"S\"),IF(VLOOKUP(J203,Tables!E$1:F$50,2,FALSE)=1,IF(MOD(BE203,2)=1,1,2),IF(MOD(BE203,2)=1,2,1)),IF(MOD(BE203,2)=1,1,2)))","v":""},"","",null,null,null,"","","","","","","","","","","","","","","","","","","","","","","","","",{"$f":"IF(AN203=\"\",\"\",IF(I203=0,IF(AO203=1,VLOOKUP(F203,Tables!A$1:C$18,2,FALSE),VLOOKUP(F203,Tables!A$1:C$18,3,FALSE)),IF(I203=1, IF(AO203=1,VLOOKUP(F203,Tables!H$1:J$95,2,FALSE),VLOOKUP(F203,Tables!H$1:J$95,3,FALSE)),IF(AO203=1,VLOOKUP(F203,Tables!Q$1:S$137,2,FALSE),VLOOKUP(F203,Tables!Q$1:S$137,3,FALSE)))))","v":""},"","","","","","","","","",null,"","","","","",""]
["","","","","","","","","","",{"$f":"IF(A204=\"\",\"\",IF(OR(I204=1,I204=\"S\"),IF(VLOOKUP(J204,Tables!E$1:F$50,2,FALSE)=1,IF(MOD(BE204,2)=1,1,2),IF(MOD(BE204,2)=1,2,1)),IF(MOD(BE204,2)=1,1,2)))","v":""},"","",null,null,null,"","","","","","","","","","","","","","","","","","","","","","","","","",{"$f":"IF(AN204=\"\",\"\",IF(I204=0,IF(AO204=1,VLOOKUP(F204,Tables!A$1:C$18,2,FALSE),VLOOKUP(F204,Tables!A$1:C$18,3,FALSE)),IF(I204=1, IF(AO204=1,VLOOKUP(F204,Tables!H$1:J$95,2,FALSE),VLOOKUP(F204,Tables!H$1:J$95,3,FALSE)),IF(AO204=1,VLOOKUP(F204,Tables!Q$1:S$137,2,FALSE),VLOOKUP(F204,Tables!Q$1:S$137,3,FALSE)))))","v":""},"","","","","","","","","",null,"","","","","",""]
["","","","","","","","","","",{"$f":"IF(A205=\"\",\"\",IF(OR(I205=1,I205=\"S\"),IF(VLOOKUP(J205,Tables!E$1:F$50,2,FALSE)=1,IF(MOD(BE205,2)=1,1,2),IF(MOD(BE205,2)=1,2,1)),IF(MOD(BE205,2)=1,1,2)))","v":""},"","",null,null,null,"","","","","","","","","","","","","","","","","","","","","","","","","",{"$f":"IF(AN205=\"\",\"\",IF(I205=0,IF(AO205=1,VLOOKUP(F205,Tables!A$1:C$18,2,FALSE),VLOOKUP(F205,Tables!A$1:C$18,3,FALSE)),IF(I205=1, IF(AO205=1,VLOOKUP(F205,Tables!H$1:J$95,2,FALSE),VLOOKUP(F205,Tables!H$1:J$95,3,FALSE)),IF(AO205=1,VLOOKUP(F205,Tables!Q$1:S$137,2,FALSE),VLOOKUP(F205,Tables!Q$1:S$137,3,FALSE)))))","v":""},"","","","","","","","","",null,"","","","","",""]
["","","","","","","","","","",{"$f":"IF(A206=\"\",\"\",IF(OR(I206=1,I206=\"S\"),IF(VLOOKUP(J206,Tables!E$1:F$50,2,FALSE)=1,IF(MOD(BE206,2)=1,1,2),IF(MOD(BE206,2)=1,2,1)),IF(MOD(BE206,2)=1,1,2)))","v":""},"","",null,null,null,"","","","","","","","","","","","","","","","","","","","","","","","","",{"$f":"IF(AN206=\"\",\"\",IF(I206=0,IF(AO206=1,VLOOKUP(F206,Tables!A$1:C$18,2,FALSE),VLOOKUP(F206,Tables!A$1:C$18,3,FALSE)),IF(I206=1, IF(AO206=1,VLOOKUP(F206,Tables!H$1:J$95,2,FALSE),VLOOKUP(F206,Tables!H$1:J$95,3,FALSE)),IF(AO206=1,VLOOKUP(F206,Tables!Q$1:S$137,2,FALSE),VLOOKUP(F206,Tables!Q$1:S$137,3,FALSE)))))","v":""},"","","","","","","","","",null,"","","","","",""]
["","","","","","","","","","",{"$f":"IF(A207=\"\",\"\",IF(OR(I207=1,I207=\"S\"),IF(VLOOKUP(J207,Tables!E$1:F$50,2,FALSE)=1,IF(MOD(BE207,2)=1,1,2),IF(MOD(BE207,2)=1,2,1)),IF(MOD(BE207,2)=1,1,2)))","v":""},"","",null,null,null,"","","","","","","","","","","","","","","","","","","","","","","","","",{"$f":"IF(AN207=\"\",\"\",IF(I207=0,IF(AO207=1,VLOOKUP(F207,Tables!A$1:C$18,2,FALSE),VLOOKUP(F207,Tables!A$1:C$18,3,FALSE)),IF(I207=1, IF(AO207=1,VLOOKUP(F207,Tables!H$1:J$95,2,FALSE),VLOOKUP(F207,Tables!H$1:J$95,3,FALSE)),IF(AO207=1,VLOOKUP(F207,Tables!Q$1:S$137,2,FALSE),VLOOKUP(F207,Tables!Q$1:S$137,3,FALSE)))))","v":""},"","","","","","","","","",null,"","","","","",""]
["","","","","","","","","","",{"$f":"IF(A208=\"\",\"\",IF(OR(I208=1,I208=\"S\"),IF(VLOOKUP(J208,Tables!E$1:F$50,2,FALSE)=1,IF(MOD(BE208,2)=1,1,2),IF(MOD(BE208,2)=1,2,1)),IF(MOD(BE208,2)=1,1,2)))","v":""},"","",null,null,null,"","","","","","","","","","","","","","","","","","","","","","","","","",{"$f":"IF(AN208=\"\",\"\",IF(I208=0,IF(AO208=1,VLOOKUP(F208,Tables!A$1:C$18,2,FALSE),VLOOKUP(F208,Tables!A$1:C$18,3,FALSE)),IF(I208=1, IF(AO208=1,VLOOKUP(F208,Tables!H$1:J$95,2,FALSE),VLOOKUP(F208,Tables!H$1:J$95,3,FALSE)),IF(AO208=1,VLOOKUP(F208,Tables!Q$1:S$137,2,FALSE),VLOOKUP(F208,Tables!Q$1:S$137,3,FALSE)))))","v":""},"","","","","","","","","",null,"","","","","",""]
["","","","","","","","","","",{"$f":"IF(A209=\"\",\"\",IF(OR(I209=1,I209=\"S\"),IF(VLOOKUP(J209,Tables!E$1:F$50,2,FALSE)=1,IF(MOD(BE209,2)=1,1,2),IF(MOD(BE209,2)=1,2,1)),IF(MOD(BE209,2)=1,1,2)))","v":""},"","",null,null,null,"","","","","","","","","","","","","","","","","","","","","","","","","",{"$f":"IF(AN209=\"\",\"\",IF(I209=0,IF(AO209=1,VLOOKUP(F209,Tables!A$1:C$18,2,FALSE),VLOOKUP(F209,Tables!A$1:C$18,3,FALSE)),IF(I209=1, IF(AO209=1,VLOOKUP(F209,Tables!H$1:J$95,2,FALSE),VLOOKUP(F209,Tables!H$1:J$95,3,FALSE)),IF(AO209=1,VLOOKUP(F209,Tables!Q$1:S$137,2,FALSE),VLOOKUP(F209,Tables!Q$1:S$137,3,FALSE)))))","v":""},"","","","","","","","","",null,"","","","","",""]
["","","","","","","",{"$f":"IF(A210=\"\",\"\",IF(OR(B$14=1,B$14=\"S\",AND(B$14<>\"V\",(B210+C210+1)<B$13)),1,0))","v":""},{"$f":"IF(A210=\"\",\"\",IF(AND(D210=$I$14,E210=$I$14,H210=1),1,IF(AND(B$14=\"S\",(B210+C210+1)=B$13),\"S\",0)))","v":""},{"$f":"IF(OR(I210=1,I210=\"S\"),IF(F210=\"0-0\",1,J209+1),\"\")","v":""},{"$f":"IF(A210=\"\",\"\",IF(OR(I210=1,I210=\"S\"),IF(VLOOKUP(J210,Tables!E$1:F$50,2,FALSE)=1,IF(MOD(BE210,2)=1,1,2),IF(MOD(BE210,2)=1,2,1)),IF(MOD(BE210,2)=1,1,2)))","v":""},"",{"$f":"IF(A210=\"\",\"\",IF(K210=1,I$1,I$2))","v":""},null,null,null,"","","","","","","","","","","","","","","","","","",{"$f":"IF(N210=\"\",\"\",IF(AND(W210=0,X210=0),TRUE,FALSE))","v":""},"","","",{"$f":"IF(N210=\"\",\"\",LEN(AL210))","v":""},{"$f":"IF(OR(N210=\"P\",N210=\"R\"),L210,IF(OR(N210=\"Q\",N210=\"S\"),K210,IF(AND(AC210=\"\",OR(AD210=FALSE,AD210=\"\"),OR(AE210=FALSE,AE210=\"\"),OR(AI210=FALSE,AI210=\"\")),\"\",IF(OR(AD210=TRUE,AE210=TRUE,AND((MOD(AM210,2)=0),AF210=TRUE),AND((MOD(AM210,2)=1),OR(AG210=TRUE,AH210=TRUE))),K210,L210))))","v":""},{"$f":"IF(AN210=\"\",\"\",IF(AN210=K210,1,0))","v":""},{"$f":"IF(AN210=\"\",\"\",IF(I210=0,IF(AO210=1,VLOOKUP(F210,Tables!A$1:C$18,2,FALSE),VLOOKUP(F210,Tables!A$1:C$18,3,FALSE)),IF(I210=1, IF(AO210=1,VLOOKUP(F210,Tables!H$1:J$95,2,FALSE),VLOOKUP(F210,Tables!H$1:J$95,3,FALSE)),IF(AO210=1,VLOOKUP(F210,Tables!Q$1:S$137,2,FALSE),VLOOKUP(F210,Tables!Q$1:S$137,3,FALSE)))))","v":""},"",{"$f":"IF(AN210=\"\",\"\",IF(AQ210=1,D210+1,D210))","v":""},{"$f":"IF(AN210=\"\",\"\",IF(AQ210=2,E210+1,E210))","v":""},"",{"$f":"IF(AN210=\"\",\"\",IF(AT210=1,B210+1,B210))","v":""},{"$f":"IF(AN210=\"\",\"\",IF(AT210=2,C210+1,C210))","v":""},"","","",null,{"$f":"IF(AA210=\"\",\"\",SUM(B210,C210,1))","v":""},{"$f":"IF(AA210=\"\",\"\",\"SET \"&BA210&\": \"&D210&\"-\"&E210&\", \"&F210)","v":""},{"$f":"IF(AA210=\"\",\"\",IF(AT210>0,(AU210+AV210),IF(AND(NOT(D211=\"\"),D212=\"\"),AU210+AV210+1,\"\")))","v":""},"","",""]
[{"$f":"IF(AN210=\"\",\"\",A210+1)","v":""},{"$f":"IF(A211=\"\",\"\",AU210)","v":""},{"$f":"IF(A211=\"\",\"\",AV210)","v":""},{"$f":"IF(A211=\"\",\"\",IF(AT210=0,AR210,0))","v":""},{"$f":"IF(A211=\"\",\"\",IF(AT210=0,AS210,0))","v":""},{"$f":"IF(A211=\"\",\"\",IF(AW210=1,AX210,IF(AP210=\"GM\",\"0-0\",AP210)))","v":""},{"$f":"IF(BE211=\"\",\"\",BE211&\" (\"&BF211&\")\")","v":""},"","","",{"$f":"IF(A211=\"\",\"\",IF(OR(I211=1,I211=\"S\"),IF(VLOOKUP(J211,Tables!E$1:F$50,2,FALSE)=1,IF(MOD(BE211,2)=1,1,2),IF(MOD(BE211,2)=1,2,1)),IF(MOD(BE211,2)=1,1,2)))","v":""},"","",null,null,null,{"$f":"IF(N211=\"\",\"\",SUBSTITUTE(N211, \"c\", \"\"))","v":""},{"$f":"SUBSTITUTE(O211, \"c\", \"\")","v":""},{"$f":"IF(N211=\"\",\"\",IF(MID(Q211,2,1)=\"+\",1,0))","v":""},{"$f":"IF(O211=\"\",\"\",IF(MID(R211,2,1)=\"+\",1,0))","v":""},{"$f":"IF(N211=\"\",\"\",IF(S211=1,SUBSTITUTE(Q211, \"+\", \"\",1),Q211))","v":""},{"$f":"IF(T211=1,SUBSTITUTE(R211, \"+\", \"\",1),R211)","v":""},{"$f":"IF(N211=\"\",\"\",IF(LEN(N211)=1,0,IF(ISERROR(FIND(MID(U211,2,1),\"wdnxge!VPQRS\"))=TRUE,1,0)))","v":""},{"$f":"IF(O211=\"\",\"\",IF(ISERROR(FIND(MID(V211,2,1),\"wdnxge!VPQRS\"))=TRUE,1,0))","v":""},{"$f":"IF(N211=\"\",\"\",IF(W211=0,0,IF(LEN(U211)>2,1,0)))","v":""},{"$f":"IF(N211=\"\",\"\",IF(X211=0,0,IF(LEN(V211)>2,1,0)))","v":""},{"$f":"IF(N211=\"\",\"\",IF(Y211=0,Q211,LEFT(U211,1)))","v":""},{"$f":"IF(N211=\"\",\"\",IF(Z211=0,V211,LEFT(V211,1)))","v":""},{"$f":"IF(N211=\"\",\"\",IF(Y211=1,RIGHT(U211,(LEN(U211)-1)),IF(Z211=1,RIGHT(V211,(LEN(V211)-1)),\"\")))","v":""},{"$f":"IF(AA211=\"\",\"\",OR(IF(ISERR(FIND(\"*\",AA211)),FALSE,TRUE), IF(ISERR(FIND(\"*\",AB211)),FALSE,TRUE)))","v":""},{"$f":"IF(AA211=\"\",\"\",OR(IF(ISERR(FIND(\"#\",AA211)),FALSE,TRUE), IF(ISERR(FIND(\"#\",AB211)),FALSE,TRUE)))","v":""},{"$f":"IF(AA211=\"\",\"\",IF(ISERR(FIND(\"*\",AC211)),FALSE,TRUE))","v":""},{"$f":"IF(AA211=\"\",\"\",IF(ISERR(FIND(\"#\",AC211)),FALSE,TRUE))","v":""},{"$f":"IF(AA211=\"\",\"\",IF(ISERR(FIND(\"@\",AC211)),FALSE,TRUE))","v":""},"",{"$f":"SUBSTITUTE(SUBSTITUTE(SUBSTITUTE(SUBSTITUTE(SUBSTITUTE(SUBSTITUTE(SUBSTITUTE(SUBSTITUTE(AC211, \"-\", \"\"), \"=\", \"\"), \"@\", \"\"), \"#\", \"\"), \"*\", \"\"), \";\", \"\"), \"+\", \"\"), \"^\", \"\")","v":""},{"$f":"SUBSTITUTE(SUBSTITUTE(SUBSTITUTE(SUBSTITUTE(SUBSTITUTE(SUBSTITUTE(AJ211, \"d\", \"\"), \"w\", \"\"), \"x\", \"\"), \"e\", \"\"), \"n\", \"\"), \"!\", \"\")","v":""},{"$f":"SUBSTITUTE(SUBSTITUTE(SUBSTITUTE(SUBSTITUTE(SUBSTITUTE(SUBSTITUTE(AK211, \"1\", \"\"), \"2\", \"\"), \"3\", \"\"), \"7\", \"\"), \"8\", \"\"), \"9\", \"\")","v":""},"","","",{"$f":"IF(AN211=\"\",\"\",IF(I211=0,IF(AO211=1,VLOOKUP(F211,Tables!A$1:C$18,2,FALSE),VLOOKUP(F211,Tables!A$1:C$18,3,FALSE)),IF(I211=1, IF(AO211=1,VLOOKUP(F211,Tables!H$1:J$95,2,FALSE),VLOOKUP(F211,Tables!H$1:J$95,3,FALSE)),IF(AO211=1,VLOOKUP(F211,Tables!Q$1:S$137,2,FALSE),VLOOKUP(F211,Tables!Q$1:S$137,3,FALSE)))))","v":""},{"$f":"IF(AN211=\"\",\"\",IF(AP211=\"GM\",AN211,0))","v":""},"","","","","",{"$f":"IF(J211=\"\",\"\",IF(AND(OR(I211=1,I211=\"S\"),MOD(J211,2)=1,NOT(AP211=\"GM\")),1,\"\"))","v":""},{"$f":"IF(AW211=1,CONCATENATE(RIGHT(AP211,(LEN(AP211)-FIND(\"-\",AP211))),\"-\",LEFT(AP211,FIND(\"-\",AP211)-1)),\"\")","v":""},{"$f":"IF(AA211=\"\",\"\",IF(OR(RIGHT(AC211,1)=\"@\",RIGHT(AC211,1)=\"#\"),AM211,IF(AI211=TRUE,0,AM211+1)))","v":""},null,"","","","",{"$f":"IF(A211=\"\",\"\",IF(AP210=\"GM\",BE210+1,BE210))","v":""},{"$f":"IF(A211=\"\",\"\",IF(AQ210=0,BF210+1,1))","v":""}]
["","","","","","","","","","",{"$f":"IF(A212=\"\",\"\",IF(OR(I212=1,I212=\"S\"),IF(VLOOKUP(J212,Tables!E$1:F$50,2,FALSE)=1,IF(MOD(BE212,2)=1,1,2),IF(MOD(BE212,2)=1,2,1)),IF(MOD(BE212,2)=1,1,2)))","v":""},"","",null,null,null,"","","","","","","","","","","","","","","","","","","","","","","","","",{"$f":"IF(AN212=\"\",\"\",IF(I212=0,IF(AO212=1,VLOOKUP(F212,Tables!A$1:C$18,2,FALSE),VLOOKUP(F212,Tables!A$1:C$18,3,FALSE)),IF(I212=1, IF(AO212=1,VLOOKUP(F212,Tables!H$1:J$95,2,FALSE),VLOOKUP(F212,Tables!H$1:J$95,3,FALSE)),IF(AO212=1,VLOOKUP(F212,Tables!Q$1:S$137,2,FALSE),VLOOKUP(F212,Tables!Q$1:S$137,3,FALSE)))))","v":""},"","","","","","","","","",null,"","","","","",""]
["","","","","","","","","","",{"$f":"IF(A213=\"\",\"\",IF(OR(I213=1,I213=\"S\"),IF(VLOOKUP(J213,Tables!E$1:F$50,2,FALSE)=1,IF(MOD(BE213,2)=1,1,2),IF(MOD(BE213,2)=1,2,1)),IF(MOD(BE213,2)=1,1,2)))","v":""},"","",null,null,null,"","","","","","","","","","","","","","","","","","","","","","","","","",{"$f":"IF(AN213=\"\",\"\",IF(I213=0,IF(AO213=1,VLOOKUP(F213,Tables!A$1:C$18,2,FALSE),VLOOKUP(F213,Tables!A$1:C$18,3,FALSE)),IF(I213=1, IF(AO213=1,VLOOKUP(F213,Tables!H$1:J$95,2,FALSE),VLOOKUP(F213,Tables!H$1:J$95,3,FALSE)),IF(AO213=1,VLOOKUP(F213,Tables!Q$1:S$137,2,FALSE),VLOOKUP(F213,Tables!Q$1:S$137,3,FALSE)))))","v":""},"","","","","","","","","",null,"","","","","",""]
["","","","","","","","","","",{"$f":"IF(A214=\"\",\"\",IF(OR(I214=1,I214=\"S\"),IF(VLOOKUP(J214,Tables!E$1:F$50,2,FALSE)=1,IF(MOD(BE214,2)=1,1,2),IF(MOD(BE214,2)=1,2,1)),IF(MOD(BE214,2)=1,1,2)))","v":""},"","",null,null,null,"","","","","","","","","","","","","","","","","","","","","","","","","",{"$f":"IF(AN214=\"\",\"\",IF(I214=0,IF(AO214=1,VLOOKUP(F214,Tables!A$1:C$18,2,FALSE),VLOOKUP(F214,Tables!A$1:C$18,3,FALSE)),IF(I214=1, IF(AO214=1,VLOOKUP(F214,Tables!H$1:J$95,2,FALSE),VLOOKUP(F214,Tables!H$1:J$95,3,FALSE)),IF(AO214=1,VLOOKUP(F214,Tables!Q$1:S$137,2,FALSE),VLOOKUP(F214,Tables!Q$1:S$137,3,FALSE)))))","v":""},"","","","","","","","","",null,"","","","","",""]
["","","","","","","","","","",{"$f":"IF(A215=\"\",\"\",IF(OR(I215=1,I215=\"S\"),IF(VLOOKUP(J215,Tables!E$1:F$50,2,FALSE)=1,IF(MOD(BE215,2)=1,1,2),IF(MOD(BE215,2)=1,2,1)),IF(MOD(BE215,2)=1,1,2)))","v":""},"","",null,null,null,"","","","","","","","","","","","","","","","","","","","","","","","","",{"$f":"IF(AN215=\"\",\"\",IF(I215=0,IF(AO215=1,VLOOKUP(F215,Tables!A$1:C$18,2,FALSE),VLOOKUP(F215,Tables!A$1:C$18,3,FALSE)),IF(I215=1, IF(AO215=1,VLOOKUP(F215,Tables!H$1:J$95,2,FALSE),VLOOKUP(F215,Tables!H$1:J$95,3,FALSE)),IF(AO215=1,VLOOKUP(F215,Tables!Q$1:S$137,2,FALSE),VLOOKUP(F215,Tables!Q$1:S$137,3,FALSE)))))","v":""},"","","","","","","","","",null,"","","","","",""]
["","","","","","","","","","",{"$f":"IF(A216=\"\",\"\",IF(OR(I216=1,I216=\"S\"),IF(VLOOKUP(J216,Tables!E$1:F$50,2,FALSE)=1,IF(MOD(BE216,2)=1,1,2),IF(MOD(BE216,2)=1,2,1)),IF(MOD(BE216,2)=1,1,2)))","v":""},"","",null,null,null,"","","","","","","","","","","","","","","","","","","","","","","","","",{"$f":"IF(AN216=\"\",\"\",IF(I216=0,IF(AO216=1,VLOOKUP(F216,Tables!A$1:C$18,2,FALSE),VLOOKUP(F216,Tables!A$1:C$18,3,FALSE)),IF(I216=1, IF(AO216=1,VLOOKUP(F216,Tables!H$1:J$95,2,FALSE),VLOOKUP(F216,Tables!H$1:J$95,3,FALSE)),IF(AO216=1,VLOOKUP(F216,Tables!Q$1:S$137,2,FALSE),VLOOKUP(F216,Tables!Q$1:S$137,3,FALSE)))))","v":""},"","","","","","","","","",null,"","","","","",""]
["","","","","","","","","","",{"$f":"IF(A217=\"\",\"\",IF(OR(I217=1,I217=\"S\"),IF(VLOOKUP(J217,Tables!E$1:F$50,2,FALSE)=1,IF(MOD(BE217,2)=1,1,2),IF(MOD(BE217,2)=1,2,1)),IF(MOD(BE217,2)=1,1,2)))","v":""},"","",null,null,null,"","","","","","","","","","","","","","","","","","","","","","","","","",{"$f":"IF(AN217=\"\",\"\",IF(I217=0,IF(AO217=1,VLOOKUP(F217,Tables!A$1:C$18,2,FALSE),VLOOKUP(F217,Tables!A$1:C$18,3,FALSE)),IF(I217=1, IF(AO217=1,VLOOKUP(F217,Tables!H$1:J$95,2,FALSE),VLOOKUP(F217,Tables!H$1:J$95,3,FALSE)),IF(AO217=1,VLOOKUP(F217,Tables!Q$1:S$137,2,FALSE),VLOOKUP(F217,Tables!Q$1:S$137,3,FALSE)))))","v":""},"","","","","","","","","",null,"","","","","",""]
["","","","","","","","","","",{"$f":"IF(A218=\"\",\"\",IF(OR(I218=1,I218=\"S\"),IF(VLOOKUP(J218,Tables!E$1:F$50,2,FALSE)=1,IF(MOD(BE218,2)=1,1,2),IF(MOD(BE218,2)=1,2,1)),IF(MOD(BE218,2)=1,1,2)))","v":""},"","",null,null,null,"","","","","","","","","","","","","","","","","","","","","","","","","",{"$f":"IF(AN218=\"\",\"\",IF(I218=0,IF(AO218=1,VLOOKUP(F218,Tables!A$1:C$18,2,FALSE),VLOOKUP(F218,Tables!A$1:C$18,3,FALSE)),IF(I218=1, IF(AO218=1,VLOOKUP(F218,Tables!H$1:J$95,2,FALSE),VLOOKUP(F218,Tables!H$1:J$95,3,FALSE)),IF(AO218=1,VLOOKUP(F218,Tables!Q$1:S$137,2,FALSE),VLOOKUP(F218,Tables!Q$1:S$137,3,FALSE)))))","v":""},"","","","","","","","","",null,"","","","","",""]
["","","","","","","","","","",{"$f":"IF(A219=\"\",\"\",IF(OR(I219=1,I219=\"S\"),IF(VLOOKUP(J219,Tables!E$1:F$50,2,FALSE)=1,IF(MOD(BE219,2)=1,1,2),IF(MOD(BE219,2)=1,2,1)),IF(MOD(BE219,2)=1,1,2)))","v":""},"","",null,null,null,"","","","","","","","","","","","","","","","","","","","","","","","","",{"$f":"IF(AN219=\"\",\"\",IF(I219=0,IF(AO219=1,VLOOKUP(F219,Tables!A$1:C$18,2,FALSE),VLOOKUP(F219,Tables!A$1:C$18,3,FALSE)),IF(I219=1, IF(AO219=1,VLOOKUP(F219,Tables!H$1:J$95,2,FALSE),VLOOKUP(F219,Tables!H$1:J$95,3,FALSE)),IF(AO219=1,VLOOKUP(F219,Tables!Q$1:S$137,2,FALSE),VLOOKUP(F219,Tables!Q$1:S$137,3,FALSE)))))","v":""},"","","","","","","","","",null,"","","","","",""]
["","","","","","","","","","",{"$f":"IF(A220=\"\",\"\",IF(OR(I220=1,I220=\"S\"),IF(VLOOKUP(J220,Tables!E$1:F$50,2,FALSE)=1,IF(MOD(BE220,2)=1,1,2),IF(MOD(BE220,2)=1,2,1)),IF(MOD(BE220,2)=1,1,2)))","v":""},"","",null,null,null,"","","","","","","","","","","","","","","","","","","","","","","","","",{"$f":"IF(AN220=\"\",\"\",IF(I220=0,IF(AO220=1,VLOOKUP(F220,Tables!A$1:C$18,2,FALSE),VLOOKUP(F220,Tables!A$1:C$18,3,FALSE)),IF(I220=1, IF(AO220=1,VLOOKUP(F220,Tables!H$1:J$95,2,FALSE),VLOOKUP(F220,Tables!H$1:J$95,3,FALSE)),IF(AO220=1,VLOOKUP(F220,Tables!Q$1:S$137,2,FALSE),VLOOKUP(F220,Tables!Q$1:S$137,3,FALSE)))))","v":""},"","","","","","","","","",null,"","","","","",""]
["","","","","","","","","","",{"$f":"IF(A221=\"\",\"\",IF(OR(I221=1,I221=\"S\"),IF(VLOOKUP(J221,Tables!E$1:F$50,2,FALSE)=1,IF(MOD(BE221,2)=1,1,2),IF(MOD(BE221,2)=1,2,1)),IF(MOD(BE221,2)=1,1,2)))","v":""},"","",null,null,null,"","","","","","","","","","","","","","","","","","","","","","","","","",{"$f":"IF(AN221=\"\",\"\",IF(I221=0,IF(AO221=1,VLOOKUP(F221,Tables!A$1:C$18,2,FALSE),VLOOKUP(F221,Tables!A$1:C$18,3,FALSE)),IF(I221=1, IF(AO221=1,VLOOKUP(F221,Tables!H$1:J$95,2,FALSE),VLOOKUP(F221,Tables!H$1:J$95,3,FALSE)),IF(AO221=1,VLOOKUP(F221,Tables!Q$1:S$137,2,FALSE),VLOOKUP(F221,Tables!Q$1:S$137,3,FALSE)))))","v":""},"","","","","","","","","",null,"","","","","",""]
["","","","","","","","","","",{"$f":"IF(A222=\"\",\"\",IF(OR(I222=1,I222=\"S\"),IF(VLOOKUP(J222,Tables!E$1:F$50,2,FALSE)=1,IF(MOD(BE222,2)=1,1,2),IF(MOD(BE222,2)=1,2,1)),IF(MOD(BE222,2)=1,1,2)))","v":""},"","",null,null,null,"","","","","","","","","","","","","","","","","","","","","","","","","",{"$f":"IF(AN222=\"\",\"\",IF(I222=0,IF(AO222=1,VLOOKUP(F222,Tables!A$1:C$18,2,FALSE),VLOOKUP(F222,Tables!A$1:C$18,3,FALSE)),IF(I222=1, IF(AO222=1,VLOOKUP(F222,Tables!H$1:J$95,2,FALSE),VLOOKUP(F222,Tables!H$1:J$95,3,FALSE)),IF(AO222=1,VLOOKUP(F222,Tables!Q$1:S$137,2,FALSE),VLOOKUP(F222,Tables!Q$1:S$137,3,FALSE)))))","v":""},"","","","","","","","","",null,"","","","","",""]
["","","","","","","","","","",{"$f":"IF(A223=\"\",\"\",IF(OR(I223=1,I223=\"S\"),IF(VLOOKUP(J223,Tables!E$1:F$50,2,FALSE)=1,IF(MOD(BE223,2)=1,1,2),IF(MOD(BE223,2)=1,2,1)),IF(MOD(BE223,2)=1,1,2)))","v":""},"","",null,null,null,"","","","","","","","","","","","","","","","","","","","","","","","","",{"$f":"IF(AN223=\"\",\"\",IF(I223=0,IF(AO223=1,VLOOKUP(F223,Tables!A$1:C$18,2,FALSE),VLOOKUP(F223,Tables!A$1:C$18,3,FALSE)),IF(I223=1, IF(AO223=1,VLOOKUP(F223,Tables!H$1:J$95,2,FALSE),VLOOKUP(F223,Tables!H$1:J$95,3,FALSE)),IF(AO223=1,VLOOKUP(F223,Tables!Q$1:S$137,2,FALSE),VLOOKUP(F223,Tables!Q$1:S$137,3,FALSE)))))","v":""},"","","","","","","","","",null,"","","","","",""]
["","","","","","","","","","",{"$f":"IF(A224=\"\",\"\",IF(OR(I224=1,I224=\"S\"),IF(VLOOKUP(J224,Tables!E$1:F$50,2,FALSE)=1,IF(MOD(BE224,2)=1,1,2),IF(MOD(BE224,2)=1,2,1)),IF(MOD(BE224,2)=1,1,2)))","v":""},"","",null,null,null,"","","","","","","","","","","","","","","","","","","","","","","","","",{"$f":"IF(AN224=\"\",\"\",IF(I224=0,IF(AO224=1,VLOOKUP(F224,Tables!A$1:C$18,2,FALSE),VLOOKUP(F224,Tables!A$1:C$18,3,FALSE)),IF(I224=1, IF(AO224=1,VLOOKUP(F224,Tables!H$1:J$95,2,FALSE),VLOOKUP(F224,Tables!H$1:J$95,3,FALSE)),IF(AO224=1,VLOOKUP(F224,Tables!Q$1:S$137,2,FALSE),VLOOKUP(F224,Tables!Q$1:S$137,3,FALSE)))))","v":""},"","","","","","","","","",null,"","","","","",""]
["","","","","","","","","","",{"$f":"IF(A225=\"\",\"\",IF(OR(I225=1,I225=\"S\"),IF(VLOOKUP(J225,Tables!E$1:F$50,2,FALSE)=1,IF(MOD(BE225,2)=1,1,2),IF(MOD(BE225,2)=1,2,1)),IF(MOD(BE225,2)=1,1,2)))","v":""},"","",null,null,null,"","","","","","","","","","","","","","","","","","","","","","","","","",{"$f":"IF(AN225=\"\",\"\",IF(I225=0,IF(AO225=1,VLOOKUP(F225,Tables!A$1:C$18,2,FALSE),VLOOKUP(F225,Tables!A$1:C$18,3,FALSE)),IF(I225=1, IF(AO225=1,VLOOKUP(F225,Tables!H$1:J$95,2,FALSE),VLOOKUP(F225,Tables!H$1:J$95,3,FALSE)),IF(AO225=1,VLOOKUP(F225,Tables!Q$1:S$137,2,FALSE),VLOOKUP(F225,Tables!Q$1:S$137,3,FALSE)))))","v":""},"","","","","","","","","",null,"","","","","",""]
["","","","","","","","","","",{"$f":"IF(A226=\"\",\"\",IF(OR(I226=1,I226=\"S\"),IF(VLOOKUP(J226,Tables!E$1:F$50,2,FALSE)=1,IF(MOD(BE226,2)=1,1,2),IF(MOD(BE226,2)=1,2,1)),IF(MOD(BE226,2)=1,1,2)))","v":""},"","",null,null,null,"","","","","","","","","","","","","","","","","","","","","","","","","",{"$f":"IF(AN226=\"\",\"\",IF(I226=0,IF(AO226=1,VLOOKUP(F226,Tables!A$1:C$18,2,FALSE),VLOOKUP(F226,Tables!A$1:C$18,3,FALSE)),IF(I226=1, IF(AO226=1,VLOOKUP(F226,Tables!H$1:J$95,2,FALSE),VLOOKUP(F226,Tables!H$1:J$95,3,FALSE)),IF(AO226=1,VLOOKUP(F226,Tables!Q$1:S$137,2,FALSE),VLOOKUP(F226,Tables!Q$1:S$137,3,FALSE)))))","v":""},"","","","","","","","","",null,"","","","","",""]
["","","","","","","","","","",{"$f":"IF(A227=\"\",\"\",IF(OR(I227=1,I227=\"S\"),IF(VLOOKUP(J227,Tables!E$1:F$50,2,FALSE)=1,IF(MOD(BE227,2)=1,1,2),IF(MOD(BE227,2)=1,2,1)),IF(MOD(BE227,2)=1,1,2)))","v":""},"","",null,null,null,"","","","","","","","","","","","","","","","","","","","","","","","","",{"$f":"IF(AN227=\"\",\"\",IF(I227=0,IF(AO227=1,VLOOKUP(F227,Tables!A$1:C$18,2,FALSE),VLOOKUP(F227,Tables!A$1:C$18,3,FALSE)),IF(I227=1, IF(AO227=1,VLOOKUP(F227,Tables!H$1:J$95,2,FALSE),VLOOKUP(F227,Tables!H$1:J$95,3,FALSE)),IF(AO227=1,VLOOKUP(F227,Tables!Q$1:S$137,2,FALSE),VLOOKUP(F227,Tables!Q$1:S$137,3,FALSE)))))","v":""},"","","","","","","","","",null,"","","","","",""]
["","","","","","","","","","",{"$f":"IF(A228=\"\",\"\",IF(OR(I228=1,I228=\"S\"),IF(VLOOKUP(J228,Tables!E$1:F$50,2,FALSE)=1,IF(MOD(BE228,2)=1,1,2),IF(MOD(BE228,2)=1,2,1)),IF(MOD(BE228,2)=1,1,2)))","v":""},"","",null,null,null,"","","","","","","","","","","","","","","","","","","","","","","","","",{"$f":"IF(AN228=\"\",\"\",IF(I228=0,IF(AO228=1,VLOOKUP(F228,Tables!A$1:C$18,2,FALSE),VLOOKUP(F228,Tables!A$1:C$18,3,FALSE)),IF(I228=1, IF(AO228=1,VLOOKUP(F228,Tables!H$1:J$95,2,FALSE),VLOOKUP(F228,Tables!H$1:J$95,3,FALSE)),IF(AO228=1,VLOOKUP(F228,Tables!Q$1:S$137,2,FALSE),VLOOKUP(F228,Tables!Q$1:S$137,3,FALSE)))))","v":""},"","","","","","","","","",null,"","","","","",""]
["","","","","","","","","","",{"$f":"IF(A229=\"\",\"\",IF(OR(I229=1,I229=\"S\"),IF(VLOOKUP(J229,Tables!E$1:F$50,2,FALSE)=1,IF(MOD(BE229,2)=1,1,2),IF(MOD(BE229,2)=1,2,1)),IF(MOD(BE229,2)=1,1,2)))","v":""},"","",null,null,null,"","","","","","","","","","","","","","","","","","","","","","","","","",{"$f":"IF(AN229=\"\",\"\",IF(I229=0,IF(AO229=1,VLOOKUP(F229,Tables!A$1:C$18,2,FALSE),VLOOKUP(F229,Tables!A$1:C$18,3,FALSE)),IF(I229=1, IF(AO229=1,VLOOKUP(F229,Tables!H$1:J$95,2,FALSE),VLOOKUP(F229,Tables!H$1:J$95,3,FALSE)),IF(AO229=1,VLOOKUP(F229,Tables!Q$1:S$137,2,FALSE),VLOOKUP(F229,Tables!Q$1:S$137,3,FALSE)))))","v":""},"","","","","","","","","",null,"","","","","",""]
["","","","","","","","","","",{"$f":"IF(A230=\"\",\"\",IF(OR(I230=1,I230=\"S\"),IF(VLOOKUP(J230,Tables!E$1:F$50,2,FALSE)=1,IF(MOD(BE230,2)=1,1,2),IF(MOD(BE230,2)=1,2,1)),IF(MOD(BE230,2)=1,1,2)))","v":""},"","",null,null,null,"","","","","","","","","","","","","","","","","","","","","","","","","",{"$f":"IF(AN230=\"\",\"\",IF(I230=0,IF(AO230=1,VLOOKUP(F230,Tables!A$1:C$18,2,FALSE),VLOOKUP(F230,Tables!A$1:C$18,3,FALSE)),IF(I230=1, IF(AO230=1,VLOOKUP(F230,Tables!H$1:J$95,2,FALSE),VLOOKUP(F230,Tables!H$1:J$95,3,FALSE)),IF(AO230=1,VLOOKUP(F230,Tables!Q$1:S$137,2,FALSE),VLOOKUP(F230,Tables!Q$1:S$137,3,FALSE)))))","v":""},"","","","","","","","","",null,"","","","","",""]
["","","","","","","","","","",{"$f":"IF(A231=\"\",\"\",IF(OR(I231=1,I231=\"S\"),IF(VLOOKUP(J231,Tables!E$1:F$50,2,FALSE)=1,IF(MOD(BE231,2)=1,1,2),IF(MOD(BE231,2)=1,2,1)),IF(MOD(BE231,2)=1,1,2)))","v":""},"","",null,null,null,"","","","","","","","","","","","","","","","","","","","","","","","","",{"$f":"IF(AN231=\"\",\"\",IF(I231=0,IF(AO231=1,VLOOKUP(F231,Tables!A$1:C$18,2,FALSE),VLOOKUP(F231,Tables!A$1:C$18,3,FALSE)),IF(I231=1, IF(AO231=1,VLOOKUP(F231,Tables!H$1:J$95,2,FALSE),VLOOKUP(F231,Tables!H$1:J$95,3,FALSE)),IF(AO231=1,VLOOKUP(F231,Tables!Q$1:S$137,2,FALSE),VLOOKUP(F231,Tables!Q$1:S$137,3,FALSE)))))","v":""},"","","","","","","","","",null,"","","","","",""]
["","","","","","","","","","",{"$f":"IF(A232=\"\",\"\",IF(OR(I232=1,I232=\"S\"),IF(VLOOKUP(J232,Tables!E$1:F$50,2,FALSE)=1,IF(MOD(BE232,2)=1,1,2),IF(MOD(BE232,2)=1,2,1)),IF(MOD(BE232,2)=1,1,2)))","v":""},"","",null,null,null,"","","","","","","","","","","","","","","","","","","","","","","","","",{"$f":"IF(AN232=\"\",\"\",IF(I232=0,IF(AO232=1,VLOOKUP(F232,Tables!A$1:C$18,2,FALSE),VLOOKUP(F232,Tables!A$1:C$18,3,FALSE)),IF(I232=1, IF(AO232=1,VLOOKUP(F232,Tables!H$1:J$95,2,FALSE),VLOOKUP(F232,Tables!H$1:J$95,3,FALSE)),IF(AO232=1,VLOOKUP(F232,Tables!Q$1:S$137,2,FALSE),VLOOKUP(F232,Tables!Q$1:S$137,3,FALSE)))))","v":""},"","","","","","","","","",null,"","","","","",""]
["","","","","","","","","","",{"$f":"IF(A233=\"\",\"\",IF(OR(I233=1,I233=\"S\"),IF(VLOOKUP(J233,Tables!E$1:F$50,2,FALSE)=1,IF(MOD(BE233,2)=1,1,2),IF(MOD(BE233,2)=1,2,1)),IF(MOD(BE233,2)=1,1,2)))","v":""},"","",null,null,null,"","","","","","","","","","","","","","","","","","","","","","","","","",{"$f":"IF(AN233=\"\",\"\",IF(I233=0,IF(AO233=1,VLOOKUP(F233,Tables!A$1:C$18,2,FALSE),VLOOKUP(F233,Tables!A$1:C$18,3,FALSE)),IF(I233=1, IF(AO233=1,VLOOKUP(F233,Tables!H$1:J$95,2,FALSE),VLOOKUP(F233,Tables!H$1:J$95,3,FALSE)),IF(AO233=1,VLOOKUP(F233,Tables!Q$1:S$137,2,FALSE),VLOOKUP(F233,Tables!Q$1:S$137,3,FALSE)))))","v":""},"","","","","","","","","",null,"","","","","",""]
["","","","","","","","","","",{"$f":"IF(A234=\"\",\"\",IF(OR(I234=1,I234=\"S\"),IF(VLOOKUP(J234,Tables!E$1:F$50,2,FALSE)=1,IF(MOD(BE234,2)=1,1,2),IF(MOD(BE234,2)=1,2,1)),IF(MOD(BE234,2)=1,1,2)))","v":""},"","",null,null,null,"","","","","","","","","","","","","","","","","","","","","","","","","",{"$f":"IF(AN234=\"\",\"\",IF(I234=0,IF(AO234=1,VLOOKUP(F234,Tables!A$1:C$18,2,FALSE),VLOOKUP(F234,Tables!A$1:C$18,3,FALSE)),IF(I234=1, IF(AO234=1,VLOOKUP(F234,Tables!H$1:J$95,2,FALSE),VLOOKUP(F234,Tables!H$1:J$95,3,FALSE)),IF(AO234=1,VLOOKUP(F234,Tables!Q$1:S$137,2,FALSE),VLOOKUP(F234,Tables!Q$1:S$137,3,FALSE)))))","v":""},"","","","","","","","","",null,"","","","","",""]
["","","","","","","","","","",{"$f":"IF(A235=\"\",\"\",IF(OR(I235=1,I235=\"S\"),IF(VLOOKUP(J235,Tables!E$1:F$50,2,FALSE)=1,IF(MOD(BE235,2)=1,1,2),IF(MOD(BE235,2)=1,2,1)),IF(MOD(BE235,2)=1,1,2)))","v":""},"","",null,null,null,"","","","","","","","","","","","","","","","","","","","","","","","","",{"$f":"IF(AN235=\"\",\"\",IF(I235=0,IF(AO235=1,VLOOKUP(F235,Tables!A$1:C$18,2,FALSE),VLOOKUP(F235,Tables!A$1:C$18,3,FALSE)),IF(I235=1, IF(AO235=1,VLOOKUP(F235,Tables!H$1:J$95,2,FALSE),VLOOKUP(F235,Tables!H$1:J$95,3,FALSE)),IF(AO235=1,VLOOKUP(F235,Tables!Q$1:S$137,2,FALSE),VLOOKUP(F235,Tables!Q$1:S$137,3,FALSE)))))","v":""},"","","","","","","","","",null,"","","","","",""]
["","","","","","","","","","",{"$f":"IF(A236=\"\",\"\",IF(OR(I236=1,I236=\"S\"),IF(VLOOKUP(J236,Tables!E$1:F$50,2,FALSE)=1,IF(MOD(BE236,2)=1,1,2),IF(MOD(BE236,2)=1,2,1)),IF(MOD(BE236,2)=1,1,2)))","v":""},"","",null,null,null,"","","","","","","","","","","","","","","","","","","","","","","","","",{"$f":"IF(AN236=\"\",\"\",IF(I236=0,IF(AO236=1,VLOOKUP(F236,Tables!A$1:C$18,2,FALSE),VLOOKUP(F236,Tables!A$1:C$18,3,FALSE)),IF(I236=1, IF(AO236=1,VLOOKUP(F236,Tables!H$1:J$95,2,FALSE),VLOOKUP(F236,Tables!H$1:J$95,3,FALSE)),IF(AO236=1,VLOOKUP(F236,Tables!Q$1:S$137,2,FALSE),VLOOKUP(F236,Tables!Q$1:S$137,3,FALSE)))))","v":""},"","","","","","","","","",null,"","","","","",""]
["","","","","","","","","","",{"$f":"IF(A237=\"\",\"\",IF(OR(I237=1,I237=\"S\"),IF(VLOOKUP(J237,Tables!E$1:F$50,2,FALSE)=1,IF(MOD(BE237,2)=1,1,2),IF(MOD(BE237,2)=1,2,1)),IF(MOD(BE237,2)=1,1,2)))","v":""},"","",null,null,null,"","","","","","","","","","","","","","","","","","","","","","","","","",{"$f":"IF(AN237=\"\",\"\",IF(I237=0,IF(AO237=1,VLOOKUP(F237,Tables!A$1:C$18,2,FALSE),VLOOKUP(F237,Tables!A$1:C$18,3,FALSE)),IF(I237=1, IF(AO237=1,VLOOKUP(F237,Tables!H$1:J$95,2,FALSE),VLOOKUP(F237,Tables!H$1:J$95,3,FALSE)),IF(AO237=1,VLOOKUP(F237,Tables!Q$1:S$137,2,FALSE),VLOOKUP(F237,Tables!Q$1:S$137,3,FALSE)))))","v":""},"","","","","","","","","",null,"","","","","",""]
["","","","","","","","","","",{"$f":"IF(A238=\"\",\"\",IF(OR(I238=1,I238=\"S\"),IF(VLOOKUP(J238,Tables!E$1:F$50,2,FALSE)=1,IF(MOD(BE238,2)=1,1,2),IF(MOD(BE238,2)=1,2,1)),IF(MOD(BE238,2)=1,1,2)))","v":""},"","",null,null,null,"","","","","","","","","","","","","","","","","","","","","","","","","",{"$f":"IF(AN238=\"\",\"\",IF(I238=0,IF(AO238=1,VLOOKUP(F238,Tables!A$1:C$18,2,FALSE),VLOOKUP(F238,Tables!A$1:C$18,3,FALSE)),IF(I238=1, IF(AO238=1,VLOOKUP(F238,Tables!H$1:J$95,2,FALSE),VLOOKUP(F238,Tables!H$1:J$95,3,FALSE)),IF(AO238=1,VLOOKUP(F238,Tables!Q$1:S$137,2,FALSE),VLOOKUP(F238,Tables!Q$1:S$137,3,FALSE)))))","v":""},"","","","","","","","","",null,"","","","","",""]
["","","","","","","","","","",{"$f":"IF(A239=\"\",\"\",IF(OR(I239=1,I239=\"S\"),IF(VLOOKUP(J239,Tables!E$1:F$50,2,FALSE)=1,IF(MOD(BE239,2)=1,1,2),IF(MOD(BE239,2)=1,2,1)),IF(MOD(BE239,2)=1,1,2)))","v":""},"","",null,null,null,"","","","","","","","","","","","","","","","","","","","","","","","","",{"$f":"IF(AN239=\"\",\"\",IF(I239=0,IF(AO239=1,VLOOKUP(F239,Tables!A$1:C$18,2,FALSE),VLOOKUP(F239,Tables!A$1:C$18,3,FALSE)),IF(I239=1, IF(AO239=1,VLOOKUP(F239,Tables!H$1:J$95,2,FALSE),VLOOKUP(F239,Tables!H$1:J$95,3,FALSE)),IF(AO239=1,VLOOKUP(F239,Tables!Q$1:S$137,2,FALSE),VLOOKUP(F239,Tables!Q$1:S$137,3,FALSE)))))","v":""},"","","","","","","","","",null,"","","",{"$f":"IF(NOT(BC239=\"\"),AR239&\"-\"&AS239,\"\")","v":""},"",""]
["","","","","","","","","","",{"$f":"IF(A240=\"\",\"\",IF(OR(I240=1,I240=\"S\"),IF(VLOOKUP(J240,Tables!E$1:F$50,2,FALSE)=1,IF(MOD(BE240,2)=1,1,2),IF(MOD(BE240,2)=1,2,1)),IF(MOD(BE240,2)=1,1,2)))","v":""},"","",null,null,null,"","","","","","","","","","","","","","","","","","","","","","","","","",{"$f":"IF(AN240=\"\",\"\",IF(I240=0,IF(AO240=1,VLOOKUP(F240,Tables!A$1:C$18,2,FALSE),VLOOKUP(F240,Tables!A$1:C$18,3,FALSE)),IF(I240=1, IF(AO240=1,VLOOKUP(F240,Tables!H$1:J$95,2,FALSE),VLOOKUP(F240,Tables!H$1:J$95,3,FALSE)),IF(AO240=1,VLOOKUP(F240,Tables!Q$1:S$137,2,FALSE),VLOOKUP(F240,Tables!Q$1:S$137,3,FALSE)))))","v":""},"","","","","","","","","",null,"","","","","",""]
["","","","","","","","","","",{"$f":"IF(A241=\"\",\"\",IF(OR(I241=1,I241=\"S\"),IF(VLOOKUP(J241,Tables!E$1:F$50,2,FALSE)=1,IF(MOD(BE241,2)=1,1,2),IF(MOD(BE241,2)=1,2,1)),IF(MOD(BE241,2)=1,1,2)))","v":""},"","",null,null,null,"","","","","","","","","","","","","","","","","","","","","","","","","",{"$f":"IF(AN241=\"\",\"\",IF(I241=0,IF(AO241=1,VLOOKUP(F241,Tables!A$1:C$18,2,FALSE),VLOOKUP(F241,Tables!A$1:C$18,3,FALSE)),IF(I241=1, IF(AO241=1,VLOOKUP(F241,Tables!H$1:J$95,2,FALSE),VLOOKUP(F241,Tables!H$1:J$95,3,FALSE)),IF(AO241=1,VLOOKUP(F241,Tables!Q$1:S$137,2,FALSE),VLOOKUP(F241,Tables!Q$1:S$137,3,FALSE)))))","v":""},"","","","","","","","","",null,"","","","","",""]
["","","","","","","","","","",{"$f":"IF(A242=\"\",\"\",IF(OR(I242=1,I242=\"S\"),IF(VLOOKUP(J242,Tables!E$1:F$50,2,FALSE)=1,IF(MOD(BE242,2)=1,1,2),IF(MOD(BE242,2)=1,2,1)),IF(MOD(BE242,2)=1,1,2)))","v":""},"","",null,null,null,"","","","","","","","","","","","","","","","","","","","","","","","","",{"$f":"IF(AN242=\"\",\"\",IF(I242=0,IF(AO242=1,VLOOKUP(F242,Tables!A$1:C$18,2,FALSE),VLOOKUP(F242,Tables!A$1:C$18,3,FALSE)),IF(I242=1, IF(AO242=1,VLOOKUP(F242,Tables!H$1:J$95,2,FALSE),VLOOKUP(F242,Tables!H$1:J$95,3,FALSE)),IF(AO242=1,VLOOKUP(F242,Tables!Q$1:S$137,2,FALSE),VLOOKUP(F242,Tables!Q$1:S$137,3,FALSE)))))","v":""},"","","","","","","","","",null,"","","","","",""]
["","","","","","","","","","",{"$f":"IF(A243=\"\",\"\",IF(OR(I243=1,I243=\"S\"),IF(VLOOKUP(J243,Tables!E$1:F$50,2,FALSE)=1,IF(MOD(BE243,2)=1,1,2),IF(MOD(BE243,2)=1,2,1)),IF(MOD(BE243,2)=1,1,2)))","v":""},"","",null,null,null,"","","","","","","","","","","","","","","","","","","","","","","","","",{"$f":"IF(AN243=\"\",\"\",IF(I243=0,IF(AO243=1,VLOOKUP(F243,Tables!A$1:C$18,2,FALSE),VLOOKUP(F243,Tables!A$1:C$18,3,FALSE)),IF(I243=1, IF(AO243=1,VLOOKUP(F243,Tables!H$1:J$95,2,FALSE),VLOOKUP(F243,Tables!H$1:J$95,3,FALSE)),IF(AO243=1,VLOOKUP(F243,Tables!Q$1:S$137,2,FALSE),VLOOKUP(F243,Tables!Q$1:S$137,3,FALSE)))))","v":""},"","","","","","","","","",null,"","","","","",""]
["","","","","","","","","","",{"$f":"IF(A244=\"\",\"\",IF(OR(I244=1,I244=\"S\"),IF(VLOOKUP(J244,Tables!E$1:F$50,2,FALSE)=1,IF(MOD(BE244,2)=1,1,2),IF(MOD(BE244,2)=1,2,1)),IF(MOD(BE244,2)=1,1,2)))","v":""},"","",null,null,null,"","","","","","","","","","","","","","","","","","","","","","","","","",{"$f":"IF(AN244=\"\",\"\",IF(I244=0,IF(AO244=1,VLOOKUP(F244,Tables!A$1:C$18,2,FALSE),VLOOKUP(F244,Tables!A$1:C$18,3,FALSE)),IF(I244=1, IF(AO244=1,VLOOKUP(F244,Tables!H$1:J$95,2,FALSE),VLOOKUP(F244,Tables!H$1:J$95,3,FALSE)),IF(AO244=1,VLOOKUP(F244,Tables!Q$1:S$137,2,FALSE),VLOOKUP(F244,Tables!Q$1:S$137,3,FALSE)))))","v":""},"","","","","","","","","",null,"","","","","",""]
["","","","","","","","","","",{"$f":"IF(A245=\"\",\"\",IF(OR(I245=1,I245=\"S\"),IF(VLOOKUP(J245,Tables!E$1:F$50,2,FALSE)=1,IF(MOD(BE245,2)=1,1,2),IF(MOD(BE245,2)=1,2,1)),IF(MOD(BE245,2)=1,1,2)))","v":""},"","",null,null,null,"","","","","","","","","","","","","","","","","","","","","","","","","",{"$f":"IF(AN245=\"\",\"\",IF(I245=0,IF(AO245=1,VLOOKUP(F245,Tables!A$1:C$18,2,FALSE),VLOOKUP(F245,Tables!A$1:C$18,3,FALSE)),IF(I245=1, IF(AO245=1,VLOOKUP(F245,Tables!H$1:J$95,2,FALSE),VLOOKUP(F245,Tables!H$1:J$95,3,FALSE)),IF(AO245=1,VLOOKUP(F245,Tables!Q$1:S$137,2,FALSE),VLOOKUP(F245,Tables!Q$1:S$137,3,FALSE)))))","v":""},"","","","","","","","","",null,"","","","","",""]
["","","","","","","","","","",{"$f":"IF(A246=\"\",\"\",IF(OR(I246=1,I246=\"S\"),IF(VLOOKUP(J246,Tables!E$1:F$50,2,FALSE)=1,IF(MOD(BE246,2)=1,1,2),IF(MOD(BE246,2)=1,2,1)),IF(MOD(BE246,2)=1,1,2)))","v":""},"","",null,null,null,"","","","","","","","","","","","","","","","","","","","","","","","","",{"$f":"IF(AN246=\"\",\"\",IF(I246=0,IF(AO246=1,VLOOKUP(F246,Tables!A$1:C$18,2,FALSE),VLOOKUP(F246,Tables!A$1:C$18,3,FALSE)),IF(I246=1, IF(AO246=1,VLOOKUP(F246,Tables!H$1:J$95,2,FALSE),VLOOKUP(F246,Tables!H$1:J$95,3,FALSE)),IF(AO246=1,VLOOKUP(F246,Tables!Q$1:S$137,2,FALSE),VLOOKUP(F246,Tables!Q$1:S$137,3,FALSE)))))","v":""},"","","","","","","","","",null,"","","","","",""]
["","","","","","","","","","",{"$f":"IF(A247=\"\",\"\",IF(OR(I247=1,I247=\"S\"),IF(VLOOKUP(J247,Tables!E$1:F$50,2,FALSE)=1,IF(MOD(BE247,2)=1,1,2),IF(MOD(BE247,2)=1,2,1)),IF(MOD(BE247,2)=1,1,2)))","v":""},"","",null,null,null,"","","","","","","","","","","","","","","","","","","","","","","","","",{"$f":"IF(AN247=\"\",\"\",IF(I247=0,IF(AO247=1,VLOOKUP(F247,Tables!A$1:C$18,2,FALSE),VLOOKUP(F247,Tables!A$1:C$18,3,FALSE)),IF(I247=1, IF(AO247=1,VLOOKUP(F247,Tables!H$1:J$95,2,FALSE),VLOOKUP(F247,Tables!H$1:J$95,3,FALSE)),IF(AO247=1,VLOOKUP(F247,Tables!Q$1:S$137,2,FALSE),VLOOKUP(F247,Tables!Q$1:S$137,3,FALSE)))))","v":""},"","","","","","","","","",null,"","","","","",""]
["","","","","","","","","","",{"$f":"IF(A248=\"\",\"\",IF(OR(I248=1,I248=\"S\"),IF(VLOOKUP(J248,Tables!E$1:F$50,2,FALSE)=1,IF(MOD(BE248,2)=1,1,2),IF(MOD(BE248,2)=1,2,1)),IF(MOD(BE248,2)=1,1,2)))","v":""},"","",null,null,null,"","","","","","","","","","","","","","","","","","","","","","","","","",{"$f":"IF(AN248=\"\",\"\",IF(I248=0,IF(AO248=1,VLOOKUP(F248,Tables!A$1:C$18,2,FALSE),VLOOKUP(F248,Tables!A$1:C$18,3,FALSE)),IF(I248=1, IF(AO248=1,VLOOKUP(F248,Tables!H$1:J$95,2,FALSE),VLOOKUP(F248,Tables!H$1:J$95,3,FALSE)),IF(AO248=1,VLOOKUP(F248,Tables!Q$1:S$137,2,FALSE),VLOOKUP(F248,Tables!Q$1:S$137,3,FALSE)))))","v":""},"","","","","","","","","",null,"","","","","",""]
["","","","","","","","","","",{"$f":"IF(A249=\"\",\"\",IF(OR(I249=1,I249=\"S\"),IF(VLOOKUP(J249,Tables!E$1:F$50,2,FALSE)=1,IF(MOD(BE249,2)=1,1,2),IF(MOD(BE249,2)=1,2,1)),IF(MOD(BE249,2)=1,1,2)))","v":""},"","",null,null,null,"","","","","","","","","","","","","","","","","","","","","","","","","",{"$f":"IF(AN249=\"\",\"\",IF(I249=0,IF(AO249=1,VLOOKUP(F249,Tables!A$1:C$18,2,FALSE),VLOOKUP(F249,Tables!A$1:C$18,3,FALSE)),IF(I249=1, IF(AO249=1,VLOOKUP(F249,Tables!H$1:J$95,2,FALSE),VLOOKUP(F249,Tables!H$1:J$95,3,FALSE)),IF(AO249=1,VLOOKUP(F249,Tables!Q$1:S$137,2,FALSE),VLOOKUP(F249,Tables!Q$1:S$137,3,FALSE)))))","v":""},"","","","","","","","","",null,"","","","","",""]
["","","","","","","","","","",{"$f":"IF(A250=\"\",\"\",IF(OR(I250=1,I250=\"S\"),IF(VLOOKUP(J250,Tables!E$1:F$50,2,FALSE)=1,IF(MOD(BE250,2)=1,1,2),IF(MOD(BE250,2)=1,2,1)),IF(MOD(BE250,2)=1,1,2)))","v":""},"","",null,null,null,"","","","","","","","","","","","","","","","","","","","","","","","","",{"$f":"IF(AN250=\"\",\"\",IF(I250=0,IF(AO250=1,VLOOKUP(F250,Tables!A$1:C$18,2,FALSE),VLOOKUP(F250,Tables!A$1:C$18,3,FALSE)),IF(I250=1, IF(AO250=1,VLOOKUP(F250,Tables!H$1:J$95,2,FALSE),VLOOKUP(F250,Tables!H$1:J$95,3,FALSE)),IF(AO250=1,VLOOKUP(F250,Tables!Q$1:S$137,2,FALSE),VLOOKUP(F250,Tables!Q$1:S$137,3,FALSE)))))","v":""},"","","","","","","","","",null,"","","","","",""]
["","","","","","","","","","",{"$f":"IF(A251=\"\",\"\",IF(OR(I251=1,I251=\"S\"),IF(VLOOKUP(J251,Tables!E$1:F$50,2,FALSE)=1,IF(MOD(BE251,2)=1,1,2),IF(MOD(BE251,2)=1,2,1)),IF(MOD(BE251,2)=1,1,2)))","v":""},"","",null,null,null,"","","","","","","","","","","","","","","","","","","","","","","","","",{"$f":"IF(AN251=\"\",\"\",IF(I251=0,IF(AO251=1,VLOOKUP(F251,Tables!A$1:C$18,2,FALSE),VLOOKUP(F251,Tables!A$1:C$18,3,FALSE)),IF(I251=1, IF(AO251=1,VLOOKUP(F251,Tables!H$1:J$95,2,FALSE),VLOOKUP(F251,Tables!H$1:J$95,3,FALSE)),IF(AO251=1,VLOOKUP(F251,Tables!Q$1:S$137,2,FALSE),VLOOKUP(F251,Tables!Q$1:S$137,3,FALSE)))))","v":""},"","","","","","","","","",null,"","","","","",""]
["","","","","","","","","","",{"$f":"IF(A252=\"\",\"\",IF(OR(I252=1,I252=\"S\"),IF(VLOOKUP(J252,Tables!E$1:F$50,2,FALSE)=1,IF(MOD(BE252,2)=1,1,2),IF(MOD(BE252,2)=1,2,1)),IF(MOD(BE252,2)=1,1,2)))","v":""},"","",null,null,null,"","","","","","","","","","","","","","","","","","","","","","","","","",{"$f":"IF(AN252=\"\",\"\",IF(I252=0,IF(AO252=1,VLOOKUP(F252,Tables!A$1:C$18,2,FALSE),VLOOKUP(F252,Tables!A$1:C$18,3,FALSE)),IF(I252=1, IF(AO252=1,VLOOKUP(F252,Tables!H$1:J$95,2,FALSE),VLOOKUP(F252,Tables!H$1:J$95,3,FALSE)),IF(AO252=1,VLOOKUP(F252,Tables!Q$1:S$137,2,FALSE),VLOOKUP(F252,Tables!Q$1:S$137,3,FALSE)))))","v":""},"","","","","","","","","",null,"","","","","",""]
["","","","","","","","","","",{"$f":"IF(A253=\"\",\"\",IF(OR(I253=1,I253=\"S\"),IF(VLOOKUP(J253,Tables!E$1:F$50,2,FALSE)=1,IF(MOD(BE253,2)=1,1,2),IF(MOD(BE253,2)=1,2,1)),IF(MOD(BE253,2)=1,1,2)))","v":""},"","",null,null,null,"","","","","","","","","","","","","","","","","","","","","","","","","",{"$f":"IF(AN253=\"\",\"\",IF(I253=0,IF(AO253=1,VLOOKUP(F253,Tables!A$1:C$18,2,FALSE),VLOOKUP(F253,Tables!A$1:C$18,3,FALSE)),IF(I253=1, IF(AO253=1,VLOOKUP(F253,Tables!H$1:J$95,2,FALSE),VLOOKUP(F253,Tables!H$1:J$95,3,FALSE)),IF(AO253=1,VLOOKUP(F253,Tables!Q$1:S$137,2,FALSE),VLOOKUP(F253,Tables!Q$1:S$137,3,FALSE)))))","v":""},"","","","","","","","","",null,"","","","","",""]
["","","","","","","","","","",{"$f":"IF(A254=\"\",\"\",IF(OR(I254=1,I254=\"S\"),IF(VLOOKUP(J254,Tables!E$1:F$50,2,FALSE)=1,IF(MOD(BE254,2)=1,1,2),IF(MOD(BE254,2)=1,2,1)),IF(MOD(BE254,2)=1,1,2)))","v":""},"","",null,null,null,"","","","","","","","","","","","","","","","","","","","","","","","","",{"$f":"IF(AN254=\"\",\"\",IF(I254=0,IF(AO254=1,VLOOKUP(F254,Tables!A$1:C$18,2,FALSE),VLOOKUP(F254,Tables!A$1:C$18,3,FALSE)),IF(I254=1, IF(AO254=1,VLOOKUP(F254,Tables!H$1:J$95,2,FALSE),VLOOKUP(F254,Tables!H$1:J$95,3,FALSE)),IF(AO254=1,VLOOKUP(F254,Tables!Q$1:S$137,2,FALSE),VLOOKUP(F254,Tables!Q$1:S$137,3,FALSE)))))","v":""},"","","","","","","","","",null,"","","","","",""]
["","","","","","","","","","",{"$f":"IF(A255=\"\",\"\",IF(OR(I255=1,I255=\"S\"),IF(VLOOKUP(J255,Tables!E$1:F$50,2,FALSE)=1,IF(MOD(BE255,2)=1,1,2),IF(MOD(BE255,2)=1,2,1)),IF(MOD(BE255,2)=1,1,2)))","v":""},"","",null,null,null,"","","","","","","","","","","","","","","","","","","","","","","","","",{"$f":"IF(AN255=\"\",\"\",IF(I255=0,IF(AO255=1,VLOOKUP(F255,Tables!A$1:C$18,2,FALSE),VLOOKUP(F255,Tables!A$1:C$18,3,FALSE)),IF(I255=1, IF(AO255=1,VLOOKUP(F255,Tables!H$1:J$95,2,FALSE),VLOOKUP(F255,Tables!H$1:J$95,3,FALSE)),IF(AO255=1,VLOOKUP(F255,Tables!Q$1:S$137,2,FALSE),VLOOKUP(F255,Tables!Q$1:S$137,3,FALSE)))))","v":""},"","","","","","","","","",null,"","","","","",""]
["","","","","","","","","","",{"$f":"IF(A256=\"\",\"\",IF(OR(I256=1,I256=\"S\"),IF(VLOOKUP(J256,Tables!E$1:F$50,2,FALSE)=1,IF(MOD(BE256,2)=1,1,2),IF(MOD(BE256,2)=1,2,1)),IF(MOD(BE256,2)=1,1,2)))","v":""},"","",null,null,null,"","","","","","","","","","","","","","","","","","","","","","","","","",{"$f":"IF(AN256=\"\",\"\",IF(I256=0,IF(AO256=1,VLOOKUP(F256,Tables!A$1:C$18,2,FALSE),VLOOKUP(F256,Tables!A$1:C$18,3,FALSE)),IF(I256=1, IF(AO256=1,VLOOKUP(F256,Tables!H$1:J$95,2,FALSE),VLOOKUP(F256,Tables!H$1:J$95,3,FALSE)),IF(AO256=1,VLOOKUP(F256,Tables!Q$1:S$137,2,FALSE),VLOOKUP(F256,Tables!Q$1:S$137,3,FALSE)))))","v":""},"","","","","","","","","",null,"","","","","",""]
["","","","","","","","","","",{"$f":"IF(A257=\"\",\"\",IF(OR(I257=1,I257=\"S\"),IF(VLOOKUP(J257,Tables!E$1:F$50,2,FALSE)=1,IF(MOD(BE257,2)=1,1,2),IF(MOD(BE257,2)=1,2,1)),IF(MOD(BE257,2)=1,1,2)))","v":""},"","",null,null,null,"","","","","","","","","","","","","","","","","","","","","","","","","",{"$f":"IF(AN257=\"\",\"\",IF(I257=0,IF(AO257=1,VLOOKUP(F257,Tables!A$1:C$18,2,FALSE),VLOOKUP(F257,Tables!A$1:C$18,3,FALSE)),IF(I257=1, IF(AO257=1,VLOOKUP(F257,Tables!H$1:J$95,2,FALSE),VLOOKUP(F257,Tables!H$1:J$95,3,FALSE)),IF(AO257=1,VLOOKUP(F257,Tables!Q$1:S$137,2,FALSE),VLOOKUP(F257,Tables!Q$1:S$137,3,FALSE)))))","v":""},"","","","","","","","","",null,"","","","","",""]
["","","","","","","","","","",{"$f":"IF(A258=\"\",\"\",IF(OR(I258=1,I258=\"S\"),IF(VLOOKUP(J258,Tables!E$1:F$50,2,FALSE)=1,IF(MOD(BE258,2)=1,1,2),IF(MOD(BE258,2)=1,2,1)),IF(MOD(BE258,2)=1,1,2)))","v":""},"","",null,null,null,"","","","","","","","","","","","","","","","","","","","","","","","","",{"$f":"IF(AN258=\"\",\"\",IF(I258=0,IF(AO258=1,VLOOKUP(F258,Tables!A$1:C$18,2,FALSE),VLOOKUP(F258,Tables!A$1:C$18,3,FALSE)),IF(I258=1, IF(AO258=1,VLOOKUP(F258,Tables!H$1:J$95,2,FALSE),VLOOKUP(F258,Tables!H$1:J$95,3,FALSE)),IF(AO258=1,VLOOKUP(F258,Tables!Q$1:S$137,2,FALSE),VLOOKUP(F258,Tables!Q$1:S$137,3,FALSE)))))","v":""},"","","","","","","","","",null,"","","","","",""]
["","","","","","","","","","",{"$f":"IF(A259=\"\",\"\",IF(OR(I259=1,I259=\"S\"),IF(VLOOKUP(J259,Tables!E$1:F$50,2,FALSE)=1,IF(MOD(BE259,2)=1,1,2),IF(MOD(BE259,2)=1,2,1)),IF(MOD(BE259,2)=1,1,2)))","v":""},"","",null,null,null,"","","","","","","","","","","","","","","","","","","","","","","","","",{"$f":"IF(AN259=\"\",\"\",IF(I259=0,IF(AO259=1,VLOOKUP(F259,Tables!A$1:C$18,2,FALSE),VLOOKUP(F259,Tables!A$1:C$18,3,FALSE)),IF(I259=1, IF(AO259=1,VLOOKUP(F259,Tables!H$1:J$95,2,FALSE),VLOOKUP(F259,Tables!H$1:J$95,3,FALSE)),IF(AO259=1,VLOOKUP(F259,Tables!Q$1:S$137,2,FALSE),VLOOKUP(F259,Tables!Q$1:S$137,3,FALSE)))))","v":""},"","","","","","","","","",null,"","","","","",""]
["","","","","","","","","","",{"$f":"IF(A260=\"\",\"\",IF(OR(I260=1,I260=\"S\"),IF(VLOOKUP(J260,Tables!E$1:F$50,2,FALSE)=1,IF(MOD(BE260,2)=1,1,2),IF(MOD(BE260,2)=1,2,1)),IF(MOD(BE260,2)=1,1,2)))","v":""},"","",null,null,null,"","","","","","","","","","","","","","","","","","","","","","","","","",{"$f":"IF(AN260=\"\",\"\",IF(I260=0,IF(AO260=1,VLOOKUP(F260,Tables!A$1:C$18,2,FALSE),VLOOKUP(F260,Tables!A$1:C$18,3,FALSE)),IF(I260=1, IF(AO260=1,VLOOKUP(F260,Tables!H$1:J$95,2,FALSE),VLOOKUP(F260,Tables!H$1:J$95,3,FALSE)),IF(AO260=1,VLOOKUP(F260,Tables!Q$1:S$137,2,FALSE),VLOOKUP(F260,Tables!Q$1:S$137,3,FALSE)))))","v":""},"","","","","","","","","",null,"","","","","",""]
["","","","","","","","","","",{"$f":"IF(A261=\"\",\"\",IF(OR(I261=1,I261=\"S\"),IF(VLOOKUP(J261,Tables!E$1:F$50,2,FALSE)=1,IF(MOD(BE261,2)=1,1,2),IF(MOD(BE261,2)=1,2,1)),IF(MOD(BE261,2)=1,1,2)))","v":""},"","",null,null,null,"","","","","","","","","","","","","","","","","","","","","","","","","",{"$f":"IF(AN261=\"\",\"\",IF(I261=0,IF(AO261=1,VLOOKUP(F261,Tables!A$1:C$18,2,FALSE),VLOOKUP(F261,Tables!A$1:C$18,3,FALSE)),IF(I261=1, IF(AO261=1,VLOOKUP(F261,Tables!H$1:J$95,2,FALSE),VLOOKUP(F261,Tables!H$1:J$95,3,FALSE)),IF(AO261=1,VLOOKUP(F261,Tables!Q$1:S$137,2,FALSE),VLOOKUP(F261,Tables!Q$1:S$137,3,FALSE)))))","v":""},"","","","","","","","","",null,"","","","","",""]
["","","","","","","","","","",{"$f":"IF(A262=\"\",\"\",IF(OR(I262=1,I262=\"S\"),IF(VLOOKUP(J262,Tables!E$1:F$50,2,FALSE)=1,IF(MOD(BE262,2)=1,1,2),IF(MOD(BE262,2)=1,2,1)),IF(MOD(BE262,2)=1,1,2)))","v":""},"","",null,null,null,"","","","","","","","","","","","","","","","","","","","","","","","","",{"$f":"IF(AN262=\"\",\"\",IF(I262=0,IF(AO262=1,VLOOKUP(F262,Tables!A$1:C$18,2,FALSE),VLOOKUP(F262,Tables!A$1:C$18,3,FALSE)),IF(I262=1, IF(AO262=1,VLOOKUP(F262,Tables!H$1:J$95,2,FALSE),VLOOKUP(F262,Tables!H$1:J$95,3,FALSE)),IF(AO262=1,VLOOKUP(F262,Tables!Q$1:S$137,2,FALSE),VLOOKUP(F262,Tables!Q$1:S$137,3,FALSE)))))","v":""},"","","",{"$f":"IF(AN262=\"\",\"\",IF(AND(AR262>5,(AR262-AS262)>1),1,IF(AND(AS262>5,(AS262-AR262)>1),2,IF(AND(H262=1,AR262=$J$14),1,IF(AND(H262=1,AS262=$J$14),2,IF(AND(I262=\"S\",AR262=1),1,IF(AND(I262=\"S\",AS262=1),2,0)))))))","v":""},"","","","","",null,"","","","","",""]
["","","","","","","","","","",{"$f":"IF(A263=\"\",\"\",IF(OR(I263=1,I263=\"S\"),IF(VLOOKUP(J263,Tables!E$1:F$50,2,FALSE)=1,IF(MOD(BE263,2)=1,1,2),IF(MOD(BE263,2)=1,2,1)),IF(MOD(BE263,2)=1,1,2)))","v":""},"","",null,null,null,"","","","","","","","","","","","","","","","","","","","","","","","","",{"$f":"IF(AN263=\"\",\"\",IF(I263=0,IF(AO263=1,VLOOKUP(F263,Tables!A$1:C$18,2,FALSE),VLOOKUP(F263,Tables!A$1:C$18,3,FALSE)),IF(I263=1, IF(AO263=1,VLOOKUP(F263,Tables!H$1:J$95,2,FALSE),VLOOKUP(F263,Tables!H$1:J$95,3,FALSE)),IF(AO263=1,VLOOKUP(F263,Tables!Q$1:S$137,2,FALSE),VLOOKUP(F263,Tables!Q$1:S$137,3,FALSE)))))","v":""},"","","","","","","","","",null,"","","","","",""]
["","","","","","","","","","",{"$f":"IF(A264=\"\",\"\",IF(OR(I264=1,I264=\"S\"),IF(VLOOKUP(J264,Tables!E$1:F$50,2,FALSE)=1,IF(MOD(BE264,2)=1,1,2),IF(MOD(BE264,2)=1,2,1)),IF(MOD(BE264,2)=1,1,2)))","v":""},{"$f":"IF(A264=\"\",\"\",IF(MOD(K264,2)=1,2,1))","v":""},"",null,null,null,"","","","","","","","","","","","","","","","","","","","","","","","","",{"$f":"IF(AN264=\"\",\"\",IF(I264=0,IF(AO264=1,VLOOKUP(F264,Tables!A$1:C$18,2,FALSE),VLOOKUP(F264,Tables!A$1:C$18,3,FALSE)),IF(I264=1, IF(AO264=1,VLOOKUP(F264,Tables!H$1:J$95,2,FALSE),VLOOKUP(F264,Tables!H$1:J$95,3,FALSE)),IF(AO264=1,VLOOKUP(F264,Tables!Q$1:S$137,2,FALSE),VLOOKUP(F264,Tables!Q$1:S$137,3,FALSE)))))","v":""},"","","","","","","","","",null,"","","","","",""]
["","","","","","","","","","",{"$f":"IF(A265=\"\",\"\",IF(OR(I265=1,I265=\"S\"),IF(VLOOKUP(J265,Tables!E$1:F$50,2,FALSE)=1,IF(MOD(BE265,2)=1,1,2),IF(MOD(BE265,2)=1,2,1)),IF(MOD(BE265,2)=1,1,2)))","v":""},"","",null,null,null,"","","","","","","","","","","","","","","","","","","","","","","","","",{"$f":"IF(AN265=\"\",\"\",IF(I265=0,IF(AO265=1,VLOOKUP(F265,Tables!A$1:C$18,2,FALSE),VLOOKUP(F265,Tables!A$1:C$18,3,FALSE)),IF(I265=1, IF(AO265=1,VLOOKUP(F265,Tables!H$1:J$95,2,FALSE),VLOOKUP(F265,Tables!H$1:J$95,3,FALSE)),IF(AO265=1,VLOOKUP(F265,Tables!Q$1:S$137,2,FALSE),VLOOKUP(F265,Tables!Q$1:S$137,3,FALSE)))))","v":""},"","","","","","","","","",null,"","","","","",""]
["","","","","","","","","","",{"$f":"IF(A266=\"\",\"\",IF(OR(I266=1,I266=\"S\"),IF(VLOOKUP(J266,Tables!E$1:F$50,2,FALSE)=1,IF(MOD(BE266,2)=1,1,2),IF(MOD(BE266,2)=1,2,1)),IF(MOD(BE266,2)=1,1,2)))","v":""},"","",null,null,null,"","","","","","","","","","","","","","","","","","","","","","","","","",{"$f":"IF(AN266=\"\",\"\",IF(I266=0,IF(AO266=1,VLOOKUP(F266,Tables!A$1:C$18,2,FALSE),VLOOKUP(F266,Tables!A$1:C$18,3,FALSE)),IF(I266=1, IF(AO266=1,VLOOKUP(F266,Tables!H$1:J$95,2,FALSE),VLOOKUP(F266,Tables!H$1:J$95,3,FALSE)),IF(AO266=1,VLOOKUP(F266,Tables!Q$1:S$137,2,FALSE),VLOOKUP(F266,Tables!Q$1:S$137,3,FALSE)))))","v":""},"","","","","","","","","",null,"","","","","",""]
["","","","","","","","","","",{"$f":"IF(A267=\"\",\"\",IF(OR(I267=1,I267=\"S\"),IF(VLOOKUP(J267,Tables!E$1:F$50,2,FALSE)=1,IF(MOD(BE267,2)=1,1,2),IF(MOD(BE267,2)=1,2,1)),IF(MOD(BE267,2)=1,1,2)))","v":""},"","",null,null,null,"","","","","","","","","","","","","","","","","","","","","","","","","",{"$f":"IF(AN267=\"\",\"\",IF(I267=0,IF(AO267=1,VLOOKUP(F267,Tables!A$1:C$18,2,FALSE),VLOOKUP(F267,Tables!A$1:C$18,3,FALSE)),IF(I267=1, IF(AO267=1,VLOOKUP(F267,Tables!H$1:J$95,2,FALSE),VLOOKUP(F267,Tables!H$1:J$95,3,FALSE)),IF(AO267=1,VLOOKUP(F267,Tables!Q$1:S$137,2,FALSE),VLOOKUP(F267,Tables!Q$1:S$137,3,FALSE)))))","v":""},"","","","","","","","","",null,"","","","","",""]
["","","","","","","","","","",{"$f":"IF(A268=\"\",\"\",IF(OR(I268=1,I268=\"S\"),IF(VLOOKUP(J268,Tables!E$1:F$50,2,FALSE)=1,IF(MOD(BE268,2)=1,1,2),IF(MOD(BE268,2)=1,2,1)),IF(MOD(BE268,2)=1,1,2)))","v":""},"","",null,null,null,"","","","","","","","","","","","","","","","","","","","","","","","","",{"$f":"IF(AN268=\"\",\"\",IF(I268=0,IF(AO268=1,VLOOKUP(F268,Tables!A$1:C$18,2,FALSE),VLOOKUP(F268,Tables!A$1:C$18,3,FALSE)),IF(I268=1, IF(AO268=1,VLOOKUP(F268,Tables!H$1:J$95,2,FALSE),VLOOKUP(F268,Tables!H$1:J$95,3,FALSE)),IF(AO268=1,VLOOKUP(F268,Tables!Q$1:S$137,2,FALSE),VLOOKUP(F268,Tables!Q$1:S$137,3,FALSE)))))","v":""},"","","","","","","","","",null,"","","","","",""]
["","","","","","","","","","",{"$f":"IF(A269=\"\",\"\",IF(OR(I269=1,I269=\"S\"),IF(VLOOKUP(J269,Tables!E$1:F$50,2,FALSE)=1,IF(MOD(BE269,2)=1,1,2),IF(MOD(BE269,2)=1,2,1)),IF(MOD(BE269,2)=1,1,2)))","v":""},"","",null,null,null,"","","","","","","","","","","","","","","","","","","","","","","","","",{"$f":"IF(AN269=\"\",\"\",IF(I269=0,IF(AO269=1,VLOOKUP(F269,Tables!A$1:C$18,2,FALSE),VLOOKUP(F269,Tables!A$1:C$18,3,FALSE)),IF(I269=1, IF(AO269=1,VLOOKUP(F269,Tables!H$1:J$95,2,FALSE),VLOOKUP(F269,Tables!H$1:J$95,3,FALSE)),IF(AO269=1,VLOOKUP(F269,Tables!Q$1:S$137,2,FALSE),VLOOKUP(F269,Tables!Q$1:S$137,3,FALSE)))))","v":""},"","","","","","","","","",null,"","","","","",""]
["","","","","","","","","","",{"$f":"IF(A270=\"\",\"\",IF(OR(I270=1,I270=\"S\"),IF(VLOOKUP(J270,Tables!E$1:F$50,2,FALSE)=1,IF(MOD(BE270,2)=1,1,2),IF(MOD(BE270,2)=1,2,1)),IF(MOD(BE270,2)=1,1,2)))","v":""},"","",null,null,null,"","","","","","","","","","","","","","","","","","","","","","","","","",{"$f":"IF(AN270=\"\",\"\",IF(I270=0,IF(AO270=1,VLOOKUP(F270,Tables!A$1:C$18,2,FALSE),VLOOKUP(F270,Tables!A$1:C$18,3,FALSE)),IF(I270=1, IF(AO270=1,VLOOKUP(F270,Tables!H$1:J$95,2,FALSE),VLOOKUP(F270,Tables!H$1:J$95,3,FALSE)),IF(AO270=1,VLOOKUP(F270,Tables!Q$1:S$137,2,FALSE),VLOOKUP(F270,Tables!Q$1:S$137,3,FALSE)))))","v":""},"","","","","","","","","",null,"","","","","",""]
["","","","","","","","","","",{"$f":"IF(A271=\"\",\"\",IF(OR(I271=1,I271=\"S\"),IF(VLOOKUP(J271,Tables!E$1:F$50,2,FALSE)=1,IF(MOD(BE271,2)=1,1,2),IF(MOD(BE271,2)=1,2,1)),IF(MOD(BE271,2)=1,1,2)))","v":""},"","",null,null,null,"","","","","","","","","","","","","","","","","","","","","","","","","",{"$f":"IF(AN271=\"\",\"\",IF(I271=0,IF(AO271=1,VLOOKUP(F271,Tables!A$1:C$18,2,FALSE),VLOOKUP(F271,Tables!A$1:C$18,3,FALSE)),IF(I271=1, IF(AO271=1,VLOOKUP(F271,Tables!H$1:J$95,2,FALSE),VLOOKUP(F271,Tables!H$1:J$95,3,FALSE)),IF(AO271=1,VLOOKUP(F271,Tables!Q$1:S$137,2,FALSE),VLOOKUP(F271,Tables!Q$1:S$137,3,FALSE)))))","v":""},"","","","","","","","","",null,"","","","","",""]
["","","","","","","","","","",{"$f":"IF(A272=\"\",\"\",IF(OR(I272=1,I272=\"S\"),IF(VLOOKUP(J272,Tables!E$1:F$50,2,FALSE)=1,IF(MOD(BE272,2)=1,1,2),IF(MOD(BE272,2)=1,2,1)),IF(MOD(BE272,2)=1,1,2)))","v":""},"","",null,null,null,"","","","","","","","","","","","","","","","","","","","","","","","","",{"$f":"IF(AN272=\"\",\"\",IF(I272=0,IF(AO272=1,VLOOKUP(F272,Tables!A$1:C$18,2,FALSE),VLOOKUP(F272,Tables!A$1:C$18,3,FALSE)),IF(I272=1, IF(AO272=1,VLOOKUP(F272,Tables!H$1:J$95,2,FALSE),VLOOKUP(F272,Tables!H$1:J$95,3,FALSE)),IF(AO272=1,VLOOKUP(F272,Tables!Q$1:S$137,2,FALSE),VLOOKUP(F272,Tables!Q$1:S$137,3,FALSE)))))","v":""},"","","","","","","","","",null,"","","","","",""]
["","","","","","","","","","",{"$f":"IF(A273=\"\",\"\",IF(OR(I273=1,I273=\"S\"),IF(VLOOKUP(J273,Tables!E$1:F$50,2,FALSE)=1,IF(MOD(BE273,2)=1,1,2),IF(MOD(BE273,2)=1,2,1)),IF(MOD(BE273,2)=1,1,2)))","v":""},"","",null,null,null,"","","","","","","","","","","","","","","","","","","","","","","","","",{"$f":"IF(AN273=\"\",\"\",IF(I273=0,IF(AO273=1,VLOOKUP(F273,Tables!A$1:C$18,2,FALSE),VLOOKUP(F273,Tables!A$1:C$18,3,FALSE)),IF(I273=1, IF(AO273=1,VLOOKUP(F273,Tables!H$1:J$95,2,FALSE),VLOOKUP(F273,Tables!H$1:J$95,3,FALSE)),IF(AO273=1,VLOOKUP(F273,Tables!Q$1:S$137,2,FALSE),VLOOKUP(F273,Tables!Q$1:S$137,3,FALSE)))))","v":""},"","","","","","","","","",null,"","","","","",""]
["","","","","","","",{"$f":"IF(A274=\"\",\"\",IF(OR(B$14=1,B$14=\"S\",AND(B$14<>\"V\",(B274+C274+1)<B$13)),1,0))","v":""},{"$f":"IF(A274=\"\",\"\",IF(AND(D274=$I$14,E274=$I$14,H274=1),1,IF(AND(B$14=\"S\",(B274+C274+1)=B$13),\"S\",0)))","v":""},{"$f":"IF(OR(I274=1,I274=\"S\"),IF(F274=\"0-0\",1,J273+1),\"\")","v":""},{"$f":"IF(A274=\"\",\"\",IF(OR(I274=1,I274=\"S\"),IF(VLOOKUP(J274,Tables!E$1:F$50,2,FALSE)=1,IF(MOD(BE274,2)=1,1,2),IF(MOD(BE274,2)=1,2,1)),IF(MOD(BE274,2)=1,1,2)))","v":""},"",{"$f":"IF(A274=\"\",\"\",IF(K274=1,I$1,I$2))","v":""},null,null,null,"","","","","","","","","","","","","","","","","","",{"$f":"IF(N274=\"\",\"\",IF(AND(W274=0,X274=0),TRUE,FALSE))","v":""},"","","",{"$f":"IF(N274=\"\",\"\",LEN(AL274))","v":""},{"$f":"IF(OR(N274=\"P\",N274=\"R\"),L274,IF(OR(N274=\"Q\",N274=\"S\"),K274,IF(AND(AC274=\"\",OR(AD274=FALSE,AD274=\"\"),OR(AE274=FALSE,AE274=\"\"),OR(AI274=FALSE,AI274=\"\")),\"\",IF(OR(AD274=TRUE,AE274=TRUE,AND((MOD(AM274,2)=0),AF274=TRUE),AND((MOD(AM274,2)=1),OR(AG274=TRUE,AH274=TRUE))),K274,L274))))","v":""},{"$f":"IF(AN274=\"\",\"\",IF(AN274=K274,1,0))","v":""},{"$f":"IF(AN274=\"\",\"\",IF(I274=0,IF(AO274=1,VLOOKUP(F274,Tables!A$1:C$18,2,FALSE),VLOOKUP(F274,Tables!A$1:C$18,3,FALSE)),IF(I274=1, IF(AO274=1,VLOOKUP(F274,Tables!H$1:J$95,2,FALSE),VLOOKUP(F274,Tables!H$1:J$95,3,FALSE)),IF(AO274=1,VLOOKUP(F274,Tables!Q$1:S$137,2,FALSE),VLOOKUP(F274,Tables!Q$1:S$137,3,FALSE)))))","v":""},"",{"$f":"IF(AN274=\"\",\"\",IF(AQ274=1,D274+1,D274))","v":""},{"$f":"IF(AN274=\"\",\"\",IF(AQ274=2,E274+1,E274))","v":""},"",{"$f":"IF(AN274=\"\",\"\",IF(AT274=1,B274+1,B274))","v":""},{"$f":"IF(AN274=\"\",\"\",IF(AT274=2,C274+1,C274))","v":""},"","","",null,{"$f":"IF(AA274=\"\",\"\",SUM(B274,C274,1))","v":""},{"$f":"IF(AA274=\"\",\"\",\"SET \"&BA274&\": \"&D274&\"-\"&E274&\", \"&F274)","v":""},{"$f":"IF(AA274=\"\",\"\",IF(AT274>0,(AU274+AV274),IF(AND(NOT(D275=\"\"),D276=\"\"),AU274+AV274+1,\"\")))","v":""},"","",""]
[{"$f":"IF(AN274=\"\",\"\",A274+1)","v":""},{"$f":"IF(A275=\"\",\"\",AU274)","v":""},{"$f":"IF(A275=\"\",\"\",AV274)","v":""},{"$f":"IF(A275=\"\",\"\",IF(AT274=0,AR274,0))","v":""},{"$f":"IF(A275=\"\",\"\",IF(AT274=0,AS274,0))","v":""},{"$f":"IF(A275=\"\",\"\",IF(AW274=1,AX274,IF(AP274=\"GM\",\"0-0\",AP274)))","v":""},{"$f":"IF(BE275=\"\",\"\",BE275&\" (\"&BF275&\")\")","v":""},"","","",{"$f":"IF(A275=\"\",\"\",IF(OR(I275=1,I275=\"S\"),IF(VLOOKUP(J275,Tables!E$1:F$50,2,FALSE)=1,IF(MOD(BE275,2)=1,1,2),IF(MOD(BE275,2)=1,2,1)),IF(MOD(BE275,2)=1,1,2)))","v":""},"","",null,null,null,{"$f":"IF(N275=\"\",\"\",SUBSTITUTE(N275, \"c\", \"\"))","v":""},{"$f":"SUBSTITUTE(O275, \"c\", \"\")","v":""},{"$f":"IF(N275=\"\",\"\",IF(MID(Q275,2,1)=\"+\",1,0))","v":""},{"$f":"IF(O275=\"\",\"\",IF(MID(R275,2,1)=\"+\",1,0))","v":""},{"$f":"IF(N275=\"\",\"\",IF(S275=1,SUBSTITUTE(Q275, \"+\", \"\",1),Q275))","v":""},{"$f":"IF(T275=1,SUBSTITUTE(R275, \"+\", \"\",1),R275)","v":""},{"$f":"IF(N275=\"\",\"\",IF(LEN(N275)=1,0,IF(ISERROR(FIND(MID(U275,2,1),\"wdnxge!VPQRS\"))=TRUE,1,0)))","v":""},{"$f":"IF(O275=\"\",\"\",IF(ISERROR(FIND(MID(V275,2,1),\"wdnxge!VPQRS\"))=TRUE,1,0))","v":""},{"$f":"IF(N275=\"\",\"\",IF(W275=0,0,IF(LEN(U275)>2,1,0)))","v":""},{"$f":"IF(N275=\"\",\"\",IF(X275=0,0,IF(LEN(V275)>2,1,0)))","v":""},{"$f":"IF(N275=\"\",\"\",IF(Y275=0,Q275,LEFT(U275,1)))","v":""},{"$f":"IF(N275=\"\",\"\",IF(Z275=0,V275,LEFT(V275,1)))","v":""},{"$f":"IF(N275=\"\",\"\",IF(Y275=1,RIGHT(U275,(LEN(U275)-1)),IF(Z275=1,RIGHT(V275,(LEN(V275)-1)),\"\")))","v":""},{"$f":"IF(AA275=\"\",\"\",OR(IF(ISERR(FIND(\"*\",AA275)),FALSE,TRUE), IF(ISERR(FIND(\"*\",AB275)),FALSE,TRUE)))","v":""},{"$f":"IF(AA275=\"\",\"\",OR(IF(ISERR(FIND(\"#\",AA275)),FALSE,TRUE), IF(ISERR(FIND(\"#\",AB275)),FALSE,TRUE)))","v":""},{"$f":"IF(AA275=\"\",\"\",IF(ISERR(FIND(\"*\",AC275)),FALSE,TRUE))","v":""},{"$f":"IF(AA275=\"\",\"\",IF(ISERR(FIND(\"#\",AC275)),FALSE,TRUE))","v":""},{"$f":"IF(AA275=\"\",\"\",IF(ISERR(FIND(\"@\",AC275)),FALSE,TRUE))","v":""},"",{"$f":"SUBSTITUTE(SUBSTITUTE(SUBSTITUTE(SUBSTITUTE(SUBSTITUTE(SUBSTITUTE(SUBSTITUTE(SUBSTITUTE(AC275, \"-\", \"\"), \"=\", \"\"), \"@\", \"\"), \"#\", \"\"), \"*\", \"\"), \";\", \"\"), \"+\", \"\"), \"^\", \"\")","v":""},{"$f":"SUBSTITUTE(SUBSTITUTE(SUBSTITUTE(SUBSTITUTE(SUBSTITUTE(SUBSTITUTE(AJ275, \"d\", \"\"), \"w\", \"\"), \"x\", \"\"), \"e\", \"\"), \"n\", \"\"), \"!\", \"\")","v":""},{"$f":"SUBSTITUTE(SUBSTITUTE(SUBSTITUTE(SUBSTITUTE(SUBSTITUTE(SUBSTITUTE(AK275, \"1\", \"\"), \"2\", \"\"), \"3\", \"\"), \"7\", \"\"), \"8\", \"\"), \"9\", \"\")","v":""},"","","",{"$f":"IF(AN275=\"\",\"\",IF(I275=0,IF(AO275=1,VLOOKUP(F275,Tables!A$1:C$18,2,FALSE),VLOOKUP(F275,Tables!A$1:C$18,3,FALSE)),IF(I275=1, IF(AO275=1,VLOOKUP(F275,Tables!H$1:J$95,2,FALSE),VLOOKUP(F275,Tables!H$1:J$95,3,FALSE)),IF(AO275=1,VLOOKUP(F275,Tables!Q$1:S$137,2,FALSE),VLOOKUP(F275,Tables!Q$1:S$137,3,FALSE)))))","v":""},{"$f":"IF(AN275=\"\",\"\",IF(AP275=\"GM\",AN275,0))","v":""},"","","","","",{"$f":"IF(J275=\"\",\"\",IF(AND(OR(I275=1,I275=\"S\"),MOD(J275,2)=1,NOT(AP275=\"GM\")),1,\"\"))","v":""},{"$f":"IF(AW275=1,CONCATENATE(RIGHT(AP275,(LEN(AP275)-FIND(\"-\",AP275))),\"-\",LEFT(AP275,FIND(\"-\",AP275)-1)),\"\")","v":""},{"$f":"IF(AA275=\"\",\"\",IF(OR(RIGHT(AC275,1)=\"@\",RIGHT(AC275,1)=\"#\"),AM275,IF(AI275=TRUE,0,AM275+1)))","v":""},null,"","","","",{"$f":"IF(A275=\"\",\"\",IF(AP274=\"GM\",BE274+1,BE274))","v":""},{"$f":"IF(A275=\"\",\"\",IF(AQ274=0,BF274+1,1))","v":""}]
["","","","","","","","","","",{"$f":"IF(A276=\"\",\"\",IF(OR(I276=1,I276=\"S\"),IF(VLOOKUP(J276,Tables!E$1:F$50,2,FALSE)=1,IF(MOD(BE276,2)=1,1,2),IF(MOD(BE276,2)=1,2,1)),IF(MOD(BE276,2)=1,1,2)))","v":""},"","",null,null,null,"","","","","","","","","","","","","","","","","","","","","","","","","",{"$f":"IF(AN276=\"\",\"\",IF(I276=0,IF(AO276=1,VLOOKUP(F276,Tables!A$1:C$18,2,FALSE),VLOOKUP(F276,Tables!A$1:C$18,3,FALSE)),IF(I276=1, IF(AO276=1,VLOOKUP(F276,Tables!H$1:J$95,2,FALSE),VLOOKUP(F276,Tables!H$1:J$95,3,FALSE)),IF(AO276=1,VLOOKUP(F276,Tables!Q$1:S$137,2,FALSE),VLOOKUP(F276,Tables!Q$1:S$137,3,FALSE)))))","v":""},"","","","","","","","","",null,"","","","","",""]
["","","","","","","","","","",{"$f":"IF(A277=\"\",\"\",IF(OR(I277=1,I277=\"S\"),IF(VLOOKUP(J277,Tables!E$1:F$50,2,FALSE)=1,IF(MOD(BE277,2)=1,1,2),IF(MOD(BE277,2)=1,2,1)),IF(MOD(BE277,2)=1,1,2)))","v":""},"","",null,null,null,"","","","","","","","","","","","","","","","","","","","","","","","","",{"$f":"IF(AN277=\"\",\"\",IF(I277=0,IF(AO277=1,VLOOKUP(F277,Tables!A$1:C$18,2,FALSE),VLOOKUP(F277,Tables!A$1:C$18,3,FALSE)),IF(I277=1, IF(AO277=1,VLOOKUP(F277,Tables!H$1:J$95,2,FALSE),VLOOKUP(F277,Tables!H$1:J$95,3,FALSE)),IF(AO277=1,VLOOKUP(F277,Tables!Q$1:S$137,2,FALSE),VLOOKUP(F277,Tables!Q$1:S$137,3,FALSE)))))","v":""},"","","","","","","","","",null,"","","","","",""]
["","","","","","","","","","",{"$f":"IF(A278=\"\",\"\",IF(OR(I278=1,I278=\"S\"),IF(VLOOKUP(J278,Tables!E$1:F$50,2,FALSE)=1,IF(MOD(BE278,2)=1,1,2),IF(MOD(BE278,2)=1,2,1)),IF(MOD(BE278,2)=1,1,2)))","v":""},"","",null,null,null,"","","","","","","","","","","","","","","","","","","","","","","","","",{"$f":"IF(AN278=\"\",\"\",IF(I278=0,IF(AO278=1,VLOOKUP(F278,Tables!A$1:C$18,2,FALSE),VLOOKUP(F278,Tables!A$1:C$18,3,FALSE)),IF(I278=1, IF(AO278=1,VLOOKUP(F278,Tables!H$1:J$95,2,FALSE),VLOOKUP(F278,Tables!H$1:J$95,3,FALSE)),IF(AO278=1,VLOOKUP(F278,Tables!Q$1:S$137,2,FALSE),VLOOKUP(F278,Tables!Q$1:S$137,3,FALSE)))))","v":""},"","","","","","","","","",null,"","","","","",""]
["","","","","","","","","","",{"$f":"IF(A279=\"\",\"\",IF(OR(I279=1,I279=\"S\"),IF(VLOOKUP(J279,Tables!E$1:F$50,2,FALSE)=1,IF(MOD(BE279,2)=1,1,2),IF(MOD(BE279,2)=1,2,1)),IF(MOD(BE279,2)=1,1,2)))","v":""},"","",null,null,null,"","","","","","","","","","","","","","","","","","","","","","","","","",{"$f":"IF(AN279=\"\",\"\",IF(I279=0,IF(AO279=1,VLOOKUP(F279,Tables!A$1:C$18,2,FALSE),VLOOKUP(F279,Tables!A$1:C$18,3,FALSE)),IF(I279=1, IF(AO279=1,VLOOKUP(F279,Tables!H$1:J$95,2,FALSE),VLOOKUP(F279,Tables!H$1:J$95,3,FALSE)),IF(AO279=1,VLOOKUP(F279,Tables!Q$1:S$137,2,FALSE),VLOOKUP(F279,Tables!Q$1:S$137,3,FALSE)))))","v":""},"","","","","","","","","",null,"","","","","",""]
["","","","","","","","","","",{"$f":"IF(A280=\"\",\"\",IF(OR(I280=1,I280=\"S\"),IF(VLOOKUP(J280,Tables!E$1:F$50,2,FALSE)=1,IF(MOD(BE280,2)=1,1,2),IF(MOD(BE280,2)=1,2,1)),IF(MOD(BE280,2)=1,1,2)))","v":""},"","",null,null,null,"","","","","","","","","","","","","","","","","","","","","","","","","",{"$f":"IF(AN280=\"\",\"\",IF(I280=0,IF(AO280=1,VLOOKUP(F280,Tables!A$1:C$18,2,FALSE),VLOOKUP(F280,Tables!A$1:C$18,3,FALSE)),IF(I280=1, IF(AO280=1,VLOOKUP(F280,Tables!H$1:J$95,2,FALSE),VLOOKUP(F280,Tables!H$1:J$95,3,FALSE)),IF(AO280=1,VLOOKUP(F280,Tables!Q$1:S$137,2,FALSE),VLOOKUP(F280,Tables!Q$1:S$137,3,FALSE)))))","v":""},"","","","","","","","","",null,"","","","","",""]
["","","","","","","","","","",{"$f":"IF(A281=\"\",\"\",IF(OR(I281=1,I281=\"S\"),IF(VLOOKUP(J281,Tables!E$1:F$50,2,FALSE)=1,IF(MOD(BE281,2)=1,1,2),IF(MOD(BE281,2)=1,2,1)),IF(MOD(BE281,2)=1,1,2)))","v":""},"","",null,null,null,"","","","","","","","","","","","","","","","","","","","","","","","","",{"$f":"IF(AN281=\"\",\"\",IF(I281=0,IF(AO281=1,VLOOKUP(F281,Tables!A$1:C$18,2,FALSE),VLOOKUP(F281,Tables!A$1:C$18,3,FALSE)),IF(I281=1, IF(AO281=1,VLOOKUP(F281,Tables!H$1:J$95,2,FALSE),VLOOKUP(F281,Tables!H$1:J$95,3,FALSE)),IF(AO281=1,VLOOKUP(F281,Tables!Q$1:S$137,2,FALSE),VLOOKUP(F281,Tables!Q$1:S$137,3,FALSE)))))","v":""},"","","","","","","","","",null,"","","","","",""]
["","","","","","","","","","",{"$f":"IF(A282=\"\",\"\",IF(OR(I282=1,I282=\"S\"),IF(VLOOKUP(J282,Tables!E$1:F$50,2,FALSE)=1,IF(MOD(BE282,2)=1,1,2),IF(MOD(BE282,2)=1,2,1)),IF(MOD(BE282,2)=1,1,2)))","v":""},"","",null,null,null,"","","","","","","","","","","","","","","","","","","","","","","","","",{"$f":"IF(AN282=\"\",\"\",IF(I282=0,IF(AO282=1,VLOOKUP(F282,Tables!A$1:C$18,2,FALSE),VLOOKUP(F282,Tables!A$1:C$18,3,FALSE)),IF(I282=1, IF(AO282=1,VLOOKUP(F282,Tables!H$1:J$95,2,FALSE),VLOOKUP(F282,Tables!H$1:J$95,3,FALSE)),IF(AO282=1,VLOOKUP(F282,Tables!Q$1:S$137,2,FALSE),VLOOKUP(F282,Tables!Q$1:S$137,3,FALSE)))))","v":""},"","","","","","","","","",null,"","","","","",""]
["","","","","","","","","","",{"$f":"IF(A283=\"\",\"\",IF(OR(I283=1,I283=\"S\"),IF(VLOOKUP(J283,Tables!E$1:F$50,2,FALSE)=1,IF(MOD(BE283,2)=1,1,2),IF(MOD(BE283,2)=1,2,1)),IF(MOD(BE283,2)=1,1,2)))","v":""},"","",null,null,null,"","","","","","","","","","","","","","","","","","","","","","","","","",{"$f":"IF(AN283=\"\",\"\",IF(I283=0,IF(AO283=1,VLOOKUP(F283,Tables!A$1:C$18,2,FALSE),VLOOKUP(F283,Tables!A$1:C$18,3,FALSE)),IF(I283=1, IF(AO283=1,VLOOKUP(F283,Tables!H$1:J$95,2,FALSE),VLOOKUP(F283,Tables!H$1:J$95,3,FALSE)),IF(AO283=1,VLOOKUP(F283,Tables!Q$1:S$137,2,FALSE),VLOOKUP(F283,Tables!Q$1:S$137,3,FALSE)))))","v":""},"","","","","","","","","",null,"","","","","",""]
["","","","","","","","","","",{"$f":"IF(A284=\"\",\"\",IF(OR(I284=1,I284=\"S\"),IF(VLOOKUP(J284,Tables!E$1:F$50,2,FALSE)=1,IF(MOD(BE284,2)=1,1,2),IF(MOD(BE284,2)=1,2,1)),IF(MOD(BE284,2)=1,1,2)))","v":""},"","",null,null,null,"","","","","","","","","","","","","","","","","","","","","","","","","",{"$f":"IF(AN284=\"\",\"\",IF(I284=0,IF(AO284=1,VLOOKUP(F284,Tables!A$1:C$18,2,FALSE),VLOOKUP(F284,Tables!A$1:C$18,3,FALSE)),IF(I284=1, IF(AO284=1,VLOOKUP(F284,Tables!H$1:J$95,2,FALSE),VLOOKUP(F284,Tables!H$1:J$95,3,FALSE)),IF(AO284=1,VLOOKUP(F284,Tables!Q$1:S$137,2,FALSE),VLOOKUP(F284,Tables!Q$1:S$137,3,FALSE)))))","v":""},"","","","","","","","","",null,"","","","","",""]
["","","","","","","","","","",{"$f":"IF(A285=\"\",\"\",IF(OR(I285=1,I285=\"S\"),IF(VLOOKUP(J285,Tables!E$1:F$50,2,FALSE)=1,IF(MOD(BE285,2)=1,1,2),IF(MOD(BE285,2)=1,2,1)),IF(MOD(BE285,2)=1,1,2)))","v":""},"","",null,null,null,"","","","","","","","","","","","","","","","","","","","","","","","","",{"$f":"IF(AN285=\"\",\"\",IF(I285=0,IF(AO285=1,VLOOKUP(F285,Tables!A$1:C$18,2,FALSE),VLOOKUP(F285,Tables!A$1:C$18,3,FALSE)),IF(I285=1, IF(AO285=1,VLOOKUP(F285,Tables!H$1:J$95,2,FALSE),VLOOKUP(F285,Tables!H$1:J$95,3,FALSE)),IF(AO285=1,VLOOKUP(F285,Tables!Q$1:S$137,2,FALSE),VLOOKUP(F285,Tables!Q$1:S$137,3,FALSE)))))","v":""},"","","","","","","","","",null,"","","","","",""]
["","","","","","","","","","",{"$f":"IF(A286=\"\",\"\",IF(OR(I286=1,I286=\"S\"),IF(VLOOKUP(J286,Tables!E$1:F$50,2,FALSE)=1,IF(MOD(BE286,2)=1,1,2),IF(MOD(BE286,2)=1,2,1)),IF(MOD(BE286,2)=1,1,2)))","v":""},"","",null,null,null,"","","","","","","","","","","","","","","","","","","","","","","","","",{"$f":"IF(AN286=\"\",\"\",IF(I286=0,IF(AO286=1,VLOOKUP(F286,Tables!A$1:C$18,2,FALSE),VLOOKUP(F286,Tables!A$1:C$18,3,FALSE)),IF(I286=1, IF(AO286=1,VLOOKUP(F286,Tables!H$1:J$95,2,FALSE),VLOOKUP(F286,Tables!H$1:J$95,3,FALSE)),IF(AO286=1,VLOOKUP(F286,Tables!Q$1:S$137,2,FALSE),VLOOKUP(F286,Tables!Q$1:S$137,3,FALSE)))))","v":""},"","","","","","","","","",null,"","","","","",""]
["","","","","","","","","","",{"$f":"IF(A287=\"\",\"\",IF(OR(I287=1,I287=\"S\"),IF(VLOOKUP(J287,Tables!E$1:F$50,2,FALSE)=1,IF(MOD(BE287,2)=1,1,2),IF(MOD(BE287,2)=1,2,1)),IF(MOD(BE287,2)=1,1,2)))","v":""},"","",null,null,null,"","","","","","","","","","","","","","","","","","","","","","","","","",{"$f":"IF(AN287=\"\",\"\",IF(I287=0,IF(AO287=1,VLOOKUP(F287,Tables!A$1:C$18,2,FALSE),VLOOKUP(F287,Tables!A$1:C$18,3,FALSE)),IF(I287=1, IF(AO287=1,VLOOKUP(F287,Tables!H$1:J$95,2,FALSE),VLOOKUP(F287,Tables!H$1:J$95,3,FALSE)),IF(AO287=1,VLOOKUP(F287,Tables!Q$1:S$137,2,FALSE),VLOOKUP(F287,Tables!Q$1:S$137,3,FALSE)))))","v":""},"","","","","","","","","",null,"","","","","",""]
["","","","","","","","","","",{"$f":"IF(A288=\"\",\"\",IF(OR(I288=1,I288=\"S\"),IF(VLOOKUP(J288,Tables!E$1:F$50,2,FALSE)=1,IF(MOD(BE288,2)=1,1,2),IF(MOD(BE288,2)=1,2,1)),IF(MOD(BE288,2)=1,1,2)))","v":""},"","",null,null,null,"","","","","","","","","","","","","","","","","","","","","","","","","",{"$f":"IF(AN288=\"\",\"\",IF(I288=0,IF(AO288=1,VLOOKUP(F288,Tables!A$1:C$18,2,FALSE),VLOOKUP(F288,Tables!A$1:C$18,3,FALSE)),IF(I288=1, IF(AO288=1,VLOOKUP(F288,Tables!H$1:J$95,2,FALSE),VLOOKUP(F288,Tables!H$1:J$95,3,FALSE)),IF(AO288=1,VLOOKUP(F288,Tables!Q$1:S$137,2,FALSE),VLOOKUP(F288,Tables!Q$1:S$137,3,FALSE)))))","v":""},"","","","","","","","","",null,"","","","","",""]
["","","","","","","","","","",{"$f":"IF(A289=\"\",\"\",IF(OR(I289=1,I289=\"S\"),IF(VLOOKUP(J289,Tables!E$1:F$50,2,FALSE)=1,IF(MOD(BE289,2)=1,1,2),IF(MOD(BE289,2)=1,2,1)),IF(MOD(BE289,2)=1,1,2)))","v":""},"","",null,null,null,"","","","","","","","","","","","","","","","","","","","","","","","","",{"$f":"IF(AN289=\"\",\"\",IF(I289=0,IF(AO289=1,VLOOKUP(F289,Tables!A$1:C$18,2,FALSE),VLOOKUP(F289,Tables!A$1:C$18,3,FALSE)),IF(I289=1, IF(AO289=1,VLOOKUP(F289,Tables!H$1:J$95,2,FALSE),VLOOKUP(F289,Tables!H$1:J$95,3,FALSE)),IF(AO289=1,VLOOKUP(F289,Tables!Q$1:S$137,2,FALSE),VLOOKUP(F289,Tables!Q$1:S$137,3,FALSE)))))","v":""},"","","","","","","","","",null,"","","","","",""]
["","","","","","","","","","",{"$f":"IF(A290=\"\",\"\",IF(OR(I290=1,I290=\"S\"),IF(VLOOKUP(J290,Tables!E$1:F$50,2,FALSE)=1,IF(MOD(BE290,2)=1,1,2),IF(MOD(BE290,2)=1,2,1)),IF(MOD(BE290,2)=1,1,2)))","v":""},"","",null,null,null,"","","","","","","","","","","","","","","","","","","","","","","","","",{"$f":"IF(AN290=\"\",\"\",IF(I290=0,IF(AO290=1,VLOOKUP(F290,Tables!A$1:C$18,2,FALSE),VLOOKUP(F290,Tables!A$1:C$18,3,FALSE)),IF(I290=1, IF(AO290=1,VLOOKUP(F290,Tables!H$1:J$95,2,FALSE),VLOOKUP(F290,Tables!H$1:J$95,3,FALSE)),IF(AO290=1,VLOOKUP(F290,Tables!Q$1:S$137,2,FALSE),VLOOKUP(F290,Tables!Q$1:S$137,3,FALSE)))))","v":""},"","","","","","","","","",null,"","","","","",""]
["","","","","","","","","","",{"$f":"IF(A291=\"\",\"\",IF(OR(I291=1,I291=\"S\"),IF(VLOOKUP(J291,Tables!E$1:F$50,2,FALSE)=1,IF(MOD(BE291,2)=1,1,2),IF(MOD(BE291,2)=1,2,1)),IF(MOD(BE291,2)=1,1,2)))","v":""},"","",null,null,null,"","","","","","","","","","","","","","","","","","","","","","","","","",{"$f":"IF(AN291=\"\",\"\",IF(I291=0,IF(AO291=1,VLOOKUP(F291,Tables!A$1:C$18,2,FALSE),VLOOKUP(F291,Tables!A$1:C$18,3,FALSE)),IF(I291=1, IF(AO291=1,VLOOKUP(F291,Tables!H$1:J$95,2,FALSE),VLOOKUP(F291,Tables!H$1:J$95,3,FALSE)),IF(AO291=1,VLOOKUP(F291,Tables!Q$1:S$137,2,FALSE),VLOOKUP(F291,Tables!Q$1:S$137,3,FALSE)))))","v":""},"","","","","","","","","",null,"","","","","",""]
["","","","","","","","","","",{"$f":"IF(A292=\"\",\"\",IF(OR(I292=1,I292=\"S\"),IF(VLOOKUP(J292,Tables!E$1:F$50,2,FALSE)=1,IF(MOD(BE292,2)=1,1,2),IF(MOD(BE292,2)=1,2,1)),IF(MOD(BE292,2)=1,1,2)))","v":""},"","",null,null,null,"","","","","","","","","","","","","","","","","","","","","","","","","",{"$f":"IF(AN292=\"\",\"\",IF(I292=0,IF(AO292=1,VLOOKUP(F292,Tables!A$1:C$18,2,FALSE),VLOOKUP(F292,Tables!A$1:C$18,3,FALSE)),IF(I292=1, IF(AO292=1,VLOOKUP(F292,Tables!H$1:J$95,2,FALSE),VLOOKUP(F292,Tables!H$1:J$95,3,FALSE)),IF(AO292=1,VLOOKUP(F292,Tables!Q$1:S$137,2,FALSE),VLOOKUP(F292,Tables!Q$1:S$137,3,FALSE)))))","v":""},"","","","","","","","","",null,"","","","","",""]
["","","","","","","","","","",{"$f":"IF(A293=\"\",\"\",IF(OR(I293=1,I293=\"S\"),IF(VLOOKUP(J293,Tables!E$1:F$50,2,FALSE)=1,IF(MOD(BE293,2)=1,1,2),IF(MOD(BE293,2)=1,2,1)),IF(MOD(BE293,2)=1,1,2)))","v":""},"","",null,null,null,"","","","","","","","","","","","","","","","","","","","","","","","","",{"$f":"IF(AN293=\"\",\"\",IF(I293=0,IF(AO293=1,VLOOKUP(F293,Tables!A$1:C$18,2,FALSE),VLOOKUP(F293,Tables!A$1:C$18,3,FALSE)),IF(I293=1, IF(AO293=1,VLOOKUP(F293,Tables!H$1:J$95,2,FALSE),VLOOKUP(F293,Tables!H$1:J$95,3,FALSE)),IF(AO293=1,VLOOKUP(F293,Tables!Q$1:S$137,2,FALSE),VLOOKUP(F293,Tables!Q$1:S$137,3,FALSE)))))","v":""},"","","","","","","","","",null,"","","","","",""]
["","","","","","","","","","",{"$f":"IF(A294=\"\",\"\",IF(OR(I294=1,I294=\"S\"),IF(VLOOKUP(J294,Tables!E$1:F$50,2,FALSE)=1,IF(MOD(BE294,2)=1,1,2),IF(MOD(BE294,2)=1,2,1)),IF(MOD(BE294,2)=1,1,2)))","v":""},"","",null,null,null,"","","","","","","","","","","","","","","","","","","","","","","","","",{"$f":"IF(AN294=\"\",\"\",IF(I294=0,IF(AO294=1,VLOOKUP(F294,Tables!A$1:C$18,2,FALSE),VLOOKUP(F294,Tables!A$1:C$18,3,FALSE)),IF(I294=1, IF(AO294=1,VLOOKUP(F294,Tables!H$1:J$95,2,FALSE),VLOOKUP(F294,Tables!H$1:J$95,3,FALSE)),IF(AO294=1,VLOOKUP(F294,Tables!Q$1:S$137,2,FALSE),VLOOKUP(F294,Tables!Q$1:S$137,3,FALSE)))))","v":""},"","","","","","","","","",null,"","","","","",""]
["","","","","","","","","","",{"$f":"IF(A295=\"\",\"\",IF(OR(I295=1,I295=\"S\"),IF(VLOOKUP(J295,Tables!E$1:F$50,2,FALSE)=1,IF(MOD(BE295,2)=1,1,2),IF(MOD(BE295,2)=1,2,1)),IF(MOD(BE295,2)=1,1,2)))","v":""},"","",null,null,null,"","","","","","","","","","","","","","","","","","","","","","","","","",{"$f":"IF(AN295=\"\",\"\",IF(I295=0,IF(AO295=1,VLOOKUP(F295,Tables!A$1:C$18,2,FALSE),VLOOKUP(F295,Tables!A$1:C$18,3,FALSE)),IF(I295=1, IF(AO295=1,VLOOKUP(F295,Tables!H$1:J$95,2,FALSE),VLOOKUP(F295,Tables!H$1:J$95,3,FALSE)),IF(AO295=1,VLOOKUP(F295,Tables!Q$1:S$137,2,FALSE),VLOOKUP(F295,Tables!Q$1:S$137,3,FALSE)))))","v":""},"","","","","","","","","",null,"","","","","",""]
["","","","","","","","","","",{"$f":"IF(A296=\"\",\"\",IF(OR(I296=1,I296=\"S\"),IF(VLOOKUP(J296,Tables!E$1:F$50,2,FALSE)=1,IF(MOD(BE296,2)=1,1,2),IF(MOD(BE296,2)=1,2,1)),IF(MOD(BE296,2)=1,1,2)))","v":""},"","",null,null,null,"","","","","","","","","","","","","","","","","","","","","","","","","",{"$f":"IF(AN296=\"\",\"\",IF(I296=0,IF(AO296=1,VLOOKUP(F296,Tables!A$1:C$18,2,FALSE),VLOOKUP(F296,Tables!A$1:C$18,3,FALSE)),IF(I296=1, IF(AO296=1,VLOOKUP(F296,Tables!H$1:J$95,2,FALSE),VLOOKUP(F296,Tables!H$1:J$95,3,FALSE)),IF(AO296=1,VLOOKUP(F296,Tables!Q$1:S$137,2,FALSE),VLOOKUP(F296,Tables!Q$1:S$137,3,FALSE)))))","v":""},"","","","","","","","","",null,"","","","","",""]
["","","","","","","","","","",{"$f":"IF(A297=\"\",\"\",IF(OR(I297=1,I297=\"S\"),IF(VLOOKUP(J297,Tables!E$1:F$50,2,FALSE)=1,IF(MOD(BE297,2)=1,1,2),IF(MOD(BE297,2)=1,2,1)),IF(MOD(BE297,2)=1,1,2)))","v":""},"","",null,null,null,"","","","","","","","","","","","","","","","","","","","","","","","","",{"$f":"IF(AN297=\"\",\"\",IF(I297=0,IF(AO297=1,VLOOKUP(F297,Tables!A$1:C$18,2,FALSE),VLOOKUP(F297,Tables!A$1:C$18,3,FALSE)),IF(I297=1, IF(AO297=1,VLOOKUP(F297,Tables!H$1:J$95,2,FALSE),VLOOKUP(F297,Tables!H$1:J$95,3,FALSE)),IF(AO297=1,VLOOKUP(F297,Tables!Q$1:S$137,2,FALSE),VLOOKUP(F297,Tables!Q$1:S$137,3,FALSE)))))","v":""},"","","","","","","","","",null,"","","","","",""]
["","","","","","","","","","",{"$f":"IF(A298=\"\",\"\",IF(OR(I298=1,I298=\"S\"),IF(VLOOKUP(J298,Tables!E$1:F$50,2,FALSE)=1,IF(MOD(BE298,2)=1,1,2),IF(MOD(BE298,2)=1,2,1)),IF(MOD(BE298,2)=1,1,2)))","v":""},"","",null,null,null,"","","","","","","","","","","","","","","","","","","","","","","","","",{"$f":"IF(AN298=\"\",\"\",IF(I298=0,IF(AO298=1,VLOOKUP(F298,Tables!A$1:C$18,2,FALSE),VLOOKUP(F298,Tables!A$1:C$18,3,FALSE)),IF(I298=1, IF(AO298=1,VLOOKUP(F298,Tables!H$1:J$95,2,FALSE),VLOOKUP(F298,Tables!H$1:J$95,3,FALSE)),IF(AO298=1,VLOOKUP(F298,Tables!Q$1:S$137,2,FALSE),VLOOKUP(F298,Tables!Q$1:S$137,3,FALSE)))))","v":""},"","","","","","","","","",null,"","","","","",""]
["","","","","","","","","","",{"$f":"IF(A299=\"\",\"\",IF(OR(I299=1,I299=\"S\"),IF(VLOOKUP(J299,Tables!E$1:F$50,2,FALSE)=1,IF(MOD(BE299,2)=1,1,2),IF(MOD(BE299,2)=1,2,1)),IF(MOD(BE299,2)=1,1,2)))","v":""},"","",null,null,null,"","","","","","","","","","","","","","","","","","","","","","","","","",{"$f":"IF(AN299=\"\",\"\",IF(I299=0,IF(AO299=1,VLOOKUP(F299,Tables!A$1:C$18,2,FALSE),VLOOKUP(F299,Tables!A$1:C$18,3,FALSE)),IF(I299=1, IF(AO299=1,VLOOKUP(F299,Tables!H$1:J$95,2,FALSE),VLOOKUP(F299,Tables!H$1:J$95,3,FALSE)),IF(AO299=1,VLOOKUP(F299,Tables!Q$1:S$137,2,FALSE),VLOOKUP(F299,Tables!Q$1:S$137,3,FALSE)))))","v":""},"","","","","","","","","",null,"","","","","",""]
["","","","","","","","","","",{"$f":"IF(A300=\"\",\"\",IF(OR(I300=1,I300=\"S\"),IF(VLOOKUP(J300,Tables!E$1:F$50,2,FALSE)=1,IF(MOD(BE300,2)=1,1,2),IF(MOD(BE300,2)=1,2,1)),IF(MOD(BE300,2)=1,1,2)))","v":""},"","",null,null,null,"","","","","","","","","","","","","","","","","","","","","","","","","",{"$f":"IF(AN300=\"\",\"\",IF(I300=0,IF(AO300=1,VLOOKUP(F300,Tables!A$1:C$18,2,FALSE),VLOOKUP(F300,Tables!A$1:C$18,3,FALSE)),IF(I300=1, IF(AO300=1,VLOOKUP(F300,Tables!H$1:J$95,2,FALSE),VLOOKUP(F300,Tables!H$1:J$95,3,FALSE)),IF(AO300=1,VLOOKUP(F300,Tables!Q$1:S$137,2,FALSE),VLOOKUP(F300,Tables!Q$1:S$137,3,FALSE)))))","v":""},"","","","","","","","","",null,"","","","","",""]
["","","","","","","","","","",{"$f":"IF(A301=\"\",\"\",IF(OR(I301=1,I301=\"S\"),IF(VLOOKUP(J301,Tables!E$1:F$50,2,FALSE)=1,IF(MOD(BE301,2)=1,1,2),IF(MOD(BE301,2)=1,2,1)),IF(MOD(BE301,2)=1,1,2)))","v":""},"","",null,null,null,"","","","","","","","","","","","","","","","","","","","","","","","","",{"$f":"IF(AN301=\"\",\"\",IF(I301=0,IF(AO301=1,VLOOKUP(F301,Tables!A$1:C$18,2,FALSE),VLOOKUP(F301,Tables!A$1:C$18,3,FALSE)),IF(I301=1, IF(AO301=1,VLOOKUP(F301,Tables!H$1:J$95,2,FALSE),VLOOKUP(F301,Tables!H$1:J$95,3,FALSE)),IF(AO301=1,VLOOKUP(F301,Tables!Q$1:S$137,2,FALSE),VLOOKUP(F301,Tables!Q$1:S$137,3,FALSE)))))","v":""},"","","","","","","","","",null,"","","","","",""]
["","","","","","","","","","",{"$f":"IF(A302=\"\",\"\",IF(OR(I302=1,I302=\"S\"),IF(VLOOKUP(J302,Tables!E$1:F$50,2,FALSE)=1,IF(MOD(BE302,2)=1,1,2),IF(MOD(BE302,2)=1,2,1)),IF(MOD(BE302,2)=1,1,2)))","v":""},"","",null,null,null,"","","","","","","","","","","","","","","","","","","","","","","","","",{"$f":"IF(AN302=\"\",\"\",IF(I302=0,IF(AO302=1,VLOOKUP(F302,Tables!A$1:C$18,2,FALSE),VLOOKUP(F302,Tables!A$1:C$18,3,FALSE)),IF(I302=1, IF(AO302=1,VLOOKUP(F302,Tables!H$1:J$95,2,FALSE),VLOOKUP(F302,Tables!H$1:J$95,3,FALSE)),IF(AO302=1,VLOOKUP(F302,Tables!Q$1:S$137,2,FALSE),VLOOKUP(F302,Tables!Q$1:S$137,3,FALSE)))))","v":""},"","","","","","","","","",null,"","","","","",""]
["","","","","","","","","","",{"$f":"IF(A303=\"\",\"\",IF(OR(I303=1,I303=\"S\"),IF(VLOOKUP(J303,Tables!E$1:F$50,2,FALSE)=1,IF(MOD(BE303,2)=1,1,2),IF(MOD(BE303,2)=1,2,1)),IF(MOD(BE303,2)=1,1,2)))","v":""},"","",null,null,null,"","","","","","","","","","","","","","","","","","","","","","","","","",{"$f":"IF(AN303=\"\",\"\",IF(I303=0,IF(AO303=1,VLOOKUP(F303,Tables!A$1:C$18,2,FALSE),VLOOKUP(F303,Tables!A$1:C$18,3,FALSE)),IF(I303=1, IF(AO303=1,VLOOKUP(F303,Tables!H$1:J$95,2,FALSE),VLOOKUP(F303,Tables!H$1:J$95,3,FALSE)),IF(AO303=1,VLOOKUP(F303,Tables!Q$1:S$137,2,FALSE),VLOOKUP(F303,Tables!Q$1:S$137,3,FALSE)))))","v":""},"","","","","","","","","",null,"","","",{"$f":"IF(NOT(BC303=\"\"),AR303&\"-\"&AS303,\"\")","v":""},"",""]
["","","","","","","","","","",{"$f":"IF(A304=\"\",\"\",IF(OR(I304=1,I304=\"S\"),IF(VLOOKUP(J304,Tables!E$1:F$50,2,FALSE)=1,IF(MOD(BE304,2)=1,1,2),IF(MOD(BE304,2)=1,2,1)),IF(MOD(BE304,2)=1,1,2)))","v":""},"","",null,null,null,"","","","","","","","","","","","","","","","","","","","","","","","","",{"$f":"IF(AN304=\"\",\"\",IF(I304=0,IF(AO304=1,VLOOKUP(F304,Tables!A$1:C$18,2,FALSE),VLOOKUP(F304,Tables!A$1:C$18,3,FALSE)),IF(I304=1, IF(AO304=1,VLOOKUP(F304,Tables!H$1:J$95,2,FALSE),VLOOKUP(F304,Tables!H$1:J$95,3,FALSE)),IF(AO304=1,VLOOKUP(F304,Tables!Q$1:S$137,2,FALSE),VLOOKUP(F304,Tables!Q$1:S$137,3,FALSE)))))","v":""},"","","","","","","","","",null,"","","","","",""]
["","","","","","","","","","",{"$f":"IF(A305=\"\",\"\",IF(OR(I305=1,I305=\"S\"),IF(VLOOKUP(J305,Tables!E$1:F$50,2,FALSE)=1,IF(MOD(BE305,2)=1,1,2),IF(MOD(BE305,2)=1,2,1)),IF(MOD(BE305,2)=1,1,2)))","v":""},"","",null,null,null,"","","","","","","","","","","","","","","","","","","","","","","","","",{"$f":"IF(AN305=\"\",\"\",IF(I305=0,IF(AO305=1,VLOOKUP(F305,Tables!A$1:C$18,2,FALSE),VLOOKUP(F305,Tables!A$1:C$18,3,FALSE)),IF(I305=1, IF(AO305=1,VLOOKUP(F305,Tables!H$1:J$95,2,FALSE),VLOOKUP(F305,Tables!H$1:J$95,3,FALSE)),IF(AO305=1,VLOOKUP(F305,Tables!Q$1:S$137,2,FALSE),VLOOKUP(F305,Tables!Q$1:S$137,3,FALSE)))))","v":""},"","","","","","","","","",null,"","","","","",""]
["","","","","","","","","","",{"$f":"IF(A306=\"\",\"\",IF(OR(I306=1,I306=\"S\"),IF(VLOOKUP(J306,Tables!E$1:F$50,2,FALSE)=1,IF(MOD(BE306,2)=1,1,2),IF(MOD(BE306,2)=1,2,1)),IF(MOD(BE306,2)=1,1,2)))","v":""},"","",null,null,null,"","","","","","","","","","","","","","","","","","","","","","","","","",{"$f":"IF(AN306=\"\",\"\",IF(I306=0,IF(AO306=1,VLOOKUP(F306,Tables!A$1:C$18,2,FALSE),VLOOKUP(F306,Tables!A$1:C$18,3,FALSE)),IF(I306=1, IF(AO306=1,VLOOKUP(F306,Tables!H$1:J$95,2,FALSE),VLOOKUP(F306,Tables!H$1:J$95,3,FALSE)),IF(AO306=1,VLOOKUP(F306,Tables!Q$1:S$137,2,FALSE),VLOOKUP(F306,Tables!Q$1:S$137,3,FALSE)))))","v":""},"","","","","","","","","",null,"","","","","",""]
["","","","","","","","","","",{"$f":"IF(A307=\"\",\"\",IF(OR(I307=1,I307=\"S\"),IF(VLOOKUP(J307,Tables!E$1:F$50,2,FALSE)=1,IF(MOD(BE307,2)=1,1,2),IF(MOD(BE307,2)=1,2,1)),IF(MOD(BE307,2)=1,1,2)))","v":""},"","",null,null,null,"","","","","","","","","","","","","","","","","","","","","","","","","",{"$f":"IF(AN307=\"\",\"\",IF(I307=0,IF(AO307=1,VLOOKUP(F307,Tables!A$1:C$18,2,FALSE),VLOOKUP(F307,Tables!A$1:C$18,3,FALSE)),IF(I307=1, IF(AO307=1,VLOOKUP(F307,Tables!H$1:J$95,2,FALSE),VLOOKUP(F307,Tables!H$1:J$95,3,FALSE)),IF(AO307=1,VLOOKUP(F307,Tables!Q$1:S$137,2,FALSE),VLOOKUP(F307,Tables!Q$1:S$137,3,FALSE)))))","v":""},"","","","","","","","","",null,"","","","","",""]
["","","","","","","","","","",{"$f":"IF(A308=\"\",\"\",IF(OR(I308=1,I308=\"S\"),IF(VLOOKUP(J308,Tables!E$1:F$50,2,FALSE)=1,IF(MOD(BE308,2)=1,1,2),IF(MOD(BE308,2)=1,2,1)),IF(MOD(BE308,2)=1,1,2)))","v":""},"","",null,null,null,"","","","","","","","","","","","","","","","","","","","","","","","","",{"$f":"IF(AN308=\"\",\"\",IF(I308=0,IF(AO308=1,VLOOKUP(F308,Tables!A$1:C$18,2,FALSE),VLOOKUP(F308,Tables!A$1:C$18,3,FALSE)),IF(I308=1, IF(AO308=1,VLOOKUP(F308,Tables!H$1:J$95,2,FALSE),VLOOKUP(F308,Tables!H$1:J$95,3,FALSE)),IF(AO308=1,VLOOKUP(F308,Tables!Q$1:S$137,2,FALSE),VLOOKUP(F308,Tables!Q$1:S$137,3,FALSE)))))","v":""},"","","","","","","","","",null,"","","","","",""]
["","","","","","","","","","",{"$f":"IF(A309=\"\",\"\",IF(OR(I309=1,I309=\"S\"),IF(VLOOKUP(J309,Tables!E$1:F$50,2,FALSE)=1,IF(MOD(BE309,2)=1,1,2),IF(MOD(BE309,2)=1,2,1)),IF(MOD(BE309,2)=1,1,2)))","v":""},"","",null,null,null,"","","","","","","","","","","","","","","","","","","","","","","","","",{"$f":"IF(AN309=\"\",\"\",IF(I309=0,IF(AO309=1,VLOOKUP(F309,Tables!A$1:C$18,2,FALSE),VLOOKUP(F309,Tables!A$1:C$18,3,FALSE)),IF(I309=1, IF(AO309=1,VLOOKUP(F309,Tables!H$1:J$95,2,FALSE),VLOOKUP(F309,Tables!H$1:J$95,3,FALSE)),IF(AO309=1,VLOOKUP(F309,Tables!Q$1:S$137,2,FALSE),VLOOKUP(F309,Tables!Q$1:S$137,3,FALSE)))))","v":""},"","","","","","","","","",null,"","","","","",""]
["","","","","","","","","","",{"$f":"IF(A310=\"\",\"\",IF(OR(I310=1,I310=\"S\"),IF(VLOOKUP(J310,Tables!E$1:F$50,2,FALSE)=1,IF(MOD(BE310,2)=1,1,2),IF(MOD(BE310,2)=1,2,1)),IF(MOD(BE310,2)=1,1,2)))","v":""},"","",null,null,null,"","","","","","","","","","","","","","","","","","","","","","","","","",{"$f":"IF(AN310=\"\",\"\",IF(I310=0,IF(AO310=1,VLOOKUP(F310,Tables!A$1:C$18,2,FALSE),VLOOKUP(F310,Tables!A$1:C$18,3,FALSE)),IF(I310=1, IF(AO310=1,VLOOKUP(F310,Tables!H$1:J$95,2,FALSE),VLOOKUP(F310,Tables!H$1:J$95,3,FALSE)),IF(AO310=1,VLOOKUP(F310,Tables!Q$1:S$137,2,FALSE),VLOOKUP(F310,Tables!Q$1:S$137,3,FALSE)))))","v":""},"","","","","","","","","",null,"","","","","",""]
["","","","","","","","","","",{"$f":"IF(A311=\"\",\"\",IF(OR(I311=1,I311=\"S\"),IF(VLOOKUP(J311,Tables!E$1:F$50,2,FALSE)=1,IF(MOD(BE311,2)=1,1,2),IF(MOD(BE311,2)=1,2,1)),IF(MOD(BE311,2)=1,1,2)))","v":""},"","",null,null,null,"","","","","","","","","","","","","","","","","","","","","","","","","",{"$f":"IF(AN311=\"\",\"\",IF(I311=0,IF(AO311=1,VLOOKUP(F311,Tables!A$1:C$18,2,FALSE),VLOOKUP(F311,Tables!A$1:C$18,3,FALSE)),IF(I311=1, IF(AO311=1,VLOOKUP(F311,Tables!H$1:J$95,2,FALSE),VLOOKUP(F311,Tables!H$1:J$95,3,FALSE)),IF(AO311=1,VLOOKUP(F311,Tables!Q$1:S$137,2,FALSE),VLOOKUP(F311,Tables!Q$1:S$137,3,FALSE)))))","v":""},"","","","","","","","","",null,"","","","","",""]
["","","","","","","","","","",{"$f":"IF(A312=\"\",\"\",IF(OR(I312=1,I312=\"S\"),IF(VLOOKUP(J312,Tables!E$1:F$50,2,FALSE)=1,IF(MOD(BE312,2)=1,1,2),IF(MOD(BE312,2)=1,2,1)),IF(MOD(BE312,2)=1,1,2)))","v":""},"","",null,null,null,"","","","","","","","","","","","","","","","","","","","","","","","","",{"$f":"IF(AN312=\"\",\"\",IF(I312=0,IF(AO312=1,VLOOKUP(F312,Tables!A$1:C$18,2,FALSE),VLOOKUP(F312,Tables!A$1:C$18,3,FALSE)),IF(I312=1, IF(AO312=1,VLOOKUP(F312,Tables!H$1:J$95,2,FALSE),VLOOKUP(F312,Tables!H$1:J$95,3,FALSE)),IF(AO312=1,VLOOKUP(F312,Tables!Q$1:S$137,2,FALSE),VLOOKUP(F312,Tables!Q$1:S$137,3,FALSE)))))","v":""},"","","","","","","","","",null,"","","","","",""]
["","","","","","","","","","",{"$f":"IF(A313=\"\",\"\",IF(OR(I313=1,I313=\"S\"),IF(VLOOKUP(J313,Tables!E$1:F$50,2,FALSE)=1,IF(MOD(BE313,2)=1,1,2),IF(MOD(BE313,2)=1,2,1)),IF(MOD(BE313,2)=1,1,2)))","v":""},"","",null,null,null,"","","","","","","","","","","","","","","","","","","","","","","","","",{"$f":"IF(AN313=\"\",\"\",IF(I313=0,IF(AO313=1,VLOOKUP(F313,Tables!A$1:C$18,2,FALSE),VLOOKUP(F313,Tables!A$1:C$18,3,FALSE)),IF(I313=1, IF(AO313=1,VLOOKUP(F313,Tables!H$1:J$95,2,FALSE),VLOOKUP(F313,Tables!H$1:J$95,3,FALSE)),IF(AO313=1,VLOOKUP(F313,Tables!Q$1:S$137,2,FALSE),VLOOKUP(F313,Tables!Q$1:S$137,3,FALSE)))))","v":""},"","","","","","","","","",null,"","","","","",""]
["","","","","","","","","","",{"$f":"IF(A314=\"\",\"\",IF(OR(I314=1,I314=\"S\"),IF(VLOOKUP(J314,Tables!E$1:F$50,2,FALSE)=1,IF(MOD(BE314,2)=1,1,2),IF(MOD(BE314,2)=1,2,1)),IF(MOD(BE314,2)=1,1,2)))","v":""},"","",null,null,null,"","","","","","","","","","","","","","","","","","","","","","","","","",{"$f":"IF(AN314=\"\",\"\",IF(I314=0,IF(AO314=1,VLOOKUP(F314,Tables!A$1:C$18,2,FALSE),VLOOKUP(F314,Tables!A$1:C$18,3,FALSE)),IF(I314=1, IF(AO314=1,VLOOKUP(F314,Tables!H$1:J$95,2,FALSE),VLOOKUP(F314,Tables!H$1:J$95,3,FALSE)),IF(AO314=1,VLOOKUP(F314,Tables!Q$1:S$137,2,FALSE),VLOOKUP(F314,Tables!Q$1:S$137,3,FALSE)))))","v":""},"","","","","","","","","",null,"","","","","",""]
["","","","","","","","","","",{"$f":"IF(A315=\"\",\"\",IF(OR(I315=1,I315=\"S\"),IF(VLOOKUP(J315,Tables!E$1:F$50,2,FALSE)=1,IF(MOD(BE315,2)=1,1,2),IF(MOD(BE315,2)=1,2,1)),IF(MOD(BE315,2)=1,1,2)))","v":""},"","",null,null,null,"","","","","","","","","","","","","","","","","","","","","","","","","",{"$f":"IF(AN315=\"\",\"\",IF(I315=0,IF(AO315=1,VLOOKUP(F315,Tables!A$1:C$18,2,FALSE),VLOOKUP(F315,Tables!A$1:C$18,3,FALSE)),IF(I315=1, IF(AO315=1,VLOOKUP(F315,Tables!H$1:J$95,2,FALSE),VLOOKUP(F315,Tables!H$1:J$95,3,FALSE)),IF(AO315=1,VLOOKUP(F315,Tables!Q$1:S$137,2,FALSE),VLOOKUP(F315,Tables!Q$1:S$137,3,FALSE)))))","v":""},"","","","","","","","","",null,"","","","","",""]
["","","","","","","","","","",{"$f":"IF(A316=\"\",\"\",IF(OR(I316=1,I316=\"S\"),IF(VLOOKUP(J316,Tables!E$1:F$50,2,FALSE)=1,IF(MOD(BE316,2)=1,1,2),IF(MOD(BE316,2)=1,2,1)),IF(MOD(BE316,2)=1,1,2)))","v":""},"","",null,null,null,"","","","","","","","","","","","","","","","","","","","","","","","","",{"$f":"IF(AN316=\"\",\"\",IF(I316=0,IF(AO316=1,VLOOKUP(F316,Tables!A$1:C$18,2,FALSE),VLOOKUP(F316,Tables!A$1:C$18,3,FALSE)),IF(I316=1, IF(AO316=1,VLOOKUP(F316,Tables!H$1:J$95,2,FALSE),VLOOKUP(F316,Tables!H$1:J$95,3,FALSE)),IF(AO316=1,VLOOKUP(F316,Tables!Q$1:S$137,2,FALSE),VLOOKUP(F316,Tables!Q$1:S$137,3,FALSE)))))","v":""},"","","","","","","","","",null,"","","","","",""]
["","","","","","","","","","",{"$f":"IF(A317=\"\",\"\",IF(OR(I317=1,I317=\"S\"),IF(VLOOKUP(J317,Tables!E$1:F$50,2,FALSE)=1,IF(MOD(BE317,2)=1,1,2),IF(MOD(BE317,2)=1,2,1)),IF(MOD(BE317,2)=1,1,2)))","v":""},"","",null,null,null,"","","","","","","","","","","","","","","","","","","","","","","","","",{"$f":"IF(AN317=\"\",\"\",IF(I317=0,IF(AO317=1,VLOOKUP(F317,Tables!A$1:C$18,2,FALSE),VLOOKUP(F317,Tables!A$1:C$18,3,FALSE)),IF(I317=1, IF(AO317=1,VLOOKUP(F317,Tables!H$1:J$95,2,FALSE),VLOOKUP(F317,Tables!H$1:J$95,3,FALSE)),IF(AO317=1,VLOOKUP(F317,Tables!Q$1:S$137,2,FALSE),VLOOKUP(F317,Tables!Q$1:S$137,3,FALSE)))))","v":""},"","","","","","","","","",null,"","","","","",""]
["","","","","","","","","","",{"$f":"IF(A318=\"\",\"\",IF(OR(I318=1,I318=\"S\"),IF(VLOOKUP(J318,Tables!E$1:F$50,2,FALSE)=1,IF(MOD(BE318,2)=1,1,2),IF(MOD(BE318,2)=1,2,1)),IF(MOD(BE318,2)=1,1,2)))","v":""},"","",null,null,null,"","","","","","","","","","","","","","","","","","","","","","","","","",{"$f":"IF(AN318=\"\",\"\",IF(I318=0,IF(AO318=1,VLOOKUP(F318,Tables!A$1:C$18,2,FALSE),VLOOKUP(F318,Tables!A$1:C$18,3,FALSE)),IF(I318=1, IF(AO318=1,VLOOKUP(F318,Tables!H$1:J$95,2,FALSE),VLOOKUP(F318,Tables!H$1:J$95,3,FALSE)),IF(AO318=1,VLOOKUP(F318,Tables!Q$1:S$137,2,FALSE),VLOOKUP(F318,Tables!Q$1:S$137,3,FALSE)))))","v":""},"","","","","","","","","",null,"","","","","",""]
["","","","","","","","","","",{"$f":"IF(A319=\"\",\"\",IF(OR(I319=1,I319=\"S\"),IF(VLOOKUP(J319,Tables!E$1:F$50,2,FALSE)=1,IF(MOD(BE319,2)=1,1,2),IF(MOD(BE319,2)=1,2,1)),IF(MOD(BE319,2)=1,1,2)))","v":""},"","",null,null,null,"","","","","","","","","","","","","","","","","","","","","","","","","",{"$f":"IF(AN319=\"\",\"\",IF(I319=0,IF(AO319=1,VLOOKUP(F319,Tables!A$1:C$18,2,FALSE),VLOOKUP(F319,Tables!A$1:C$18,3,FALSE)),IF(I319=1, IF(AO319=1,VLOOKUP(F319,Tables!H$1:J$95,2,FALSE),VLOOKUP(F319,Tables!H$1:J$95,3,FALSE)),IF(AO319=1,VLOOKUP(F319,Tables!Q$1:S$137,2,FALSE),VLOOKUP(F319,Tables!Q$1:S$137,3,FALSE)))))","v":""},"","","","","","","","","",null,"","","","","",""]
["","","","","","","","","","",{"$f":"IF(A320=\"\",\"\",IF(OR(I320=1,I320=\"S\"),IF(VLOOKUP(J320,Tables!E$1:F$50,2,FALSE)=1,IF(MOD(BE320,2)=1,1,2),IF(MOD(BE320,2)=1,2,1)),IF(MOD(BE320,2)=1,1,2)))","v":""},"","",null,null,null,"","","","","","","","","","","","","","","","","","","","","","","","","",{"$f":"IF(AN320=\"\",\"\",IF(I320=0,IF(AO320=1,VLOOKUP(F320,Tables!A$1:C$18,2,FALSE),VLOOKUP(F320,Tables!A$1:C$18,3,FALSE)),IF(I320=1, IF(AO320=1,VLOOKUP(F320,Tables!H$1:J$95,2,FALSE),VLOOKUP(F320,Tables!H$1:J$95,3,FALSE)),IF(AO320=1,VLOOKUP(F320,Tables!Q$1:S$137,2,FALSE),VLOOKUP(F320,Tables!Q$1:S$137,3,FALSE)))))","v":""},"","","","","","","","","",null,"","","","","",""]
["","","","","","","","","","",{"$f":"IF(A321=\"\",\"\",IF(OR(I321=1,I321=\"S\"),IF(VLOOKUP(J321,Tables!E$1:F$50,2,FALSE)=1,IF(MOD(BE321,2)=1,1,2),IF(MOD(BE321,2)=1,2,1)),IF(MOD(BE321,2)=1,1,2)))","v":""},"","",null,null,null,"","","","","","","","","","","","","","","","","","","","","","","","","",{"$f":"IF(AN321=\"\",\"\",IF(I321=0,IF(AO321=1,VLOOKUP(F321,Tables!A$1:C$18,2,FALSE),VLOOKUP(F321,Tables!A$1:C$18,3,FALSE)),IF(I321=1, IF(AO321=1,VLOOKUP(F321,Tables!H$1:J$95,2,FALSE),VLOOKUP(F321,Tables!H$1:J$95,3,FALSE)),IF(AO321=1,VLOOKUP(F321,Tables!Q$1:S$137,2,FALSE),VLOOKUP(F321,Tables!Q$1:S$137,3,FALSE)))))","v":""},"","","","","","","","","",null,"","","","","",""]
["","","","","","","","","","",{"$f":"IF(A322=\"\",\"\",IF(OR(I322=1,I322=\"S\"),IF(VLOOKUP(J322,Tables!E$1:F$50,2,FALSE)=1,IF(MOD(BE322,2)=1,1,2),IF(MOD(BE322,2)=1,2,1)),IF(MOD(BE322,2)=1,1,2)))","v":""},"","",null,null,null,"","","","","","","","","","","","","","","","","","","","","","","","","",{"$f":"IF(AN322=\"\",\"\",IF(I322=0,IF(AO322=1,VLOOKUP(F322,Tables!A$1:C$18,2,FALSE),VLOOKUP(F322,Tables!A$1:C$18,3,FALSE)),IF(I322=1, IF(AO322=1,VLOOKUP(F322,Tables!H$1:J$95,2,FALSE),VLOOKUP(F322,Tables!H$1:J$95,3,FALSE)),IF(AO322=1,VLOOKUP(F322,Tables!Q$1:S$137,2,FALSE),VLOOKUP(F322,Tables!Q$1:S$137,3,FALSE)))))","v":""},"","","","","","","","","",null,"","","","","",""]
["","","","","","","","","","",{"$f":"IF(A323=\"\",\"\",IF(OR(I323=1,I323=\"S\"),IF(VLOOKUP(J323,Tables!E$1:F$50,2,FALSE)=1,IF(MOD(BE323,2)=1,1,2),IF(MOD(BE323,2)=1,2,1)),IF(MOD(BE323,2)=1,1,2)))","v":""},"","",null,null,null,"","","","","","","","","","","","","","","","","","","","","","","","","",{"$f":"IF(AN323=\"\",\"\",IF(I323=0,IF(AO323=1,VLOOKUP(F323,Tables!A$1:C$18,2,FALSE),VLOOKUP(F323,Tables!A$1:C$18,3,FALSE)),IF(I323=1, IF(AO323=1,VLOOKUP(F323,Tables!H$1:J$95,2,FALSE),VLOOKUP(F323,Tables!H$1:J$95,3,FALSE)),IF(AO323=1,VLOOKUP(F323,Tables!Q$1:S$137,2,FALSE),VLOOKUP(F323,Tables!Q$1:S$137,3,FALSE)))))","v":""},"","","","","","","","","",null,"","","","","",""]
["","","","","","","","","","",{"$f":"IF(A324=\"\",\"\",IF(OR(I324=1,I324=\"S\"),IF(VLOOKUP(J324,Tables!E$1:F$50,2,FALSE)=1,IF(MOD(BE324,2)=1,1,2),IF(MOD(BE324,2)=1,2,1)),IF(MOD(BE324,2)=1,1,2)))","v":""},"","",null,null,null,"","","","","","","","","","","","","","","","","","","","","","","","","",{"$f":"IF(AN324=\"\",\"\",IF(I324=0,IF(AO324=1,VLOOKUP(F324,Tables!A$1:C$18,2,FALSE),VLOOKUP(F324,Tables!A$1:C$18,3,FALSE)),IF(I324=1, IF(AO324=1,VLOOKUP(F324,Tables!H$1:J$95,2,FALSE),VLOOKUP(F324,Tables!H$1:J$95,3,FALSE)),IF(AO324=1,VLOOKUP(F324,Tables!Q$1:S$137,2,FALSE),VLOOKUP(F324,Tables!Q$1:S$137,3,FALSE)))))","v":""},"","","","","","","","","",null,"","","","","",""]
["","","","","","","","","","",{"$f":"IF(A325=\"\",\"\",IF(OR(I325=1,I325=\"S\"),IF(VLOOKUP(J325,Tables!E$1:F$50,2,FALSE)=1,IF(MOD(BE325,2)=1,1,2),IF(MOD(BE325,2)=1,2,1)),IF(MOD(BE325,2)=1,1,2)))","v":""},"","",null,null,null,"","","","","","","","","","","","","","","","","","","","","","","","","",{"$f":"IF(AN325=\"\",\"\",IF(I325=0,IF(AO325=1,VLOOKUP(F325,Tables!A$1:C$18,2,FALSE),VLOOKUP(F325,Tables!A$1:C$18,3,FALSE)),IF(I325=1, IF(AO325=1,VLOOKUP(F325,Tables!H$1:J$95,2,FALSE),VLOOKUP(F325,Tables!H$1:J$95,3,FALSE)),IF(AO325=1,VLOOKUP(F325,Tables!Q$1:S$137,2,FALSE),VLOOKUP(F325,Tables!Q$1:S$137,3,FALSE)))))","v":""},"","","","","","","","","",null,"","","","","",""]
["","","","","","","","","","",{"$f":"IF(A326=\"\",\"\",IF(OR(I326=1,I326=\"S\"),IF(VLOOKUP(J326,Tables!E$1:F$50,2,FALSE)=1,IF(MOD(BE326,2)=1,1,2),IF(MOD(BE326,2)=1,2,1)),IF(MOD(BE326,2)=1,1,2)))","v":""},"","",null,null,null,"","","","","","","","","","","","","","","","","","","","","","","","","",{"$f":"IF(AN326=\"\",\"\",IF(I326=0,IF(AO326=1,VLOOKUP(F326,Tables!A$1:C$18,2,FALSE),VLOOKUP(F326,Tables!A$1:C$18,3,FALSE)),IF(I326=1, IF(AO326=1,VLOOKUP(F326,Tables!H$1:J$95,2,FALSE),VLOOKUP(F326,Tables!H$1:J$95,3,FALSE)),IF(AO326=1,VLOOKUP(F326,Tables!Q$1:S$137,2,FALSE),VLOOKUP(F326,Tables!Q$1:S$137,3,FALSE)))))","v":""},"","","",{"$f":"IF(AN326=\"\",\"\",IF(AND(AR326>5,(AR326-AS326)>1),1,IF(AND(AS326>5,(AS326-AR326)>1),2,IF(AND(H326=1,AR326=$J$14),1,IF(AND(H326=1,AS326=$J$14),2,IF(AND(I326=\"S\",AR326=1),1,IF(AND(I326=\"S\",AS326=1),2,0)))))))","v":""},"","","","","",null,"","","","","",""]
["","","","","","","","","","",{"$f":"IF(A327=\"\",\"\",IF(OR(I327=1,I327=\"S\"),IF(VLOOKUP(J327,Tables!E$1:F$50,2,FALSE)=1,IF(MOD(BE327,2)=1,1,2),IF(MOD(BE327,2)=1,2,1)),IF(MOD(BE327,2)=1,1,2)))","v":""},"","",null,null,null,"","","","","","","","","","","","","","","","","","","","","","","","","",{"$f":"IF(AN327=\"\",\"\",IF(I327=0,IF(AO327=1,VLOOKUP(F327,Tables!A$1:C$18,2,FALSE),VLOOKUP(F327,Tables!A$1:C$18,3,FALSE)),IF(I327=1, IF(AO327=1,VLOOKUP(F327,Tables!H$1:J$95,2,FALSE),VLOOKUP(F327,Tables!H$1:J$95,3,FALSE)),IF(AO327=1,VLOOKUP(F327,Tables!Q$1:S$137,2,FALSE),VLOOKUP(F327,Tables!Q$1:S$137,3,FALSE)))))","v":""},"","","","","","","","","",null,"","","","","",""]
["","","","","","","","","","",{"$f":"IF(A328=\"\",\"\",IF(OR(I328=1,I328=\"S\"),IF(VLOOKUP(J328,Tables!E$1:F$50,2,FALSE)=1,IF(MOD(BE328,2)=1,1,2),IF(MOD(BE328,2)=1,2,1)),IF(MOD(BE328,2)=1,1,2)))","v":""},{"$f":"IF(A328=\"\",\"\",IF(MOD(K328,2)=1,2,1))","v":""},"",null,null,null,"","","","","","","","","","","","","","","","","","","","","","","","","",{"$f":"IF(AN328=\"\",\"\",IF(I328=0,IF(AO328=1,VLOOKUP(F328,Tables!A$1:C$18,2,FALSE),VLOOKUP(F328,Tables!A$1:C$18,3,FALSE)),IF(I328=1, IF(AO328=1,VLOOKUP(F328,Tables!H$1:J$95,2,FALSE),VLOOKUP(F328,Tables!H$1:J$95,3,FALSE)),IF(AO328=1,VLOOKUP(F328,Tables!Q$1:S$137,2,FALSE),VLOOKUP(F328,Tables!Q$1:S$137,3,FALSE)))))","v":""},"","","","","","","","","",null,"","","","","",""]
["","","","","","","","","","",{"$f":"IF(A329=\"\",\"\",IF(OR(I329=1,I329=\"S\"),IF(VLOOKUP(J329,Tables!E$1:F$50,2,FALSE)=1,IF(MOD(BE329,2)=1,1,2),IF(MOD(BE329,2)=1,2,1)),IF(MOD(BE329,2)=1,1,2)))","v":""},"","",null,null,null,"","","","","","","","","","","","","","","","","","","","","","","","","",{"$f":"IF(AN329=\"\",\"\",IF(I329=0,IF(AO329=1,VLOOKUP(F329,Tables!A$1:C$18,2,FALSE),VLOOKUP(F329,Tables!A$1:C$18,3,FALSE)),IF(I329=1, IF(AO329=1,VLOOKUP(F329,Tables!H$1:J$95,2,FALSE),VLOOKUP(F329,Tables!H$1:J$95,3,FALSE)),IF(AO329=1,VLOOKUP(F329,Tables!Q$1:S$137,2,FALSE),VLOOKUP(F329,Tables!Q$1:S$137,3,FALSE)))))","v":""},"","","","","","","","","",null,"","","","","",""]
["","","","","","","","","","",{"$f":"IF(A330=\"\",\"\",IF(OR(I330=1,I330=\"S\"),IF(VLOOKUP(J330,Tables!E$1:F$50,2,FALSE)=1,IF(MOD(BE330,2)=1,1,2),IF(MOD(BE330,2)=1,2,1)),IF(MOD(BE330,2)=1,1,2)))","v":""},"","",null,null,null,"","","","","","","","","","","","","","","","","","","","","","","","","",{"$f":"IF(AN330=\"\",\"\",IF(I330=0,IF(AO330=1,VLOOKUP(F330,Tables!A$1:C$18,2,FALSE),VLOOKUP(F330,Tables!A$1:C$18,3,FALSE)),IF(I330=1, IF(AO330=1,VLOOKUP(F330,Tables!H$1:J$95,2,FALSE),VLOOKUP(F330,Tables!H$1:J$95,3,FALSE)),IF(AO330=1,VLOOKUP(F330,Tables!Q$1:S$137,2,FALSE),VLOOKUP(F330,Tables!Q$1:S$137,3,FALSE)))))","v":""},"","","","","","","","","",null,"","","","","",""]
["","","","","","","","","","",{"$f":"IF(A331=\"\",\"\",IF(OR(I331=1,I331=\"S\"),IF(VLOOKUP(J331,Tables!E$1:F$50,2,FALSE)=1,IF(MOD(BE331,2)=1,1,2),IF(MOD(BE331,2)=1,2,1)),IF(MOD(BE331,2)=1,1,2)))","v":""},"","",null,null,null,"","","","","","","","","","","","","","","","","","","","","","","","","",{"$f":"IF(AN331=\"\",\"\",IF(I331=0,IF(AO331=1,VLOOKUP(F331,Tables!A$1:C$18,2,FALSE),VLOOKUP(F331,Tables!A$1:C$18,3,FALSE)),IF(I331=1, IF(AO331=1,VLOOKUP(F331,Tables!H$1:J$95,2,FALSE),VLOOKUP(F331,Tables!H$1:J$95,3,FALSE)),IF(AO331=1,VLOOKUP(F331,Tables!Q$1:S$137,2,FALSE),VLOOKUP(F331,Tables!Q$1:S$137,3,FALSE)))))","v":""},"","","","","","","","","",null,"","","","","",""]
["","","","","","","","","","",{"$f":"IF(A332=\"\",\"\",IF(OR(I332=1,I332=\"S\"),IF(VLOOKUP(J332,Tables!E$1:F$50,2,FALSE)=1,IF(MOD(BE332,2)=1,1,2),IF(MOD(BE332,2)=1,2,1)),IF(MOD(BE332,2)=1,1,2)))","v":""},"","",null,null,null,"","","","","","","","","","","","","","","","","","","","","","","","","",{"$f":"IF(AN332=\"\",\"\",IF(I332=0,IF(AO332=1,VLOOKUP(F332,Tables!A$1:C$18,2,FALSE),VLOOKUP(F332,Tables!A$1:C$18,3,FALSE)),IF(I332=1, IF(AO332=1,VLOOKUP(F332,Tables!H$1:J$95,2,FALSE),VLOOKUP(F332,Tables!H$1:J$95,3,FALSE)),IF(AO332=1,VLOOKUP(F332,Tables!Q$1:S$137,2,FALSE),VLOOKUP(F332,Tables!Q$1:S$137,3,FALSE)))))","v":""},"","","","","","","","","",null,"","","","","",""]
["","","","","","","","","","",{"$f":"IF(A333=\"\",\"\",IF(OR(I333=1,I333=\"S\"),IF(VLOOKUP(J333,Tables!E$1:F$50,2,FALSE)=1,IF(MOD(BE333,2)=1,1,2),IF(MOD(BE333,2)=1,2,1)),IF(MOD(BE333,2)=1,1,2)))","v":""},"","",null,null,null,"","","","","","","","","","","","","","","","","","","","","","","","","",{"$f":"IF(AN333=\"\",\"\",IF(I333=0,IF(AO333=1,VLOOKUP(F333,Tables!A$1:C$18,2,FALSE),VLOOKUP(F333,Tables!A$1:C$18,3,FALSE)),IF(I333=1, IF(AO333=1,VLOOKUP(F333,Tables!H$1:J$95,2,FALSE),VLOOKUP(F333,Tables!H$1:J$95,3,FALSE)),IF(AO333=1,VLOOKUP(F333,Tables!Q$1:S$137,2,FALSE),VLOOKUP(F333,Tables!Q$1:S$137,3,FALSE)))))","v":""},"","","","","","","","","",null,"","","","","",""]
["","","","","","","","","","",{"$f":"IF(A334=\"\",\"\",IF(OR(I334=1,I334=\"S\"),IF(VLOOKUP(J334,Tables!E$1:F$50,2,FALSE)=1,IF(MOD(BE334,2)=1,1,2),IF(MOD(BE334,2)=1,2,1)),IF(MOD(BE334,2)=1,1,2)))","v":""},"","",null,null,null,"","","","","","","","","","","","","","","","","","","","","","","","","",{"$f":"IF(AN334=\"\",\"\",IF(I334=0,IF(AO334=1,VLOOKUP(F334,Tables!A$1:C$18,2,FALSE),VLOOKUP(F334,Tables!A$1:C$18,3,FALSE)),IF(I334=1, IF(AO334=1,VLOOKUP(F334,Tables!H$1:J$95,2,FALSE),VLOOKUP(F334,Tables!H$1:J$95,3,FALSE)),IF(AO334=1,VLOOKUP(F334,Tables!Q$1:S$137,2,FALSE),VLOOKUP(F334,Tables!Q$1:S$137,3,FALSE)))))","v":""},"","","","","","","","","",null,"","","","","",""]
["","","","","","","","","","",{"$f":"IF(A335=\"\",\"\",IF(OR(I335=1,I335=\"S\"),IF(VLOOKUP(J335,Tables!E$1:F$50,2,FALSE)=1,IF(MOD(BE335,2)=1,1,2),IF(MOD(BE335,2)=1,2,1)),IF(MOD(BE335,2)=1,1,2)))","v":""},"","",null,null,null,"","","","","","","","","","","","","","","","","","","","","","","","","",{"$f":"IF(AN335=\"\",\"\",IF(I335=0,IF(AO335=1,VLOOKUP(F335,Tables!A$1:C$18,2,FALSE),VLOOKUP(F335,Tables!A$1:C$18,3,FALSE)),IF(I335=1, IF(AO335=1,VLOOKUP(F335,Tables!H$1:J$95,2,FALSE),VLOOKUP(F335,Tables!H$1:J$95,3,FALSE)),IF(AO335=1,VLOOKUP(F335,Tables!Q$1:S$137,2,FALSE),VLOOKUP(F335,Tables!Q$1:S$137,3,FALSE)))))","v":""},"","","","","","","","","",null,"","","","","",""]
["","","","","","","","","","",{"$f":"IF(A336=\"\",\"\",IF(OR(I336=1,I336=\"S\"),IF(VLOOKUP(J336,Tables!E$1:F$50,2,FALSE)=1,IF(MOD(BE336,2)=1,1,2),IF(MOD(BE336,2)=1,2,1)),IF(MOD(BE336,2)=1,1,2)))","v":""},"","",null,null,null,"","","","","","","","","","","","","","","","","","","","","","","","","",{"$f":"IF(AN336=\"\",\"\",IF(I336=0,IF(AO336=1,VLOOKUP(F336,Tables!A$1:C$18,2,FALSE),VLOOKUP(F336,Tables!A$1:C$18,3,FALSE)),IF(I336=1, IF(AO336=1,VLOOKUP(F336,Tables!H$1:J$95,2,FALSE),VLOOKUP(F336,Tables!H$1:J$95,3,FALSE)),IF(AO336=1,VLOOKUP(F336,Tables!Q$1:S$137,2,FALSE),VLOOKUP(F336,Tables!Q$1:S$137,3,FALSE)))))","v":""},"","","","","","","","","",null,"","","","","",""]
["","","","","","","","","","",{"$f":"IF(A337=\"\",\"\",IF(OR(I337=1,I337=\"S\"),IF(VLOOKUP(J337,Tables!E$1:F$50,2,FALSE)=1,IF(MOD(BE337,2)=1,1,2),IF(MOD(BE337,2)=1,2,1)),IF(MOD(BE337,2)=1,1,2)))","v":""},"","",null,null,null,"","","","","","","","","","","","","","","","","","","","","","","","","",{"$f":"IF(AN337=\"\",\"\",IF(I337=0,IF(AO337=1,VLOOKUP(F337,Tables!A$1:C$18,2,FALSE),VLOOKUP(F337,Tables!A$1:C$18,3,FALSE)),IF(I337=1, IF(AO337=1,VLOOKUP(F337,Tables!H$1:J$95,2,FALSE),VLOOKUP(F337,Tables!H$1:J$95,3,FALSE)),IF(AO337=1,VLOOKUP(F337,Tables!Q$1:S$137,2,FALSE),VLOOKUP(F337,Tables!Q$1:S$137,3,FALSE)))))","v":""},"","","","","","","","","",null,"","","","","",""]
["","","","","","","",{"$f":"IF(A338=\"\",\"\",IF(OR(B$14=1,B$14=\"S\",AND(B$14<>\"V\",(B338+C338+1)<B$13)),1,0))","v":""},{"$f":"IF(A338=\"\",\"\",IF(AND(D338=$I$14,E338=$I$14,H338=1),1,IF(AND(B$14=\"S\",(B338+C338+1)=B$13),\"S\",0)))","v":""},{"$f":"IF(OR(I338=1,I338=\"S\"),IF(F338=\"0-0\",1,J337+1),\"\")","v":""},{"$f":"IF(A338=\"\",\"\",IF(OR(I338=1,I338=\"S\"),IF(VLOOKUP(J338,Tables!E$1:F$50,2,FALSE)=1,IF(MOD(BE338,2)=1,1,2),IF(MOD(BE338,2)=1,2,1)),IF(MOD(BE338,2)=1,1,2)))","v":""},"",{"$f":"IF(A338=\"\",\"\",IF(K338=1,I$1,I$2))","v":""},null,null,null,"","","","","","","","","","","","","","","","","","",{"$f":"IF(N338=\"\",\"\",IF(AND(W338=0,X338=0),TRUE,FALSE))","v":""},"","","",{"$f":"IF(N338=\"\",\"\",LEN(AL338))","v":""},{"$f":"IF(OR(N338=\"P\",N338=\"R\"),L338,IF(OR(N338=\"Q\",N338=\"S\"),K338,IF(AND(AC338=\"\",OR(AD338=FALSE,AD338=\"\"),OR(AE338=FALSE,AE338=\"\"),OR(AI338=FALSE,AI338=\"\")),\"\",IF(OR(AD338=TRUE,AE338=TRUE,AND((MOD(AM338,2)=0),AF338=TRUE),AND((MOD(AM338,2)=1),OR(AG338=TRUE,AH338=TRUE))),K338,L338))))","v":""},{"$f":"IF(AN338=\"\",\"\",IF(AN338=K338,1,0))","v":""},{"$f":"IF(AN338=\"\",\"\",IF(I338=0,IF(AO338=1,VLOOKUP(F338,Tables!A$1:C$18,2,FALSE),VLOOKUP(F338,Tables!A$1:C$18,3,FALSE)),IF(I338=1, IF(AO338=1,VLOOKUP(F338,Tables!H$1:J$95,2,FALSE),VLOOKUP(F338,Tables!H$1:J$95,3,FALSE)),IF(AO338=1,VLOOKUP(F338,Tables!Q$1:S$137,2,FALSE),VLOOKUP(F338,Tables!Q$1:S$137,3,FALSE)))))","v":""},"",{"$f":"IF(AN338=\"\",\"\",IF(AQ338=1,D338+1,D338))","v":""},{"$f":"IF(AN338=\"\",\"\",IF(AQ338=2,E338+1,E338))","v":""},"",{"$f":"IF(AN338=\"\",\"\",IF(AT338=1,B338+1,B338))","v":""},{"$f":"IF(AN338=\"\",\"\",IF(AT338=2,C338+1,C338))","v":""},"","","",null,{"$f":"IF(AA338=\"\",\"\",SUM(B338,C338,1))","v":""},{"$f":"IF(AA338=\"\",\"\",\"SET \"&BA338&\": \"&D338&\"-\"&E338&\", \"&F338)","v":""},{"$f":"IF(AA338=\"\",\"\",IF(AT338>0,(AU338+AV338),IF(AND(NOT(D339=\"\"),D340=\"\"),AU338+AV338+1,\"\")))","v":""},"","",""]
[{"$f":"IF(AN338=\"\",\"\",A338+1)","v":""},{"$f":"IF(A339=\"\",\"\",AU338)","v":""},{"$f":"IF(A339=\"\",\"\",AV338)","v":""},{"$f":"IF(A339=\"\",\"\",IF(AT338=0,AR338,0))","v":""},{"$f":"IF(A339=\"\",\"\",IF(AT338=0,AS338,0))","v":""},{"$f":"IF(A339=\"\",\"\",IF(AW338=1,AX338,IF(AP338=\"GM\",\"0-0\",AP338)))","v":""},{"$f":"IF(BE339=\"\",\"\",BE339&\" (\"&BF339&\")\")","v":""},"","","",{"$f":"IF(A339=\"\",\"\",IF(OR(I339=1,I339=\"S\"),IF(VLOOKUP(J339,Tables!E$1:F$50,2,FALSE)=1,IF(MOD(BE339,2)=1,1,2),IF(MOD(BE339,2)=1,2,1)),IF(MOD(BE339,2)=1,1,2)))","v":""},"","",null,null,null,{"$f":"IF(N339=\"\",\"\",SUBSTITUTE(N339, \"c\", \"\"))","v":""},{"$f":"SUBSTITUTE(O339, \"c\", \"\")","v":""},{"$f":"IF(N339=\"\",\"\",IF(MID(Q339,2,1)=\"+\",1,0))","v":""},{"$f":"IF(O339=\"\",\"\",IF(MID(R339,2,1)=\"+\",1,0))","v":""},{"$f":"IF(N339=\"\",\"\",IF(S339=1,SUBSTITUTE(Q339, \"+\", \"\",1),Q339))","v":""},{"$f":"IF(T339=1,SUBSTITUTE(R339, \"+\", \"\",1),R339)","v":""},{"$f":"IF(N339=\"\",\"\",IF(LEN(N339)=1,0,IF(ISERROR(FIND(MID(U339,2,1),\"wdnxge!VPQRS\"))=TRUE,1,0)))","v":""},{"$f":"IF(O339=\"\",\"\",IF(ISERROR(FIND(MID(V339,2,1),\"wdnxge!VPQRS\"))=TRUE,1,0))","v":""},{"$f":"IF(N339=\"\",\"\",IF(W339=0,0,IF(LEN(U339)>2,1,0)))","v":""},{"$f":"IF(N339=\"\",\"\",IF(X339=0,0,IF(LEN(V339)>2,1,0)))","v":""},{"$f":"IF(N339=\"\",\"\",IF(Y339=0,Q339,LEFT(U339,1)))","v":""},{"$f":"IF(N339=\"\",\"\",IF(Z339=0,V339,LEFT(V339,1)))","v":""},{"$f":"IF(N339=\"\",\"\",IF(Y339=1,RIGHT(U339,(LEN(U339)-1)),IF(Z339=1,RIGHT(V339,(LEN(V339)-1)),\"\")))","v":""},{"$f":"IF(AA339=\"\",\"\",OR(IF(ISERR(FIND(\"*\",AA339)),FALSE,TRUE), IF(ISERR(FIND(\"*\",AB339)),FALSE,TRUE)))","v":""},{"$f":"IF(AA339=\"\",\"\",OR(IF(ISERR(FIND(\"#\",AA339)),FALSE,TRUE), IF(ISERR(FIND(\"#\",AB339)),FALSE,TRUE)))","v":""},{"$f":"IF(AA339=\"\",\"\",IF(ISERR(FIND(\"*\",AC339)),FALSE,TRUE))","v":""},{"$f":"IF(AA339=\"\",\"\",IF(ISERR(FIND(\"#\",AC339)),FALSE,TRUE))","v":""},{"$f":"IF(AA339=\"\",\"\",IF(ISERR(FIND(\"@\",AC339)),FALSE,TRUE))","v":""},"",{"$f":"SUBSTITUTE(SUBSTITUTE(SUBSTITUTE(SUBSTITUTE(SUBSTITUTE(SUBSTITUTE(SUBSTITUTE(SUBSTITUTE(AC339, \"-\", \"\"), \"=\", \"\"), \"@\", \"\"), \"#\", \"\"), \"*\", \"\"), \";\", \"\"), \"+\", \"\"), \"^\", \"\")","v":""},{"$f":"SUBSTITUTE(SUBSTITUTE(SUBSTITUTE(SUBSTITUTE(SUBSTITUTE(SUBSTITUTE(AJ339, \"d\", \"\"), \"w\", \"\"), \"x\", \"\"), \"e\", \"\"), \"n\", \"\"), \"!\", \"\")","v":""},{"$f":"SUBSTITUTE(SUBSTITUTE(SUBSTITUTE(SUBSTITUTE(SUBSTITUTE(SUBSTITUTE(AK339, \"1\", \"\"), \"2\", \"\"), \"3\", \"\"), \"7\", \"\"), \"8\", \"\"), \"9\", \"\")","v":""},"","","",{"$f":"IF(AN339=\"\",\"\",IF(I339=0,IF(AO339=1,VLOOKUP(F339,Tables!A$1:C$18,2,FALSE),VLOOKUP(F339,Tables!A$1:C$18,3,FALSE)),IF(I339=1, IF(AO339=1,VLOOKUP(F339,Tables!H$1:J$95,2,FALSE),VLOOKUP(F339,Tables!H$1:J$95,3,FALSE)),IF(AO339=1,VLOOKUP(F339,Tables!Q$1:S$137,2,FALSE),VLOOKUP(F339,Tables!Q$1:S$137,3,FALSE)))))","v":""},{"$f":"IF(AN339=\"\",\"\",IF(AP339=\"GM\",AN339,0))","v":""},"","","","","",{"$f":"IF(J339=\"\",\"\",IF(AND(OR(I339=1,I339=\"S\"),MOD(J339,2)=1,NOT(AP339=\"GM\")),1,\"\"))","v":""},{"$f":"IF(AW339=1,CONCATENATE(RIGHT(AP339,(LEN(AP339)-FIND(\"-\",AP339))),\"-\",LEFT(AP339,FIND(\"-\",AP339)-1)),\"\")","v":""},{"$f":"IF(AA339=\"\",\"\",IF(OR(RIGHT(AC339,1)=\"@\",RIGHT(AC339,1)=\"#\"),AM339,IF(AI339=TRUE,0,AM339+1)))","v":""},null,"","","","",{"$f":"IF(A339=\"\",\"\",IF(AP338=\"GM\",BE338+1,BE338))","v":""},{"$f":"IF(A339=\"\",\"\",IF(AQ338=0,BF338+1,1))","v":""}]
["","","","","","","","","","",{"$f":"IF(A340=\"\",\"\",IF(OR(I340=1,I340=\"S\"),IF(VLOOKUP(J340,Tables!E$1:F$50,2,FALSE)=1,IF(MOD(BE340,2)=1,1,2),IF(MOD(BE340,2)=1,2,1)),IF(MOD(BE340,2)=1,1,2)))","v":""},"","",null,null,null,"","","","","","","","","","","","","","","","","","","","","","","","","",{"$f":"IF(AN340=\"\",\"\",IF(I340=0,IF(AO340=1,VLOOKUP(F340,Tables!A$1:C$18,2,FALSE),VLOOKUP(F340,Tables!A$1:C$18,3,FALSE)),IF(I340=1, IF(AO340=1,VLOOKUP(F340,Tables!H$1:J$95,2,FALSE),VLOOKUP(F340,Tables!H$1:J$95,3,FALSE)),IF(AO340=1,VLOOKUP(F340,Tables!Q$1:S$137,2,FALSE),VLOOKUP(F340,Tables!Q$1:S$137,3,FALSE)))))","v":""},"","","","","","","","","",null,"","","","","",""]
["","","","","","","","","","",{"$f":"IF(A341=\"\",\"\",IF(OR(I341=1,I341=\"S\"),IF(VLOOKUP(J341,Tables!E$1:F$50,2,FALSE)=1,IF(MOD(BE341,2)=1,1,2),IF(MOD(BE341,2)=1,2,1)),IF(MOD(BE341,2)=1,1,2)))","v":""},"","",null,null,null,"","","","","","","","","","","","","","","","","","","","","","","","","",{"$f":"IF(AN341=\"\",\"\",IF(I341=0,IF(AO341=1,VLOOKUP(F341,Tables!A$1:C$18,2,FALSE),VLOOKUP(F341,Tables!A$1:C$18,3,FALSE)),IF(I341=1, IF(AO341=1,VLOOKUP(F341,Tables!H$1:J$95,2,FALSE),VLOOKUP(F341,Tables!H$1:J$95,3,FALSE)),IF(AO341=1,VLOOKUP(F341,Tables!Q$1:S$137,2,FALSE),VLOOKUP(F341,Tables!Q$1:S$137,3,FALSE)))))","v":""},"","","","","","","","","",null,"","","","","",""]
["","","","","","","","","","",{"$f":"IF(A342=\"\",\"\",IF(OR(I342=1,I342=\"S\"),IF(VLOOKUP(J342,Tables!E$1:F$50,2,FALSE)=1,IF(MOD(BE342,2)=1,1,2),IF(MOD(BE342,2)=1,2,1)),IF(MOD(BE342,2)=1,1,2)))","v":""},"","",null,null,null,"","","","","","","","","","","","","","","","","","","","","","","","","",{"$f":"IF(AN342=\"\",\"\",IF(I342=0,IF(AO342=1,VLOOKUP(F342,Tables!A$1:C$18,2,FALSE),VLOOKUP(F342,Tables!A$1:C$18,3,FALSE)),IF(I342=1, IF(AO342=1,VLOOKUP(F342,Tables!H$1:J$95,2,FALSE),VLOOKUP(F342,Tables!H$1:J$95,3,FALSE)),IF(AO342=1,VLOOKUP(F342,Tables!Q$1:S$137,2,FALSE),VLOOKUP(F342,Tables!Q$1:S$137,3,FALSE)))))","v":""},"","","","","","","","","",null,"","","","","",""]
["","","","","","","","","","",{"$f":"IF(A343=\"\",\"\",IF(OR(I343=1,I343=\"S\"),IF(VLOOKUP(J343,Tables!E$1:F$50,2,FALSE)=1,IF(MOD(BE343,2)=1,1,2),IF(MOD(BE343,2)=1,2,1)),IF(MOD(BE343,2)=1,1,2)))","v":""},"","",null,null,null,"","","","","","","","","","","","","","","","","","","","","","","","","",{"$f":"IF(AN343=\"\",\"\",IF(I343=0,IF(AO343=1,VLOOKUP(F343,Tables!A$1:C$18,2,FALSE),VLOOKUP(F343,Tables!A$1:C$18,3,FALSE)),IF(I343=1, IF(AO343=1,VLOOKUP(F343,Tables!H$1:J$95,2,FALSE),VLOOKUP(F343,Tables!H$1:J$95,3,FALSE)),IF(AO343=1,VLOOKUP(F343,Tables!Q$1:S$137,2,FALSE),VLOOKUP(F343,Tables!Q$1:S$137,3,FALSE)))))","v":""},"","","","","","","","","",null,"","","","","",""]
["","","","","","","","","","",{"$f":"IF(A344=\"\",\"\",IF(OR(I344=1,I344=\"S\"),IF(VLOOKUP(J344,Tables!E$1:F$50,2,FALSE)=1,IF(MOD(BE344,2)=1,1,2),IF(MOD(BE344,2)=1,2,1)),IF(MOD(BE344,2)=1,1,2)))","v":""},"","",null,null,null,"","","","","","","","","","","","","","","","","","","","","","","","","",{"$f":"IF(AN344=\"\",\"\",IF(I344=0,IF(AO344=1,VLOOKUP(F344,Tables!A$1:C$18,2,FALSE),VLOOKUP(F344,Tables!A$1:C$18,3,FALSE)),IF(I344=1, IF(AO344=1,VLOOKUP(F344,Tables!H$1:J$95,2,FALSE),VLOOKUP(F344,Tables!H$1:J$95,3,FALSE)),IF(AO344=1,VLOOKUP(F344,Tables!Q$1:S$137,2,FALSE),VLOOKUP(F344,Tables!Q$1:S$137,3,FALSE)))))","v":""},"","","","","","","","","",null,"","","","","",""]
["","","","","","","","","","",{"$f":"IF(A345=\"\",\"\",IF(OR(I345=1,I345=\"S\"),IF(VLOOKUP(J345,Tables!E$1:F$50,2,FALSE)=1,IF(MOD(BE345,2)=1,1,2),IF(MOD(BE345,2)=1,2,1)),IF(MOD(BE345,2)=1,1,2)))","v":""},"","",null,null,null,"","","","","","","","","","","","","","","","","","","","","","","","","",{"$f":"IF(AN345=\"\",\"\",IF(I345=0,IF(AO345=1,VLOOKUP(F345,Tables!A$1:C$18,2,FALSE),VLOOKUP(F345,Tables!A$1:C$18,3,FALSE)),IF(I345=1, IF(AO345=1,VLOOKUP(F345,Tables!H$1:J$95,2,FALSE),VLOOKUP(F345,Tables!H$1:J$95,3,FALSE)),IF(AO345=1,VLOOKUP(F345,Tables!Q$1:S$137,2,FALSE),VLOOKUP(F345,Tables!Q$1:S$137,3,FALSE)))))","v":""},"","","","","","","","","",null,"","","","","",""]
["","","","","","","","","","",{"$f":"IF(A346=\"\",\"\",IF(OR(I346=1,I346=\"S\"),IF(VLOOKUP(J346,Tables!E$1:F$50,2,FALSE)=1,IF(MOD(BE346,2)=1,1,2),IF(MOD(BE346,2)=1,2,1)),IF(MOD(BE346,2)=1,1,2)))","v":""},"","",null,null,null,"","","","","","","","","","","","","","","","","","","","","","","","","",{"$f":"IF(AN346=\"\",\"\",IF(I346=0,IF(AO346=1,VLOOKUP(F346,Tables!A$1:C$18,2,FALSE),VLOOKUP(F346,Tables!A$1:C$18,3,FALSE)),IF(I346=1, IF(AO346=1,VLOOKUP(F346,Tables!H$1:J$95,2,FALSE),VLOOKUP(F346,Tables!H$1:J$95,3,FALSE)),IF(AO346=1,VLOOKUP(F346,Tables!Q$1:S$137,2,FALSE),VLOOKUP(F346,Tables!Q$1:S$137,3,FALSE)))))","v":""},"","","","","","","","","",null,"","","","","",""]
["","","","","","","","","","",{"$f":"IF(A347=\"\",\"\",IF(OR(I347=1,I347=\"S\"),IF(VLOOKUP(J347,Tables!E$1:F$50,2,FALSE)=1,IF(MOD(BE347,2)=1,1,2),IF(MOD(BE347,2)=1,2,1)),IF(MOD(BE347,2)=1,1,2)))","v":""},"","",null,null,null,"","","","","","","","","","","","","","","","","","","","","","","","","",{"$f":"IF(AN347=\"\",\"\",IF(I347=0,IF(AO347=1,VLOOKUP(F347,Tables!A$1:C$18,2,FALSE),VLOOKUP(F347,Tables!A$1:C$18,3,FALSE)),IF(I347=1, IF(AO347=1,VLOOKUP(F347,Tables!H$1:J$95,2,FALSE),VLOOKUP(F347,Tables!H$1:J$95,3,FALSE)),IF(AO347=1,VLOOKUP(F347,Tables!Q$1:S$137,2,FALSE),VLOOKUP(F347,Tables!Q$1:S$137,3,FALSE)))))","v":""},"","","","","","","","","",null,"","","","","",""]
["","","","","","","","","","",{"$f":"IF(A348=\"\",\"\",IF(OR(I348=1,I348=\"S\"),IF(VLOOKUP(J348,Tables!E$1:F$50,2,FALSE)=1,IF(MOD(BE348,2)=1,1,2),IF(MOD(BE348,2)=1,2,1)),IF(MOD(BE348,2)=1,1,2)))","v":""},"","",null,null,null,"","","","","","","","","","","","","","","","","","","","","","","","","",{"$f":"IF(AN348=\"\",\"\",IF(I348=0,IF(AO348=1,VLOOKUP(F348,Tables!A$1:C$18,2,FALSE),VLOOKUP(F348,Tables!A$1:C$18,3,FALSE)),IF(I348=1, IF(AO348=1,VLOOKUP(F348,Tables!H$1:J$95,2,FALSE),VLOOKUP(F348,Tables!H$1:J$95,3,FALSE)),IF(AO348=1,VLOOKUP(F348,Tables!Q$1:S$137,2,FALSE),VLOOKUP(F348,Tables!Q$1:S$137,3,FALSE)))))","v":""},"","","","","","","","","",null,"","","","","",""]
["","","","","","","","","","",{"$f":"IF(A349=\"\",\"\",IF(OR(I349=1,I349=\"S\"),IF(VLOOKUP(J349,Tables!E$1:F$50,2,FALSE)=1,IF(MOD(BE349,2)=1,1,2),IF(MOD(BE349,2)=1,2,1)),IF(MOD(BE349,2)=1,1,2)))","v":""},"","",null,null,null,"","","","","","","","","","","","","","","","","","","","","","","","","",{"$f":"IF(AN349=\"\",\"\",IF(I349=0,IF(AO349=1,VLOOKUP(F349,Tables!A$1:C$18,2,FALSE),VLOOKUP(F349,Tables!A$1:C$18,3,FALSE)),IF(I349=1, IF(AO349=1,VLOOKUP(F349,Tables!H$1:J$95,2,FALSE),VLOOKUP(F349,Tables!H$1:J$95,3,FALSE)),IF(AO349=1,VLOOKUP(F349,Tables!Q$1:S$137,2,FALSE),VLOOKUP(F349,Tables!Q$1:S$137,3,FALSE)))))","v":""},"","","","","","","","","",null,"","","","","",""]
["","","","","","","","","","",{"$f":"IF(A350=\"\",\"\",IF(OR(I350=1,I350=\"S\"),IF(VLOOKUP(J350,Tables!E$1:F$50,2,FALSE)=1,IF(MOD(BE350,2)=1,1,2),IF(MOD(BE350,2)=1,2,1)),IF(MOD(BE350,2)=1,1,2)))","v":""},"","",null,null,null,"","","","","","","","","","","","","","","","","","","","","","","","","",{"$f":"IF(AN350=\"\",\"\",IF(I350=0,IF(AO350=1,VLOOKUP(F350,Tables!A$1:C$18,2,FALSE),VLOOKUP(F350,Tables!A$1:C$18,3,FALSE)),IF(I350=1, IF(AO350=1,VLOOKUP(F350,Tables!H$1:J$95,2,FALSE),VLOOKUP(F350,Tables!H$1:J$95,3,FALSE)),IF(AO350=1,VLOOKUP(F350,Tables!Q$1:S$137,2,FALSE),VLOOKUP(F350,Tables!Q$1:S$137,3,FALSE)))))","v":""},"","","","","","","","","",null,"","","","","",""]
["","","","","","","","","","",{"$f":"IF(A351=\"\",\"\",IF(OR(I351=1,I351=\"S\"),IF(VLOOKUP(J351,Tables!E$1:F$50,2,FALSE)=1,IF(MOD(BE351,2)=1,1,2),IF(MOD(BE351,2)=1,2,1)),IF(MOD(BE351,2)=1,1,2)))","v":""},"","",null,null,null,"","","","","","","","","","","","","","","","","","","","","","","","","",{"$f":"IF(AN351=\"\",\"\",IF(I351=0,IF(AO351=1,VLOOKUP(F351,Tables!A$1:C$18,2,FALSE),VLOOKUP(F351,Tables!A$1:C$18,3,FALSE)),IF(I351=1, IF(AO351=1,VLOOKUP(F351,Tables!H$1:J$95,2,FALSE),VLOOKUP(F351,Tables!H$1:J$95,3,FALSE)),IF(AO351=1,VLOOKUP(F351,Tables!Q$1:S$137,2,FALSE),VLOOKUP(F351,Tables!Q$1:S$137,3,FALSE)))))","v":""},"","","","","","","","","",null,"","","","","",""]
["","","","","","","","","","",{"$f":"IF(A352=\"\",\"\",IF(OR(I352=1,I352=\"S\"),IF(VLOOKUP(J352,Tables!E$1:F$50,2,FALSE)=1,IF(MOD(BE352,2)=1,1,2),IF(MOD(BE352,2)=1,2,1)),IF(MOD(BE352,2)=1,1,2)))","v":""},"","",null,null,null,"","","","","","","","","","","","","","","","","","","","","","","","","",{"$f":"IF(AN352=\"\",\"\",IF(I352=0,IF(AO352=1,VLOOKUP(F352,Tables!A$1:C$18,2,FALSE),VLOOKUP(F352,Tables!A$1:C$18,3,FALSE)),IF(I352=1, IF(AO352=1,VLOOKUP(F352,Tables!H$1:J$95,2,FALSE),VLOOKUP(F352,Tables!H$1:J$95,3,FALSE)),IF(AO352=1,VLOOKUP(F352,Tables!Q$1:S$137,2,FALSE),VLOOKUP(F352,Tables!Q$1:S$137,3,FALSE)))))","v":""},"","","","","","","","","",null,"","","","","",""]
["","","","","","","","","","",{"$f":"IF(A353=\"\",\"\",IF(OR(I353=1,I353=\"S\"),IF(VLOOKUP(J353,Tables!E$1:F$50,2,FALSE)=1,IF(MOD(BE353,2)=1,1,2),IF(MOD(BE353,2)=1,2,1)),IF(MOD(BE353,2)=1,1,2)))","v":""},"","",null,null,null,"","","","","","","","","","","","","","","","","","","","","","","","","",{"$f":"IF(AN353=\"\",\"\",IF(I353=0,IF(AO353=1,VLOOKUP(F353,Tables!A$1:C$18,2,FALSE),VLOOKUP(F353,Tables!A$1:C$18,3,FALSE)),IF(I353=1, IF(AO353=1,VLOOKUP(F353,Tables!H$1:J$95,2,FALSE),VLOOKUP(F353,Tables!H$1:J$95,3,FALSE)),IF(AO353=1,VLOOKUP(F353,Tables!Q$1:S$137,2,FALSE),VLOOKUP(F353,Tables!Q$1:S$137,3,FALSE)))))","v":""},"","","","","","","","","",null,"","","","","",""]
["","","","","","","","","","",{"$f":"IF(A354=\"\",\"\",IF(OR(I354=1,I354=\"S\"),IF(VLOOKUP(J354,Tables!E$1:F$50,2,FALSE)=1,IF(MOD(BE354,2)=1,1,2),IF(MOD(BE354,2)=1,2,1)),IF(MOD(BE354,2)=1,1,2)))","v":""},"","",null,null,null,"","","","","","","","","","","","","","","","","","","","","","","","","",{"$f":"IF(AN354=\"\",\"\",IF(I354=0,IF(AO354=1,VLOOKUP(F354,Tables!A$1:C$18,2,FALSE),VLOOKUP(F354,Tables!A$1:C$18,3,FALSE)),IF(I354=1, IF(AO354=1,VLOOKUP(F354,Tables!H$1:J$95,2,FALSE),VLOOKUP(F354,Tables!H$1:J$95,3,FALSE)),IF(AO354=1,VLOOKUP(F354,Tables!Q$1:S$137,2,FALSE),VLOOKUP(F354,Tables!Q$1:S$137,3,FALSE)))))","v":""},"","","","","","","","","",null,"","","","","",""]
["","","","","","","","","","",{"$f":"IF(A355=\"\",\"\",IF(OR(I355=1,I355=\"S\"),IF(VLOOKUP(J355,Tables!E$1:F$50,2,FALSE)=1,IF(MOD(BE355,2)=1,1,2),IF(MOD(BE355,2)=1,2,1)),IF(MOD(BE355,2)=1,1,2)))","v":""},"","",null,null,null,"","","","","","","","","","","","","","","","","","","","","","","","","",{"$f":"IF(AN355=\"\",\"\",IF(I355=0,IF(AO355=1,VLOOKUP(F355,Tables!A$1:C$18,2,FALSE),VLOOKUP(F355,Tables!A$1:C$18,3,FALSE)),IF(I355=1, IF(AO355=1,VLOOKUP(F355,Tables!H$1:J$95,2,FALSE),VLOOKUP(F355,Tables!H$1:J$95,3,FALSE)),IF(AO355=1,VLOOKUP(F355,Tables!Q$1:S$137,2,FALSE),VLOOKUP(F355,Tables!Q$1:S$137,3,FALSE)))))","v":""},"","","","","","","","","",null,"","","","","",""]
["","","","","","","","","","",{"$f":"IF(A356=\"\",\"\",IF(OR(I356=1,I356=\"S\"),IF(VLOOKUP(J356,Tables!E$1:F$50,2,FALSE)=1,IF(MOD(BE356,2)=1,1,2),IF(MOD(BE356,2)=1,2,1)),IF(MOD(BE356,2)=1,1,2)))","v":""},"","",null,null,null,"","","","","","","","","","","","","","","","","","","","","","","","","",{"$f":"IF(AN356=\"\",\"\",IF(I356=0,IF(AO356=1,VLOOKUP(F356,Tables!A$1:C$18,2,FALSE),VLOOKUP(F356,Tables!A$1:C$18,3,FALSE)),IF(I356=1, IF(AO356=1,VLOOKUP(F356,Tables!H$1:J$95,2,FALSE),VLOOKUP(F356,Tables!H$1:J$95,3,FALSE)),IF(AO356=1,VLOOKUP(F356,Tables!Q$1:S$137,2,FALSE),VLOOKUP(F356,Tables!Q$1:S$137,3,FALSE)))))","v":""},"","","","","","","","","",null,"","","","","",""]
["","","","","","","","","","",{"$f":"IF(A357=\"\",\"\",IF(OR(I357=1,I357=\"S\"),IF(VLOOKUP(J357,Tables!E$1:F$50,2,FALSE)=1,IF(MOD(BE357,2)=1,1,2),IF(MOD(BE357,2)=1,2,1)),IF(MOD(BE357,2)=1,1,2)))","v":""},"","",null,null,null,"","","","","","","","","","","","","","","","","","","","","","","","","",{"$f":"IF(AN357=\"\",\"\",IF(I357=0,IF(AO357=1,VLOOKUP(F357,Tables!A$1:C$18,2,FALSE),VLOOKUP(F357,Tables!A$1:C$18,3,FALSE)),IF(I357=1, IF(AO357=1,VLOOKUP(F357,Tables!H$1:J$95,2,FALSE),VLOOKUP(F357,Tables!H$1:J$95,3,FALSE)),IF(AO357=1,VLOOKUP(F357,Tables!Q$1:S$137,2,FALSE),VLOOKUP(F357,Tables!Q$1:S$137,3,FALSE)))))","v":""},"","","","","","","","","",null,"","","","","",""]
["","","","","","","","","","",{"$f":"IF(A358=\"\",\"\",IF(OR(I358=1,I358=\"S\"),IF(VLOOKUP(J358,Tables!E$1:F$50,2,FALSE)=1,IF(MOD(BE358,2)=1,1,2),IF(MOD(BE358,2)=1,2,1)),IF(MOD(BE358,2)=1,1,2)))","v":""},"","",null,null,null,"","","","","","","","","","","","","","","","","","","","","","","","","",{"$f":"IF(AN358=\"\",\"\",IF(I358=0,IF(AO358=1,VLOOKUP(F358,Tables!A$1:C$18,2,FALSE),VLOOKUP(F358,Tables!A$1:C$18,3,FALSE)),IF(I358=1, IF(AO358=1,VLOOKUP(F358,Tables!H$1:J$95,2,FALSE),VLOOKUP(F358,Tables!H$1:J$95,3,FALSE)),IF(AO358=1,VLOOKUP(F358,Tables!Q$1:S$137,2,FALSE),VLOOKUP(F358,Tables!Q$1:S$137,3,FALSE)))))","v":""},"","","","","","","","","",null,"","","","","",""]
["","","","","","","","","","",{"$f":"IF(A359=\"\",\"\",IF(OR(I359=1,I359=\"S\"),IF(VLOOKUP(J359,Tables!E$1:F$50,2,FALSE)=1,IF(MOD(BE359,2)=1,1,2),IF(MOD(BE359,2)=1,2,1)),IF(MOD(BE359,2)=1,1,2)))","v":""},"","",null,null,null,"","","","","","","","","","","","","","","","","","","","","","","","","",{"$f":"IF(AN359=\"\",\"\",IF(I359=0,IF(AO359=1,VLOOKUP(F359,Tables!A$1:C$18,2,FALSE),VLOOKUP(F359,Tables!A$1:C$18,3,FALSE)),IF(I359=1, IF(AO359=1,VLOOKUP(F359,Tables!H$1:J$95,2,FALSE),VLOOKUP(F359,Tables!H$1:J$95,3,FALSE)),IF(AO359=1,VLOOKUP(F359,Tables!Q$1:S$137,2,FALSE),VLOOKUP(F359,Tables!Q$1:S$137,3,FALSE)))))","v":""},"","","","","","","","","",null,"","","","","",""]
["","","","","","","","","","",{"$f":"IF(A360=\"\",\"\",IF(OR(I360=1,I360=\"S\"),IF(VLOOKUP(J360,Tables!E$1:F$50,2,FALSE)=1,IF(MOD(BE360,2)=1,1,2),IF(MOD(BE360,2)=1,2,1)),IF(MOD(BE360,2)=1,1,2)))","v":""},"","",null,null,null,"","","","","","","","","","","","","","","","","","","","","","","","","",{"$f":"IF(AN360=\"\",\"\",IF(I360=0,IF(AO360=1,VLOOKUP(F360,Tables!A$1:C$18,2,FALSE),VLOOKUP(F360,Tables!A$1:C$18,3,FALSE)),IF(I360=1, IF(AO360=1,VLOOKUP(F360,Tables!H$1:J$95,2,FALSE),VLOOKUP(F360,Tables!H$1:J$95,3,FALSE)),IF(AO360=1,VLOOKUP(F360,Tables!Q$1:S$137,2,FALSE),VLOOKUP(F360,Tables!Q$1:S$137,3,FALSE)))))","v":""},"","","","","","","","","",null,"","","","","",""]
["","","","","","","","","","",{"$f":"IF(A361=\"\",\"\",IF(OR(I361=1,I361=\"S\"),IF(VLOOKUP(J361,Tables!E$1:F$50,2,FALSE)=1,IF(MOD(BE361,2)=1,1,2),IF(MOD(BE361,2)=1,2,1)),IF(MOD(BE361,2)=1,1,2)))","v":""},"","",null,null,null,"","","","","","","","","","","","","","","","","","","","","","","","","",{"$f":"IF(AN361=\"\",\"\",IF(I361=0,IF(AO361=1,VLOOKUP(F361,Tables!A$1:C$18,2,FALSE),VLOOKUP(F361,Tables!A$1:C$18,3,FALSE)),IF(I361=1, IF(AO361=1,VLOOKUP(F361,Tables!H$1:J$95,2,FALSE),VLOOKUP(F361,Tables!H$1:J$95,3,FALSE)),IF(AO361=1,VLOOKUP(F361,Tables!Q$1:S$137,2,FALSE),VLOOKUP(F361,Tables!Q$1:S$137,3,FALSE)))))","v":""},"","","","","","","","","",null,"","","","","",""]
["","","","","","","","","","",{"$f":"IF(A362=\"\",\"\",IF(OR(I362=1,I362=\"S\"),IF(VLOOKUP(J362,Tables!E$1:F$50,2,FALSE)=1,IF(MOD(BE362,2)=1,1,2),IF(MOD(BE362,2)=1,2,1)),IF(MOD(BE362,2)=1,1,2)))","v":""},"","",null,null,null,"","","","","","","","","","","","","","","","","","","","","","","","","",{"$f":"IF(AN362=\"\",\"\",IF(I362=0,IF(AO362=1,VLOOKUP(F362,Tables!A$1:C$18,2,FALSE),VLOOKUP(F362,Tables!A$1:C$18,3,FALSE)),IF(I362=1, IF(AO362=1,VLOOKUP(F362,Tables!H$1:J$95,2,FALSE),VLOOKUP(F362,Tables!H$1:J$95,3,FALSE)),IF(AO362=1,VLOOKUP(F362,Tables!Q$1:S$137,2,FALSE),VLOOKUP(F362,Tables!Q$1:S$137,3,FALSE)))))","v":""},"","","","","","","","","",null,"","","","","",""]
["","","","","","","","","","",{"$f":"IF(A363=\"\",\"\",IF(OR(I363=1,I363=\"S\"),IF(VLOOKUP(J363,Tables!E$1:F$50,2,FALSE)=1,IF(MOD(BE363,2)=1,1,2),IF(MOD(BE363,2)=1,2,1)),IF(MOD(BE363,2)=1,1,2)))","v":""},"","",null,null,null,"","","","","","","","","","","","","","","","","","","","","","","","","",{"$f":"IF(AN363=\"\",\"\",IF(I363=0,IF(AO363=1,VLOOKUP(F363,Tables!A$1:C$18,2,FALSE),VLOOKUP(F363,Tables!A$1:C$18,3,FALSE)),IF(I363=1, IF(AO363=1,VLOOKUP(F363,Tables!H$1:J$95,2,FALSE),VLOOKUP(F363,Tables!H$1:J$95,3,FALSE)),IF(AO363=1,VLOOKUP(F363,Tables!Q$1:S$137,2,FALSE),VLOOKUP(F363,Tables!Q$1:S$137,3,FALSE)))))","v":""},"","","","","","","","","",null,"","","","","",""]
["","","","","","","","","","",{"$f":"IF(A364=\"\",\"\",IF(OR(I364=1,I364=\"S\"),IF(VLOOKUP(J364,Tables!E$1:F$50,2,FALSE)=1,IF(MOD(BE364,2)=1,1,2),IF(MOD(BE364,2)=1,2,1)),IF(MOD(BE364,2)=1,1,2)))","v":""},"","",null,null,null,"","","","","","","","","","","","","","","","","","","","","","","","","",{"$f":"IF(AN364=\"\",\"\",IF(I364=0,IF(AO364=1,VLOOKUP(F364,Tables!A$1:C$18,2,FALSE),VLOOKUP(F364,Tables!A$1:C$18,3,FALSE)),IF(I364=1, IF(AO364=1,VLOOKUP(F364,Tables!H$1:J$95,2,FALSE),VLOOKUP(F364,Tables!H$1:J$95,3,FALSE)),IF(AO364=1,VLOOKUP(F364,Tables!Q$1:S$137,2,FALSE),VLOOKUP(F364,Tables!Q$1:S$137,3,FALSE)))))","v":""},"","","","","","","","","",null,"","","","","",""]
["","","","","","","","","","",{"$f":"IF(A365=\"\",\"\",IF(OR(I365=1,I365=\"S\"),IF(VLOOKUP(J365,Tables!E$1:F$50,2,FALSE)=1,IF(MOD(BE365,2)=1,1,2),IF(MOD(BE365,2)=1,2,1)),IF(MOD(BE365,2)=1,1,2)))","v":""},"","",null,null,null,"","","","","","","","","","","","","","","","","","","","","","","","","",{"$f":"IF(AN365=\"\",\"\",IF(I365=0,IF(AO365=1,VLOOKUP(F365,Tables!A$1:C$18,2,FALSE),VLOOKUP(F365,Tables!A$1:C$18,3,FALSE)),IF(I365=1, IF(AO365=1,VLOOKUP(F365,Tables!H$1:J$95,2,FALSE),VLOOKUP(F365,Tables!H$1:J$95,3,FALSE)),IF(AO365=1,VLOOKUP(F365,Tables!Q$1:S$137,2,FALSE),VLOOKUP(F365,Tables!Q$1:S$137,3,FALSE)))))","v":""},"","","","","","","","","",null,"","","","","",""]
["","","","","","","","","","",{"$f":"IF(A366=\"\",\"\",IF(OR(I366=1,I366=\"S\"),IF(VLOOKUP(J366,Tables!E$1:F$50,2,FALSE)=1,IF(MOD(BE366,2)=1,1,2),IF(MOD(BE366,2)=1,2,1)),IF(MOD(BE366,2)=1,1,2)))","v":""},"","",null,null,null,"","","","","","","","","","","","","","","","","","","","","","","","","",{"$f":"IF(AN366=\"\",\"\",IF(I366=0,IF(AO366=1,VLOOKUP(F366,Tables!A$1:C$18,2,FALSE),VLOOKUP(F366,Tables!A$1:C$18,3,FALSE)),IF(I366=1, IF(AO366=1,VLOOKUP(F366,Tables!H$1:J$95,2,FALSE),VLOOKUP(F366,Tables!H$1:J$95,3,FALSE)),IF(AO366=1,VLOOKUP(F366,Tables!Q$1:S$137,2,FALSE),VLOOKUP(F366,Tables!Q$1:S$137,3,FALSE)))))","v":""},"","","","","","","","","",null,"","","","","",""]
["","","","","","","","","","",{"$f":"IF(A367=\"\",\"\",IF(OR(I367=1,I367=\"S\"),IF(VLOOKUP(J367,Tables!E$1:F$50,2,FALSE)=1,IF(MOD(BE367,2)=1,1,2),IF(MOD(BE367,2)=1,2,1)),IF(MOD(BE367,2)=1,1,2)))","v":""},"","",null,null,null,"","","","","","","","","","","","","","","","","","","","","","","","","",{"$f":"IF(AN367=\"\",\"\",IF(I367=0,IF(AO367=1,VLOOKUP(F367,Tables!A$1:C$18,2,FALSE),VLOOKUP(F367,Tables!A$1:C$18,3,FALSE)),IF(I367=1, IF(AO367=1,VLOOKUP(F367,Tables!H$1:J$95,2,FALSE),VLOOKUP(F367,Tables!H$1:J$95,3,FALSE)),IF(AO367=1,VLOOKUP(F367,Tables!Q$1:S$137,2,FALSE),VLOOKUP(F367,Tables!Q$1:S$137,3,FALSE)))))","v":""},"","","","","","","","","",null,"","","",{"$f":"IF(NOT(BC367=\"\"),AR367&\"-\"&AS367,\"\")","v":""},"",""]
["","","","","","","","","","",{"$f":"IF(A368=\"\",\"\",IF(OR(I368=1,I368=\"S\"),IF(VLOOKUP(J368,Tables!E$1:F$50,2,FALSE)=1,IF(MOD(BE368,2)=1,1,2),IF(MOD(BE368,2)=1,2,1)),IF(MOD(BE368,2)=1,1,2)))","v":""},"","",null,null,null,"","","","","","","","","","","","","","","","","","","","","","","","","",{"$f":"IF(AN368=\"\",\"\",IF(I368=0,IF(AO368=1,VLOOKUP(F368,Tables!A$1:C$18,2,FALSE),VLOOKUP(F368,Tables!A$1:C$18,3,FALSE)),IF(I368=1, IF(AO368=1,VLOOKUP(F368,Tables!H$1:J$95,2,FALSE),VLOOKUP(F368,Tables!H$1:J$95,3,FALSE)),IF(AO368=1,VLOOKUP(F368,Tables!Q$1:S$137,2,FALSE),VLOOKUP(F368,Tables!Q$1:S$137,3,FALSE)))))","v":""},"","","","","","","","","",null,"","","","","",""]
["","","","","","","","","","",{"$f":"IF(A369=\"\",\"\",IF(OR(I369=1,I369=\"S\"),IF(VLOOKUP(J369,Tables!E$1:F$50,2,FALSE)=1,IF(MOD(BE369,2)=1,1,2),IF(MOD(BE369,2)=1,2,1)),IF(MOD(BE369,2)=1,1,2)))","v":""},"","",null,null,null,"","","","","","","","","","","","","","","","","","","","","","","","","",{"$f":"IF(AN369=\"\",\"\",IF(I369=0,IF(AO369=1,VLOOKUP(F369,Tables!A$1:C$18,2,FALSE),VLOOKUP(F369,Tables!A$1:C$18,3,FALSE)),IF(I369=1, IF(AO369=1,VLOOKUP(F369,Tables!H$1:J$95,2,FALSE),VLOOKUP(F369,Tables!H$1:J$95,3,FALSE)),IF(AO369=1,VLOOKUP(F369,Tables!Q$1:S$137,2,FALSE),VLOOKUP(F369,Tables!Q$1:S$137,3,FALSE)))))","v":""},"","","","","","","","","",null,"","","","","",""]
["","","","","","","","","","",{"$f":"IF(A370=\"\",\"\",IF(OR(I370=1,I370=\"S\"),IF(VLOOKUP(J370,Tables!E$1:F$50,2,FALSE)=1,IF(MOD(BE370,2)=1,1,2),IF(MOD(BE370,2)=1,2,1)),IF(MOD(BE370,2)=1,1,2)))","v":""},"","",null,null,null,"","","","","","","","","","","","","","","","","","","","","","","","","",{"$f":"IF(AN370=\"\",\"\",IF(I370=0,IF(AO370=1,VLOOKUP(F370,Tables!A$1:C$18,2,FALSE),VLOOKUP(F370,Tables!A$1:C$18,3,FALSE)),IF(I370=1, IF(AO370=1,VLOOKUP(F370,Tables!H$1:J$95,2,FALSE),VLOOKUP(F370,Tables!H$1:J$95,3,FALSE)),IF(AO370=1,VLOOKUP(F370,Tables!Q$1:S$137,2,FALSE),VLOOKUP(F370,Tables!Q$1:S$137,3,FALSE)))))","v":""},"","","","","","","","","",null,"","","","","",""]
["","","","","","","","","","",{"$f":"IF(A371=\"\",\"\",IF(OR(I371=1,I371=\"S\"),IF(VLOOKUP(J371,Tables!E$1:F$50,2,FALSE)=1,IF(MOD(BE371,2)=1,1,2),IF(MOD(BE371,2)=1,2,1)),IF(MOD(BE371,2)=1,1,2)))","v":""},"","",null,null,null,"","","","","","","","","","","","","","","","","","","","","","","","","",{"$f":"IF(AN371=\"\",\"\",IF(I371=0,IF(AO371=1,VLOOKUP(F371,Tables!A$1:C$18,2,FALSE),VLOOKUP(F371,Tables!A$1:C$18,3,FALSE)),IF(I371=1, IF(AO371=1,VLOOKUP(F371,Tables!H$1:J$95,2,FALSE),VLOOKUP(F371,Tables!H$1:J$95,3,FALSE)),IF(AO371=1,VLOOKUP(F371,Tables!Q$1:S$137,2,FALSE),VLOOKUP(F371,Tables!Q$1:S$137,3,FALSE)))))","v":""},"","","","","","","","","",null,"","","","","",""]
["","","","","","","","","","",{"$f":"IF(A372=\"\",\"\",IF(OR(I372=1,I372=\"S\"),IF(VLOOKUP(J372,Tables!E$1:F$50,2,FALSE)=1,IF(MOD(BE372,2)=1,1,2),IF(MOD(BE372,2)=1,2,1)),IF(MOD(BE372,2)=1,1,2)))","v":""},"","",null,null,null,"","","","","","","","","","","","","","","","","","","","","","","","","",{"$f":"IF(AN372=\"\",\"\",IF(I372=0,IF(AO372=1,VLOOKUP(F372,Tables!A$1:C$18,2,FALSE),VLOOKUP(F372,Tables!A$1:C$18,3,FALSE)),IF(I372=1, IF(AO372=1,VLOOKUP(F372,Tables!H$1:J$95,2,FALSE),VLOOKUP(F372,Tables!H$1:J$95,3,FALSE)),IF(AO372=1,VLOOKUP(F372,Tables!Q$1:S$137,2,FALSE),VLOOKUP(F372,Tables!Q$1:S$137,3,FALSE)))))","v":""},"","","","","","","","","",null,"","","","","",""]
["","","","","","","","","","",{"$f":"IF(A373=\"\",\"\",IF(OR(I373=1,I373=\"S\"),IF(VLOOKUP(J373,Tables!E$1:F$50,2,FALSE)=1,IF(MOD(BE373,2)=1,1,2),IF(MOD(BE373,2)=1,2,1)),IF(MOD(BE373,2)=1,1,2)))","v":""},"","",null,null,null,"","","","","","","","","","","","","","","","","","","","","","","","","",{"$f":"IF(AN373=\"\",\"\",IF(I373=0,IF(AO373=1,VLOOKUP(F373,Tables!A$1:C$18,2,FALSE),VLOOKUP(F373,Tables!A$1:C$18,3,FALSE)),IF(I373=1, IF(AO373=1,VLOOKUP(F373,Tables!H$1:J$95,2,FALSE),VLOOKUP(F373,Tables!H$1:J$95,3,FALSE)),IF(AO373=1,VLOOKUP(F373,Tables!Q$1:S$137,2,FALSE),VLOOKUP(F373,Tables!Q$1:S$137,3,FALSE)))))","v":""},"","","","","","","","","",null,"","","","","",""]
["","","","","","","","","","",{"$f":"IF(A374=\"\",\"\",IF(OR(I374=1,I374=\"S\"),IF(VLOOKUP(J374,Tables!E$1:F$50,2,FALSE)=1,IF(MOD(BE374,2)=1,1,2),IF(MOD(BE374,2)=1,2,1)),IF(MOD(BE374,2)=1,1,2)))","v":""},"","",null,null,null,"","","","","","","","","","","","","","","","","","","","","","","","","",{"$f":"IF(AN374=\"\",\"\",IF(I374=0,IF(AO374=1,VLOOKUP(F374,Tables!A$1:C$18,2,FALSE),VLOOKUP(F374,Tables!A$1:C$18,3,FALSE)),IF(I374=1, IF(AO374=1,VLOOKUP(F374,Tables!H$1:J$95,2,FALSE),VLOOKUP(F374,Tables!H$1:J$95,3,FALSE)),IF(AO374=1,VLOOKUP(F374,Tables!Q$1:S$137,2,FALSE),VLOOKUP(F374,Tables!Q$1:S$137,3,FALSE)))))","v":""},"","","","","","","","","",null,"","","","","",""]
["","","","","","","","","","",{"$f":"IF(A375=\"\",\"\",IF(OR(I375=1,I375=\"S\"),IF(VLOOKUP(J375,Tables!E$1:F$50,2,FALSE)=1,IF(MOD(BE375,2)=1,1,2),IF(MOD(BE375,2)=1,2,1)),IF(MOD(BE375,2)=1,1,2)))","v":""},"","",null,null,null,"","","","","","","","","","","","","","","","","","","","","","","","","",{"$f":"IF(AN375=\"\",\"\",IF(I375=0,IF(AO375=1,VLOOKUP(F375,Tables!A$1:C$18,2,FALSE),VLOOKUP(F375,Tables!A$1:C$18,3,FALSE)),IF(I375=1, IF(AO375=1,VLOOKUP(F375,Tables!H$1:J$95,2,FALSE),VLOOKUP(F375,Tables!H$1:J$95,3,FALSE)),IF(AO375=1,VLOOKUP(F375,Tables!Q$1:S$137,2,FALSE),VLOOKUP(F375,Tables!Q$1:S$137,3,FALSE)))))","v":""},"","","","","","","","","",null,"","","","","",""]
["","","","","","","","","","",{"$f":"IF(A376=\"\",\"\",IF(OR(I376=1,I376=\"S\"),IF(VLOOKUP(J376,Tables!E$1:F$50,2,FALSE)=1,IF(MOD(BE376,2)=1,1,2),IF(MOD(BE376,2)=1,2,1)),IF(MOD(BE376,2)=1,1,2)))","v":""},"","",null,null,null,"","","","","","","","","","","","","","","","","","","","","","","","","",{"$f":"IF(AN376=\"\",\"\",IF(I376=0,IF(AO376=1,VLOOKUP(F376,Tables!A$1:C$18,2,FALSE),VLOOKUP(F376,Tables!A$1:C$18,3,FALSE)),IF(I376=1, IF(AO376=1,VLOOKUP(F376,Tables!H$1:J$95,2,FALSE),VLOOKUP(F376,Tables!H$1:J$95,3,FALSE)),IF(AO376=1,VLOOKUP(F376,Tables!Q$1:S$137,2,FALSE),VLOOKUP(F376,Tables!Q$1:S$137,3,FALSE)))))","v":""},"","","","","","","","","",null,"","","","","",""]
["","","","","","","","","","",{"$f":"IF(A377=\"\",\"\",IF(OR(I377=1,I377=\"S\"),IF(VLOOKUP(J377,Tables!E$1:F$50,2,FALSE)=1,IF(MOD(BE377,2)=1,1,2),IF(MOD(BE377,2)=1,2,1)),IF(MOD(BE377,2)=1,1,2)))","v":""},"","",null,null,null,"","","","","","","","","","","","","","","","","","","","","","","","","",{"$f":"IF(AN377=\"\",\"\",IF(I377=0,IF(AO377=1,VLOOKUP(F377,Tables!A$1:C$18,2,FALSE),VLOOKUP(F377,Tables!A$1:C$18,3,FALSE)),IF(I377=1, IF(AO377=1,VLOOKUP(F377,Tables!H$1:J$95,2,FALSE),VLOOKUP(F377,Tables!H$1:J$95,3,FALSE)),IF(AO377=1,VLOOKUP(F377,Tables!Q$1:S$137,2,FALSE),VLOOKUP(F377,Tables!Q$1:S$137,3,FALSE)))))","v":""},"","","","","","","","","",null,"","","","","",""]
["","","","","","","","","","",{"$f":"IF(A378=\"\",\"\",IF(OR(I378=1,I378=\"S\"),IF(VLOOKUP(J378,Tables!E$1:F$50,2,FALSE)=1,IF(MOD(BE378,2)=1,1,2),IF(MOD(BE378,2)=1,2,1)),IF(MOD(BE378,2)=1,1,2)))","v":""},"","",null,null,null,"","","","","","","","","","","","","","","","","","","","","","","","","",{"$f":"IF(AN378=\"\",\"\",IF(I378=0,IF(AO378=1,VLOOKUP(F378,Tables!A$1:C$18,2,FALSE),VLOOKUP(F378,Tables!A$1:C$18,3,FALSE)),IF(I378=1, IF(AO378=1,VLOOKUP(F378,Tables!H$1:J$95,2,FALSE),VLOOKUP(F378,Tables!H$1:J$95,3,FALSE)),IF(AO378=1,VLOOKUP(F378,Tables!Q$1:S$137,2,FALSE),VLOOKUP(F378,Tables!Q$1:S$137,3,FALSE)))))","v":""},"","","","","","","","","",null,"","","","","",""]
["","","","","","","","","","",{"$f":"IF(A379=\"\",\"\",IF(OR(I379=1,I379=\"S\"),IF(VLOOKUP(J379,Tables!E$1:F$50,2,FALSE)=1,IF(MOD(BE379,2)=1,1,2),IF(MOD(BE379,2)=1,2,1)),IF(MOD(BE379,2)=1,1,2)))","v":""},"","",null,null,null,"","","","","","","","","","","","","","","","","","","","","","","","","",{"$f":"IF(AN379=\"\",\"\",IF(I379=0,IF(AO379=1,VLOOKUP(F379,Tables!A$1:C$18,2,FALSE),VLOOKUP(F379,Tables!A$1:C$18,3,FALSE)),IF(I379=1, IF(AO379=1,VLOOKUP(F379,Tables!H$1:J$95,2,FALSE),VLOOKUP(F379,Tables!H$1:J$95,3,FALSE)),IF(AO379=1,VLOOKUP(F379,Tables!Q$1:S$137,2,FALSE),VLOOKUP(F379,Tables!Q$1:S$137,3,FALSE)))))","v":""},"","","","","","","","","",null,"","","","","",""]
["","","","","","","","","","",{"$f":"IF(A380=\"\",\"\",IF(OR(I380=1,I380=\"S\"),IF(VLOOKUP(J380,Tables!E$1:F$50,2,FALSE)=1,IF(MOD(BE380,2)=1,1,2),IF(MOD(BE380,2)=1,2,1)),IF(MOD(BE380,2)=1,1,2)))","v":""},"","",null,null,null,"","","","","","","","","","","","","","","","","","","","","","","","","",{"$f":"IF(AN380=\"\",\"\",IF(I380=0,IF(AO380=1,VLOOKUP(F380,Tables!A$1:C$18,2,FALSE),VLOOKUP(F380,Tables!A$1:C$18,3,FALSE)),IF(I380=1, IF(AO380=1,VLOOKUP(F380,Tables!H$1:J$95,2,FALSE),VLOOKUP(F380,Tables!H$1:J$95,3,FALSE)),IF(AO380=1,VLOOKUP(F380,Tables!Q$1:S$137,2,FALSE),VLOOKUP(F380,Tables!Q$1:S$137,3,FALSE)))))","v":""},"","","","","","","","","",null,"","","","","",""]
["","","","","","","","","","",{"$f":"IF(A381=\"\",\"\",IF(OR(I381=1,I381=\"S\"),IF(VLOOKUP(J381,Tables!E$1:F$50,2,FALSE)=1,IF(MOD(BE381,2)=1,1,2),IF(MOD(BE381,2)=1,2,1)),IF(MOD(BE381,2)=1,1,2)))","v":""},"","",null,null,null,"","","","","","","","","","","","","","","","","","","","","","","","","",{"$f":"IF(AN381=\"\",\"\",IF(I381=0,IF(AO381=1,VLOOKUP(F381,Tables!A$1:C$18,2,FALSE),VLOOKUP(F381,Tables!A$1:C$18,3,FALSE)),IF(I381=1, IF(AO381=1,VLOOKUP(F381,Tables!H$1:J$95,2,FALSE),VLOOKUP(F381,Tables!H$1:J$95,3,FALSE)),IF(AO381=1,VLOOKUP(F381,Tables!Q$1:S$137,2,FALSE),VLOOKUP(F381,Tables!Q$1:S$137,3,FALSE)))))","v":""},"","","","","","","","","",null,"","","","","",""]
["","","","","","","","","","",{"$f":"IF(A382=\"\",\"\",IF(OR(I382=1,I382=\"S\"),IF(VLOOKUP(J382,Tables!E$1:F$50,2,FALSE)=1,IF(MOD(BE382,2)=1,1,2),IF(MOD(BE382,2)=1,2,1)),IF(MOD(BE382,2)=1,1,2)))","v":""},"","",null,null,null,"","","","","","","","","","","","","","","","","","","","","","","","","",{"$f":"IF(AN382=\"\",\"\",IF(I382=0,IF(AO382=1,VLOOKUP(F382,Tables!A$1:C$18,2,FALSE),VLOOKUP(F382,Tables!A$1:C$18,3,FALSE)),IF(I382=1, IF(AO382=1,VLOOKUP(F382,Tables!H$1:J$95,2,FALSE),VLOOKUP(F382,Tables!H$1:J$95,3,FALSE)),IF(AO382=1,VLOOKUP(F382,Tables!Q$1:S$137,2,FALSE),VLOOKUP(F382,Tables!Q$1:S$137,3,FALSE)))))","v":""},"","","","","","","","","",null,"","","","","",""]
["","","","","","","","","","",{"$f":"IF(A383=\"\",\"\",IF(OR(I383=1,I383=\"S\"),IF(VLOOKUP(J383,Tables!E$1:F$50,2,FALSE)=1,IF(MOD(BE383,2)=1,1,2),IF(MOD(BE383,2)=1,2,1)),IF(MOD(BE383,2)=1,1,2)))","v":""},"","",null,null,null,"","","","","","","","","","","","","","","","","","","","","","","","","",{"$f":"IF(AN383=\"\",\"\",IF(I383=0,IF(AO383=1,VLOOKUP(F383,Tables!A$1:C$18,2,FALSE),VLOOKUP(F383,Tables!A$1:C$18,3,FALSE)),IF(I383=1, IF(AO383=1,VLOOKUP(F383,Tables!H$1:J$95,2,FALSE),VLOOKUP(F383,Tables!H$1:J$95,3,FALSE)),IF(AO383=1,VLOOKUP(F383,Tables!Q$1:S$137,2,FALSE),VLOOKUP(F383,Tables!Q$1:S$137,3,FALSE)))))","v":""},"","","","","","","","","",null,"","","","","",""]
["","","","","","","","","","",{"$f":"IF(A384=\"\",\"\",IF(OR(I384=1,I384=\"S\"),IF(VLOOKUP(J384,Tables!E$1:F$50,2,FALSE)=1,IF(MOD(BE384,2)=1,1,2),IF(MOD(BE384,2)=1,2,1)),IF(MOD(BE384,2)=1,1,2)))","v":""},"","",null,null,null,"","","","","","","","","","","","","","","","","","","","","","","","","",{"$f":"IF(AN384=\"\",\"\",IF(I384=0,IF(AO384=1,VLOOKUP(F384,Tables!A$1:C$18,2,FALSE),VLOOKUP(F384,Tables!A$1:C$18,3,FALSE)),IF(I384=1, IF(AO384=1,VLOOKUP(F384,Tables!H$1:J$95,2,FALSE),VLOOKUP(F384,Tables!H$1:J$95,3,FALSE)),IF(AO384=1,VLOOKUP(F384,Tables!Q$1:S$137,2,FALSE),VLOOKUP(F384,Tables!Q$1:S$137,3,FALSE)))))","v":""},"","","","","","","","","",null,"","","","","",""]
["","","","","","","","","","",{"$f":"IF(A385=\"\",\"\",IF(OR(I385=1,I385=\"S\"),IF(VLOOKUP(J385,Tables!E$1:F$50,2,FALSE)=1,IF(MOD(BE385,2)=1,1,2),IF(MOD(BE385,2)=1,2,1)),IF(MOD(BE385,2)=1,1,2)))","v":""},"","",null,null,null,"","","","","","","","","","","","","","","","","","","","","","","","","",{"$f":"IF(AN385=\"\",\"\",IF(I385=0,IF(AO385=1,VLOOKUP(F385,Tables!A$1:C$18,2,FALSE),VLOOKUP(F385,Tables!A$1:C$18,3,FALSE)),IF(I385=1, IF(AO385=1,VLOOKUP(F385,Tables!H$1:J$95,2,FALSE),VLOOKUP(F385,Tables!H$1:J$95,3,FALSE)),IF(AO385=1,VLOOKUP(F385,Tables!Q$1:S$137,2,FALSE),VLOOKUP(F385,Tables!Q$1:S$137,3,FALSE)))))","v":""},"","","","","","","","","",null,"","","","","",""]
["","","","","","","","","","",{"$f":"IF(A386=\"\",\"\",IF(OR(I386=1,I386=\"S\"),IF(VLOOKUP(J386,Tables!E$1:F$50,2,FALSE)=1,IF(MOD(BE386,2)=1,1,2),IF(MOD(BE386,2)=1,2,1)),IF(MOD(BE386,2)=1,1,2)))","v":""},"","",null,null,null,"","","","","","","","","","","","","","","","","","","","","","","","","",{"$f":"IF(AN386=\"\",\"\",IF(I386=0,IF(AO386=1,VLOOKUP(F386,Tables!A$1:C$18,2,FALSE),VLOOKUP(F386,Tables!A$1:C$18,3,FALSE)),IF(I386=1, IF(AO386=1,VLOOKUP(F386,Tables!H$1:J$95,2,FALSE),VLOOKUP(F386,Tables!H$1:J$95,3,FALSE)),IF(AO386=1,VLOOKUP(F386,Tables!Q$1:S$137,2,FALSE),VLOOKUP(F386,Tables!Q$1:S$137,3,FALSE)))))","v":""},"","","","","","","","","",null,"","","","","",""]
["","","","","","","","","","",{"$f":"IF(A387=\"\",\"\",IF(OR(I387=1,I387=\"S\"),IF(VLOOKUP(J387,Tables!E$1:F$50,2,FALSE)=1,IF(MOD(BE387,2)=1,1,2),IF(MOD(BE387,2)=1,2,1)),IF(MOD(BE387,2)=1,1,2)))","v":""},"","",null,null,null,"","","","","","","","","","","","","","","","","","","","","","","","","",{"$f":"IF(AN387=\"\",\"\",IF(I387=0,IF(AO387=1,VLOOKUP(F387,Tables!A$1:C$18,2,FALSE),VLOOKUP(F387,Tables!A$1:C$18,3,FALSE)),IF(I387=1, IF(AO387=1,VLOOKUP(F387,Tables!H$1:J$95,2,FALSE),VLOOKUP(F387,Tables!H$1:J$95,3,FALSE)),IF(AO387=1,VLOOKUP(F387,Tables!Q$1:S$137,2,FALSE),VLOOKUP(F387,Tables!Q$1:S$137,3,FALSE)))))","v":""},"","","","","","","","","",null,"","","","","",""]
["","","","","","","","","","",{"$f":"IF(A388=\"\",\"\",IF(OR(I388=1,I388=\"S\"),IF(VLOOKUP(J388,Tables!E$1:F$50,2,FALSE)=1,IF(MOD(BE388,2)=1,1,2),IF(MOD(BE388,2)=1,2,1)),IF(MOD(BE388,2)=1,1,2)))","v":""},"","",null,null,null,"","","","","","","","","","","","","","","","","","","","","","","","","",{"$f":"IF(AN388=\"\",\"\",IF(I388=0,IF(AO388=1,VLOOKUP(F388,Tables!A$1:C$18,2,FALSE),VLOOKUP(F388,Tables!A$1:C$18,3,FALSE)),IF(I388=1, IF(AO388=1,VLOOKUP(F388,Tables!H$1:J$95,2,FALSE),VLOOKUP(F388,Tables!H$1:J$95,3,FALSE)),IF(AO388=1,VLOOKUP(F388,Tables!Q$1:S$137,2,FALSE),VLOOKUP(F388,Tables!Q$1:S$137,3,FALSE)))))","v":""},"","","","","","","","","",null,"","","","","",""]
["","","","","","","","","","",{"$f":"IF(A389=\"\",\"\",IF(OR(I389=1,I389=\"S\"),IF(VLOOKUP(J389,Tables!E$1:F$50,2,FALSE)=1,IF(MOD(BE389,2)=1,1,2),IF(MOD(BE389,2)=1,2,1)),IF(MOD(BE389,2)=1,1,2)))","v":""},"","",null,null,null,"","","","","","","","","","","","","","","","","","","","","","","","","",{"$f":"IF(AN389=\"\",\"\",IF(I389=0,IF(AO389=1,VLOOKUP(F389,Tables!A$1:C$18,2,FALSE),VLOOKUP(F389,Tables!A$1:C$18,3,FALSE)),IF(I389=1, IF(AO389=1,VLOOKUP(F389,Tables!H$1:J$95,2,FALSE),VLOOKUP(F389,Tables!H$1:J$95,3,FALSE)),IF(AO389=1,VLOOKUP(F389,Tables!Q$1:S$137,2,FALSE),VLOOKUP(F389,Tables!Q$1:S$137,3,FALSE)))))","v":""},"","","","","","","","","",null,"","","","","",""]
["","","","","","","","","","",{"$f":"IF(A390=\"\",\"\",IF(OR(I390=1,I390=\"S\"),IF(VLOOKUP(J390,Tables!E$1:F$50,2,FALSE)=1,IF(MOD(BE390,2)=1,1,2),IF(MOD(BE390,2)=1,2,1)),IF(MOD(BE390,2)=1,1,2)))","v":""},"","",null,null,null,"","","","","","","","","","","","","","","","","","","","","","","","","",{"$f":"IF(AN390=\"\",\"\",IF(I390=0,IF(AO390=1,VLOOKUP(F390,Tables!A$1:C$18,2,FALSE),VLOOKUP(F390,Tables!A$1:C$18,3,FALSE)),IF(I390=1, IF(AO390=1,VLOOKUP(F390,Tables!H$1:J$95,2,FALSE),VLOOKUP(F390,Tables!H$1:J$95,3,FALSE)),IF(AO390=1,VLOOKUP(F390,Tables!Q$1:S$137,2,FALSE),VLOOKUP(F390,Tables!Q$1:S$137,3,FALSE)))))","v":""},"","","",{"$f":"IF(AN390=\"\",\"\",IF(AND(AR390>5,(AR390-AS390)>1),1,IF(AND(AS390>5,(AS390-AR390)>1),2,IF(AND(H390=1,AR390=$J$14),1,IF(AND(H390=1,AS390=$J$14),2,IF(AND(I390=\"S\",AR390=1),1,IF(AND(I390=\"S\",AS390=1),2,0)))))))","v":""},"","","","","",null,"","","","","",""]
["","","","","","","","","","",{"$f":"IF(A391=\"\",\"\",IF(OR(I391=1,I391=\"S\"),IF(VLOOKUP(J391,Tables!E$1:F$50,2,FALSE)=1,IF(MOD(BE391,2)=1,1,2),IF(MOD(BE391,2)=1,2,1)),IF(MOD(BE391,2)=1,1,2)))","v":""},"","",null,null,null,"","","","","","","","","","","","","","","","","","","","","","","","","",{"$f":"IF(AN391=\"\",\"\",IF(I391=0,IF(AO391=1,VLOOKUP(F391,Tables!A$1:C$18,2,FALSE),VLOOKUP(F391,Tables!A$1:C$18,3,FALSE)),IF(I391=1, IF(AO391=1,VLOOKUP(F391,Tables!H$1:J$95,2,FALSE),VLOOKUP(F391,Tables!H$1:J$95,3,FALSE)),IF(AO391=1,VLOOKUP(F391,Tables!Q$1:S$137,2,FALSE),VLOOKUP(F391,Tables!Q$1:S$137,3,FALSE)))))","v":""},"","","","","","","","","",null,"","","","","",""]
["","","","","","","","","","",{"$f":"IF(A392=\"\",\"\",IF(OR(I392=1,I392=\"S\"),IF(VLOOKUP(J392,Tables!E$1:F$50,2,FALSE)=1,IF(MOD(BE392,2)=1,1,2),IF(MOD(BE392,2)=1,2,1)),IF(MOD(BE392,2)=1,1,2)))","v":""},{"$f":"IF(A392=\"\",\"\",IF(MOD(K392,2)=1,2,1))","v":""},"",null,null,null,"","","","","","","","","","","","","","","","","","","","","","","","","",{"$f":"IF(AN392=\"\",\"\",IF(I392=0,IF(AO392=1,VLOOKUP(F392,Tables!A$1:C$18,2,FALSE),VLOOKUP(F392,Tables!A$1:C$18,3,FALSE)),IF(I392=1, IF(AO392=1,VLOOKUP(F392,Tables!H$1:J$95,2,FALSE),VLOOKUP(F392,Tables!H$1:J$95,3,FALSE)),IF(AO392=1,VLOOKUP(F392,Tables!Q$1:S$137,2,FALSE),VLOOKUP(F392,Tables!Q$1:S$137,3,FALSE)))))","v":""},"","","","","","","","","",null,"","","","","",""]
["","","","","","","","","","",{"$f":"IF(A393=\"\",\"\",IF(OR(I393=1,I393=\"S\"),IF(VLOOKUP(J393,Tables!E$1:F$50,2,FALSE)=1,IF(MOD(BE393,2)=1,1,2),IF(MOD(BE393,2)=1,2,1)),IF(MOD(BE393,2)=1,1,2)))","v":""},"","",null,null,null,"","","","","","","","","","","","","","","","","","","","","","","","","",{"$f":"IF(AN393=\"\",\"\",IF(I393=0,IF(AO393=1,VLOOKUP(F393,Tables!A$1:C$18,2,FALSE),VLOOKUP(F393,Tables!A$1:C$18,3,FALSE)),IF(I393=1, IF(AO393=1,VLOOKUP(F393,Tables!H$1:J$95,2,FALSE),VLOOKUP(F393,Tables!H$1:J$95,3,FALSE)),IF(AO393=1,VLOOKUP(F393,Tables!Q$1:S$137,2,FALSE),VLOOKUP(F393,Tables!Q$1:S$137,3,FALSE)))))","v":""},"","","","","","","","","",null,"","","","","",""]
["","","","","","","","","","",{"$f":"IF(A394=\"\",\"\",IF(OR(I394=1,I394=\"S\"),IF(VLOOKUP(J394,Tables!E$1:F$50,2,FALSE)=1,IF(MOD(BE394,2)=1,1,2),IF(MOD(BE394,2)=1,2,1)),IF(MOD(BE394,2)=1,1,2)))","v":""},"","",null,null,null,"","","","","","","","","","","","","","","","","","","","","","","","","",{"$f":"IF(AN394=\"\",\"\",IF(I394=0,IF(AO394=1,VLOOKUP(F394,Tables!A$1:C$18,2,FALSE),VLOOKUP(F394,Tables!A$1:C$18,3,FALSE)),IF(I394=1, IF(AO394=1,VLOOKUP(F394,Tables!H$1:J$95,2,FALSE),VLOOKUP(F394,Tables!H$1:J$95,3,FALSE)),IF(AO394=1,VLOOKUP(F394,Tables!Q$1:S$137,2,FALSE),VLOOKUP(F394,Tables!Q$1:S$137,3,FALSE)))))","v":""},"","","","","","","","","",null,"","","","","",""]
["","","","","","","","","","",{"$f":"IF(A395=\"\",\"\",IF(OR(I395=1,I395=\"S\"),IF(VLOOKUP(J395,Tables!E$1:F$50,2,FALSE)=1,IF(MOD(BE395,2)=1,1,2),IF(MOD(BE395,2)=1,2,1)),IF(MOD(BE395,2)=1,1,2)))","v":""},"","",null,null,null,"","","","","","","","","","","","","","","","","","","","","","","","","",{"$f":"IF(AN395=\"\",\"\",IF(I395=0,IF(AO395=1,VLOOKUP(F395,Tables!A$1:C$18,2,FALSE),VLOOKUP(F395,Tables!A$1:C$18,3,FALSE)),IF(I395=1, IF(AO395=1,VLOOKUP(F395,Tables!H$1:J$95,2,FALSE),VLOOKUP(F395,Tables!H$1:J$95,3,FALSE)),IF(AO395=1,VLOOKUP(F395,Tables!Q$1:S$137,2,FALSE),VLOOKUP(F395,Tables!Q$1:S$137,3,FALSE)))))","v":""},"","","","","","","","","",null,"","","","","",""]
["","","","","","","","","","",{"$f":"IF(A396=\"\",\"\",IF(OR(I396=1,I396=\"S\"),IF(VLOOKUP(J396,Tables!E$1:F$50,2,FALSE)=1,IF(MOD(BE396,2)=1,1,2),IF(MOD(BE396,2)=1,2,1)),IF(MOD(BE396,2)=1,1,2)))","v":""},"","",null,null,null,"","","","","","","","","","","","","","","","","","","","","","","","","",{"$f":"IF(AN396=\"\",\"\",IF(I396=0,IF(AO396=1,VLOOKUP(F396,Tables!A$1:C$18,2,FALSE),VLOOKUP(F396,Tables!A$1:C$18,3,FALSE)),IF(I396=1, IF(AO396=1,VLOOKUP(F396,Tables!H$1:J$95,2,FALSE),VLOOKUP(F396,Tables!H$1:J$95,3,FALSE)),IF(AO396=1,VLOOKUP(F396,Tables!Q$1:S$137,2,FALSE),VLOOKUP(F396,Tables!Q$1:S$137,3,FALSE)))))","v":""},"","","","","","","","","",null,"","","","","",""]
["","","","","","","","","","",{"$f":"IF(A397=\"\",\"\",IF(OR(I397=1,I397=\"S\"),IF(VLOOKUP(J397,Tables!E$1:F$50,2,FALSE)=1,IF(MOD(BE397,2)=1,1,2),IF(MOD(BE397,2)=1,2,1)),IF(MOD(BE397,2)=1,1,2)))","v":""},"","",null,null,null,"","","","","","","","","","","","","","","","","","","","","","","","","",{"$f":"IF(AN397=\"\",\"\",IF(I397=0,IF(AO397=1,VLOOKUP(F397,Tables!A$1:C$18,2,FALSE),VLOOKUP(F397,Tables!A$1:C$18,3,FALSE)),IF(I397=1, IF(AO397=1,VLOOKUP(F397,Tables!H$1:J$95,2,FALSE),VLOOKUP(F397,Tables!H$1:J$95,3,FALSE)),IF(AO397=1,VLOOKUP(F397,Tables!Q$1:S$137,2,FALSE),VLOOKUP(F397,Tables!Q$1:S$137,3,FALSE)))))","v":""},"","","","","","","","","",null,"","","","","",""]
["","","","","","","","","","",{"$f":"IF(A398=\"\",\"\",IF(OR(I398=1,I398=\"S\"),IF(VLOOKUP(J398,Tables!E$1:F$50,2,FALSE)=1,IF(MOD(BE398,2)=1,1,2),IF(MOD(BE398,2)=1,2,1)),IF(MOD(BE398,2)=1,1,2)))","v":""},"","",null,null,null,"","","","","","","","","","","","","","","","","","","","","","","","","",{"$f":"IF(AN398=\"\",\"\",IF(I398=0,IF(AO398=1,VLOOKUP(F398,Tables!A$1:C$18,2,FALSE),VLOOKUP(F398,Tables!A$1:C$18,3,FALSE)),IF(I398=1, IF(AO398=1,VLOOKUP(F398,Tables!H$1:J$95,2,FALSE),VLOOKUP(F398,Tables!H$1:J$95,3,FALSE)),IF(AO398=1,VLOOKUP(F398,Tables!Q$1:S$137,2,FALSE),VLOOKUP(F398,Tables!Q$1:S$137,3,FALSE)))))","v":""},"","","","","","","","","",null,"","","","","",""]
["","","","","","","","","","",{"$f":"IF(A399=\"\",\"\",IF(OR(I399=1,I399=\"S\"),IF(VLOOKUP(J399,Tables!E$1:F$50,2,FALSE)=1,IF(MOD(BE399,2)=1,1,2),IF(MOD(BE399,2)=1,2,1)),IF(MOD(BE399,2)=1,1,2)))","v":""},"","",null,null,null,"","","","","","","","","","","","","","","","","","","","","","","","","",{"$f":"IF(AN399=\"\",\"\",IF(I399=0,IF(AO399=1,VLOOKUP(F399,Tables!A$1:C$18,2,FALSE),VLOOKUP(F399,Tables!A$1:C$18,3,FALSE)),IF(I399=1, IF(AO399=1,VLOOKUP(F399,Tables!H$1:J$95,2,FALSE),VLOOKUP(F399,Tables!H$1:J$95,3,FALSE)),IF(AO399=1,VLOOKUP(F399,Tables!Q$1:S$137,2,FALSE),VLOOKUP(F399,Tables!Q$1:S$137,3,FALSE)))))","v":""},"","","","","","","","","",null,"","","","","",""]
["","","","","","","","","","",{"$f":"IF(A400=\"\",\"\",IF(OR(I400=1,I400=\"S\"),IF(VLOOKUP(J400,Tables!E$1:F$50,2,FALSE)=1,IF(MOD(BE400,2)=1,1,2),IF(MOD(BE400,2)=1,2,1)),IF(MOD(BE400,2)=1,1,2)))","v":""},"","",null,null,null,"","","","","","","","","","","","","","","","","","","","","","","","","",{"$f":"IF(AN400=\"\",\"\",IF(I400=0,IF(AO400=1,VLOOKUP(F400,Tables!A$1:C$18,2,FALSE),VLOOKUP(F400,Tables!A$1:C$18,3,FALSE)),IF(I400=1, IF(AO400=1,VLOOKUP(F400,Tables!H$1:J$95,2,FALSE),VLOOKUP(F400,Tables!H$1:J$95,3,FALSE)),IF(AO400=1,VLOOKUP(F400,Tables!Q$1:S$137,2,FALSE),VLOOKUP(F400,Tables!Q$1:S$137,3,FALSE)))))","v":""},"","","","","","","","","",null,"","","","","",""]
["","","","","","","","","","",{"$f":"IF(A401=\"\",\"\",IF(OR(I401=1,I401=\"S\"),IF(VLOOKUP(J401,Tables!E$1:F$50,2,FALSE)=1,IF(MOD(BE401,2)=1,1,2),IF(MOD(BE401,2)=1,2,1)),IF(MOD(BE401,2)=1,1,2)))","v":""},"","",null,null,null,"","","","","","","","","","","","","","","","","","","","","","","","","",{"$f":"IF(AN401=\"\",\"\",IF(I401=0,IF(AO401=1,VLOOKUP(F401,Tables!A$1:C$18,2,FALSE),VLOOKUP(F401,Tables!A$1:C$18,3,FALSE)),IF(I401=1, IF(AO401=1,VLOOKUP(F401,Tables!H$1:J$95,2,FALSE),VLOOKUP(F401,Tables!H$1:J$95,3,FALSE)),IF(AO401=1,VLOOKUP(F401,Tables!Q$1:S$137,2,FALSE),VLOOKUP(F401,Tables!Q$1:S$137,3,FALSE)))))","v":""},"","","","","","","","","",null,"","","","","",""]
["","","","","","","",{"$f":"IF(A402=\"\",\"\",IF(OR(B$14=1,B$14=\"S\",AND(B$14<>\"V\",(B402+C402+1)<B$13)),1,0))","v":""},{"$f":"IF(A402=\"\",\"\",IF(AND(D402=$I$14,E402=$I$14,H402=1),1,IF(AND(B$14=\"S\",(B402+C402+1)=B$13),\"S\",0)))","v":""},{"$f":"IF(OR(I402=1,I402=\"S\"),IF(F402=\"0-0\",1,J401+1),\"\")","v":""},{"$f":"IF(A402=\"\",\"\",IF(OR(I402=1,I402=\"S\"),IF(VLOOKUP(J402,Tables!E$1:F$50,2,FALSE)=1,IF(MOD(BE402,2)=1,1,2),IF(MOD(BE402,2)=1,2,1)),IF(MOD(BE402,2)=1,1,2)))","v":""},"",{"$f":"IF(A402=\"\",\"\",IF(K402=1,I$1,I$2))","v":""},null,null,null,"","","","","","","","","","","","","","","","","","",{"$f":"IF(N402=\"\",\"\",IF(AND(W402=0,X402=0),TRUE,FALSE))","v":""},"","","",{"$f":"IF(N402=\"\",\"\",LEN(AL402))","v":""},{"$f":"IF(OR(N402=\"P\",N402=\"R\"),L402,IF(OR(N402=\"Q\",N402=\"S\"),K402,IF(AND(AC402=\"\",OR(AD402=FALSE,AD402=\"\"),OR(AE402=FALSE,AE402=\"\"),OR(AI402=FALSE,AI402=\"\")),\"\",IF(OR(AD402=TRUE,AE402=TRUE,AND((MOD(AM402,2)=0),AF402=TRUE),AND((MOD(AM402,2)=1),OR(AG402=TRUE,AH402=TRUE))),K402,L402))))","v":""},{"$f":"IF(AN402=\"\",\"\",IF(AN402=K402,1,0))","v":""},{"$f":"IF(AN402=\"\",\"\",IF(I402=0,IF(AO402=1,VLOOKUP(F402,Tables!A$1:C$18,2,FALSE),VLOOKUP(F402,Tables!A$1:C$18,3,FALSE)),IF(I402=1, IF(AO402=1,VLOOKUP(F402,Tables!H$1:J$95,2,FALSE),VLOOKUP(F402,Tables!H$1:J$95,3,FALSE)),IF(AO402=1,VLOOKUP(F402,Tables!Q$1:S$137,2,FALSE),VLOOKUP(F402,Tables!Q$1:S$137,3,FALSE)))))","v":""},"",{"$f":"IF(AN402=\"\",\"\",IF(AQ402=1,D402+1,D402))","v":""},{"$f":"IF(AN402=\"\",\"\",IF(AQ402=2,E402+1,E402))","v":""},"",{"$f":"IF(AN402=\"\",\"\",IF(AT402=1,B402+1,B402))","v":""},{"$f":"IF(AN402=\"\",\"\",IF(AT402=2,C402+1,C402))","v":""},"","","",null,{"$f":"IF(AA402=\"\",\"\",SUM(B402,C402,1))","v":""},{"$f":"IF(AA402=\"\",\"\",\"SET \"&BA402&\": \"&D402&\"-\"&E402&\", \"&F402)","v":""},{"$f":"IF(AA402=\"\",\"\",IF(AT402>0,(AU402+AV402),IF(AND(NOT(D403=\"\"),D404=\"\"),AU402+AV402+1,\"\")))","v":""},"","",""]
[{"$f":"IF(AN402=\"\",\"\",A402+1)","v":""},{"$f":"IF(A403=\"\",\"\",AU402)","v":""},{"$f":"IF(A403=\"\",\"\",AV402)","v":""},{"$f":"IF(A403=\"\",\"\",IF(AT402=0,AR402,0))","v":""},{"$f":"IF(A403=\"\",\"\",IF(AT402=0,AS402,0))","v":""},{"$f":"IF(A403=\"\",\"\",IF(AW402=1,AX402,IF(AP402=\"GM\",\"0-0\",AP402)))","v":""},{"$f":"IF(BE403=\"\",\"\",BE403&\" (\"&BF403&\")\")","v":""},"","","",{"$f":"IF(A403=\"\",\"\",IF(OR(I403=1,I403=\"S\"),IF(VLOOKUP(J403,Tables!E$1:F$50,2,FALSE)=1,IF(MOD(BE403,2)=1,1,2),IF(MOD(BE403,2)=1,2,1)),IF(MOD(BE403,2)=1,1,2)))","v":""},"","",null,null,null,{"$f":"IF(N403=\"\",\"\",SUBSTITUTE(N403, \"c\", \"\"))","v":""},{"$f":"SUBSTITUTE(O403, \"c\", \"\")","v":""},{"$f":"IF(N403=\"\",\"\",IF(MID(Q403,2,1)=\"+\",1,0))","v":""},{"$f":"IF(O403=\"\",\"\",IF(MID(R403,2,1)=\"+\",1,0))","v":""},{"$f":"IF(N403=\"\",\"\",IF(S403=1,SUBSTITUTE(Q403, \"+\", \"\",1),Q403))","v":""},{"$f":"IF(T403=1,SUBSTITUTE(R403, \"+\", \"\",1),R403)","v":""},{"$f":"IF(N403=\"\",\"\",IF(LEN(N403)=1,0,IF(ISERROR(FIND(MID(U403,2,1),\"wdnxge!VPQRS\"))=TRUE,1,0)))","v":""},{"$f":"IF(O403=\"\",\"\",IF(ISERROR(FIND(MID(V403,2,1),\"wdnxge!VPQRS\"))=TRUE,1,0))","v":""},{"$f":"IF(N403=\"\",\"\",IF(W403=0,0,IF(LEN(U403)>2,1,0)))","v":""},{"$f":"IF(N403=\"\",\"\",IF(X403=0,0,IF(LEN(V403)>2,1,0)))","v":""},{"$f":"IF(N403=\"\",\"\",IF(Y403=0,Q403,LEFT(U403,1)))","v":""},{"$f":"IF(N403=\"\",\"\",IF(Z403=0,V403,LEFT(V403,1)))","v":""},{"$f":"IF(N403=\"\",\"\",IF(Y403=1,RIGHT(U403,(LEN(U403)-1)),IF(Z403=1,RIGHT(V403,(LEN(V403)-1)),\"\")))","v":""},{"$f":"IF(AA403=\"\",\"\",OR(IF(ISERR(FIND(\"*\",AA403)),FALSE,TRUE), IF(ISERR(FIND(\"*\",AB403)),FALSE,TRUE)))","v":""},{"$f":"IF(AA403=\"\",\"\",OR(IF(ISERR(FIND(\"#\",AA403)),FALSE,TRUE), IF(ISERR(FIND(\"#\",AB403)),FALSE,TRUE)))","v":""},{"$f":"IF(AA403=\"\",\"\",IF(ISERR(FIND(\"*\",AC403)),FALSE,TRUE))","v":""},{"$f":"IF(AA403=\"\",\"\",IF(ISERR(FIND(\"#\",AC403)),FALSE,TRUE))","v":""},{"$f":"IF(AA403=\"\",\"\",IF(ISERR(FIND(\"@\",AC403)),FALSE,TRUE))","v":""},"",{"$f":"SUBSTITUTE(SUBSTITUTE(SUBSTITUTE(SUBSTITUTE(SUBSTITUTE(SUBSTITUTE(SUBSTITUTE(SUBSTITUTE(AC403, \"-\", \"\"), \"=\", \"\"), \"@\", \"\"), \"#\", \"\"), \"*\", \"\"), \";\", \"\"), \"+\", \"\"), \"^\", \"\")","v":""},{"$f":"SUBSTITUTE(SUBSTITUTE(SUBSTITUTE(SUBSTITUTE(SUBSTITUTE(SUBSTITUTE(AJ403, \"d\", \"\"), \"w\", \"\"), \"x\", \"\"), \"e\", \"\"), \"n\", \"\"), \"!\", \"\")","v":""},{"$f":"SUBSTITUTE(SUBSTITUTE(SUBSTITUTE(SUBSTITUTE(SUBSTITUTE(SUBSTITUTE(AK403, \"1\", \"\"), \"2\", \"\"), \"3\", \"\"), \"7\", \"\"), \"8\", \"\"), \"9\", \"\")","v":""},"","","",{"$f":"IF(AN403=\"\",\"\",IF(I403=0,IF(AO403=1,VLOOKUP(F403,Tables!A$1:C$18,2,FALSE),VLOOKUP(F403,Tables!A$1:C$18,3,FALSE)),IF(I403=1, IF(AO403=1,VLOOKUP(F403,Tables!H$1:J$95,2,FALSE),VLOOKUP(F403,Tables!H$1:J$95,3,FALSE)),IF(AO403=1,VLOOKUP(F403,Tables!Q$1:S$137,2,FALSE),VLOOKUP(F403,Tables!Q$1:S$137,3,FALSE)))))","v":""},{"$f":"IF(AN403=\"\",\"\",IF(AP403=\"GM\",AN403,0))","v":""},"","","","","",{"$f":"IF(J403=\"\",\"\",IF(AND(OR(I403=1,I403=\"S\"),MOD(J403,2)=1,NOT(AP403=\"GM\")),1,\"\"))","v":""},{"$f":"IF(AW403=1,CONCATENATE(RIGHT(AP403,(LEN(AP403)-FIND(\"-\",AP403))),\"-\",LEFT(AP403,FIND(\"-\",AP403)-1)),\"\")","v":""},{"$f":"IF(AA403=\"\",\"\",IF(OR(RIGHT(AC403,1)=\"@\",RIGHT(AC403,1)=\"#\"),AM403,IF(AI403=TRUE,0,AM403+1)))","v":""},null,"","","","",{"$f":"IF(A403=\"\",\"\",IF(AP402=\"GM\",BE402+1,BE402))","v":""},{"$f":"IF(A403=\"\",\"\",IF(AQ402=0,BF402+1,1))","v":""}]
["","","","","","","","","","",{"$f":"IF(A404=\"\",\"\",IF(OR(I404=1,I404=\"S\"),IF(VLOOKUP(J404,Tables!E$1:F$50,2,FALSE)=1,IF(MOD(BE404,2)=1,1,2),IF(MOD(BE404,2)=1,2,1)),IF(MOD(BE404,2)=1,1,2)))","v":""},"","",null,null,null,"","","","","","","","","","","","","","","","","","","","","","","","","",{"$f":"IF(AN404=\"\",\"\",IF(I404=0,IF(AO404=1,VLOOKUP(F404,Tables!A$1:C$18,2,FALSE),VLOOKUP(F404,Tables!A$1:C$18,3,FALSE)),IF(I404=1, IF(AO404=1,VLOOKUP(F404,Tables!H$1:J$95,2,FALSE),VLOOKUP(F404,Tables!H$1:J$95,3,FALSE)),IF(AO404=1,VLOOKUP(F404,Tables!Q$1:S$137,2,FALSE),VLOOKUP(F404,Tables!Q$1:S$137,3,FALSE)))))","v":""},"","","","","","","","","",null,"","","","","",""]
["","","","","","","","","","",{"$f":"IF(A405=\"\",\"\",IF(OR(I405=1,I405=\"S\"),IF(VLOOKUP(J405,Tables!E$1:F$50,2,FALSE)=1,IF(MOD(BE405,2)=1,1,2),IF(MOD(BE405,2)=1,2,1)),IF(MOD(BE405,2)=1,1,2)))","v":""},"","",null,null,null,"","","","","","","","","","","","","","","","","","","","","","","","","",{"$f":"IF(AN405=\"\",\"\",IF(I405=0,IF(AO405=1,VLOOKUP(F405,Tables!A$1:C$18,2,FALSE),VLOOKUP(F405,Tables!A$1:C$18,3,FALSE)),IF(I405=1, IF(AO405=1,VLOOKUP(F405,Tables!H$1:J$95,2,FALSE),VLOOKUP(F405,Tables!H$1:J$95,3,FALSE)),IF(AO405=1,VLOOKUP(F405,Tables!Q$1:S$137,2,FALSE),VLOOKUP(F405,Tables!Q$1:S$137,3,FALSE)))))","v":""},"","","","","","","","","",null,"","","","","",""]
["","","","","","","","","","",{"$f":"IF(A406=\"\",\"\",IF(OR(I406=1,I406=\"S\"),IF(VLOOKUP(J406,Tables!E$1:F$50,2,FALSE)=1,IF(MOD(BE406,2)=1,1,2),IF(MOD(BE406,2)=1,2,1)),IF(MOD(BE406,2)=1,1,2)))","v":""},"","",null,null,null,"","","","","","","","","","","","","","","","","","","","","","","","","",{"$f":"IF(AN406=\"\",\"\",IF(I406=0,IF(AO406=1,VLOOKUP(F406,Tables!A$1:C$18,2,FALSE),VLOOKUP(F406,Tables!A$1:C$18,3,FALSE)),IF(I406=1, IF(AO406=1,VLOOKUP(F406,Tables!H$1:J$95,2,FALSE),VLOOKUP(F406,Tables!H$1:J$95,3,FALSE)),IF(AO406=1,VLOOKUP(F406,Tables!Q$1:S$137,2,FALSE),VLOOKUP(F406,Tables!Q$1:S$137,3,FALSE)))))","v":""},"","","","","","","","","",null,"","","","","",""]
["","","","","","","","","","",{"$f":"IF(A407=\"\",\"\",IF(OR(I407=1,I407=\"S\"),IF(VLOOKUP(J407,Tables!E$1:F$50,2,FALSE)=1,IF(MOD(BE407,2)=1,1,2),IF(MOD(BE407,2)=1,2,1)),IF(MOD(BE407,2)=1,1,2)))","v":""},"","",null,null,null,"","","","","","","","","","","","","","","","","","","","","","","","","",{"$f":"IF(AN407=\"\",\"\",IF(I407=0,IF(AO407=1,VLOOKUP(F407,Tables!A$1:C$18,2,FALSE),VLOOKUP(F407,Tables!A$1:C$18,3,FALSE)),IF(I407=1, IF(AO407=1,VLOOKUP(F407,Tables!H$1:J$95,2,FALSE),VLOOKUP(F407,Tables!H$1:J$95,3,FALSE)),IF(AO407=1,VLOOKUP(F407,Tables!Q$1:S$137,2,FALSE),VLOOKUP(F407,Tables!Q$1:S$137,3,FALSE)))))","v":""},"","","","","","","","","",null,"","","","","",""]
["","","","","","","","","","",{"$f":"IF(A408=\"\",\"\",IF(OR(I408=1,I408=\"S\"),IF(VLOOKUP(J408,Tables!E$1:F$50,2,FALSE)=1,IF(MOD(BE408,2)=1,1,2),IF(MOD(BE408,2)=1,2,1)),IF(MOD(BE408,2)=1,1,2)))","v":""},"","",null,null,null,"","","","","","","","","","","","","","","","","","","","","","","","","",{"$f":"IF(AN408=\"\",\"\",IF(I408=0,IF(AO408=1,VLOOKUP(F408,Tables!A$1:C$18,2,FALSE),VLOOKUP(F408,Tables!A$1:C$18,3,FALSE)),IF(I408=1, IF(AO408=1,VLOOKUP(F408,Tables!H$1:J$95,2,FALSE),VLOOKUP(F408,Tables!H$1:J$95,3,FALSE)),IF(AO408=1,VLOOKUP(F408,Tables!Q$1:S$137,2,FALSE),VLOOKUP(F408,Tables!Q$1:S$137,3,FALSE)))))","v":""},"","","","","","","","","",null,"","","","","",""]
["","","","","","","","","","",{"$f":"IF(A409=\"\",\"\",IF(OR(I409=1,I409=\"S\"),IF(VLOOKUP(J409,Tables!E$1:F$50,2,FALSE)=1,IF(MOD(BE409,2)=1,1,2),IF(MOD(BE409,2)=1,2,1)),IF(MOD(BE409,2)=1,1,2)))","v":""},"","",null,null,null,"","","","","","","","","","","","","","","","","","","","","","","","","",{"$f":"IF(AN409=\"\",\"\",IF(I409=0,IF(AO409=1,VLOOKUP(F409,Tables!A$1:C$18,2,FALSE),VLOOKUP(F409,Tables!A$1:C$18,3,FALSE)),IF(I409=1, IF(AO409=1,VLOOKUP(F409,Tables!H$1:J$95,2,FALSE),VLOOKUP(F409,Tables!H$1:J$95,3,FALSE)),IF(AO409=1,VLOOKUP(F409,Tables!Q$1:S$137,2,FALSE),VLOOKUP(F409,Tables!Q$1:S$137,3,FALSE)))))","v":""},"","","","","","","","","",null,"","","","","",""]
["","","","","","","","","","",{"$f":"IF(A410=\"\",\"\",IF(OR(I410=1,I410=\"S\"),IF(VLOOKUP(J410,Tables!E$1:F$50,2,FALSE)=1,IF(MOD(BE410,2)=1,1,2),IF(MOD(BE410,2)=1,2,1)),IF(MOD(BE410,2)=1,1,2)))","v":""},"","",null,null,null,"","","","","","","","","","","","","","","","","","","","","","","","","",{"$f":"IF(AN410=\"\",\"\",IF(I410=0,IF(AO410=1,VLOOKUP(F410,Tables!A$1:C$18,2,FALSE),VLOOKUP(F410,Tables!A$1:C$18,3,FALSE)),IF(I410=1, IF(AO410=1,VLOOKUP(F410,Tables!H$1:J$95,2,FALSE),VLOOKUP(F410,Tables!H$1:J$95,3,FALSE)),IF(AO410=1,VLOOKUP(F410,Tables!Q$1:S$137,2,FALSE),VLOOKUP(F410,Tables!Q$1:S$137,3,FALSE)))))","v":""},"","","","","","","","","",null,"","","","","",""]
["","","","","","","","","","",{"$f":"IF(A411=\"\",\"\",IF(OR(I411=1,I411=\"S\"),IF(VLOOKUP(J411,Tables!E$1:F$50,2,FALSE)=1,IF(MOD(BE411,2)=1,1,2),IF(MOD(BE411,2)=1,2,1)),IF(MOD(BE411,2)=1,1,2)))","v":""},"","",null,null,null,"","","","","","","","","","","","","","","","","","","","","","","","","",{"$f":"IF(AN411=\"\",\"\",IF(I411=0,IF(AO411=1,VLOOKUP(F411,Tables!A$1:C$18,2,FALSE),VLOOKUP(F411,Tables!A$1:C$18,3,FALSE)),IF(I411=1, IF(AO411=1,VLOOKUP(F411,Tables!H$1:J$95,2,FALSE),VLOOKUP(F411,Tables!H$1:J$95,3,FALSE)),IF(AO411=1,VLOOKUP(F411,Tables!Q$1:S$137,2,FALSE),VLOOKUP(F411,Tables!Q$1:S$137,3,FALSE)))))","v":""},"","","","","","","","","",null,"","","","","",""]
["","","","","","","","","","",{"$f":"IF(A412=\"\",\"\",IF(OR(I412=1,I412=\"S\"),IF(VLOOKUP(J412,Tables!E$1:F$50,2,FALSE)=1,IF(MOD(BE412,2)=1,1,2),IF(MOD(BE412,2)=1,2,1)),IF(MOD(BE412,2)=1,1,2)))","v":""},"","",null,null,null,"","","","","","","","","","","","","","","","","","","","","","","","","",{"$f":"IF(AN412=\"\",\"\",IF(I412=0,IF(AO412=1,VLOOKUP(F412,Tables!A$1:C$18,2,FALSE),VLOOKUP(F412,Tables!A$1:C$18,3,FALSE)),IF(I412=1, IF(AO412=1,VLOOKUP(F412,Tables!H$1:J$95,2,FALSE),VLOOKUP(F412,Tables!H$1:J$95,3,FALSE)),IF(AO412=1,VLOOKUP(F412,Tables!Q$1:S$137,2,FALSE),VLOOKUP(F412,Tables!Q$1:S$137,3,FALSE)))))","v":""},"","","","","","","","","",null,"","","","","",""]
["","","","","","","","","","",{"$f":"IF(A413=\"\",\"\",IF(OR(I413=1,I413=\"S\"),IF(VLOOKUP(J413,Tables!E$1:F$50,2,FALSE)=1,IF(MOD(BE413,2)=1,1,2),IF(MOD(BE413,2)=1,2,1)),IF(MOD(BE413,2)=1,1,2)))","v":""},"","",null,null,null,"","","","","","","","","","","","","","","","","","","","","","","","","",{"$f":"IF(AN413=\"\",\"\",IF(I413=0,IF(AO413=1,VLOOKUP(F413,Tables!A$1:C$18,2,FALSE),VLOOKUP(F413,Tables!A$1:C$18,3,FALSE)),IF(I413=1, IF(AO413=1,VLOOKUP(F413,Tables!H$1:J$95,2,FALSE),VLOOKUP(F413,Tables!H$1:J$95,3,FALSE)),IF(AO413=1,VLOOKUP(F413,Tables!Q$1:S$137,2,FALSE),VLOOKUP(F413,Tables!Q$1:S$137,3,FALSE)))))","v":""},"","","","","","","","","",null,"","","","","",""]
["","","","","","","","","","",{"$f":"IF(A414=\"\",\"\",IF(OR(I414=1,I414=\"S\"),IF(VLOOKUP(J414,Tables!E$1:F$50,2,FALSE)=1,IF(MOD(BE414,2)=1,1,2),IF(MOD(BE414,2)=1,2,1)),IF(MOD(BE414,2)=1,1,2)))","v":""},"","",null,null,null,"","","","","","","","","","","","","","","","","","","","","","","","","",{"$f":"IF(AN414=\"\",\"\",IF(I414=0,IF(AO414=1,VLOOKUP(F414,Tables!A$1:C$18,2,FALSE),VLOOKUP(F414,Tables!A$1:C$18,3,FALSE)),IF(I414=1, IF(AO414=1,VLOOKUP(F414,Tables!H$1:J$95,2,FALSE),VLOOKUP(F414,Tables!H$1:J$95,3,FALSE)),IF(AO414=1,VLOOKUP(F414,Tables!Q$1:S$137,2,FALSE),VLOOKUP(F414,Tables!Q$1:S$137,3,FALSE)))))","v":""},"","","","","","","","","",null,"","","","","",""]
["","","","","","","","","","",{"$f":"IF(A415=\"\",\"\",IF(OR(I415=1,I415=\"S\"),IF(VLOOKUP(J415,Tables!E$1:F$50,2,FALSE)=1,IF(MOD(BE415,2)=1,1,2),IF(MOD(BE415,2)=1,2,1)),IF(MOD(BE415,2)=1,1,2)))","v":""},"","",null,null,null,"","","","","","","","","","","","","","","","","","","","","","","","","",{"$f":"IF(AN415=\"\",\"\",IF(I415=0,IF(AO415=1,VLOOKUP(F415,Tables!A$1:C$18,2,FALSE),VLOOKUP(F415,Tables!A$1:C$18,3,FALSE)),IF(I415=1, IF(AO415=1,VLOOKUP(F415,Tables!H$1:J$95,2,FALSE),VLOOKUP(F415,Tables!H$1:J$95,3,FALSE)),IF(AO415=1,VLOOKUP(F415,Tables!Q$1:S$137,2,FALSE),VLOOKUP(F415,Tables!Q$1:S$137,3,FALSE)))))","v":""},"","","","","","","","","",null,"","","","","",""]
["","","","","","","","","","",{"$f":"IF(A416=\"\",\"\",IF(OR(I416=1,I416=\"S\"),IF(VLOOKUP(J416,Tables!E$1:F$50,2,FALSE)=1,IF(MOD(BE416,2)=1,1,2),IF(MOD(BE416,2)=1,2,1)),IF(MOD(BE416,2)=1,1,2)))","v":""},"","",null,null,null,"","","","","","","","","","","","","","","","","","","","","","","","","",{"$f":"IF(AN416=\"\",\"\",IF(I416=0,IF(AO416=1,VLOOKUP(F416,Tables!A$1:C$18,2,FALSE),VLOOKUP(F416,Tables!A$1:C$18,3,FALSE)),IF(I416=1, IF(AO416=1,VLOOKUP(F416,Tables!H$1:J$95,2,FALSE),VLOOKUP(F416,Tables!H$1:J$95,3,FALSE)),IF(AO416=1,VLOOKUP(F416,Tables!Q$1:S$137,2,FALSE),VLOOKUP(F416,Tables!Q$1:S$137,3,FALSE)))))","v":""},"","","","","","","","","",null,"","","","","",""]
["","","","","","","","","","",{"$f":"IF(A417=\"\",\"\",IF(OR(I417=1,I417=\"S\"),IF(VLOOKUP(J417,Tables!E$1:F$50,2,FALSE)=1,IF(MOD(BE417,2)=1,1,2),IF(MOD(BE417,2)=1,2,1)),IF(MOD(BE417,2)=1,1,2)))","v":""},"","",null,null,null,"","","","","","","","","","","","","","","","","","","","","","","","","",{"$f":"IF(AN417=\"\",\"\",IF(I417=0,IF(AO417=1,VLOOKUP(F417,Tables!A$1:C$18,2,FALSE),VLOOKUP(F417,Tables!A$1:C$18,3,FALSE)),IF(I417=1, IF(AO417=1,VLOOKUP(F417,Tables!H$1:J$95,2,FALSE),VLOOKUP(F417,Tables!H$1:J$95,3,FALSE)),IF(AO417=1,VLOOKUP(F417,Tables!Q$1:S$137,2,FALSE),VLOOKUP(F417,Tables!Q$1:S$137,3,FALSE)))))","v":""},"","","","","","","","","",null,"","","","","",""]
["","","","","","","","","","",{"$f":"IF(A418=\"\",\"\",IF(OR(I418=1,I418=\"S\"),IF(VLOOKUP(J418,Tables!E$1:F$50,2,FALSE)=1,IF(MOD(BE418,2)=1,1,2),IF(MOD(BE418,2)=1,2,1)),IF(MOD(BE418,2)=1,1,2)))","v":""},"","",null,null,null,"","","","","","","","","","","","","","","","","","","","","","","","","",{"$f":"IF(AN418=\"\",\"\",IF(I418=0,IF(AO418=1,VLOOKUP(F418,Tables!A$1:C$18,2,FALSE),VLOOKUP(F418,Tables!A$1:C$18,3,FALSE)),IF(I418=1, IF(AO418=1,VLOOKUP(F418,Tables!H$1:J$95,2,FALSE),VLOOKUP(F418,Tables!H$1:J$95,3,FALSE)),IF(AO418=1,VLOOKUP(F418,Tables!Q$1:S$137,2,FALSE),VLOOKUP(F418,Tables!Q$1:S$137,3,FALSE)))))","v":""},"","","","","","","","","",null,"","","","","",""]
["","","","","","","","","","",{"$f":"IF(A419=\"\",\"\",IF(OR(I419=1,I419=\"S\"),IF(VLOOKUP(J419,Tables!E$1:F$50,2,FALSE)=1,IF(MOD(BE419,2)=1,1,2),IF(MOD(BE419,2)=1,2,1)),IF(MOD(BE419,2)=1,1,2)))","v":""},"","",null,null,null,"","","","","","","","","","","","","","","","","","","","","","","","","",{"$f":"IF(AN419=\"\",\"\",IF(I419=0,IF(AO419=1,VLOOKUP(F419,Tables!A$1:C$18,2,FALSE),VLOOKUP(F419,Tables!A$1:C$18,3,FALSE)),IF(I419=1, IF(AO419=1,VLOOKUP(F419,Tables!H$1:J$95,2,FALSE),VLOOKUP(F419,Tables!H$1:J$95,3,FALSE)),IF(AO419=1,VLOOKUP(F419,Tables!Q$1:S$137,2,FALSE),VLOOKUP(F419,Tables!Q$1:S$137,3,FALSE)))))","v":""},"","","","","","","","","",null,"","","","","",""]
["","","","","","","","","","",{"$f":"IF(A420=\"\",\"\",IF(OR(I420=1,I420=\"S\"),IF(VLOOKUP(J420,Tables!E$1:F$50,2,FALSE)=1,IF(MOD(BE420,2)=1,1,2),IF(MOD(BE420,2)=1,2,1)),IF(MOD(BE420,2)=1,1,2)))","v":""},"","",null,null,null,"","","","","","","","","","","","","","","","","","","","","","","","","",{"$f":"IF(AN420=\"\",\"\",IF(I420=0,IF(AO420=1,VLOOKUP(F420,Tables!A$1:C$18,2,FALSE),VLOOKUP(F420,Tables!A$1:C$18,3,FALSE)),IF(I420=1, IF(AO420=1,VLOOKUP(F420,Tables!H$1:J$95,2,FALSE),VLOOKUP(F420,Tables!H$1:J$95,3,FALSE)),IF(AO420=1,VLOOKUP(F420,Tables!Q$1:S$137,2,FALSE),VLOOKUP(F420,Tables!Q$1:S$137,3,FALSE)))))","v":""},"","","","","","","","","",null,"","","","","",""]
["","","","","","","","","","",{"$f":"IF(A421=\"\",\"\",IF(OR(I421=1,I421=\"S\"),IF(VLOOKUP(J421,Tables!E$1:F$50,2,FALSE)=1,IF(MOD(BE421,2)=1,1,2),IF(MOD(BE421,2)=1,2,1)),IF(MOD(BE421,2)=1,1,2)))","v":""},"","",null,null,null,"","","","","","","","","","","","","","","","","","","","","","","","","",{"$f":"IF(AN421=\"\",\"\",IF(I421=0,IF(AO421=1,VLOOKUP(F421,Tables!A$1:C$18,2,FALSE),VLOOKUP(F421,Tables!A$1:C$18,3,FALSE)),IF(I421=1, IF(AO421=1,VLOOKUP(F421,Tables!H$1:J$95,2,FALSE),VLOOKUP(F421,Tables!H$1:J$95,3,FALSE)),IF(AO421=1,VLOOKUP(F421,Tables!Q$1:S$137,2,FALSE),VLOOKUP(F421,Tables!Q$1:S$137,3,FALSE)))))","v":""},"","","","","","","","","",null,"","","","","",""]
["","","","","","","","","","",{"$f":"IF(A422=\"\",\"\",IF(OR(I422=1,I422=\"S\"),IF(VLOOKUP(J422,Tables!E$1:F$50,2,FALSE)=1,IF(MOD(BE422,2)=1,1,2),IF(MOD(BE422,2)=1,2,1)),IF(MOD(BE422,2)=1,1,2)))","v":""},"","",null,null,null,"","","","","","","","","","","","","","","","","","","","","","","","","",{"$f":"IF(AN422=\"\",\"\",IF(I422=0,IF(AO422=1,VLOOKUP(F422,Tables!A$1:C$18,2,FALSE),VLOOKUP(F422,Tables!A$1:C$18,3,FALSE)),IF(I422=1, IF(AO422=1,VLOOKUP(F422,Tables!H$1:J$95,2,FALSE),VLOOKUP(F422,Tables!H$1:J$95,3,FALSE)),IF(AO422=1,VLOOKUP(F422,Tables!Q$1:S$137,2,FALSE),VLOOKUP(F422,Tables!Q$1:S$137,3,FALSE)))))","v":""},"","","","","","","","","",null,"","","","","",""]
["","","","","","","","","","",{"$f":"IF(A423=\"\",\"\",IF(OR(I423=1,I423=\"S\"),IF(VLOOKUP(J423,Tables!E$1:F$50,2,FALSE)=1,IF(MOD(BE423,2)=1,1,2),IF(MOD(BE423,2)=1,2,1)),IF(MOD(BE423,2)=1,1,2)))","v":""},"","",null,null,null,"","","","","","","","","","","","","","","","","","","","","","","","","",{"$f":"IF(AN423=\"\",\"\",IF(I423=0,IF(AO423=1,VLOOKUP(F423,Tables!A$1:C$18,2,FALSE),VLOOKUP(F423,Tables!A$1:C$18,3,FALSE)),IF(I423=1, IF(AO423=1,VLOOKUP(F423,Tables!H$1:J$95,2,FALSE),VLOOKUP(F423,Tables!H$1:J$95,3,FALSE)),IF(AO423=1,VLOOKUP(F423,Tables!Q$1:S$137,2,FALSE),VLOOKUP(F423,Tables!Q$1:S$137,3,FALSE)))))","v":""},"","","","","","","","","",null,"","","","","",""]
["","","","","","","","","","",{"$f":"IF(A424=\"\",\"\",IF(OR(I424=1,I424=\"S\"),IF(VLOOKUP(J424,Tables!E$1:F$50,2,FALSE)=1,IF(MOD(BE424,2)=1,1,2),IF(MOD(BE424,2)=1,2,1)),IF(MOD(BE424,2)=1,1,2)))","v":""},"","",null,null,null,"","","","","","","","","","","","","","","","","","","","","","","","","",{"$f":"IF(AN424=\"\",\"\",IF(I424=0,IF(AO424=1,VLOOKUP(F424,Tables!A$1:C$18,2,FALSE),VLOOKUP(F424,Tables!A$1:C$18,3,FALSE)),IF(I424=1, IF(AO424=1,VLOOKUP(F424,Tables!H$1:J$95,2,FALSE),VLOOKUP(F424,Tables!H$1:J$95,3,FALSE)),IF(AO424=1,VLOOKUP(F424,Tables!Q$1:S$137,2,FALSE),VLOOKUP(F424,Tables!Q$1:S$137,3,FALSE)))))","v":""},"","","","","","","","","",null,"","","","","",""]
["","","","","","","","","","",{"$f":"IF(A425=\"\",\"\",IF(OR(I425=1,I425=\"S\"),IF(VLOOKUP(J425,Tables!E$1:F$50,2,FALSE)=1,IF(MOD(BE425,2)=1,1,2),IF(MOD(BE425,2)=1,2,1)),IF(MOD(BE425,2)=1,1,2)))","v":""},"","",null,null,null,"","","","","","","","","","","","","","","","","","","","","","","","","",{"$f":"IF(AN425=\"\",\"\",IF(I425=0,IF(AO425=1,VLOOKUP(F425,Tables!A$1:C$18,2,FALSE),VLOOKUP(F425,Tables!A$1:C$18,3,FALSE)),IF(I425=1, IF(AO425=1,VLOOKUP(F425,Tables!H$1:J$95,2,FALSE),VLOOKUP(F425,Tables!H$1:J$95,3,FALSE)),IF(AO425=1,VLOOKUP(F425,Tables!Q$1:S$137,2,FALSE),VLOOKUP(F425,Tables!Q$1:S$137,3,FALSE)))))","v":""},"","","","","","","","","",null,"","","","","",""]
["","","","","","","","","","",{"$f":"IF(A426=\"\",\"\",IF(OR(I426=1,I426=\"S\"),IF(VLOOKUP(J426,Tables!E$1:F$50,2,FALSE)=1,IF(MOD(BE426,2)=1,1,2),IF(MOD(BE426,2)=1,2,1)),IF(MOD(BE426,2)=1,1,2)))","v":""},"","",null,null,null,"","","","","","","","","","","","","","","","","","","","","","","","","",{"$f":"IF(AN426=\"\",\"\",IF(I426=0,IF(AO426=1,VLOOKUP(F426,Tables!A$1:C$18,2,FALSE),VLOOKUP(F426,Tables!A$1:C$18,3,FALSE)),IF(I426=1, IF(AO426=1,VLOOKUP(F426,Tables!H$1:J$95,2,FALSE),VLOOKUP(F426,Tables!H$1:J$95,3,FALSE)),IF(AO426=1,VLOOKUP(F426,Tables!Q$1:S$137,2,FALSE),VLOOKUP(F426,Tables!Q$1:S$137,3,FALSE)))))","v":""},"","","","","","","","","",null,"","","","","",""]
["","","","","","","","","","",{"$f":"IF(A427=\"\",\"\",IF(OR(I427=1,I427=\"S\"),IF(VLOOKUP(J427,Tables!E$1:F$50,2,FALSE)=1,IF(MOD(BE427,2)=1,1,2),IF(MOD(BE427,2)=1,2,1)),IF(MOD(BE427,2)=1,1,2)))","v":""},"","",null,null,null,"","","","","","","","","","","","","","","","","","","","","","","","","",{"$f":"IF(AN427=\"\",\"\",IF(I427=0,IF(AO427=1,VLOOKUP(F427,Tables!A$1:C$18,2,FALSE),VLOOKUP(F427,Tables!A$1:C$18,3,FALSE)),IF(I427=1, IF(AO427=1,VLOOKUP(F427,Tables!H$1:J$95,2,FALSE),VLOOKUP(F427,Tables!H$1:J$95,3,FALSE)),IF(AO427=1,VLOOKUP(F427,Tables!Q$1:S$137,2,FALSE),VLOOKUP(F427,Tables!Q$1:S$137,3,FALSE)))))","v":""},"","","","","","","","","",null,"","","","","",""]
["","","","","","","","","","",{"$f":"IF(A428=\"\",\"\",IF(OR(I428=1,I428=\"S\"),IF(VLOOKUP(J428,Tables!E$1:F$50,2,FALSE)=1,IF(MOD(BE428,2)=1,1,2),IF(MOD(BE428,2)=1,2,1)),IF(MOD(BE428,2)=1,1,2)))","v":""},"","",null,null,null,"","","","","","","","","","","","","","","","","","","","","","","","","",{"$f":"IF(AN428=\"\",\"\",IF(I428=0,IF(AO428=1,VLOOKUP(F428,Tables!A$1:C$18,2,FALSE),VLOOKUP(F428,Tables!A$1:C$18,3,FALSE)),IF(I428=1, IF(AO428=1,VLOOKUP(F428,Tables!H$1:J$95,2,FALSE),VLOOKUP(F428,Tables!H$1:J$95,3,FALSE)),IF(AO428=1,VLOOKUP(F428,Tables!Q$1:S$137,2,FALSE),VLOOKUP(F428,Tables!Q$1:S$137,3,FALSE)))))","v":""},"","","","","","","","","",null,"","","","","",""]
["","","","","","","","","","",{"$f":"IF(A429=\"\",\"\",IF(OR(I429=1,I429=\"S\"),IF(VLOOKUP(J429,Tables!E$1:F$50,2,FALSE)=1,IF(MOD(BE429,2)=1,1,2),IF(MOD(BE429,2)=1,2,1)),IF(MOD(BE429,2)=1,1,2)))","v":""},"","",null,null,null,"","","","","","","","","","","","","","","","","","","","","","","","","",{"$f":"IF(AN429=\"\",\"\",IF(I429=0,IF(AO429=1,VLOOKUP(F429,Tables!A$1:C$18,2,FALSE),VLOOKUP(F429,Tables!A$1:C$18,3,FALSE)),IF(I429=1, IF(AO429=1,VLOOKUP(F429,Tables!H$1:J$95,2,FALSE),VLOOKUP(F429,Tables!H$1:J$95,3,FALSE)),IF(AO429=1,VLOOKUP(F429,Tables!Q$1:S$137,2,FALSE),VLOOKUP(F429,Tables!Q$1:S$137,3,FALSE)))))","v":""},"","","","","","","","","",null,"","","","","",""]
["","","","","","","","","","",{"$f":"IF(A430=\"\",\"\",IF(OR(I430=1,I430=\"S\"),IF(VLOOKUP(J430,Tables!E$1:F$50,2,FALSE)=1,IF(MOD(BE430,2)=1,1,2),IF(MOD(BE430,2)=1,2,1)),IF(MOD(BE430,2)=1,1,2)))","v":""},"","",null,null,null,"","","","","","","","","","","","","","","","","","","","","","","","","",{"$f":"IF(AN430=\"\",\"\",IF(I430=0,IF(AO430=1,VLOOKUP(F430,Tables!A$1:C$18,2,FALSE),VLOOKUP(F430,Tables!A$1:C$18,3,FALSE)),IF(I430=1, IF(AO430=1,VLOOKUP(F430,Tables!H$1:J$95,2,FALSE),VLOOKUP(F430,Tables!H$1:J$95,3,FALSE)),IF(AO430=1,VLOOKUP(F430,Tables!Q$1:S$137,2,FALSE),VLOOKUP(F430,Tables!Q$1:S$137,3,FALSE)))))","v":""},"","","","","","","","","",null,"","","","","",""]
["","","","","","","","","","",{"$f":"IF(A431=\"\",\"\",IF(OR(I431=1,I431=\"S\"),IF(VLOOKUP(J431,Tables!E$1:F$50,2,FALSE)=1,IF(MOD(BE431,2)=1,1,2),IF(MOD(BE431,2)=1,2,1)),IF(MOD(BE431,2)=1,1,2)))","v":""},"","",null,null,null,"","","","","","","","","","","","","","","","","","","","","","","","","",{"$f":"IF(AN431=\"\",\"\",IF(I431=0,IF(AO431=1,VLOOKUP(F431,Tables!A$1:C$18,2,FALSE),VLOOKUP(F431,Tables!A$1:C$18,3,FALSE)),IF(I431=1, IF(AO431=1,VLOOKUP(F431,Tables!H$1:J$95,2,FALSE),VLOOKUP(F431,Tables!H$1:J$95,3,FALSE)),IF(AO431=1,VLOOKUP(F431,Tables!Q$1:S$137,2,FALSE),VLOOKUP(F431,Tables!Q$1:S$137,3,FALSE)))))","v":""},"","","","","","","","","",null,"","","",{"$f":"IF(NOT(BC431=\"\"),AR431&\"-\"&AS431,\"\")","v":""},"",""]
["","","","","","","","","","",{"$f":"IF(A432=\"\",\"\",IF(OR(I432=1,I432=\"S\"),IF(VLOOKUP(J432,Tables!E$1:F$50,2,FALSE)=1,IF(MOD(BE432,2)=1,1,2),IF(MOD(BE432,2)=1,2,1)),IF(MOD(BE432,2)=1,1,2)))","v":""},"","",null,null,null,"","","","","","","","","","","","","","","","","","","","","","","","","",{"$f":"IF(AN432=\"\",\"\",IF(I432=0,IF(AO432=1,VLOOKUP(F432,Tables!A$1:C$18,2,FALSE),VLOOKUP(F432,Tables!A$1:C$18,3,FALSE)),IF(I432=1, IF(AO432=1,VLOOKUP(F432,Tables!H$1:J$95,2,FALSE),VLOOKUP(F432,Tables!H$1:J$95,3,FALSE)),IF(AO432=1,VLOOKUP(F432,Tables!Q$1:S$137,2,FALSE),VLOOKUP(F432,Tables!Q$1:S$137,3,FALSE)))))","v":""},"","","","","","","","","",null,"","","","","",""]
["","","","","","","","","","",{"$f":"IF(A433=\"\",\"\",IF(OR(I433=1,I433=\"S\"),IF(VLOOKUP(J433,Tables!E$1:F$50,2,FALSE)=1,IF(MOD(BE433,2)=1,1,2),IF(MOD(BE433,2)=1,2,1)),IF(MOD(BE433,2)=1,1,2)))","v":""},"","",null,null,null,"","","","","","","","","","","","","","","","","","","","","","","","","",{"$f":"IF(AN433=\"\",\"\",IF(I433=0,IF(AO433=1,VLOOKUP(F433,Tables!A$1:C$18,2,FALSE),VLOOKUP(F433,Tables!A$1:C$18,3,FALSE)),IF(I433=1, IF(AO433=1,VLOOKUP(F433,Tables!H$1:J$95,2,FALSE),VLOOKUP(F433,Tables!H$1:J$95,3,FALSE)),IF(AO433=1,VLOOKUP(F433,Tables!Q$1:S$137,2,FALSE),VLOOKUP(F433,Tables!Q$1:S$137,3,FALSE)))))","v":""},"","","","","","","","","",null,"","","","","",""]
["","","","","","","","","","",{"$f":"IF(A434=\"\",\"\",IF(OR(I434=1,I434=\"S\"),IF(VLOOKUP(J434,Tables!E$1:F$50,2,FALSE)=1,IF(MOD(BE434,2)=1,1,2),IF(MOD(BE434,2)=1,2,1)),IF(MOD(BE434,2)=1,1,2)))","v":""},"","",null,null,null,"","","","","","","","","","","","","","","","","","","","","","","","","",{"$f":"IF(AN434=\"\",\"\",IF(I434=0,IF(AO434=1,VLOOKUP(F434,Tables!A$1:C$18,2,FALSE),VLOOKUP(F434,Tables!A$1:C$18,3,FALSE)),IF(I434=1, IF(AO434=1,VLOOKUP(F434,Tables!H$1:J$95,2,FALSE),VLOOKUP(F434,Tables!H$1:J$95,3,FALSE)),IF(AO434=1,VLOOKUP(F434,Tables!Q$1:S$137,2,FALSE),VLOOKUP(F434,Tables!Q$1:S$137,3,FALSE)))))","v":""},"","","","","","","","","",null,"","","","","",""]
["","","","","","","","","","",{"$f":"IF(A435=\"\",\"\",IF(OR(I435=1,I435=\"S\"),IF(VLOOKUP(J435,Tables!E$1:F$50,2,FALSE)=1,IF(MOD(BE435,2)=1,1,2),IF(MOD(BE435,2)=1,2,1)),IF(MOD(BE435,2)=1,1,2)))","v":""},"","",null,null,null,"","","","","","","","","","","","","","","","","","","","","","","","","",{"$f":"IF(AN435=\"\",\"\",IF(I435=0,IF(AO435=1,VLOOKUP(F435,Tables!A$1:C$18,2,FALSE),VLOOKUP(F435,Tables!A$1:C$18,3,FALSE)),IF(I435=1, IF(AO435=1,VLOOKUP(F435,Tables!H$1:J$95,2,FALSE),VLOOKUP(F435,Tables!H$1:J$95,3,FALSE)),IF(AO435=1,VLOOKUP(F435,Tables!Q$1:S$137,2,FALSE),VLOOKUP(F435,Tables!Q$1:S$137,3,FALSE)))))","v":""},"","","","","","","","","",null,"","","","","",""]
["","","","","","","","","","",{"$f":"IF(A436=\"\",\"\",IF(OR(I436=1,I436=\"S\"),IF(VLOOKUP(J436,Tables!E$1:F$50,2,FALSE)=1,IF(MOD(BE436,2)=1,1,2),IF(MOD(BE436,2)=1,2,1)),IF(MOD(BE436,2)=1,1,2)))","v":""},"","",null,null,null,"","","","","","","","","","","","","","","","","","","","","","","","","",{"$f":"IF(AN436=\"\",\"\",IF(I436=0,IF(AO436=1,VLOOKUP(F436,Tables!A$1:C$18,2,FALSE),VLOOKUP(F436,Tables!A$1:C$18,3,FALSE)),IF(I436=1, IF(AO436=1,VLOOKUP(F436,Tables!H$1:J$95,2,FALSE),VLOOKUP(F436,Tables!H$1:J$95,3,FALSE)),IF(AO436=1,VLOOKUP(F436,Tables!Q$1:S$137,2,FALSE),VLOOKUP(F436,Tables!Q$1:S$137,3,FALSE)))))","v":""},"","","","","","","","","",null,"","","","","",""]
["","","","","","","","","","",{"$f":"IF(A437=\"\",\"\",IF(OR(I437=1,I437=\"S\"),IF(VLOOKUP(J437,Tables!E$1:F$50,2,FALSE)=1,IF(MOD(BE437,2)=1,1,2),IF(MOD(BE437,2)=1,2,1)),IF(MOD(BE437,2)=1,1,2)))","v":""},"","",null,null,null,"","","","","","","","","","","","","","","","","","","","","","","","","",{"$f":"IF(AN437=\"\",\"\",IF(I437=0,IF(AO437=1,VLOOKUP(F437,Tables!A$1:C$18,2,FALSE),VLOOKUP(F437,Tables!A$1:C$18,3,FALSE)),IF(I437=1, IF(AO437=1,VLOOKUP(F437,Tables!H$1:J$95,2,FALSE),VLOOKUP(F437,Tables!H$1:J$95,3,FALSE)),IF(AO437=1,VLOOKUP(F437,Tables!Q$1:S$137,2,FALSE),VLOOKUP(F437,Tables!Q$1:S$137,3,FALSE)))))","v":""},"","","","","","","","","",null,"","","","","",""]
["","","","","","","","","","",{"$f":"IF(A438=\"\",\"\",IF(OR(I438=1,I438=\"S\"),IF(VLOOKUP(J438,Tables!E$1:F$50,2,FALSE)=1,IF(MOD(BE438,2)=1,1,2),IF(MOD(BE438,2)=1,2,1)),IF(MOD(BE438,2)=1,1,2)))","v":""},"","",null,null,null,"","","","","","","","","","","","","","","","","","","","","","","","","",{"$f":"IF(AN438=\"\",\"\",IF(I438=0,IF(AO438=1,VLOOKUP(F438,Tables!A$1:C$18,2,FALSE),VLOOKUP(F438,Tables!A$1:C$18,3,FALSE)),IF(I438=1, IF(AO438=1,VLOOKUP(F438,Tables!H$1:J$95,2,FALSE),VLOOKUP(F438,Tables!H$1:J$95,3,FALSE)),IF(AO438=1,VLOOKUP(F438,Tables!Q$1:S$137,2,FALSE),VLOOKUP(F438,Tables!Q$1:S$137,3,FALSE)))))","v":""},"","","","","","","","","",null,"","","","","",""]
["","","","","","","","","","",{"$f":"IF(A439=\"\",\"\",IF(OR(I439=1,I439=\"S\"),IF(VLOOKUP(J439,Tables!E$1:F$50,2,FALSE)=1,IF(MOD(BE439,2)=1,1,2),IF(MOD(BE439,2)=1,2,1)),IF(MOD(BE439,2)=1,1,2)))","v":""},"","",null,null,null,"","","","","","","","","","","","","","","","","","","","","","","","","",{"$f":"IF(AN439=\"\",\"\",IF(I439=0,IF(AO439=1,VLOOKUP(F439,Tables!A$1:C$18,2,FALSE),VLOOKUP(F439,Tables!A$1:C$18,3,FALSE)),IF(I439=1, IF(AO439=1,VLOOKUP(F439,Tables!H$1:J$95,2,FALSE),VLOOKUP(F439,Tables!H$1:J$95,3,FALSE)),IF(AO439=1,VLOOKUP(F439,Tables!Q$1:S$137,2,FALSE),VLOOKUP(F439,Tables!Q$1:S$137,3,FALSE)))))","v":""},"","","","","","","","","",null,"","","","","",""]
["","","","","","","","","","",{"$f":"IF(A440=\"\",\"\",IF(OR(I440=1,I440=\"S\"),IF(VLOOKUP(J440,Tables!E$1:F$50,2,FALSE)=1,IF(MOD(BE440,2)=1,1,2),IF(MOD(BE440,2)=1,2,1)),IF(MOD(BE440,2)=1,1,2)))","v":""},"","",null,null,null,"","","","","","","","","","","","","","","","","","","","","","","","","",{"$f":"IF(AN440=\"\",\"\",IF(I440=0,IF(AO440=1,VLOOKUP(F440,Tables!A$1:C$18,2,FALSE),VLOOKUP(F440,Tables!A$1:C$18,3,FALSE)),IF(I440=1, IF(AO440=1,VLOOKUP(F440,Tables!H$1:J$95,2,FALSE),VLOOKUP(F440,Tables!H$1:J$95,3,FALSE)),IF(AO440=1,VLOOKUP(F440,Tables!Q$1:S$137,2,FALSE),VLOOKUP(F440,Tables!Q$1:S$137,3,FALSE)))))","v":""},"","","","","","","","","",null,"","","","","",""]
["","","","","","","","","","",{"$f":"IF(A441=\"\",\"\",IF(OR(I441=1,I441=\"S\"),IF(VLOOKUP(J441,Tables!E$1:F$50,2,FALSE)=1,IF(MOD(BE441,2)=1,1,2),IF(MOD(BE441,2)=1,2,1)),IF(MOD(BE441,2)=1,1,2)))","v":""},"","",null,null,null,"","","","","","","","","","","","","","","","","","","","","","","","","",{"$f":"IF(AN441=\"\",\"\",IF(I441=0,IF(AO441=1,VLOOKUP(F441,Tables!A$1:C$18,2,FALSE),VLOOKUP(F441,Tables!A$1:C$18,3,FALSE)),IF(I441=1, IF(AO441=1,VLOOKUP(F441,Tables!H$1:J$95,2,FALSE),VLOOKUP(F441,Tables!H$1:J$95,3,FALSE)),IF(AO441=1,VLOOKUP(F441,Tables!Q$1:S$137,2,FALSE),VLOOKUP(F441,Tables!Q$1:S$137,3,FALSE)))))","v":""},"","","","","","","","","",null,"","","","","",""]
["","","","","","","","","","",{"$f":"IF(A442=\"\",\"\",IF(OR(I442=1,I442=\"S\"),IF(VLOOKUP(J442,Tables!E$1:F$50,2,FALSE)=1,IF(MOD(BE442,2)=1,1,2),IF(MOD(BE442,2)=1,2,1)),IF(MOD(BE442,2)=1,1,2)))","v":""},"","",null,null,null,"","","","","","","","","","","","","","","","","","","","","","","","","",{"$f":"IF(AN442=\"\",\"\",IF(I442=0,IF(AO442=1,VLOOKUP(F442,Tables!A$1:C$18,2,FALSE),VLOOKUP(F442,Tables!A$1:C$18,3,FALSE)),IF(I442=1, IF(AO442=1,VLOOKUP(F442,Tables!H$1:J$95,2,FALSE),VLOOKUP(F442,Tables!H$1:J$95,3,FALSE)),IF(AO442=1,VLOOKUP(F442,Tables!Q$1:S$137,2,FALSE),VLOOKUP(F442,Tables!Q$1:S$137,3,FALSE)))))","v":""},"","","","","","","","","",null,"","","","","",""]
["","","","","","","","","","",{"$f":"IF(A443=\"\",\"\",IF(OR(I443=1,I443=\"S\"),IF(VLOOKUP(J443,Tables!E$1:F$50,2,FALSE)=1,IF(MOD(BE443,2)=1,1,2),IF(MOD(BE443,2)=1,2,1)),IF(MOD(BE443,2)=1,1,2)))","v":""},"","",null,null,null,"","","","","","","","","","","","","","","","","","","","","","","","","",{"$f":"IF(AN443=\"\",\"\",IF(I443=0,IF(AO443=1,VLOOKUP(F443,Tables!A$1:C$18,2,FALSE),VLOOKUP(F443,Tables!A$1:C$18,3,FALSE)),IF(I443=1, IF(AO443=1,VLOOKUP(F443,Tables!H$1:J$95,2,FALSE),VLOOKUP(F443,Tables!H$1:J$95,3,FALSE)),IF(AO443=1,VLOOKUP(F443,Tables!Q$1:S$137,2,FALSE),VLOOKUP(F443,Tables!Q$1:S$137,3,FALSE)))))","v":""},"","","","","","","","","",null,"","","","","",""]
["","","","","","","","","","",{"$f":"IF(A444=\"\",\"\",IF(OR(I444=1,I444=\"S\"),IF(VLOOKUP(J444,Tables!E$1:F$50,2,FALSE)=1,IF(MOD(BE444,2)=1,1,2),IF(MOD(BE444,2)=1,2,1)),IF(MOD(BE444,2)=1,1,2)))","v":""},"","",null,null,null,"","","","","","","","","","","","","","","","","","","","","","","","","",{"$f":"IF(AN444=\"\",\"\",IF(I444=0,IF(AO444=1,VLOOKUP(F444,Tables!A$1:C$18,2,FALSE),VLOOKUP(F444,Tables!A$1:C$18,3,FALSE)),IF(I444=1, IF(AO444=1,VLOOKUP(F444,Tables!H$1:J$95,2,FALSE),VLOOKUP(F444,Tables!H$1:J$95,3,FALSE)),IF(AO444=1,VLOOKUP(F444,Tables!Q$1:S$137,2,FALSE),VLOOKUP(F444,Tables!Q$1:S$137,3,FALSE)))))","v":""},"","","","","","","","","",null,"","","","","",""]
["","","","","","","","","","",{"$f":"IF(A445=\"\",\"\",IF(OR(I445=1,I445=\"S\"),IF(VLOOKUP(J445,Tables!E$1:F$50,2,FALSE)=1,IF(MOD(BE445,2)=1,1,2),IF(MOD(BE445,2)=1,2,1)),IF(MOD(BE445,2)=1,1,2)))","v":""},"","",null,null,null,"","","","","","","","","","","","","","","","","","","","","","","","","",{"$f":"IF(AN445=\"\",\"\",IF(I445=0,IF(AO445=1,VLOOKUP(F445,Tables!A$1:C$18,2,FALSE),VLOOKUP(F445,Tables!A$1:C$18,3,FALSE)),IF(I445=1, IF(AO445=1,VLOOKUP(F445,Tables!H$1:J$95,2,FALSE),VLOOKUP(F445,Tables!H$1:J$95,3,FALSE)),IF(AO445=1,VLOOKUP(F445,Tables!Q$1:S$137,2,FALSE),VLOOKUP(F445,Tables!Q$1:S$137,3,FALSE)))))","v":""},"","","","","","","","","",null,"","","","","",""]
["","","","","","","","","","",{"$f":"IF(A446=\"\",\"\",IF(OR(I446=1,I446=\"S\"),IF(VLOOKUP(J446,Tables!E$1:F$50,2,FALSE)=1,IF(MOD(BE446,2)=1,1,2),IF(MOD(BE446,2)=1,2,1)),IF(MOD(BE446,2)=1,1,2)))","v":""},"","",null,null,null,"","","","","","","","","","","","","","","","","","","","","","","","","",{"$f":"IF(AN446=\"\",\"\",IF(I446=0,IF(AO446=1,VLOOKUP(F446,Tables!A$1:C$18,2,FALSE),VLOOKUP(F446,Tables!A$1:C$18,3,FALSE)),IF(I446=1, IF(AO446=1,VLOOKUP(F446,Tables!H$1:J$95,2,FALSE),VLOOKUP(F446,Tables!H$1:J$95,3,FALSE)),IF(AO446=1,VLOOKUP(F446,Tables!Q$1:S$137,2,FALSE),VLOOKUP(F446,Tables!Q$1:S$137,3,FALSE)))))","v":""},"","","","","","","","","",null,"","","","","",""]
["","","","","","","","","","",{"$f":"IF(A447=\"\",\"\",IF(OR(I447=1,I447=\"S\"),IF(VLOOKUP(J447,Tables!E$1:F$50,2,FALSE)=1,IF(MOD(BE447,2)=1,1,2),IF(MOD(BE447,2)=1,2,1)),IF(MOD(BE447,2)=1,1,2)))","v":""},"","",null,null,null,"","","","","","","","","","","","","","","","","","","","","","","","","",{"$f":"IF(AN447=\"\",\"\",IF(I447=0,IF(AO447=1,VLOOKUP(F447,Tables!A$1:C$18,2,FALSE),VLOOKUP(F447,Tables!A$1:C$18,3,FALSE)),IF(I447=1, IF(AO447=1,VLOOKUP(F447,Tables!H$1:J$95,2,FALSE),VLOOKUP(F447,Tables!H$1:J$95,3,FALSE)),IF(AO447=1,VLOOKUP(F447,Tables!Q$1:S$137,2,FALSE),VLOOKUP(F447,Tables!Q$1:S$137,3,FALSE)))))","v":""},"","","","","","","","","",null,"","","","","",""]
["","","","","","","","","","",{"$f":"IF(A448=\"\",\"\",IF(OR(I448=1,I448=\"S\"),IF(VLOOKUP(J448,Tables!E$1:F$50,2,FALSE)=1,IF(MOD(BE448,2)=1,1,2),IF(MOD(BE448,2)=1,2,1)),IF(MOD(BE448,2)=1,1,2)))","v":""},"","",null,null,null,"","","","","","","","","","","","","","","","","","","","","","","","","",{"$f":"IF(AN448=\"\",\"\",IF(I448=0,IF(AO448=1,VLOOKUP(F448,Tables!A$1:C$18,2,FALSE),VLOOKUP(F448,Tables!A$1:C$18,3,FALSE)),IF(I448=1, IF(AO448=1,VLOOKUP(F448,Tables!H$1:J$95,2,FALSE),VLOOKUP(F448,Tables!H$1:J$95,3,FALSE)),IF(AO448=1,VLOOKUP(F448,Tables!Q$1:S$137,2,FALSE),VLOOKUP(F448,Tables!Q$1:S$137,3,FALSE)))))","v":""},"","","","","","","","","",null,"","","","","",""]
["","","","","","","","","","",{"$f":"IF(A449=\"\",\"\",IF(OR(I449=1,I449=\"S\"),IF(VLOOKUP(J449,Tables!E$1:F$50,2,FALSE)=1,IF(MOD(BE449,2)=1,1,2),IF(MOD(BE449,2)=1,2,1)),IF(MOD(BE449,2)=1,1,2)))","v":""},"","",null,null,null,"","","","","","","","","","","","","","","","","","","","","","","","","",{"$f":"IF(AN449=\"\",\"\",IF(I449=0,IF(AO449=1,VLOOKUP(F449,Tables!A$1:C$18,2,FALSE),VLOOKUP(F449,Tables!A$1:C$18,3,FALSE)),IF(I449=1, IF(AO449=1,VLOOKUP(F449,Tables!H$1:J$95,2,FALSE),VLOOKUP(F449,Tables!H$1:J$95,3,FALSE)),IF(AO449=1,VLOOKUP(F449,Tables!Q$1:S$137,2,FALSE),VLOOKUP(F449,Tables!Q$1:S$137,3,FALSE)))))","v":""},"","","","","","","","","",null,"","","","","",""]
["","","","","","","","","","",{"$f":"IF(A450=\"\",\"\",IF(OR(I450=1,I450=\"S\"),IF(VLOOKUP(J450,Tables!E$1:F$50,2,FALSE)=1,IF(MOD(BE450,2)=1,1,2),IF(MOD(BE450,2)=1,2,1)),IF(MOD(BE450,2)=1,1,2)))","v":""},"","",null,null,null,"","","","","","","","","","","","","","","","","","","","","","","","","",{"$f":"IF(AN450=\"\",\"\",IF(I450=0,IF(AO450=1,VLOOKUP(F450,Tables!A$1:C$18,2,FALSE),VLOOKUP(F450,Tables!A$1:C$18,3,FALSE)),IF(I450=1, IF(AO450=1,VLOOKUP(F450,Tables!H$1:J$95,2,FALSE),VLOOKUP(F450,Tables!H$1:J$95,3,FALSE)),IF(AO450=1,VLOOKUP(F450,Tables!Q$1:S$137,2,FALSE),VLOOKUP(F450,Tables!Q$1:S$137,3,FALSE)))))","v":""},"","","","","","","","","",null,"","","","","",""]
["","","","","","","","","","",{"$f":"IF(A451=\"\",\"\",IF(OR(I451=1,I451=\"S\"),IF(VLOOKUP(J451,Tables!E$1:F$50,2,FALSE)=1,IF(MOD(BE451,2)=1,1,2),IF(MOD(BE451,2)=1,2,1)),IF(MOD(BE451,2)=1,1,2)))","v":""},"","",null,null,null,"","","","","","","","","","","","","","","","","","","","","","","","","",{"$f":"IF(AN451=\"\",\"\",IF(I451=0,IF(AO451=1,VLOOKUP(F451,Tables!A$1:C$18,2,FALSE),VLOOKUP(F451,Tables!A$1:C$18,3,FALSE)),IF(I451=1, IF(AO451=1,VLOOKUP(F451,Tables!H$1:J$95,2,FALSE),VLOOKUP(F451,Tables!H$1:J$95,3,FALSE)),IF(AO451=1,VLOOKUP(F451,Tables!Q$1:S$137,2,FALSE),VLOOKUP(F451,Tables!Q$1:S$137,3,FALSE)))))","v":""},"","","","","","","","","",null,"","","","","",""]
["","","","","","","","","","",{"$f":"IF(A452=\"\",\"\",IF(OR(I452=1,I452=\"S\"),IF(VLOOKUP(J452,Tables!E$1:F$50,2,FALSE)=1,IF(MOD(BE452,2)=1,1,2),IF(MOD(BE452,2)=1,2,1)),IF(MOD(BE452,2)=1,1,2)))","v":""},"","",null,null,null,"","","","","","","","","","","","","","","","","","","","","","","","","",{"$f":"IF(AN452=\"\",\"\",IF(I452=0,IF(AO452=1,VLOOKUP(F452,Tables!A$1:C$18,2,FALSE),VLOOKUP(F452,Tables!A$1:C$18,3,FALSE)),IF(I452=1, IF(AO452=1,VLOOKUP(F452,Tables!H$1:J$95,2,FALSE),VLOOKUP(F452,Tables!H$1:J$95,3,FALSE)),IF(AO452=1,VLOOKUP(F452,Tables!Q$1:S$137,2,FALSE),VLOOKUP(F452,Tables!Q$1:S$137,3,FALSE)))))","v":""},"","","","","","","","","",null,"","","","","",""]
["","","","","","","","","","",{"$f":"IF(A453=\"\",\"\",IF(OR(I453=1,I453=\"S\"),IF(VLOOKUP(J453,Tables!E$1:F$50,2,FALSE)=1,IF(MOD(BE453,2)=1,1,2),IF(MOD(BE453,2)=1,2,1)),IF(MOD(BE453,2)=1,1,2)))","v":""},"","",null,null,null,"","","","","","","","","","","","","","","","","","","","","","","","","",{"$f":"IF(AN453=\"\",\"\",IF(I453=0,IF(AO453=1,VLOOKUP(F453,Tables!A$1:C$18,2,FALSE),VLOOKUP(F453,Tables!A$1:C$18,3,FALSE)),IF(I453=1, IF(AO453=1,VLOOKUP(F453,Tables!H$1:J$95,2,FALSE),VLOOKUP(F453,Tables!H$1:J$95,3,FALSE)),IF(AO453=1,VLOOKUP(F453,Tables!Q$1:S$137,2,FALSE),VLOOKUP(F453,Tables!Q$1:S$137,3,FALSE)))))","v":""},"","","","","","","","","",null,"","","","","",""]
["","","","","","","","","","",{"$f":"IF(A454=\"\",\"\",IF(OR(I454=1,I454=\"S\"),IF(VLOOKUP(J454,Tables!E$1:F$50,2,FALSE)=1,IF(MOD(BE454,2)=1,1,2),IF(MOD(BE454,2)=1,2,1)),IF(MOD(BE454,2)=1,1,2)))","v":""},"","",null,null,null,"","","","","","","","","","","","","","","","","","","","","","","","","",{"$f":"IF(AN454=\"\",\"\",IF(I454=0,IF(AO454=1,VLOOKUP(F454,Tables!A$1:C$18,2,FALSE),VLOOKUP(F454,Tables!A$1:C$18,3,FALSE)),IF(I454=1, IF(AO454=1,VLOOKUP(F454,Tables!H$1:J$95,2,FALSE),VLOOKUP(F454,Tables!H$1:J$95,3,FALSE)),IF(AO454=1,VLOOKUP(F454,Tables!Q$1:S$137,2,FALSE),VLOOKUP(F454,Tables!Q$1:S$137,3,FALSE)))))","v":""},"","","",{"$f":"IF(AN454=\"\",\"\",IF(AND(AR454>5,(AR454-AS454)>1),1,IF(AND(AS454>5,(AS454-AR454)>1),2,IF(AND(H454=1,AR454=$J$14),1,IF(AND(H454=1,AS454=$J$14),2,IF(AND(I454=\"S\",AR454=1),1,IF(AND(I454=\"S\",AS454=1),2,0)))))))","v":""},"","","","","",null,"","","","","",""]
["","","","","","","","","","",{"$f":"IF(A455=\"\",\"\",IF(OR(I455=1,I455=\"S\"),IF(VLOOKUP(J455,Tables!E$1:F$50,2,FALSE)=1,IF(MOD(BE455,2)=1,1,2),IF(MOD(BE455,2)=1,2,1)),IF(MOD(BE455,2)=1,1,2)))","v":""},"","",null,null,null,"","","","","","","","","","","","","","","","","","","","","","","","","",{"$f":"IF(AN455=\"\",\"\",IF(I455=0,IF(AO455=1,VLOOKUP(F455,Tables!A$1:C$18,2,FALSE),VLOOKUP(F455,Tables!A$1:C$18,3,FALSE)),IF(I455=1, IF(AO455=1,VLOOKUP(F455,Tables!H$1:J$95,2,FALSE),VLOOKUP(F455,Tables!H$1:J$95,3,FALSE)),IF(AO455=1,VLOOKUP(F455,Tables!Q$1:S$137,2,FALSE),VLOOKUP(F455,Tables!Q$1:S$137,3,FALSE)))))","v":""},"","","","","","","","","",null,"","","","","",""]
["","","","","","","","","","",{"$f":"IF(A456=\"\",\"\",IF(OR(I456=1,I456=\"S\"),IF(VLOOKUP(J456,Tables!E$1:F$50,2,FALSE)=1,IF(MOD(BE456,2)=1,1,2),IF(MOD(BE456,2)=1,2,1)),IF(MOD(BE456,2)=1,1,2)))","v":""},{"$f":"IF(A456=\"\",\"\",IF(MOD(K456,2)=1,2,1))","v":""},"",null,null,null,"","","","","","","","","","","","","","","","","","","","","","","","","",{"$f":"IF(AN456=\"\",\"\",IF(I456=0,IF(AO456=1,VLOOKUP(F456,Tables!A$1:C$18,2,FALSE),VLOOKUP(F456,Tables!A$1:C$18,3,FALSE)),IF(I456=1, IF(AO456=1,VLOOKUP(F456,Tables!H$1:J$95,2,FALSE),VLOOKUP(F456,Tables!H$1:J$95,3,FALSE)),IF(AO456=1,VLOOKUP(F456,Tables!Q$1:S$137,2,FALSE),VLOOKUP(F456,Tables!Q$1:S$137,3,FALSE)))))","v":""},"","","","","","","","","",null,"","","","","",""]
["","","","","","","","","","",{"$f":"IF(A457=\"\",\"\",IF(OR(I457=1,I457=\"S\"),IF(VLOOKUP(J457,Tables!E$1:F$50,2,FALSE)=1,IF(MOD(BE457,2)=1,1,2),IF(MOD(BE457,2)=1,2,1)),IF(MOD(BE457,2)=1,1,2)))","v":""},"","",null,null,null,"","","","","","","","","","","","","","","","","","","","","","","","","",{"$f":"IF(AN457=\"\",\"\",IF(I457=0,IF(AO457=1,VLOOKUP(F457,Tables!A$1:C$18,2,FALSE),VLOOKUP(F457,Tables!A$1:C$18,3,FALSE)),IF(I457=1, IF(AO457=1,VLOOKUP(F457,Tables!H$1:J$95,2,FALSE),VLOOKUP(F457,Tables!H$1:J$95,3,FALSE)),IF(AO457=1,VLOOKUP(F457,Tables!Q$1:S$137,2,FALSE),VLOOKUP(F457,Tables!Q$1:S$137,3,FALSE)))))","v":""},"","","","","","","","","",null,"","","","","",""]
["","","","","","","","","","",{"$f":"IF(A458=\"\",\"\",IF(OR(I458=1,I458=\"S\"),IF(VLOOKUP(J458,Tables!E$1:F$50,2,FALSE)=1,IF(MOD(BE458,2)=1,1,2),IF(MOD(BE458,2)=1,2,1)),IF(MOD(BE458,2)=1,1,2)))","v":""},"","",null,null,null,"","","","","","","","","","","","","","","","","","","","","","","","","",{"$f":"IF(AN458=\"\",\"\",IF(I458=0,IF(AO458=1,VLOOKUP(F458,Tables!A$1:C$18,2,FALSE),VLOOKUP(F458,Tables!A$1:C$18,3,FALSE)),IF(I458=1, IF(AO458=1,VLOOKUP(F458,Tables!H$1:J$95,2,FALSE),VLOOKUP(F458,Tables!H$1:J$95,3,FALSE)),IF(AO458=1,VLOOKUP(F458,Tables!Q$1:S$137,2,FALSE),VLOOKUP(F458,Tables!Q$1:S$137,3,FALSE)))))","v":""},"","","","","","","","","",null,"","","","","",""]
["","","","","","","","","","",{"$f":"IF(A459=\"\",\"\",IF(OR(I459=1,I459=\"S\"),IF(VLOOKUP(J459,Tables!E$1:F$50,2,FALSE)=1,IF(MOD(BE459,2)=1,1,2),IF(MOD(BE459,2)=1,2,1)),IF(MOD(BE459,2)=1,1,2)))","v":""},"","",null,null,null,"","","","","","","","","","","","","","","","","","","","","","","","","",{"$f":"IF(AN459=\"\",\"\",IF(I459=0,IF(AO459=1,VLOOKUP(F459,Tables!A$1:C$18,2,FALSE),VLOOKUP(F459,Tables!A$1:C$18,3,FALSE)),IF(I459=1, IF(AO459=1,VLOOKUP(F459,Tables!H$1:J$95,2,FALSE),VLOOKUP(F459,Tables!H$1:J$95,3,FALSE)),IF(AO459=1,VLOOKUP(F459,Tables!Q$1:S$137,2,FALSE),VLOOKUP(F459,Tables!Q$1:S$137,3,FALSE)))))","v":""},"","","","","","","","","",null,"","","","","",""]
["","","","","","","","","","",{"$f":"IF(A460=\"\",\"\",IF(OR(I460=1,I460=\"S\"),IF(VLOOKUP(J460,Tables!E$1:F$50,2,FALSE)=1,IF(MOD(BE460,2)=1,1,2),IF(MOD(BE460,2)=1,2,1)),IF(MOD(BE460,2)=1,1,2)))","v":""},"","",null,null,null,"","","","","","","","","","","","","","","","","","","","","","","","","",{"$f":"IF(AN460=\"\",\"\",IF(I460=0,IF(AO460=1,VLOOKUP(F460,Tables!A$1:C$18,2,FALSE),VLOOKUP(F460,Tables!A$1:C$18,3,FALSE)),IF(I460=1, IF(AO460=1,VLOOKUP(F460,Tables!H$1:J$95,2,FALSE),VLOOKUP(F460,Tables!H$1:J$95,3,FALSE)),IF(AO460=1,VLOOKUP(F460,Tables!Q$1:S$137,2,FALSE),VLOOKUP(F460,Tables!Q$1:S$137,3,FALSE)))))","v":""},"","","","","","","","","",null,"","","","","",""]
["","","","","","","","","","",{"$f":"IF(A461=\"\",\"\",IF(OR(I461=1,I461=\"S\"),IF(VLOOKUP(J461,Tables!E$1:F$50,2,FALSE)=1,IF(MOD(BE461,2)=1,1,2),IF(MOD(BE461,2)=1,2,1)),IF(MOD(BE461,2)=1,1,2)))","v":""},"","",null,null,null,"","","","","","","","","","","","","","","","","","","","","","","","","",{"$f":"IF(AN461=\"\",\"\",IF(I461=0,IF(AO461=1,VLOOKUP(F461,Tables!A$1:C$18,2,FALSE),VLOOKUP(F461,Tables!A$1:C$18,3,FALSE)),IF(I461=1, IF(AO461=1,VLOOKUP(F461,Tables!H$1:J$95,2,FALSE),VLOOKUP(F461,Tables!H$1:J$95,3,FALSE)),IF(AO461=1,VLOOKUP(F461,Tables!Q$1:S$137,2,FALSE),VLOOKUP(F461,Tables!Q$1:S$137,3,FALSE)))))","v":""},"","","","","","","","","",null,"","","","","",""]
["","","","","","","","","","",{"$f":"IF(A462=\"\",\"\",IF(OR(I462=1,I462=\"S\"),IF(VLOOKUP(J462,Tables!E$1:F$50,2,FALSE)=1,IF(MOD(BE462,2)=1,1,2),IF(MOD(BE462,2)=1,2,1)),IF(MOD(BE462,2)=1,1,2)))","v":""},"","",null,null,null,"","","","","","","","","","","","","","","","","","","","","","","","","",{"$f":"IF(AN462=\"\",\"\",IF(I462=0,IF(AO462=1,VLOOKUP(F462,Tables!A$1:C$18,2,FALSE),VLOOKUP(F462,Tables!A$1:C$18,3,FALSE)),IF(I462=1, IF(AO462=1,VLOOKUP(F462,Tables!H$1:J$95,2,FALSE),VLOOKUP(F462,Tables!H$1:J$95,3,FALSE)),IF(AO462=1,VLOOKUP(F462,Tables!Q$1:S$137,2,FALSE),VLOOKUP(F462,Tables!Q$1:S$137,3,FALSE)))))","v":""},"","","","","","","","","",null,"","","","","",""]
["","","","","","","","","","",{"$f":"IF(A463=\"\",\"\",IF(OR(I463=1,I463=\"S\"),IF(VLOOKUP(J463,Tables!E$1:F$50,2,FALSE)=1,IF(MOD(BE463,2)=1,1,2),IF(MOD(BE463,2)=1,2,1)),IF(MOD(BE463,2)=1,1,2)))","v":""},"","",null,null,null,"","","","","","","","","","","","","","","","","","","","","","","","","",{"$f":"IF(AN463=\"\",\"\",IF(I463=0,IF(AO463=1,VLOOKUP(F463,Tables!A$1:C$18,2,FALSE),VLOOKUP(F463,Tables!A$1:C$18,3,FALSE)),IF(I463=1, IF(AO463=1,VLOOKUP(F463,Tables!H$1:J$95,2,FALSE),VLOOKUP(F463,Tables!H$1:J$95,3,FALSE)),IF(AO463=1,VLOOKUP(F463,Tables!Q$1:S$137,2,FALSE),VLOOKUP(F463,Tables!Q$1:S$137,3,FALSE)))))","v":""},"","","","","","","","","",null,"","","","","",""]
["","","","","","","","","","",{"$f":"IF(A464=\"\",\"\",IF(OR(I464=1,I464=\"S\"),IF(VLOOKUP(J464,Tables!E$1:F$50,2,FALSE)=1,IF(MOD(BE464,2)=1,1,2),IF(MOD(BE464,2)=1,2,1)),IF(MOD(BE464,2)=1,1,2)))","v":""},"","",null,null,null,"","","","","","","","","","","","","","","","","","","","","","","","","",{"$f":"IF(AN464=\"\",\"\",IF(I464=0,IF(AO464=1,VLOOKUP(F464,Tables!A$1:C$18,2,FALSE),VLOOKUP(F464,Tables!A$1:C$18,3,FALSE)),IF(I464=1, IF(AO464=1,VLOOKUP(F464,Tables!H$1:J$95,2,FALSE),VLOOKUP(F464,Tables!H$1:J$95,3,FALSE)),IF(AO464=1,VLOOKUP(F464,Tables!Q$1:S$137,2,FALSE),VLOOKUP(F464,Tables!Q$1:S$137,3,FALSE)))))","v":""},"","","","","","","","","",null,"","","","","",""]
["","","","","","","","","","",{"$f":"IF(A465=\"\",\"\",IF(OR(I465=1,I465=\"S\"),IF(VLOOKUP(J465,Tables!E$1:F$50,2,FALSE)=1,IF(MOD(BE465,2)=1,1,2),IF(MOD(BE465,2)=1,2,1)),IF(MOD(BE465,2)=1,1,2)))","v":""},"","",null,null,null,"","","","","","","","","","","","","","","","","","","","","","","","","",{"$f":"IF(AN465=\"\",\"\",IF(I465=0,IF(AO465=1,VLOOKUP(F465,Tables!A$1:C$18,2,FALSE),VLOOKUP(F465,Tables!A$1:C$18,3,FALSE)),IF(I465=1, IF(AO465=1,VLOOKUP(F465,Tables!H$1:J$95,2,FALSE),VLOOKUP(F465,Tables!H$1:J$95,3,FALSE)),IF(AO465=1,VLOOKUP(F465,Tables!Q$1:S$137,2,FALSE),VLOOKUP(F465,Tables!Q$1:S$137,3,FALSE)))))","v":""},"","","","","","","","","",null,"","","","","",""]
["","","","","","","",{"$f":"IF(A466=\"\",\"\",IF(OR(B$14=1,B$14=\"S\",AND(B$14<>\"V\",(B466+C466+1)<B$13)),1,0))","v":""},{"$f":"IF(A466=\"\",\"\",IF(AND(D466=$I$14,E466=$I$14,H466=1),1,IF(AND(B$14=\"S\",(B466+C466+1)=B$13),\"S\",0)))","v":""},{"$f":"IF(OR(I466=1,I466=\"S\"),IF(F466=\"0-0\",1,J465+1),\"\")","v":""},{"$f":"IF(A466=\"\",\"\",IF(OR(I466=1,I466=\"S\"),IF(VLOOKUP(J466,Tables!E$1:F$50,2,FALSE)=1,IF(MOD(BE466,2)=1,1,2),IF(MOD(BE466,2)=1,2,1)),IF(MOD(BE466,2)=1,1,2)))","v":""},"",{"$f":"IF(A466=\"\",\"\",IF(K466=1,I$1,I$2))","v":""},null,null,null,"","","","","","","","","","","","","","","","","","",{"$f":"IF(N466=\"\",\"\",IF(AND(W466=0,X466=0),TRUE,FALSE))","v":""},"","","",{"$f":"IF(N466=\"\",\"\",LEN(AL466))","v":""},{"$f":"IF(OR(N466=\"P\",N466=\"R\"),L466,IF(OR(N466=\"Q\",N466=\"S\"),K466,IF(AND(AC466=\"\",OR(AD466=FALSE,AD466=\"\"),OR(AE466=FALSE,AE466=\"\"),OR(AI466=FALSE,AI466=\"\")),\"\",IF(OR(AD466=TRUE,AE466=TRUE,AND((MOD(AM466,2)=0),AF466=TRUE),AND((MOD(AM466,2)=1),OR(AG466=TRUE,AH466=TRUE))),K466,L466))))","v":""},{"$f":"IF(AN466=\"\",\"\",IF(AN466=K466,1,0))","v":""},{"$f":"IF(AN466=\"\",\"\",IF(I466=0,IF(AO466=1,VLOOKUP(F466,Tables!A$1:C$18,2,FALSE),VLOOKUP(F466,Tables!A$1:C$18,3,FALSE)),IF(I466=1, IF(AO466=1,VLOOKUP(F466,Tables!H$1:J$95,2,FALSE),VLOOKUP(F466,Tables!H$1:J$95,3,FALSE)),IF(AO466=1,VLOOKUP(F466,Tables!Q$1:S$137,2,FALSE),VLOOKUP(F466,Tables!Q$1:S$137,3,FALSE)))))","v":""},"",{"$f":"IF(AN466=\"\",\"\",IF(AQ466=1,D466+1,D466))","v":""},{"$f":"IF(AN466=\"\",\"\",IF(AQ466=2,E466+1,E466))","v":""},"",{"$f":"IF(AN466=\"\",\"\",IF(AT466=1,B466+1,B466))","v":""},{"$f":"IF(AN466=\"\",\"\",IF(AT466=2,C466+1,C466))","v":""},"","","",null,{"$f":"IF(AA466=\"\",\"\",SUM(B466,C466,1))","v":""},{"$f":"IF(AA466=\"\",\"\",\"SET \"&BA466&\": \"&D466&\"-\"&E466&\", \"&F466)","v":""},{"$f":"IF(AA466=\"\",\"\",IF(AT466>0,(AU466+AV466),IF(AND(NOT(D467=\"\"),D468=\"\"),AU466+AV466+1,\"\")))","v":""},"","",""]
[{"$f":"IF(AN466=\"\",\"\",A466+1)","v":""},{"$f":"IF(A467=\"\",\"\",AU466)","v":""},{"$f":"IF(A467=\"\",\"\",AV466)","v":""},{"$f":"IF(A467=\"\",\"\",IF(AT466=0,AR466,0))","v":""},{"$f":"IF(A467=\"\",\"\",IF(AT466=0,AS466,0))","v":""},{"$f":"IF(A467=\"\",\"\",IF(AW466=1,AX466,IF(AP466=\"GM\",\"0-0\",AP466)))","v":""},{"$f":"IF(BE467=\"\",\"\",BE467&\" (\"&BF467&\")\")","v":""},"","","",{"$f":"IF(A467=\"\",\"\",IF(OR(I467=1,I467=\"S\"),IF(VLOOKUP(J467,Tables!E$1:F$50,2,FALSE)=1,IF(MOD(BE467,2)=1,1,2),IF(MOD(BE467,2)=1,2,1)),IF(MOD(BE467,2)=1,1,2)))","v":""},"","",null,null,null,{"$f":"IF(N467=\"\",\"\",SUBSTITUTE(N467, \"c\", \"\"))","v":""},{"$f":"SUBSTITUTE(O467, \"c\", \"\")","v":""},{"$f":"IF(N467=\"\",\"\",IF(MID(Q467,2,1)=\"+\",1,0))","v":""},{"$f":"IF(O467=\"\",\"\",IF(MID(R467,2,1)=\"+\",1,0))","v":""},{"$f":"IF(N467=\"\",\"\",IF(S467=1,SUBSTITUTE(Q467, \"+\", \"\",1),Q467))","v":""},{"$f":"IF(T467=1,SUBSTITUTE(R467, \"+\", \"\",1),R467)","v":""},{"$f":"IF(N467=\"\",\"\",IF(LEN(N467)=1,0,IF(ISERROR(FIND(MID(U467,2,1),\"wdnxge!VPQRS\"))=TRUE,1,0)))","v":""},{"$f":"IF(O467=\"\",\"\",IF(ISERROR(FIND(MID(V467,2,1),\"wdnxge!VPQRS\"))=TRUE,1,0))","v":""},{"$f":"IF(N467=\"\",\"\",IF(W467=0,0,IF(LEN(U467)>2,1,0)))","v":""},{"$f":"IF(N467=\"\",\"\",IF(X467=0,0,IF(LEN(V467)>2,1,0)))","v":""},{"$f":"IF(N467=\"\",\"\",IF(Y467=0,Q467,LEFT(U467,1)))","v":""},{"$f":"IF(N467=\"\",\"\",IF(Z467=0,V467,LEFT(V467,1)))","v":""},{"$f":"IF(N467=\"\",\"\",IF(Y467=1,RIGHT(U467,(LEN(U467)-1)),IF(Z467=1,RIGHT(V467,(LEN(V467)-1)),\"\")))","v":""},{"$f":"IF(AA467=\"\",\"\",OR(IF(ISERR(FIND(\"*\",AA467)),FALSE,TRUE), IF(ISERR(FIND(\"*\",AB467)),FALSE,TRUE)))","v":""},{"$f":"IF(AA467=\"\",\"\",OR(IF(ISERR(FIND(\"#\",AA467)),FALSE,TRUE), IF(ISERR(FIND(\"#\",AB467)),FALSE,TRUE)))","v":""},{"$f":"IF(AA467=\"\",\"\",IF(ISERR(FIND(\"*\",AC467)),FALSE,TRUE))","v":""},{"$f":"IF(AA467=\"\",\"\",IF(ISERR(FIND(\"#\",AC467)),FALSE,TRUE))","v":""},{"$f":"IF(AA467=\"\",\"\",IF(ISERR(FIND(\"@\",AC467)),FALSE,TRUE))","v":""},"",{"$f":"SUBSTITUTE(SUBSTITUTE(SUBSTITUTE(SUBSTITUTE(SUBSTITUTE(SUBSTITUTE(SUBSTITUTE(SUBSTITUTE(AC467, \"-\", \"\"), \"=\", \"\"), \"@\", \"\"), \"#\", \"\"), \"*\", \"\"), \";\", \"\"), \"+\", \"\"), \"^\", \"\")","v":""},{"$f":"SUBSTITUTE(SUBSTITUTE(SUBSTITUTE(SUBSTITUTE(SUBSTITUTE(SUBSTITUTE(AJ467, \"d\", \"\"), \"w\", \"\"), \"x\", \"\"), \"e\", \"\"), \"n\", \"\"), \"!\", \"\")","v":""},{"$f":"SUBSTITUTE(SUBSTITUTE(SUBSTITUTE(SUBSTITUTE(SUBSTITUTE(SUBSTITUTE(AK467, \"1\", \"\"), \"2\", \"\"), \"3\", \"\"), \"7\", \"\"), \"8\", \"\"), \"9\", \"\")","v":""},"","","",{"$f":"IF(AN467=\"\",\"\",IF(I467=0,IF(AO467=1,VLOOKUP(F467,Tables!A$1:C$18,2,FALSE),VLOOKUP(F467,Tables!A$1:C$18,3,FALSE)),IF(I467=1, IF(AO467=1,VLOOKUP(F467,Tables!H$1:J$95,2,FALSE),VLOOKUP(F467,Tables!H$1:J$95,3,FALSE)),IF(AO467=1,VLOOKUP(F467,Tables!Q$1:S$137,2,FALSE),VLOOKUP(F467,Tables!Q$1:S$137,3,FALSE)))))","v":""},{"$f":"IF(AN467=\"\",\"\",IF(AP467=\"GM\",AN467,0))","v":""},"","","","","",{"$f":"IF(J467=\"\",\"\",IF(AND(OR(I467=1,I467=\"S\"),MOD(J467,2)=1,NOT(AP467=\"GM\")),1,\"\"))","v":""},{"$f":"IF(AW467=1,CONCATENATE(RIGHT(AP467,(LEN(AP467)-FIND(\"-\",AP467))),\"-\",LEFT(AP467,FIND(\"-\",AP467)-1)),\"\")","v":""},{"$f":"IF(AA467=\"\",\"\",IF(OR(RIGHT(AC467,1)=\"@\",RIGHT(AC467,1)=\"#\"),AM467,IF(AI467=TRUE,0,AM467+1)))","v":""},null,"","","","",{"$f":"IF(A467=\"\",\"\",IF(AP466=\"GM\",BE466+1,BE466))","v":""},{"$f":"IF(A467=\"\",\"\",IF(AQ466=0,BF466+1,1))","v":""}]
["","","","","","","","","","",{"$f":"IF(A468=\"\",\"\",IF(OR(I468=1,I468=\"S\"),IF(VLOOKUP(J468,Tables!E$1:F$50,2,FALSE)=1,IF(MOD(BE468,2)=1,1,2),IF(MOD(BE468,2)=1,2,1)),IF(MOD(BE468,2)=1,1,2)))","v":""},"","",null,null,null,"","","","","","","","","","","","","","","","","","","","","","","","","",{"$f":"IF(AN468=\"\",\"\",IF(I468=0,IF(AO468=1,VLOOKUP(F468,Tables!A$1:C$18,2,FALSE),VLOOKUP(F468,Tables!A$1:C$18,3,FALSE)),IF(I468=1, IF(AO468=1,VLOOKUP(F468,Tables!H$1:J$95,2,FALSE),VLOOKUP(F468,Tables!H$1:J$95,3,FALSE)),IF(AO468=1,VLOOKUP(F468,Tables!Q$1:S$137,2,FALSE),VLOOKUP(F468,Tables!Q$1:S$137,3,FALSE)))))","v":""},"","","","","","","","","",null,"","","","","",""]
["","","","","","","","","","",{"$f":"IF(A469=\"\",\"\",IF(OR(I469=1,I469=\"S\"),IF(VLOOKUP(J469,Tables!E$1:F$50,2,FALSE)=1,IF(MOD(BE469,2)=1,1,2),IF(MOD(BE469,2)=1,2,1)),IF(MOD(BE469,2)=1,1,2)))","v":""},"","",null,null,null,"","","","","","","","","","","","","","","","","","","","","","","","","",{"$f":"IF(AN469=\"\",\"\",IF(I469=0,IF(AO469=1,VLOOKUP(F469,Tables!A$1:C$18,2,FALSE),VLOOKUP(F469,Tables!A$1:C$18,3,FALSE)),IF(I469=1, IF(AO469=1,VLOOKUP(F469,Tables!H$1:J$95,2,FALSE),VLOOKUP(F469,Tables!H$1:J$95,3,FALSE)),IF(AO469=1,VLOOKUP(F469,Tables!Q$1:S$137,2,FALSE),VLOOKUP(F469,Tables!Q$1:S$137,3,FALSE)))))","v":""},"","","","","","","","","",null,"","","","","",""]
["","","","","","","","","","",{"$f":"IF(A470=\"\",\"\",IF(OR(I470=1,I470=\"S\"),IF(VLOOKUP(J470,Tables!E$1:F$50,2,FALSE)=1,IF(MOD(BE470,2)=1,1,2),IF(MOD(BE470,2)=1,2,1)),IF(MOD(BE470,2)=1,1,2)))","v":""},"","",null,null,null,"","","","","","","","","","","","","","","","","","","","","","","","","",{"$f":"IF(AN470=\"\",\"\",IF(I470=0,IF(AO470=1,VLOOKUP(F470,Tables!A$1:C$18,2,FALSE),VLOOKUP(F470,Tables!A$1:C$18,3,FALSE)),IF(I470=1, IF(AO470=1,VLOOKUP(F470,Tables!H$1:J$95,2,FALSE),VLOOKUP(F470,Tables!H$1:J$95,3,FALSE)),IF(AO470=1,VLOOKUP(F470,Tables!Q$1:S$137,2,FALSE),VLOOKUP(F470,Tables!Q$1:S$137,3,FALSE)))))","v":""},"","","","","","","","","",null,"","","","","",""]
["","","","","","","","","","",{"$f":"IF(A471=\"\",\"\",IF(OR(I471=1,I471=\"S\"),IF(VLOOKUP(J471,Tables!E$1:F$50,2,FALSE)=1,IF(MOD(BE471,2)=1,1,2),IF(MOD(BE471,2)=1,2,1)),IF(MOD(BE471,2)=1,1,2)))","v":""},"","",null,null,null,"","","","","","","","","","","","","","","","","","","","","","","","","",{"$f":"IF(AN471=\"\",\"\",IF(I471=0,IF(AO471=1,VLOOKUP(F471,Tables!A$1:C$18,2,FALSE),VLOOKUP(F471,Tables!A$1:C$18,3,FALSE)),IF(I471=1, IF(AO471=1,VLOOKUP(F471,Tables!H$1:J$95,2,FALSE),VLOOKUP(F471,Tables!H$1:J$95,3,FALSE)),IF(AO471=1,VLOOKUP(F471,Tables!Q$1:S$137,2,FALSE),VLOOKUP(F471,Tables!Q$1:S$137,3,FALSE)))))","v":""},"","","","","","","","","",null,"","","","","",""]
["","","","","","","","","","",{"$f":"IF(A472=\"\",\"\",IF(OR(I472=1,I472=\"S\"),IF(VLOOKUP(J472,Tables!E$1:F$50,2,FALSE)=1,IF(MOD(BE472,2)=1,1,2),IF(MOD(BE472,2)=1,2,1)),IF(MOD(BE472,2)=1,1,2)))","v":""},"","",null,null,null,"","","","","","","","","","","","","","","","","","","","","","","","","",{"$f":"IF(AN472=\"\",\"\",IF(I472=0,IF(AO472=1,VLOOKUP(F472,Tables!A$1:C$18,2,FALSE),VLOOKUP(F472,Tables!A$1:C$18,3,FALSE)),IF(I472=1, IF(AO472=1,VLOOKUP(F472,Tables!H$1:J$95,2,FALSE),VLOOKUP(F472,Tables!H$1:J$95,3,FALSE)),IF(AO472=1,VLOOKUP(F472,Tables!Q$1:S$137,2,FALSE),VLOOKUP(F472,Tables!Q$1:S$137,3,FALSE)))))","v":""},"","","","","","","","","",null,"","","","","",""]
["","","","","","","","","","",{"$f":"IF(A473=\"\",\"\",IF(OR(I473=1,I473=\"S\"),IF(VLOOKUP(J473,Tables!E$1:F$50,2,FALSE)=1,IF(MOD(BE473,2)=1,1,2),IF(MOD(BE473,2)=1,2,1)),IF(MOD(BE473,2)=1,1,2)))","v":""},"","",null,null,null,"","","","","","","","","","","","","","","","","","","","","","","","","",{"$f":"IF(AN473=\"\",\"\",IF(I473=0,IF(AO473=1,VLOOKUP(F473,Tables!A$1:C$18,2,FALSE),VLOOKUP(F473,Tables!A$1:C$18,3,FALSE)),IF(I473=1, IF(AO473=1,VLOOKUP(F473,Tables!H$1:J$95,2,FALSE),VLOOKUP(F473,Tables!H$1:J$95,3,FALSE)),IF(AO473=1,VLOOKUP(F473,Tables!Q$1:S$137,2,FALSE),VLOOKUP(F473,Tables!Q$1:S$137,3,FALSE)))))","v":""},"","","","","","","","","",null,"","","","","",""]
["","","","","","","","","","",{"$f":"IF(A474=\"\",\"\",IF(OR(I474=1,I474=\"S\"),IF(VLOOKUP(J474,Tables!E$1:F$50,2,FALSE)=1,IF(MOD(BE474,2)=1,1,2),IF(MOD(BE474,2)=1,2,1)),IF(MOD(BE474,2)=1,1,2)))","v":""},"","",null,null,null,"","","","","","","","","","","","","","","","","","","","","","","","","",{"$f":"IF(AN474=\"\",\"\",IF(I474=0,IF(AO474=1,VLOOKUP(F474,Tables!A$1:C$18,2,FALSE),VLOOKUP(F474,Tables!A$1:C$18,3,FALSE)),IF(I474=1, IF(AO474=1,VLOOKUP(F474,Tables!H$1:J$95,2,FALSE),VLOOKUP(F474,Tables!H$1:J$95,3,FALSE)),IF(AO474=1,VLOOKUP(F474,Tables!Q$1:S$137,2,FALSE),VLOOKUP(F474,Tables!Q$1:S$137,3,FALSE)))))","v":""},"","","","","","","","","",null,"","","","","",""]
["","","","","","","","","","",{"$f":"IF(A475=\"\",\"\",IF(OR(I475=1,I475=\"S\"),IF(VLOOKUP(J475,Tables!E$1:F$50,2,FALSE)=1,IF(MOD(BE475,2)=1,1,2),IF(MOD(BE475,2)=1,2,1)),IF(MOD(BE475,2)=1,1,2)))","v":""},"","",null,null,null,"","","","","","","","","","","","","","","","","","","","","","","","","",{"$f":"IF(AN475=\"\",\"\",IF(I475=0,IF(AO475=1,VLOOKUP(F475,Tables!A$1:C$18,2,FALSE),VLOOKUP(F475,Tables!A$1:C$18,3,FALSE)),IF(I475=1, IF(AO475=1,VLOOKUP(F475,Tables!H$1:J$95,2,FALSE),VLOOKUP(F475,Tables!H$1:J$95,3,FALSE)),IF(AO475=1,VLOOKUP(F475,Tables!Q$1:S$137,2,FALSE),VLOOKUP(F475,Tables!Q$1:S$137,3,FALSE)))))","v":""},"","","","","","","","","",null,"","","","","",""]
["","","","","","","","","","",{"$f":"IF(A476=\"\",\"\",IF(OR(I476=1,I476=\"S\"),IF(VLOOKUP(J476,Tables!E$1:F$50,2,FALSE)=1,IF(MOD(BE476,2)=1,1,2),IF(MOD(BE476,2)=1,2,1)),IF(MOD(BE476,2)=1,1,2)))","v":""},"","",null,null,null,"","","","","","","","","","","","","","","","","","","","","","","","","",{"$f":"IF(AN476=\"\",\"\",IF(I476=0,IF(AO476=1,VLOOKUP(F476,Tables!A$1:C$18,2,FALSE),VLOOKUP(F476,Tables!A$1:C$18,3,FALSE)),IF(I476=1, IF(AO476=1,VLOOKUP(F476,Tables!H$1:J$95,2,FALSE),VLOOKUP(F476,Tables!H$1:J$95,3,FALSE)),IF(AO476=1,VLOOKUP(F476,Tables!Q$1:S$137,2,FALSE),VLOOKUP(F476,Tables!Q$1:S$137,3,FALSE)))))","v":""},"","","","","","","","","",null,"","","","","",""]
["","","","","","","","","","",{"$f":"IF(A477=\"\",\"\",IF(OR(I477=1,I477=\"S\"),IF(VLOOKUP(J477,Tables!E$1:F$50,2,FALSE)=1,IF(MOD(BE477,2)=1,1,2),IF(MOD(BE477,2)=1,2,1)),IF(MOD(BE477,2)=1,1,2)))","v":""},"","",null,null,null,"","","","","","","","","","","","","","","","","","","","","","","","","",{"$f":"IF(AN477=\"\",\"\",IF(I477=0,IF(AO477=1,VLOOKUP(F477,Tables!A$1:C$18,2,FALSE),VLOOKUP(F477,Tables!A$1:C$18,3,FALSE)),IF(I477=1, IF(AO477=1,VLOOKUP(F477,Tables!H$1:J$95,2,FALSE),VLOOKUP(F477,Tables!H$1:J$95,3,FALSE)),IF(AO477=1,VLOOKUP(F477,Tables!Q$1:S$137,2,FALSE),VLOOKUP(F477,Tables!Q$1:S$137,3,FALSE)))))","v":""},"","","","","","","","","",null,"","","","","",""]
["","","","","","","","","","",{"$f":"IF(A478=\"\",\"\",IF(OR(I478=1,I478=\"S\"),IF(VLOOKUP(J478,Tables!E$1:F$50,2,FALSE)=1,IF(MOD(BE478,2)=1,1,2),IF(MOD(BE478,2)=1,2,1)),IF(MOD(BE478,2)=1,1,2)))","v":""},"","",null,null,null,"","","","","","","","","","","","","","","","","","","","","","","","","",{"$f":"IF(AN478=\"\",\"\",IF(I478=0,IF(AO478=1,VLOOKUP(F478,Tables!A$1:C$18,2,FALSE),VLOOKUP(F478,Tables!A$1:C$18,3,FALSE)),IF(I478=1, IF(AO478=1,VLOOKUP(F478,Tables!H$1:J$95,2,FALSE),VLOOKUP(F478,Tables!H$1:J$95,3,FALSE)),IF(AO478=1,VLOOKUP(F478,Tables!Q$1:S$137,2,FALSE),VLOOKUP(F478,Tables!Q$1:S$137,3,FALSE)))))","v":""},"","","","","","","","","",null,"","","","","",""]
["","","","","","","","","","",{"$f":"IF(A479=\"\",\"\",IF(OR(I479=1,I479=\"S\"),IF(VLOOKUP(J479,Tables!E$1:F$50,2,FALSE)=1,IF(MOD(BE479,2)=1,1,2),IF(MOD(BE479,2)=1,2,1)),IF(MOD(BE479,2)=1,1,2)))","v":""},"","",null,null,null,"","","","","","","","","","","","","","","","","","","","","","","","","",{"$f":"IF(AN479=\"\",\"\",IF(I479=0,IF(AO479=1,VLOOKUP(F479,Tables!A$1:C$18,2,FALSE),VLOOKUP(F479,Tables!A$1:C$18,3,FALSE)),IF(I479=1, IF(AO479=1,VLOOKUP(F479,Tables!H$1:J$95,2,FALSE),VLOOKUP(F479,Tables!H$1:J$95,3,FALSE)),IF(AO479=1,VLOOKUP(F479,Tables!Q$1:S$137,2,FALSE),VLOOKUP(F479,Tables!Q$1:S$137,3,FALSE)))))","v":""},"","","","","","","","","",null,"","","","","",""]
["","","","","","","","","","",{"$f":"IF(A480=\"\",\"\",IF(OR(I480=1,I480=\"S\"),IF(VLOOKUP(J480,Tables!E$1:F$50,2,FALSE)=1,IF(MOD(BE480,2)=1,1,2),IF(MOD(BE480,2)=1,2,1)),IF(MOD(BE480,2)=1,1,2)))","v":""},"","",null,null,null,"","","","","","","","","","","","","","","","","","","","","","","","","",{"$f":"IF(AN480=\"\",\"\",IF(I480=0,IF(AO480=1,VLOOKUP(F480,Tables!A$1:C$18,2,FALSE),VLOOKUP(F480,Tables!A$1:C$18,3,FALSE)),IF(I480=1, IF(AO480=1,VLOOKUP(F480,Tables!H$1:J$95,2,FALSE),VLOOKUP(F480,Tables!H$1:J$95,3,FALSE)),IF(AO480=1,VLOOKUP(F480,Tables!Q$1:S$137,2,FALSE),VLOOKUP(F480,Tables!Q$1:S$137,3,FALSE)))))","v":""},"","","","","","","","","",null,"","","","","",""]
["","","","","","","","","","",{"$f":"IF(A481=\"\",\"\",IF(OR(I481=1,I481=\"S\"),IF(VLOOKUP(J481,Tables!E$1:F$50,2,FALSE)=1,IF(MOD(BE481,2)=1,1,2),IF(MOD(BE481,2)=1,2,1)),IF(MOD(BE481,2)=1,1,2)))","v":""},"","",null,null,null,"","","","","","","","","","","","","","","","","","","","","","","","","",{"$f":"IF(AN481=\"\",\"\",IF(I481=0,IF(AO481=1,VLOOKUP(F481,Tables!A$1:C$18,2,FALSE),VLOOKUP(F481,Tables!A$1:C$18,3,FALSE)),IF(I481=1, IF(AO481=1,VLOOKUP(F481,Tables!H$1:J$95,2,FALSE),VLOOKUP(F481,Tables!H$1:J$95,3,FALSE)),IF(AO481=1,VLOOKUP(F481,Tables!Q$1:S$137,2,FALSE),VLOOKUP(F481,Tables!Q$1:S$137,3,FALSE)))))","v":""},"","","","","","","","","",null,"","","","","",""]
["","","","","","","","","","",{"$f":"IF(A482=\"\",\"\",IF(OR(I482=1,I482=\"S\"),IF(VLOOKUP(J482,Tables!E$1:F$50,2,FALSE)=1,IF(MOD(BE482,2)=1,1,2),IF(MOD(BE482,2)=1,2,1)),IF(MOD(BE482,2)=1,1,2)))","v":""},"","",null,null,null,"","","","","","","","","","","","","","","","","","","","","","","","","",{"$f":"IF(AN482=\"\",\"\",IF(I482=0,IF(AO482=1,VLOOKUP(F482,Tables!A$1:C$18,2,FALSE),VLOOKUP(F482,Tables!A$1:C$18,3,FALSE)),IF(I482=1, IF(AO482=1,VLOOKUP(F482,Tables!H$1:J$95,2,FALSE),VLOOKUP(F482,Tables!H$1:J$95,3,FALSE)),IF(AO482=1,VLOOKUP(F482,Tables!Q$1:S$137,2,FALSE),VLOOKUP(F482,Tables!Q$1:S$137,3,FALSE)))))","v":""},"","","","","","","","","",null,"","","","","",""]
["","","","","","","","","","",{"$f":"IF(A483=\"\",\"\",IF(OR(I483=1,I483=\"S\"),IF(VLOOKUP(J483,Tables!E$1:F$50,2,FALSE)=1,IF(MOD(BE483,2)=1,1,2),IF(MOD(BE483,2)=1,2,1)),IF(MOD(BE483,2)=1,1,2)))","v":""},"","",null,null,null,"","","","","","","","","","","","","","","","","","","","","","","","","",{"$f":"IF(AN483=\"\",\"\",IF(I483=0,IF(AO483=1,VLOOKUP(F483,Tables!A$1:C$18,2,FALSE),VLOOKUP(F483,Tables!A$1:C$18,3,FALSE)),IF(I483=1, IF(AO483=1,VLOOKUP(F483,Tables!H$1:J$95,2,FALSE),VLOOKUP(F483,Tables!H$1:J$95,3,FALSE)),IF(AO483=1,VLOOKUP(F483,Tables!Q$1:S$137,2,FALSE),VLOOKUP(F483,Tables!Q$1:S$137,3,FALSE)))))","v":""},"","","","","","","","","",null,"","","","","",""]
["","","","","","","","","","",{"$f":"IF(A484=\"\",\"\",IF(OR(I484=1,I484=\"S\"),IF(VLOOKUP(J484,Tables!E$1:F$50,2,FALSE)=1,IF(MOD(BE484,2)=1,1,2),IF(MOD(BE484,2)=1,2,1)),IF(MOD(BE484,2)=1,1,2)))","v":""},"","",null,null,null,"","","","","","","","","","","","","","","","","","","","","","","","","",{"$f":"IF(AN484=\"\",\"\",IF(I484=0,IF(AO484=1,VLOOKUP(F484,Tables!A$1:C$18,2,FALSE),VLOOKUP(F484,Tables!A$1:C$18,3,FALSE)),IF(I484=1, IF(AO484=1,VLOOKUP(F484,Tables!H$1:J$95,2,FALSE),VLOOKUP(F484,Tables!H$1:J$95,3,FALSE)),IF(AO484=1,VLOOKUP(F484,Tables!Q$1:S$137,2,FALSE),VLOOKUP(F484,Tables!Q$1:S$137,3,FALSE)))))","v":""},"","","","","","","","","",null,"","","","","",""]
["","","","","","","","","","",{"$f":"IF(A485=\"\",\"\",IF(OR(I485=1,I485=\"S\"),IF(VLOOKUP(J485,Tables!E$1:F$50,2,FALSE)=1,IF(MOD(BE485,2)=1,1,2),IF(MOD(BE485,2)=1,2,1)),IF(MOD(BE485,2)=1,1,2)))","v":""},"","",null,null,null,"","","","","","","","","","","","","","","","","","","","","","","","","",{"$f":"IF(AN485=\"\",\"\",IF(I485=0,IF(AO485=1,VLOOKUP(F485,Tables!A$1:C$18,2,FALSE),VLOOKUP(F485,Tables!A$1:C$18,3,FALSE)),IF(I485=1, IF(AO485=1,VLOOKUP(F485,Tables!H$1:J$95,2,FALSE),VLOOKUP(F485,Tables!H$1:J$95,3,FALSE)),IF(AO485=1,VLOOKUP(F485,Tables!Q$1:S$137,2,FALSE),VLOOKUP(F485,Tables!Q$1:S$137,3,FALSE)))))","v":""},"","","","","","","","","",null,"","","","","",""]
["","","","","","","","","","",{"$f":"IF(A486=\"\",\"\",IF(OR(I486=1,I486=\"S\"),IF(VLOOKUP(J486,Tables!E$1:F$50,2,FALSE)=1,IF(MOD(BE486,2)=1,1,2),IF(MOD(BE486,2)=1,2,1)),IF(MOD(BE486,2)=1,1,2)))","v":""},"","",null,null,null,"","","","","","","","","","","","","","","","","","","","","","","","","",{"$f":"IF(AN486=\"\",\"\",IF(I486=0,IF(AO486=1,VLOOKUP(F486,Tables!A$1:C$18,2,FALSE),VLOOKUP(F486,Tables!A$1:C$18,3,FALSE)),IF(I486=1, IF(AO486=1,VLOOKUP(F486,Tables!H$1:J$95,2,FALSE),VLOOKUP(F486,Tables!H$1:J$95,3,FALSE)),IF(AO486=1,VLOOKUP(F486,Tables!Q$1:S$137,2,FALSE),VLOOKUP(F486,Tables!Q$1:S$137,3,FALSE)))))","v":""},"","","","","","","","","",null,"","","","","",""]
["","","","","","","","","","",{"$f":"IF(A487=\"\",\"\",IF(OR(I487=1,I487=\"S\"),IF(VLOOKUP(J487,Tables!E$1:F$50,2,FALSE)=1,IF(MOD(BE487,2)=1,1,2),IF(MOD(BE487,2)=1,2,1)),IF(MOD(BE487,2)=1,1,2)))","v":""},"","",null,null,null,"","","","","","","","","","","","","","","","","","","","","","","","","",{"$f":"IF(AN487=\"\",\"\",IF(I487=0,IF(AO487=1,VLOOKUP(F487,Tables!A$1:C$18,2,FALSE),VLOOKUP(F487,Tables!A$1:C$18,3,FALSE)),IF(I487=1, IF(AO487=1,VLOOKUP(F487,Tables!H$1:J$95,2,FALSE),VLOOKUP(F487,Tables!H$1:J$95,3,FALSE)),IF(AO487=1,VLOOKUP(F487,Tables!Q$1:S$137,2,FALSE),VLOOKUP(F487,Tables!Q$1:S$137,3,FALSE)))))","v":""},"","","","","","","","","",null,"","","","","",""]
["","","","","","","","","","",{"$f":"IF(A488=\"\",\"\",IF(OR(I488=1,I488=\"S\"),IF(VLOOKUP(J488,Tables!E$1:F$50,2,FALSE)=1,IF(MOD(BE488,2)=1,1,2),IF(MOD(BE488,2)=1,2,1)),IF(MOD(BE488,2)=1,1,2)))","v":""},"","",null,null,null,"","","","","","","","","","","","","","","","","","","","","","","","","",{"$f":"IF(AN488=\"\",\"\",IF(I488=0,IF(AO488=1,VLOOKUP(F488,Tables!A$1:C$18,2,FALSE),VLOOKUP(F488,Tables!A$1:C$18,3,FALSE)),IF(I488=1, IF(AO488=1,VLOOKUP(F488,Tables!H$1:J$95,2,FALSE),VLOOKUP(F488,Tables!H$1:J$95,3,FALSE)),IF(AO488=1,VLOOKUP(F488,Tables!Q$1:S$137,2,FALSE),VLOOKUP(F488,Tables!Q$1:S$137,3,FALSE)))))","v":""},"","","","","","","","","",null,"","","","","",""]
["","","","","","","","","","",{"$f":"IF(A489=\"\",\"\",IF(OR(I489=1,I489=\"S\"),IF(VLOOKUP(J489,Tables!E$1:F$50,2,FALSE)=1,IF(MOD(BE489,2)=1,1,2),IF(MOD(BE489,2)=1,2,1)),IF(MOD(BE489,2)=1,1,2)))","v":""},"","",null,null,null,"","","","","","","","","","","","","","","","","","","","","","","","","",{"$f":"IF(AN489=\"\",\"\",IF(I489=0,IF(AO489=1,VLOOKUP(F489,Tables!A$1:C$18,2,FALSE),VLOOKUP(F489,Tables!A$1:C$18,3,FALSE)),IF(I489=1, IF(AO489=1,VLOOKUP(F489,Tables!H$1:J$95,2,FALSE),VLOOKUP(F489,Tables!H$1:J$95,3,FALSE)),IF(AO489=1,VLOOKUP(F489,Tables!Q$1:S$137,2,FALSE),VLOOKUP(F489,Tables!Q$1:S$137,3,FALSE)))))","v":""},"","","","","","","","","",null,"","","","","",""]
["","","","","","","","","","",{"$f":"IF(A490=\"\",\"\",IF(OR(I490=1,I490=\"S\"),IF(VLOOKUP(J490,Tables!E$1:F$50,2,FALSE)=1,IF(MOD(BE490,2)=1,1,2),IF(MOD(BE490,2)=1,2,1)),IF(MOD(BE490,2)=1,1,2)))","v":""},"","",null,null,null,"","","","","","","","","","","","","","","","","","","","","","","","","",{"$f":"IF(AN490=\"\",\"\",IF(I490=0,IF(AO490=1,VLOOKUP(F490,Tables!A$1:C$18,2,FALSE),VLOOKUP(F490,Tables!A$1:C$18,3,FALSE)),IF(I490=1, IF(AO490=1,VLOOKUP(F490,Tables!H$1:J$95,2,FALSE),VLOOKUP(F490,Tables!H$1:J$95,3,FALSE)),IF(AO490=1,VLOOKUP(F490,Tables!Q$1:S$137,2,FALSE),VLOOKUP(F490,Tables!Q$1:S$137,3,FALSE)))))","v":""},"","","","","","","","","",null,"","","","","",""]
["","","","","","","","","","",{"$f":"IF(A491=\"\",\"\",IF(OR(I491=1,I491=\"S\"),IF(VLOOKUP(J491,Tables!E$1:F$50,2,FALSE)=1,IF(MOD(BE491,2)=1,1,2),IF(MOD(BE491,2)=1,2,1)),IF(MOD(BE491,2)=1,1,2)))","v":""},"","",null,null,null,"","","","","","","","","","","","","","","","","","","","","","","","","",{"$f":"IF(AN491=\"\",\"\",IF(I491=0,IF(AO491=1,VLOOKUP(F491,Tables!A$1:C$18,2,FALSE),VLOOKUP(F491,Tables!A$1:C$18,3,FALSE)),IF(I491=1, IF(AO491=1,VLOOKUP(F491,Tables!H$1:J$95,2,FALSE),VLOOKUP(F491,Tables!H$1:J$95,3,FALSE)),IF(AO491=1,VLOOKUP(F491,Tables!Q$1:S$137,2,FALSE),VLOOKUP(F491,Tables!Q$1:S$137,3,FALSE)))))","v":""},"","","","","","","","","",null,"","","","","",""]
["","","","","","","","","","",{"$f":"IF(A492=\"\",\"\",IF(OR(I492=1,I492=\"S\"),IF(VLOOKUP(J492,Tables!E$1:F$50,2,FALSE)=1,IF(MOD(BE492,2)=1,1,2),IF(MOD(BE492,2)=1,2,1)),IF(MOD(BE492,2)=1,1,2)))","v":""},"","",null,null,null,"","","","","","","","","","","","","","","","","","","","","","","","","",{"$f":"IF(AN492=\"\",\"\",IF(I492=0,IF(AO492=1,VLOOKUP(F492,Tables!A$1:C$18,2,FALSE),VLOOKUP(F492,Tables!A$1:C$18,3,FALSE)),IF(I492=1, IF(AO492=1,VLOOKUP(F492,Tables!H$1:J$95,2,FALSE),VLOOKUP(F492,Tables!H$1:J$95,3,FALSE)),IF(AO492=1,VLOOKUP(F492,Tables!Q$1:S$137,2,FALSE),VLOOKUP(F492,Tables!Q$1:S$137,3,FALSE)))))","v":""},"","","","","","","","","",null,"","","","","",""]
["","","","","","","","","","",{"$f":"IF(A493=\"\",\"\",IF(OR(I493=1,I493=\"S\"),IF(VLOOKUP(J493,Tables!E$1:F$50,2,FALSE)=1,IF(MOD(BE493,2)=1,1,2),IF(MOD(BE493,2)=1,2,1)),IF(MOD(BE493,2)=1,1,2)))","v":""},"","",null,null,null,"","","","","","","","","","","","","","","","","","","","","","","","","",{"$f":"IF(AN493=\"\",\"\",IF(I493=0,IF(AO493=1,VLOOKUP(F493,Tables!A$1:C$18,2,FALSE),VLOOKUP(F493,Tables!A$1:C$18,3,FALSE)),IF(I493=1, IF(AO493=1,VLOOKUP(F493,Tables!H$1:J$95,2,FALSE),VLOOKUP(F493,Tables!H$1:J$95,3,FALSE)),IF(AO493=1,VLOOKUP(F493,Tables!Q$1:S$137,2,FALSE),VLOOKUP(F493,Tables!Q$1:S$137,3,FALSE)))))","v":""},"","","","","","","","","",null,"","","","","",""]
["","","","","","","","","","",{"$f":"IF(A494=\"\",\"\",IF(OR(I494=1,I494=\"S\"),IF(VLOOKUP(J494,Tables!E$1:F$50,2,FALSE)=1,IF(MOD(BE494,2)=1,1,2),IF(MOD(BE494,2)=1,2,1)),IF(MOD(BE494,2)=1,1,2)))","v":""},"","",null,null,null,"","","","","","","","","","","","","","","","","","","","","","","","","",{"$f":"IF(AN494=\"\",\"\",IF(I494=0,IF(AO494=1,VLOOKUP(F494,Tables!A$1:C$18,2,FALSE),VLOOKUP(F494,Tables!A$1:C$18,3,FALSE)),IF(I494=1, IF(AO494=1,VLOOKUP(F494,Tables!H$1:J$95,2,FALSE),VLOOKUP(F494,Tables!H$1:J$95,3,FALSE)),IF(AO494=1,VLOOKUP(F494,Tables!Q$1:S$137,2,FALSE),VLOOKUP(F494,Tables!Q$1:S$137,3,FALSE)))))","v":""},"","","","","","","","","",null,"","","","","",""]
["","","","","","","","","","",{"$f":"IF(A495=\"\",\"\",IF(OR(I495=1,I495=\"S\"),IF(VLOOKUP(J495,Tables!E$1:F$50,2,FALSE)=1,IF(MOD(BE495,2)=1,1,2),IF(MOD(BE495,2)=1,2,1)),IF(MOD(BE495,2)=1,1,2)))","v":""},"","",null,null,null,"","","","","","","","","","","","","","","","","","","","","","","","","",{"$f":"IF(AN495=\"\",\"\",IF(I495=0,IF(AO495=1,VLOOKUP(F495,Tables!A$1:C$18,2,FALSE),VLOOKUP(F495,Tables!A$1:C$18,3,FALSE)),IF(I495=1, IF(AO495=1,VLOOKUP(F495,Tables!H$1:J$95,2,FALSE),VLOOKUP(F495,Tables!H$1:J$95,3,FALSE)),IF(AO495=1,VLOOKUP(F495,Tables!Q$1:S$137,2,FALSE),VLOOKUP(F495,Tables!Q$1:S$137,3,FALSE)))))","v":""},"","","","","","","","","",null,"","","",{"$f":"IF(NOT(BC495=\"\"),AR495&\"-\"&AS495,\"\")","v":""},"",""]
["","","","","","","","","","",{"$f":"IF(A496=\"\",\"\",IF(OR(I496=1,I496=\"S\"),IF(VLOOKUP(J496,Tables!E$1:F$50,2,FALSE)=1,IF(MOD(BE496,2)=1,1,2),IF(MOD(BE496,2)=1,2,1)),IF(MOD(BE496,2)=1,1,2)))","v":""},"","",null,null,null,"","","","","","","","","","","","","","","","","","","","","","","","","",{"$f":"IF(AN496=\"\",\"\",IF(I496=0,IF(AO496=1,VLOOKUP(F496,Tables!A$1:C$18,2,FALSE),VLOOKUP(F496,Tables!A$1:C$18,3,FALSE)),IF(I496=1, IF(AO496=1,VLOOKUP(F496,Tables!H$1:J$95,2,FALSE),VLOOKUP(F496,Tables!H$1:J$95,3,FALSE)),IF(AO496=1,VLOOKUP(F496,Tables!Q$1:S$137,2,FALSE),VLOOKUP(F496,Tables!Q$1:S$137,3,FALSE)))))","v":""},"","","","","","","","","",null,"","","","","",""]
["","","","","","","","","","",{"$f":"IF(A497=\"\",\"\",IF(OR(I497=1,I497=\"S\"),IF(VLOOKUP(J497,Tables!E$1:F$50,2,FALSE)=1,IF(MOD(BE497,2)=1,1,2),IF(MOD(BE497,2)=1,2,1)),IF(MOD(BE497,2)=1,1,2)))","v":""},"","",null,null,null,"","","","","","","","","","","","","","","","","","","","","","","","","",{"$f":"IF(AN497=\"\",\"\",IF(I497=0,IF(AO497=1,VLOOKUP(F497,Tables!A$1:C$18,2,FALSE),VLOOKUP(F497,Tables!A$1:C$18,3,FALSE)),IF(I497=1, IF(AO497=1,VLOOKUP(F497,Tables!H$1:J$95,2,FALSE),VLOOKUP(F497,Tables!H$1:J$95,3,FALSE)),IF(AO497=1,VLOOKUP(F497,Tables!Q$1:S$137,2,FALSE),VLOOKUP(F497,Tables!Q$1:S$137,3,FALSE)))))","v":""},"","","","","","","","","",null,"","","","","",""]
["","","","","","","","","","",{"$f":"IF(A498=\"\",\"\",IF(OR(I498=1,I498=\"S\"),IF(VLOOKUP(J498,Tables!E$1:F$50,2,FALSE)=1,IF(MOD(BE498,2)=1,1,2),IF(MOD(BE498,2)=1,2,1)),IF(MOD(BE498,2)=1,1,2)))","v":""},"","",null,null,null,"","","","","","","","","","","","","","","","","","","","","","","","","",{"$f":"IF(AN498=\"\",\"\",IF(I498=0,IF(AO498=1,VLOOKUP(F498,Tables!A$1:C$18,2,FALSE),VLOOKUP(F498,Tables!A$1:C$18,3,FALSE)),IF(I498=1, IF(AO498=1,VLOOKUP(F498,Tables!H$1:J$95,2,FALSE),VLOOKUP(F498,Tables!H$1:J$95,3,FALSE)),IF(AO498=1,VLOOKUP(F498,Tables!Q$1:S$137,2,FALSE),VLOOKUP(F498,Tables!Q$1:S$137,3,FALSE)))))","v":""},"","","","","","","","","",null,"","","","","",""]
["","","","","","","","","","",{"$f":"IF(A499=\"\",\"\",IF(OR(I499=1,I499=\"S\"),IF(VLOOKUP(J499,Tables!E$1:F$50,2,FALSE)=1,IF(MOD(BE499,2)=1,1,2),IF(MOD(BE499,2)=1,2,1)),IF(MOD(BE499,2)=1,1,2)))","v":""},"","",null,null,null,"","","","","","","","","","","","","","","","","","","","","","","","","",{"$f":"IF(AN499=\"\",\"\",IF(I499=0,IF(AO499=1,VLOOKUP(F499,Tables!A$1:C$18,2,FALSE),VLOOKUP(F499,Tables!A$1:C$18,3,FALSE)),IF(I499=1, IF(AO499=1,VLOOKUP(F499,Tables!H$1:J$95,2,FALSE),VLOOKUP(F499,Tables!H$1:J$95,3,FALSE)),IF(AO499=1,VLOOKUP(F499,Tables!Q$1:S$137,2,FALSE),VLOOKUP(F499,Tables!Q$1:S$137,3,FALSE)))))","v":""},"","","","","","","","","",null,"","","","","",""]
["","","","","","","","","","",{"$f":"IF(A500=\"\",\"\",IF(OR(I500=1,I500=\"S\"),IF(VLOOKUP(J500,Tables!E$1:F$50,2,FALSE)=1,IF(MOD(BE500,2)=1,1,2),IF(MOD(BE500,2)=1,2,1)),IF(MOD(BE500,2)=1,1,2)))","v":""},"","",null,null,null,"","","","","","","","","","","","","","","","","","","","","","","","","",{"$f":"IF(AN500=\"\",\"\",IF(I500=0,IF(AO500=1,VLOOKUP(F500,Tables!A$1:C$18,2,FALSE),VLOOKUP(F500,Tables!A$1:C$18,3,FALSE)),IF(I500=1, IF(AO500=1,VLOOKUP(F500,Tables!H$1:J$95,2,FALSE),VLOOKUP(F500,Tables!H$1:J$95,3,FALSE)),IF(AO500=1,VLOOKUP(F500,Tables!Q$1:S$137,2,FALSE),VLOOKUP(F500,Tables!Q$1:S$137,3,FALSE)))))","v":""},"","","","","","","","","",null,"","","","","",""]
["","","","","","","","","","",{"$f":"IF(A501=\"\",\"\",IF(OR(I501=1,I501=\"S\"),IF(VLOOKUP(J501,Tables!E$1:F$50,2,FALSE)=1,IF(MOD(BE501,2)=1,1,2),IF(MOD(BE501,2)=1,2,1)),IF(MOD(BE501,2)=1,1,2)))","v":""},"","",null,null,null,"","","","","","","","","","","","","","","","","","","","","","","","","",{"$f":"IF(AN501=\"\",\"\",IF(I501=0,IF(AO501=1,VLOOKUP(F501,Tables!A$1:C$18,2,FALSE),VLOOKUP(F501,Tables!A$1:C$18,3,FALSE)),IF(I501=1, IF(AO501=1,VLOOKUP(F501,Tables!H$1:J$95,2,FALSE),VLOOKUP(F501,Tables!H$1:J$95,3,FALSE)),IF(AO501=1,VLOOKUP(F501,Tables!Q$1:S$137,2,FALSE),VLOOKUP(F501,Tables!Q$1:S$137,3,FALSE)))))","v":""},"","","","","","","","","",null,null,null,"",null,"",""]
["","","","","","","","","","",{"$f":"IF(A502=\"\",\"\",IF(OR(I502=1,I502=\"S\"),IF(VLOOKUP(J502,Tables!E$1:F$50,2,FALSE)=1,IF(MOD(BE502,2)=1,1,2),IF(MOD(BE502,2)=1,2,1)),IF(MOD(BE502,2)=1,1,2)))","v":""},"","",null,null,null,"","","","","","","","","","","","","","","","","","","","","","","","","",{"$f":"IF(AN502=\"\",\"\",IF(I502=0,IF(AO502=1,VLOOKUP(F502,Tables!A$1:C$18,2,FALSE),VLOOKUP(F502,Tables!A$1:C$18,3,FALSE)),IF(I502=1, IF(AO502=1,VLOOKUP(F502,Tables!H$1:J$95,2,FALSE),VLOOKUP(F502,Tables!H$1:J$95,3,FALSE)),IF(AO502=1,VLOOKUP(F502,Tables!Q$1:S$137,2,FALSE),VLOOKUP(F502,Tables!Q$1:S$137,3,FALSE)))))","v":""},"","","","","","","","","",null,null,null,"",null,"",""]
["","","","","","","","","","",{"$f":"IF(A503=\"\",\"\",IF(OR(I503=1,I503=\"S\"),IF(VLOOKUP(J503,Tables!E$1:F$50,2,FALSE)=1,IF(MOD(BE503,2)=1,1,2),IF(MOD(BE503,2)=1,2,1)),IF(MOD(BE503,2)=1,1,2)))","v":""},"","",null,null,null,"","","","","","","","","","","","","","","","","","","","","","","","","",{"$f":"IF(AN503=\"\",\"\",IF(I503=0,IF(AO503=1,VLOOKUP(F503,Tables!A$1:C$18,2,FALSE),VLOOKUP(F503,Tables!A$1:C$18,3,FALSE)),IF(I503=1, IF(AO503=1,VLOOKUP(F503,Tables!H$1:J$95,2,FALSE),VLOOKUP(F503,Tables!H$1:J$95,3,FALSE)),IF(AO503=1,VLOOKUP(F503,Tables!Q$1:S$137,2,FALSE),VLOOKUP(F503,Tables!Q$1:S$137,3,FALSE)))))","v":""},"","","","","","","","","",null,null,null,"",null,"",""]
["","","","","","","","","","",{"$f":"IF(A504=\"\",\"\",IF(OR(I504=1,I504=\"S\"),IF(VLOOKUP(J504,Tables!E$1:F$50,2,FALSE)=1,IF(MOD(BE504,2)=1,1,2),IF(MOD(BE504,2)=1,2,1)),IF(MOD(BE504,2)=1,1,2)))","v":""},"","",null,null,null,"","","","","","","","","","","","","","","","","","","","","","","","","",{"$f":"IF(AN504=\"\",\"\",IF(I504=0,IF(AO504=1,VLOOKUP(F504,Tables!A$1:C$18,2,FALSE),VLOOKUP(F504,Tables!A$1:C$18,3,FALSE)),IF(I504=1, IF(AO504=1,VLOOKUP(F504,Tables!H$1:J$95,2,FALSE),VLOOKUP(F504,Tables!H$1:J$95,3,FALSE)),IF(AO504=1,VLOOKUP(F504,Tables!Q$1:S$137,2,FALSE),VLOOKUP(F504,Tables!Q$1:S$137,3,FALSE)))))","v":""},"","","","","","","","","",null,null,null,"",null,"",""]
["","","","","","","","","","",{"$f":"IF(A505=\"\",\"\",IF(OR(I505=1,I505=\"S\"),IF(VLOOKUP(J505,Tables!E$1:F$50,2,FALSE)=1,IF(MOD(BE505,2)=1,1,2),IF(MOD(BE505,2)=1,2,1)),IF(MOD(BE505,2)=1,1,2)))","v":""},"","",null,null,null,"","","","","","","","","","","","","","","","","","","","","","","","","",{"$f":"IF(AN505=\"\",\"\",IF(I505=0,IF(AO505=1,VLOOKUP(F505,Tables!A$1:C$18,2,FALSE),VLOOKUP(F505,Tables!A$1:C$18,3,FALSE)),IF(I505=1, IF(AO505=1,VLOOKUP(F505,Tables!H$1:J$95,2,FALSE),VLOOKUP(F505,Tables!H$1:J$95,3,FALSE)),IF(AO505=1,VLOOKUP(F505,Tables!Q$1:S$137,2,FALSE),VLOOKUP(F505,Tables!Q$1:S$137,3,FALSE)))))","v":""},"","","","","","","","","",null,null,null,"",null,"",""]

{"sheet":"Statistiche della partita","index":1,"n_rows":30,"n_cols":19,"rows_kept":30,"cut":false,"hidden":false,"merged":[[26,1,26,3]]}
[null,null,"Match",null,"<--- selezionate la cella colorata per mostrare le statistiche di uno specifico set"]
[]
[null,{"$f":"PARTITA!B1","v":0},{"$f":"IF(F3=0,N26,IF(N7>4,J3,\"\"))","v":""},{"$f":"PARTITA!B2","v":0},null,{"$f":"IF(LEFT(C1,3)=\"SET\",VALUE(RIGHT(C1,1)),0)","v":0},null,null,null,{"$f":"VLOOKUP(F3,PARTITA!BC18:BD500,2,FALSE)","v":{"$error":"#N/A"}},null,null,null,"set specific:"]
[]
[null,{"$f":"IF(F3=0,G5,N5)","v":0},"Ace",{"$f":"IF(F3=0,H5,O5)","v":0},null,null,{"$f":"COUNTIFS(PARTITA!AD18:AD500, \"=TRUE\", PARTITA!AN18:AN500, \"=1\")","v":0},{"$f":"COUNTIFS(PARTITA!AD18:AD500, \"=TRUE\", PARTITA!AN18:AN500, \"=2\")","v":0},null,null,null,null,null,{"$f":"COUNTIFS(PARTITA!AD18:AD500, \"=TRUE\", PARTITA!AN18:AN500, \"=1\",PARTITA!BA18:BA500, \"=\"&F3)","v":0},{"$f":"COUNTIFS(PARTITA!AD18:AD500, \"=TRUE\", PARTITA!AN18:AN500, \"=2\",PARTITA!BA18:BA500, \"=\"&F3)","v":0}]
[null,{"$f":"IF(F3=0,G6,N6)","v":0},"Doppi Falli",{"$f":"IF(F3=0,H6,O6)","v":0},null,null,{"$f":"COUNTIFS(PARTITA!AI18:AI500, \"=TRUE\", PARTITA!AN18:AN500, \"=2\")","v":0},{"$f":"COUNTIFS(PARTITA!AI18:AI500, \"=TRUE\", PARTITA!AN18:AN500, \"=1\")","v":0},null,null,null,null,null,{"$f":"COUNTIFS(PARTITA!AI18:AI500, \"=TRUE\", PARTITA!AN18:AN500, \"=2\",PARTITA!BA18:BA500, \"=\"&F3)","v":0},{"$f":"COUNTIFS(PARTITA!AI18:AI500, \"=TRUE\", PARTITA!AN18:AN500, \"=1\",PARTITA!BA18:BA500, \"=\"&F3)","v":0}]
[null,{"$f":"IF(OR(AND(G7=0,F$3=0),AND(N7=0,F3>0)),\"0/0\",IF(F3=0,K7/G7,R7/N7))","v":"0/0"},"Prima in campo %",{"$f":"IF(OR(AND(H7=0,F$3=0),AND(O7=0,F3>0)),\"0/0\",IF(F3=0,L7/H7,S7/O7))","v":"0/0"},null,"serve points",{"$f":"COUNTIFS(PARTITA!K18:K500, \"=1\", PARTITA!N18:N500, \"<>\")","v":0},{"$f":"COUNTIFS(PARTITA!K18:K500, \"=2\", PARTITA!N18:N500, \"<>\")","v":0},null,"first serves",{"$f":"COUNTIFS(PARTITA!K18:K500, \"=1\", PARTITA!W18:W500, \"=1\")","v":0},{"$f":"COUNTIFS(PARTITA!K18:K500, \"=2\", PARTITA!W18:W500, \"=1\")","v":0},null,{"$f":"COUNTIFS(PARTITA!K18:K500, \"=1\",PARTITA!BA18:BA500, \"=\"&F3)","v":0},{"$f":"COUNTIFS(PARTITA!K18:K500, \"=2\",PARTITA!BA18:BA500, \"=\"&F3)","v":0},null,null,{"$f":"COUNTIFS(PARTITA!K18:K500, \"=1\", PARTITA!W18:W500, \"=1\",PARTITA!BA18:BA500, \"=\"&F3)","v":0},{"$f":"COUNTIFS(PARTITA!K18:K500, \"=2\", PARTITA!W18:W500, \"=1\",PARTITA!BA18:BA500, \"=\"&F3)","v":0}]
[null,{"$f":"IF(OR(AND(G8=0,F$3=0),AND(N8=0,F$3>0)),\"0/0\",IF(F$3=0,K8&\"/\"&G8&\" (\"&FIXED(K8*100/G8, 0)&\"%)\",R8&\"/\"&N8&\" (\"&FIXED(R8*100/N8, 0)&\"%)\"))","v":"0/0"},"Punti vinti sulla prima",{"$f":"IF(OR(AND(H8=0,F$3=0),AND(O8=0,F$3>0)),\"0/0\",IF(F$3=0,L8&\"/\"&H8&\" (\"&FIXED(L8*100/H8, 0)&\"%)\",S8&\"/\"&O8&\" (\"&FIXED(S8*100/O8, 0)&\"%)\"))","v":"0/0"},null,"first serves",{"$f":"K7","v":0},{"$f":"L7","v":0},null,"1sts won",{"$f":"COUNTIFS(PARTITA!K18:K500, \"=1\", PARTITA!W18:W500, \"=1\", PARTITA!AN18:AN500, \"=1\")","v":0},{"$f":"COUNTIFS(PARTITA!K18:K500, \"=2\", PARTITA!W18:W500, \"=1\", PARTITA!AN18:AN500, \"=2\")","v":0},null,{"$f":"R7","v":0},{"$f":"S7","v":0},null,null,{"$f":"COUNTIFS(PARTITA!K18:K500, \"=1\", PARTITA!W18:W500, \"=1\",PARTITA!BA18:BA500, \"=\"&F3, PARTITA!AN18:AN500, \"=1\")","v":0},{"$f":"COUNTIFS(PARTITA!K18:K500, \"=2\", PARTITA!W18:W500, \"=1\",PARTITA!BA18:BA500, \"=\"&F3, PARTITA!AN18:AN500, \"=2\")","v":0}]
[null,{"$f":"IF(OR(AND(G9=0,F$3=0),AND(N9=0,F$3>0)),\"0/0\",IF(F$3=0,K9&\"/\"&G9&\" (\"&FIXED(K9*100/G9, 0)&\"%)\",R9&\"/\"&N9&\" (\"&FIXED(R9*100/N9, 0)&\"%)\"))","v":"0/0"},"Punti vinti sulla seconda",{"$f":"IF(OR(AND(H9=0,F$3=0),AND(O9=0,F$3>0)),\"0/0\",IF(F$3=0,L9&\"/\"&H9&\" (\"&FIXED(L9*100/H9, 0)&\"%)\",S9&\"/\"&O9&\" (\"&FIXED(S9*100/O9, 0)&\"%)\"))","v":"0/0"},null,"second serves",{"$f":"G7-G8","v":0},{"$f":"H7-H8","v":0},null,"2nds won",{"$f":"COUNTIFS(PARTITA!K18:K500, \"=1\", PARTITA!W18:W500, \"=0\", PARTITA!AN18:AN500, \"=1\")","v":0},{"$f":"COUNTIFS(PARTITA!K18:K500, \"=2\", PARTITA!W18:W500, \"=0\", PARTITA!AN18:AN500, \"=2\")","v":0},null,{"$f":"N7-N8","v":0},{"$f":"O7-O8","v":0},null,null,{"$f":"COUNTIFS(PARTITA!K18:K500, \"=1\", PARTITA!W18:W500, \"=0\",PARTITA!BA18:BA500, \"=\"&F3, PARTITA!AN18:AN500, \"=1\")","v":0},{"$f":"COUNTIFS(PARTITA!K18:K500, \"=2\", PARTITA!W18:W500, \"=0\",PARTITA!BA18:BA500, \"=\"&F3, PARTITA!AN18:AN500, \"=2\")","v":0}]
[null,{"$f":"IF(OR(AND(G10=0,F$3=0),AND(N10=0,F$3>0)),\"0/0\",IF(F$3=0,K10&\"/\"&G10&\" (\"&FIXED(K10*100/G10, 0)&\"%)\",R10&\"/\"&N10&\" (\"&FIXED(R10*100/N10, 0)&\"%)\"))","v":"0/0"},"Punti vinti al servizio",{"$f":"IF(OR(AND(H10=0,F$3=0),AND(O10=0,F$3>0)),\"0/0\",IF(F$3=0,L10&\"/\"&H10&\" (\"&FIXED(L10*100/H10, 0)&\"%)\",S10&\"/\"&O10&\" (\"&FIXED(S10*100/O10, 0)&\"%)\"))","v":"0/0"},null,"serve points",{"$f":"G7","v":0},{"$f":"H7","v":0},null,"sv pts won",{"$f":"K8+K9","v":0},{"$f":"L8+L9","v":0},null,{"$f":"N7","v":0},{"$f":"O7","v":0},null,null,{"$f":"R8+R9","v":0},{"$f":"S8+S9","v":0}]
[null,{"$f":"IF(OR(AND(G18=0,F$3=0),AND(N18=0,F$3>0)),\"0/0\",IF(F$3=0,K18&\"/\"&G18&\" (\"&FIXED(K18*100/G18, 0)&\"%)\",R18&\"/\"&N18&\" (\"&FIXED(R18*100/N18, 0)&\"%)\"))","v":"0/0"},"Punti totali vinti",{"$f":"IF(OR(AND(H18=0,F$3=0),AND(O18=0,F$3>0)),\"0/0\",IF(F$3=0,L18&\"/\"&H18&\" (\"&FIXED(L18*100/H18, 0)&\"%)\",S18&\"/\"&O18&\" (\"&FIXED(S18*100/O18, 0)&\"%)\"))","v":"0/0"}]
[null,{"$f":"IF(F3=0,K12&\"/\"&G12,R12&\"/\"&N12)","v":"0/0"},"Palle break convertite",{"$f":"IF(F3=0,L12&\"/\"&H12,S12&\"/\"&O12)","v":"0/0"},null,"break points",{"$f":"COUNTIFS(Points!A18:A500, \"=TRUE\")","v":0},{"$f":"COUNTIFS(Points!B18:B500, \"=TRUE\")","v":0},null,"break points won",{"$f":"COUNTIFS(Points!C18:C500, \"=TRUE\")","v":0},{"$f":"COUNTIFS(Points!D18:D500, \"=TRUE\")","v":0},null,{"$f":"COUNTIFS(Points!A18:A500, \"=TRUE\", Points!P18:P500, \"=\"&F3)","v":0},{"$f":"COUNTIFS(Points!B18:B500, \"=TRUE\", Points!P18:P500, \"=\"&F3)","v":0},null,null,{"$f":"COUNTIFS(Points!C18:C500, \"=TRUE\", Points!P18:P500, \"=\"&F3)","v":0},{"$f":"COUNTIFS(Points!D18:D500, \"=TRUE\", Points!P18:P500, \"=\"&F3)","v":0}]
[]
[null,{"$f":"IF(F3=0,G14,N14)","v":0},"Vincenti",{"$f":"IF(F3=0,H14,O14)","v":0},null,null,{"$f":"COUNTIFS(PARTITA!AD18:AD500, \"=TRUE\", PARTITA!AN18:AN500, \"=1\") + COUNTIFS(PARTITA!AF18:AF500, \"=TRUE\", PARTITA!AN18:AN500, \"=1\")","v":0},{"$f":"COUNTIFS(PARTITA!AD18:AD500, \"=TRUE\", PARTITA!AN18:AN500, \"=2\") + COUNTIFS(PARTITA!AF18:AF500, \"=TRUE\", PARTITA!AN18:AN500, \"=2\")","v":0},null,null,null,null,null,{"$f":"COUNTIFS(PARTITA!AD18:AD500, \"=TRUE\", PARTITA!AN18:AN500, \"=1\", PARTITA!BA18:BA500, \"=\"&F3) + COUNTIFS(PARTITA!AF18:AF500, \"=TRUE\", PARTITA!AN18:AN500, \"=1\",PARTITA!BA18:BA500, \"=\"&F3)","v":0},{"$f":"COUNTIFS(PARTITA!AD18:AD500, \"=TRUE\", PARTITA!AN18:AN500, \"=2\",PARTITA!BA18:BA500, \"=\"&F3) + COUNTIFS(PARTITA!AF18:AF500, \"=TRUE\", PARTITA!AN18:AN500, \"=2\",PARTITA!BA18:BA500, \"=\"&F3)","v":0}]
[null,{"$f":"IF(F3=0,G15,N15)","v":0},"Errori non forzati",{"$f":"IF(F3=0,H15,O15)","v":0},null,null,{"$f":"COUNTIFS(PARTITA!AH18:AH500, \"=TRUE\", PARTITA!AN18:AN500, \"=2\") + COUNTIFS(PARTITA!AI18:AI500, \"=TRUE\", PARTITA!AN18:AN500, \"=2\")","v":0},{"$f":"COUNTIFS(PARTITA!AH18:AH500, \"=TRUE\", PARTITA!AN18:AN500, \"=1\") + COUNTIFS(PARTITA!AI18:AI500, \"=TRUE\", PARTITA!AN18:AN500, \"=1\")","v":0},null,null,null,null,null,{"$f":"COUNTIFS(PARTITA!AH18:AH500, \"=TRUE\", PARTITA!AN18:AN500, \"=2\",PARTITA!BA18:BA500, \"=\"&F3) + COUNTIFS(PARTITA!AI18:AI500, \"=TRUE\", PARTITA!AN18:AN500, \"=2\",PARTITA!BA18:BA500, \"=\"&F3)","v":0},{"$f":"COUNTIFS(PARTITA!AH18:AH500, \"=TRUE\", PARTITA!AN18:AN500, \"=1\",PARTITA!BA18:BA500, \"=\"&F3) + COUNTIFS(PARTITA!AI18:AI500, \"=TRUE\", PARTITA!AN18:AN500, \"=1\",PARTITA!BA18:BA500, \"=\"&F3)","v":0}]
[null,{"$f":"IF(F3=0,K16&\"/\"&G16,R16&\"/\"&N16)","v":"0/0"},"Punti vinti a rete",{"$f":"IF(F3=0,L16&\"/\"&H16,S16&\"/\"&O16)","v":"0/0"},null,"net points",{"$f":"COUNTIFS(Points!G18:G500, \"=TRUE\")","v":0},{"$f":"COUNTIFS(Points!H18:H500, \"=TRUE\")","v":0},null,"net points won",{"$f":"COUNTIFS(Points!I18:I500, \"=TRUE\")","v":0},{"$f":"COUNTIFS(Points!J18:J500, \"=TRUE\")","v":0},null,{"$f":"COUNTIFS(Points!G18:G500, \"=TRUE\", Points!P18:P500, \"=\"&F3)","v":0},{"$f":"COUNTIFS(Points!H18:H500, \"=TRUE\", Points!P18:P500, \"=\"&F3)","v":0},null,null,{"$f":"COUNTIFS(Points!I18:I500, \"=TRUE\", Points!P18:P500, \"=\"&F3)","v":0},{"$f":"COUNTIFS(Points!J18:J500, \"=TRUE\", Points!P18:P500, \"=\"&F3)","v":0}]
[]
[null,null,"Riepilogo",null,null,"total points",{"$f":"G7+H7","v":0},{"$f":"G18","v":0},null,"tp won",{"$f":"K10+(H10-L10)","v":0},{"$f":"L10+(G10-K10)","v":0},null,{"$f":"N7+O7","v":0},{"$f":"N18","v":0},null,null,{"$f":"R10+(O10-S10)","v":0},{"$f":"S10+(N10-R10)","v":0}]
[]
[null,{"$f":"K20&\"/\"&G20&IF(G20>0,\" (\"&FIXED(K20*100/G20, 0)&\"%)\",\"\")","v":"0/0"},"Punti vinti, 0-4 Colpi",{"$f":"L20&\"/\"&H20&IF(H20>0,\" (\"&FIXED(L20*100/H20, 0)&\"%)\",\"\")","v":"0/0"},null,null,{"$f":"COUNTIFS(PARTITA!AY18:AY500, \"<5\")","v":0},{"$f":"G20","v":0},null,null,{"$f":"COUNTIFS(PARTITA!AY18:AY500, \"<5\", PARTITA!AN18:AN500, \"=1\")","v":0},{"$f":"COUNTIFS(PARTITA!AY18:AY500, \"<5\", PARTITA!AN18:AN500, \"=2\")","v":0}]
[null,{"$f":"K21&\"/\"&G21&IF(G21>0,\" (\"&FIXED(K21*100/G21, 0)&\"%)\",\"\")","v":"0/0"},"Punti vinti, 5-9 Colpi",{"$f":"L21&\"/\"&H21&IF(H21>0,\" (\"&FIXED(L21*100/H21, 0)&\"%)\",\"\")","v":"0/0"},null,null,{"$f":"COUNTIFS(PARTITA!AY18:AY500, \"<10\", PARTITA!AY18:AY500, \">4\")","v":0},{"$f":"G21","v":0},null,null,{"$f":"COUNTIFS(PARTITA!AY18:AY500, \">4\", PARTITA!AY18:AY500, \"<10\", PARTITA!AN18:AN500, \"=1\")","v":0},{"$f":"COUNTIFS(PARTITA!AY18:AY500, \">4\", PARTITA!AY18:AY500, \"<10\", PARTITA!AN18:AN500, \"=2\")","v":0}]
[null,{"$f":"K22&\"/\"&G22&IF(G22>0,\" (\"&FIXED(K22*100/G22, 0)&\"%)\",\"\")","v":"0/0"},"Punti vinti, 10+ Colpi",{"$f":"L22&\"/\"&H22&IF(H22>0,\" (\"&FIXED(L22*100/H22, 0)&\"%)\",\"\")","v":"0/0"},null,null,{"$f":"COUNTIFS(PARTITA!AY18:AY500, \">9\")","v":0},{"$f":"G22","v":0},null,null,{"$f":"COUNTIFS(PARTITA!AY18:AY500, \">9\", PARTITA!AN18:AN500, \"=1\")","v":0},{"$f":"COUNTIFS(PARTITA!AY18:AY500, \">9\", PARTITA!AN18:AN500, \"=2\")","v":0}]
[]
[null,{"$f":"MAX(Points!K18:K500)","v":0},"Maggior numero di punti consecutivi vinti",{"$f":"MAX(Points!L18:L500)","v":0},null,null,null,null,null,null,null,null,null,"last ten:"]
[null,{"$f":"IF(ISNA(N25),\"-\",N25)","v":"-"},"Ultimi dieci punti",{"$f":"IF(ISNA(O25),\"-\",O25)","v":"-"},null,"last point",{"$f":"MAX(Points!M18:M500)","v":1},null,null,"Set scores:","Points",null,null,{"$f":"VLOOKUP(G25-1, Points!M18:N500, 2)","v":{"$error":"#N/A"}},{"$f":"VLOOKUP(G25-1, Points!M18:O500, 3)","v":{"$error":"#N/A"}}]
[null,null,null,null,null,null,null,null,null,{"$f":"VLOOKUP(1,PARTITA!BC$18:BD$505,2,FALSE)","v":{"$error":"#N/A"}},{"$f":"COUNTIFS(PARTITA!K18:K500, \"=1\",PARTITA!BA18:BA500, \"=1\")","v":0},{"$f":"IF(K26>5,J26,\"\")","v":""},null,{"$f":"CONCATENATE(L26,L27,L28,L29,L30)","v":""}]
[null,{"$f":"F27&\" \"&IF(G27>0,G27&\" colpi (\"&VLOOKUP(G27, PARTITA!AY18:BB500,4,FALSE)&\")\",\"-\")","v":"Scambio più lungo: -"},null,null,null,"Scambio più lungo:",{"$f":"MAX(PARTITA!AY18:AY500)","v":0},null,null,{"$f":"VLOOKUP(2,PARTITA!BC$18:BD$505,2,FALSE)","v":{"$error":"#N/A"}},{"$f":"COUNTIFS(PARTITA!K18:K500, \"=1\",PARTITA!BA18:BA500, \"=2\")","v":0},{"$f":"IF(K27>5,\" \"&J27,\"\")","v":""}]
[null,null,null,null,null,null,null,null,null,{"$f":"VLOOKUP(3,PARTITA!BC$18:BD$505,2,FALSE)","v":{"$error":"#N/A"}},{"$f":"COUNTIFS(PARTITA!K18:K500, \"=1\",PARTITA!BA18:BA500, \"=3\")","v":0},{"$f":"IF(K28>5,\" \"&J28,\"\")","v":""}]
[null,null,null,null,null,null,null,null,null,{"$f":"VLOOKUP(4,PARTITA!BC$18:BD$505,2,FALSE)","v":{"$error":"#N/A"}},{"$f":"COUNTIFS(PARTITA!K18:K500, \"=1\",PARTITA!BA18:BA500, \"=4\")","v":0},{"$f":"IF(K29>5,\" \"&J29,\"\")","v":""}]
[null,null,null,null,null,null,null,null,null,{"$f":"VLOOKUP(5,PARTITA!BC$18:BD$505,2,FALSE)","v":{"$error":"#N/A"}},{"$f":"COUNTIFS(PARTITA!K18:K500, \"=1\",PARTITA!BA18:BA500, \"=5\")","v":0},{"$f":"IF(K30>5,\" \"&J30,\"\")","v":""}]

{"sheet":"Tables","index":2,"n_rows":137,"n_cols":19,"rows_kept":137,"cut":false,"hidden":true,"merged":[]}
["0-0","15-0","0-15",null,1,1,null,"0-0","1-0","0-1",null,"0-40",null,"Match",0,null,"0-0","1-0","0-1"]
["0-15","15-15","0-30",null,2,2,null,"0-1","1-1","0-2",null,"15-40",null,"Set 1",1,null,"0-1","1-1","0-2"]
["0-30","15-30","0-40",null,3,2,null,"0-2","1-2","0-3",null,"30-40",null,"Set 2",2,null,"0-2","1-2","0-3"]
["0-40","15-40","GM",null,4,1,null,"0-3","1-3","0-4",null,"40-AD",null,"Set 3",3,null,"0-3","1-3","0-4"]
["15-0","30-0","15-15",null,5,1,null,"0-4","1-4","0-5",null,null,null,"Set 4",4,null,"0-4","1-4","0-5"]
["15-15","30-15","15-30",null,6,2,null,"0-5","1-5","0-6",null,null,null,"Set 5",5,null,"0-5","1-5","0-6"]
["15-30","30-30","15-40",null,7,2,null,"0-6","1-6","GM",null,null,null,null,null,null,"0-6","1-6","0-7"]
["15-40","30-40","GM",null,8,1,null,"1-0","2-0","1-1",null,null,null,null,null,null,"0-7","1-7","0-8"]
["30-0","40-0","30-15",null,9,1,null,"1-1","2-1","1-2",null,null,null,null,null,null,"0-8","1-8","0-9"]
["30-15","40-15","30-30",null,10,2,null,"1-2","2-2","1-3",null,null,null,null,null,null,"0-9","1-9","GM"]
["30-30","40-30","30-40",null,11,2,null,"1-3","2-3","1-4",null,null,null,null,null,null,"1-0","2-0","1-1"]
["30-40","40-40","GM",null,12,1,null,"1-4","2-4","1-5",null,null,null,null,null,null,"1-1","2-1","1-2"]
["40-0","GM","40-15",null,13,1,null,"1-5","2-5","1-6",null,null,null,null,null,null,"1-2","2-2","1-3"]
["40-15","GM","40-30",null,14,2,null,"1-6","2-6","GM",null,null,null,null,null,null,"1-3","2-3","1-4"]
["40-30","GM","40-40",null,15,2,null,"2-0","3-0","2-1",null,null,null,null,null,null,"1-4","2-4","1-5"]
["40-40","AD-40","40-AD",null,16,1,null,"2-1","3-1","2-2",null,null,null,null,null,null,"1-5","2-5","1-6"]
["40-AD","40-40","GM",null,17,1,null,"2-2","3-2","2-3",null,null,null,null,null,null,"1-6","2-6","1-7"]
["AD-40","GM","40-40",null,18,2,null,"2-3","3-3","2-4",null,null,null,null,null,null,"1-7","2-7","1-8"]
[null,null,null,null,19,2,null,"2-4","3-4","2-5",null,null,null,null,null,null,"1-8","2-8","1-9"]
[null,null,null,null,20,1,null,"2-5","3-5","2-6",null,null,null,null,null,null,"1-9","2-9","GM"]
[null,null,null,null,21,1,null,"2-6","3-6","GM",null,null,null,null,null,null,"2-0","3-0","2-1"]
[null,null,null,null,22,2,null,"3-0","4-0","3-1",null,null,null,null,null,null,"2-1","3-1","2-2"]
[null,null,null,null,23,2,null,"3-1","4-1","3-2",null,null,null,null,null,null,"2-2","3-2","2-3"]
[null,null,null,null,24,1,null,"3-2","4-2","3-3",null,null,null,null,null,null,"2-3","3-3","2-4"]
[null,null,null,null,25,1,null,"3-3","4-3","3-4",null,null,null,null,null,null,"2-4","3-4","2-5"]
[null,null,null,null,26,2,null,"3-4","4-4","3-5",null,null,null,null,null,null,"2-5","3-5","2-6"]
[null,null,null,null,27,2,null,"3-5","4-5","3-6",null,null,null,null,null,null,"2-6","3-6","2-7"]
[null,null,null,null,28,1,null,"3-6","4-6","GM",null,null,null,null,null,null,"2-7","3-7","2-8"]
[null,null,null,null,29,1,null,"4-0","5-0","4-1",null,null,null,null,null,null,"2-8","3-8","2-9"]
[null,null,null,null,30,2,null,"4-1","5-1","4-2",null,null,null,null,null,null,"2-9","3-9","GM"]
[null,null,null,null,31,2,null,"4-2","5-2","4-3",null,null,null,null,null,null,"3-0","4-0","3-1"]
[null,null,null,null,32,1,null,"4-3","5-3","4-4",null,null,null,null,null,null,"3-1","4-1","3-2"]
[null,null,null,null,33,1,null,"4-4","5-4","4-5",null,null,null,null,null,null,"3-2","4-2","3-3"]
[null,null,null,null,34,2,null,"4-5","5-5","4-6",null,null,null,null,null,null,"3-3","4-3","3-4"]
[null,null,null,null,35,2,null,"4-6","5-6","GM",null,null,null,null,null,null,"3-4","4-4","3-5"]
[null,null,null,null,36,1,null,"5-0","6-0","5-1",null,null,null,null,null,null,"3-5","4-5","3-6"]
[null,null,null,null,37,1,null,"5-1","6-1","5-2",null,null,null,null,null,null,"3-6","4-6","3-7"]
[null,null,null,null,38,2,null,"5-2","6-2","5-3",null,null,null,null,null,null,"3-7","4-7","3-8"]
[null,null,null,null,39,2,null,"5-3","6-3","5-4",null,null,null,null,null,null,"3-8","4-8","3-9"]
[null,null,null,null,40,1,null,"5-4","6-4","5-5",null,null,null,null,null,null,"3-9","4-9","GM"]
[null,null,null,null,41,1,null,"5-5","6-5","5-6",null,null,null,null,null,null,"4-0","5-0","4-1"]
[null,null,null,null,42,2,null,"5-6","6-6","GM",null,null,null,null,null,null,"4-1","5-1","4-2"]
[null,null,null,null,43,2,null,"6-0","GM","6-1",null,null,null,null,null,null,"4-2","5-2","4-3"]
[null,null,null,null,44,1,null,"6-1","GM","6-2",null,null,null,null,null,null,"4-3","5-3","4-4"]
[null,null,null,null,45,1,null,"6-2","GM","6-3",null,null,null,null,null,null,"4-4","5-4","4-5"]
[null,null,null,null,46,2,null,"6-3","GM","6-4",null,null,null,null,null,null,"4-5","5-5","4-6"]
[null,null,null,null,47,2,null,"6-4","GM","6-5",null,null,null,null,null,null,"4-6","5-6","4-7"]
[null,null,null,null,48,1,null,"6-5","GM","6-6",null,null,null,null,null,null,"4-7","5-7","4-8"]
[null,null,null,null,49,1,null,"6-6","7-6","6-7",null,null,null,null,null,null,"4-8","5-8","4-9"]
[null,null,null,null,50,2,null,"6-7","7-7","GM",null,null,null,null,null,null,"4-9","5-9","GM"]
[null,null,null,null,null,null,null,"7-6","GM","7-7",null,null,null,null,null,null,"5-0","6-0","5-1"]
[null,null,null,null,null,null,null,"7-7","8-7","7-8",null,null,null,null,null,null,"5-1","6-1","5-2"]
[null,null,null,null,null,null,null,"7-8","8-8","GM",null,null,null,null,null,null,"5-2","6-2","5-3"]
[null,null,null,null,null,null,null,"8-7","GM","8-8",null,null,null,null,null,null,"5-3","6-3","5-4"]
[null,null,null,null,null,null,null,"8-8","9-8","8-9",null,null,null,null,null,null,"5-4","6-4","5-5"]
[null,null,null,null,null,null,null,"8-9","9-9","GM",null,null,null,null,null,null,"5-5","6-5","5-6"]
[null,null,null,null,null,null,null,"9-8","GM","9-9",null,null,null,null,null,null,"5-6","6-6","5-7"]
[null,null,null,null,null,null,null,"9-9","10-9","9-10",null,null,null,null,null,null,"5-7","6-7","5-8"]
[null,null,null,null,null,null,null,"9-10","10-10","GM",null,null,null,null,null,null,"5-8","6-8","5-9"]
[null,null,null,null,null,null,null,"10-9","GM","10-10",null,null,null,null,null,null,"5-9","6-9","GM"]
[null,null,null,null,null,null,null,"10-10","11-10","10-11",null,null,null,null,null,null,"6-0","7-0","6-1"]
[null,null,null,null,null,null,null,"10-11","11-11","GM",null,null,null,null,null,null,"6-1","7-1","6-2"]
[null,null,null,null,null,null,null,"11-10","GM","11-11",null,null,null,null,null,null,"6-2","7-2","6-3"]
[null,null,null,null,null,null,null,"11-11","12-11","11-12",null,null,null,null,null,null,"6-3","7-3","6-4"]
[null,null,null,null,null,null,null,"11-12","12-12","GM",null,null,null,null,null,null,"6-4","7-4","6-5"]
[null,null,null,null,null,null,null,"12-11","GM","12-12",null,null,null,null,null,null,"6-5","7-5","6-6"]
[null,null,null,null,null,null,null,"12-12","13-12","12-13",null,null,null,null,null,null,"6-6","7-6","6-7"]
[null,null,null,null,null,null,null,"12-13","13-13","GM",null,null,null,null,null,null,"6-7","7-7","6-8"]
[null,null,null,null,null,null,null,"13-12","GM","13-13",null,null,null,null,null,null,"6-8","7-8","6-9"]
[null,null,null,null,null,null,null,"13-13","14-13","13-14",null,null,null,null,null,null,"6-9","7-9","GM"]
[null,null,null,null,null,null,null,"13-14","14-14","GM",null,null,null,null,null,null,"7-0","8-0","7-1"]
[null,null,null,null,null,null,null,"14-13","GM","14-14",null,null,null,null,null,null,"7-1","8-1","7-2"]
[null,null,null,null,null,null,null,"14-14","15-14","14-15",null,null,null,null,null,null,"7-2","8-2","7-3"]
[null,null,null,null,null,null,null,"14-15","15-15","GM",null,null,null,null,null,null,"7-3","8-3","7-4"]
[null,null,null,null,null,null,null,"15-14","GM","15-15",null,null,null,null,null,null,"7-4","8-4","7-5"]
[null,null,null,null,null,null,null,"15-15","16-15","15-16",null,null,null,null,null,null,"7-5","8-5","7-6"]
[null,null,null,null,null,null,null,"15-16","16-16","GM",null,null,null,null,null,null,"7-6","8-6","7-7"]
[null,null,null,null,null,null,null,"16-15","GM","16-16",null,null,null,null,null,null,"7-7","8-7","7-8"]
[null,null,null,null,null,null,null,"16-16","17-16","16-17",null,null,null,null,null,null,"7-8","8-8","7-9"]
[null,null,null,null,null,null,null,"16-17","17-17","GM",null,null,null,null,null,null,"7-9","8-9","GM"]
[null,null,null,null,null,null,null,"17-16","GM","17-17",null,null,null,null,null,null,"8-0","9-0","8-1"]
[null,null,null,null,null,null,null,"17-17","18-17","17-18",null,null,null,null,null,null,"8-1","9-1","8-2"]
[null,null,null,null,null,null,null,"17-18","18-18","GM",null,null,null,null,null,null,"8-2","9-2","8-3"]
[null,null,null,null,null,null,null,"18-17","GM","18-18",null,null,null,null,null,null,"8-3","9-3","8-4"]
[null,null,null,null,null,null,null,"18-18","19-18","18-19",null,null,null,null,null,null,"8-4","9-4","8-5"]
[null,null,null,null,null,null,null,"18-19","19-19","GM",null,null,null,null,null,null,"8-5","9-5","8-6"]
[null,null,null,null,null,null,null,"19-18","GM","19-19",null,null,null,null,null,null,"8-6","9-6","8-7"]
[null,null,null,null,null,null,null,"19-19","20-19","19-20",null,null,null,null,null,null,"8-7","9-7","8-8"]
[null,null,null,null,null,null,null,"19-20","20-20","GM",null,null,null,null,null,null,"8-8","9-8","8-9"]
[null,null,null,null,null,null,null,"20-19","GM","20-20",null,null,null,null,null,null,"8-9","9-9","GM"]
[null,null,null,null,null,null,null,"20-20","21-20","20-21",null,null,null,null,null,null,"9-0","GM","9-1"]
[null,null,null,null,null,null,null,"20-21","21-21","GM",null,null,null,null,null,null,"9-1","GM","9-2"]
[null,null,null,null,null,null,null,"21-20","GM","21-21",null,null,null,null,null,null,"9-2","GM","9-3"]
[null,null,null,null,null,null,null,"21-21","22-21","21-22",null,null,null,null,null,null,"9-3","GM","9-4"]
[null,null,null,null,null,null,null,"21-22","22-22","GM",null,null,null,null,null,null,"9-4","GM","9-5"]
[null,null,null,null,null,null,null,null,null,null,null,null,null,null,null,null,"9-5","GM","9-6"]
[null,null,null,null,null,null,null,null,null,null,null,null,null,null,null,null,"9-6","GM","9-7"]
[null,null,null,null,null,null,null,null,null,null,null,null,null,null,null,null,"9-7","GM","9-8"]
[null,null,null,null,null,null,null,null,null,null,null,null,null,null,null,null,"9-8","GM","9-9"]
[null,null,null,null,null,null,null,null,null,null,null,null,null,null,null,null,"9-9","10-9","9-10"]
[null,null,null,null,null,null,null,null,null,null,null,null,null,null,null,null,"9-10","10-10","GM"]
[null,null,null,null,null,null,null,null,null,null,null,null,null,null,null,null,"10-9","GM","10-10"]
[null,null,null,null,null,null,null,null,null,null,null,null,null,null,null,null,"10-10","11-10","10-11"]
[null,null,null,null,null,null,null,null,null,null,null,null,null,null,null,null,"10-11","11-11","GM"]
[null,null,null,null,null,null,null,null,null,null,null,null,null,null,null,null,"11-10","GM","11-11"]
[null,null,null,null,null,null,null,null,null,null,null,null,null,null,null,null,"11-11","12-11","11-12"]
[null,null,null,null,null,null,null,null,null,null,null,null,null,null,null,null,"11-12","12-12","GM"]
[null,null,null,null,null,null,null,null,null,null,null,null,null,null,null,null,"12-11","GM","12-12"]
[null,null,null,null,null,null,null,null,null,null,null,null,null,null,null,null,"12-12","13-12","12-13"]
[null,null,null,null,null,null,null,null,null,null,null,null,null,null,null,null,"12-13","13-13","GM"]
[null,null,null,null,null,null,null,null,null,null,null,null,null,null,null,null,"13-12","GM","13-13"]
[null,null,null,null,null,null,null,null,null,null,null,null,null,null,null,null,"13-13","14-13","13-14"]
[null,null,null,null,null,null,null,null,null,null,null,null,null,null,null,null,"13-14","14-14","GM"]
[null,null,null,null,null,null,null,null,null,null,null,null,null,null,null,null,"14-13","GM","14-14"]
[null,null,null,null,null,null,null,null,null,null,null,null,null,null,null,null,"14-14","15-14","14-15"]
[null,null,null,null,null,null,null,null,null,null,null,null,null,null,null,null,"14-15","15-15","GM"]
[null,null,null,null,null,null,null,null,null,null,null,null,null,null,null,null,"15-14","GM","15-15"]
[null,null,null,null,null,null,null,null,null,null,null,null,null,null,null,null,"15-15","16-15","15-16"]
[null,null,null,null,null,null,null,null,null,null,null,null,null,null,null,null,"15-16","16-16","GM"]
[null,null,null,null,null,null,null,null,null,null,null,null,null,null,null,null,"16-15","GM","16-16"]
[null,null,null,null,null,null,null,null,null,null,null,null,null,null,null,null,"16-16","17-16","16-17"]
[null,null,null,null,null,null,null,null,null,null,null,null,null,null,null,null,"16-17","17-17","GM"]
[null,null,null,null,null,null,null,null,null,null,null,null,null,null,null,null,"17-16","GM","17-17"]
[null,null,null,null,null,null,null,null,null,null,null,null,null,null,null,null,"17-17","18-17","17-18"]
[null,null,null,null,null,null,null,null,null,null,null,null,null,null,null,null,"17-18","18-18","GM"]
[null,null,null,null,null,null,null,null,null,null,null,null,null,null,null,null,"18-17","GM","18-18"]
[null,null,null,null,null,null,null,null,null,null,null,null,null,null,null,null,"18-18","19-18","18-19"]
[null,null,null,null,null,null,null,null,null,null,null,null,null,null,null,null,"18-19","19-19","GM"]
[null,null,null,null,null,null,null,null,null,null,null,null,null,null,null,null,"19-18","GM","19-19"]
[null,null,null,null,null,null,null,null,null,null,null,null,null,null,null,null,"19-19","20-19","19-20"]
[null,null,null,null,null,null,null,null,null,null,null,null,null,null,null,null,"19-20","20-20","GM"]
[null,null,null,null,null,null,null,null,null,null,null,null,null,null,null,null,"20-19","GM","20-20"]
[null,null,null,null,null,null,null,null,null,null,null,null,null,null,null,null,"20-20","21-20","20-21"]
[null,null,null,null,null,null,null,null,null,null,null,null,null,null,null,null,"20-21","21-21","GM"]
[null,null,null,null,null,null,null,null,null,null,null,null,null,null,null,null,"21-20","GM","21-21"]
[null,null,null,null,null,null,null,null,null,null,null,null,null,null,null,null,"21-21","22-21","21-22"]
[null,null,null,null,null,null,null,null,null,null,null,null,null,null,null,null,"21-22","22-22","GM"]

{"sheet":"Points","index":3,"n_rows":500,"n_cols":16,"rows_kept":500,"cut":false,"hidden":true,"merged":[]}
[]
[]
[]
[]
[]
[]
[]
[]
[]
[]
[]
[]
[]
[]
[]
[]
["is bp1","is bp2","is bpw1","is bpw2","net pt","is s&v","is net1","is net2","is netw1","is netw2","streak1","streak2","Pt num","last 10 1","last 10 2","set num"]
[{"$f":"AND(PARTITA!K18=2, COUNTIF(Tables!L$1:L$4, PARTITA!F18))","v":false},{"$f":"AND(PARTITA!K18=1, COUNTIF(Tables!L$1:L$4, PARTITA!F18))","v":false},{"$f":"AND(A18, PARTITA!AO18=0)","v":false},{"$f":"AND(B18, PARTITA!AO18=0)","v":false},{"$f":"isNetPoint(PARTITA!AC18)","v":"0"},{"$f":"OR(PARTITA!S18=1, PARTITA!T18=1)","v":false},{"$f":"IF(PARTITA!K18=1,OR(E18=\"1\",E18=\"3\",F18=TRUE),OR(E18=\"2\",E18=\"3\"))","v":false},{"$f":"IF(PARTITA!K18=2,OR(E18=\"1\",E18=\"3\",F18=TRUE),OR(E18=\"2\",E18=\"3\"))","v":false},{"$f":"AND(G18=TRUE,PARTITA!AN18=1)","v":false},{"$f":"AND(H18=TRUE,PARTITA!AN18=2)","v":false},{"$f":"IF(PARTITA!AN18=1,1,0)","v":0},{"$f":"IF(PARTITA!AN18=2,1,0)","v":0},{"$f":"PARTITA!A18","v":1},null,null,{"$f":"PARTITA!BA18","v":""}]
[{"$f":"AND(PARTITA!K19=2, COUNTIF(Tables!L$1:L$4, PARTITA!F19))","v":false},{"$f":"AND(PARTITA!K19=1, COUNTIF(Tables!L$1:L$4, PARTITA!F19))","v":false},{"$f":"AND(A19, PARTITA!AO19=0)","v":false},{"$f":"AND(B19, PARTITA!AO19=0)","v":false},{"$f":"isNetPoint(PARTITA!AC19)","v":"0"},{"$f":"OR(PARTITA!S19=1, PARTITA!T19=1)","v":false},{"$f":"IF(PARTITA!K19=1,OR(E19=\"1\",E19=\"3\",F19=TRUE),OR(E19=\"2\",E19=\"3\"))","v":false},{"$f":"IF(PARTITA!K19=2,OR(E19=\"1\",E19=\"3\",F19=TRUE),OR(E19=\"2\",E19=\"3\"))","v":false},{"$f":"AND(G19=TRUE,PARTITA!AN19=1)","v":false},{"$f":"AND(H19=TRUE,PARTITA!AN19=2)","v":false},{"$f":"IF(PARTITA!AN19=1,K18+1,0)","v":0},{"$f":"IF(PARTITA!AN19=2,L18+1,0)","v":0},{"$f":"PARTITA!A19","v":""},null,null,{"$f":"PARTITA!BA19","v":""}]
[{"$f":"AND(PARTITA!K20=2, COUNTIF(Tables!L$1:L$4, PARTITA!F20))","v":false},{"$f":"AND(PARTITA!K20=1, COUNTIF(Tables!L$1:L$4, PARTITA!F20))","v":false},{"$f":"AND(A20, PARTITA!AO20=0)","v":false},{"$f":"AND(B20, PARTITA!AO20=0)","v":false},{"$f":"isNetPoint(PARTITA!AC20)","v":"0"},{"$f":"OR(PARTITA!S20=1, PARTITA!T20=1)","v":false},{"$f":"IF(PARTITA!K20=1,OR(E20=\"1\",E20=\"3\",F20=TRUE),OR(E20=\"2\",E20=\"3\"))","v":false},{"$f":"IF(PARTITA!K20=2,OR(E20=\"1\",E20=\"3\",F20=TRUE),OR(E20=\"2\",E20=\"3\"))","v":false},{"$f":"AND(G20=TRUE,PARTITA!AN20=1)","v":false},{"$f":"AND(H20=TRUE,PARTITA!AN20=2)","v":false},{"$f":"IF(PARTITA!AN20=1,K19+1,0)","v":0},{"$f":"IF(PARTITA!AN20=2,L19+1,0)","v":0},{"$f":"PARTITA!A20","v":""},null,null,{"$f":"PARTITA!BA20","v":""}]
[{"$f":"AND(PARTITA!K21=2, COUNTIF(Tables!L$1:L$4, PARTITA!F21))","v":false},{"$f":"AND(PARTITA!K21=1, COUNTIF(Tables!L$1:L$4, PARTITA!F21))","v":false},{"$f":"AND(A21, PARTITA!AO21=0)","v":false},{"$f":"AND(B21, PARTITA!AO21=0)","v":false},{"$f":"isNetPoint(PARTITA!AC21)","v":"0"},{"$f":"OR(PARTITA!S21=1, PARTITA!T21=1)","v":false},{"$f":"IF(PARTITA!K21=1,OR(E21=\"1\",E21=\"3\",F21=TRUE),OR(E21=\"2\",E21=\"3\"))","v":false},{"$f":"IF(PARTITA!K21=2,OR(E21=\"1\",E21=\"3\",F21=TRUE),OR(E21=\"2\",E21=\"3\"))","v":false},{"$f":"AND(G21=TRUE,PARTITA!AN21=1)","v":false},{"$f":"AND(H21=TRUE,PARTITA!AN21=2)","v":false},{"$f":"IF(PARTITA!AN21=1,K20+1,0)","v":0},{"$f":"IF(PARTITA!AN21=2,L20+1,0)","v":0},{"$f":"PARTITA!A21","v":""},null,null,{"$f":"PARTITA!BA21","v":""}]
[{"$f":"AND(PARTITA!K22=2, COUNTIF(Tables!L$1:L$4, PARTITA!F22))","v":false},{"$f":"AND(PARTITA!K22=1, COUNTIF(Tables!L$1:L$4, PARTITA!F22))","v":false},{"$f":"AND(A22, PARTITA!AO22=0)","v":false},{"$f":"AND(B22, PARTITA!AO22=0)","v":false},{"$f":"isNetPoint(PARTITA!AC22)","v":"0"},{"$f":"OR(PARTITA!S22=1, PARTITA!T22=1)","v":false},{"$f":"IF(PARTITA!K22=1,OR(E22=\"1\",E22=\"3\",F22=TRUE),OR(E22=\"2\",E22=\"3\"))","v":false},{"$f":"IF(PARTITA!K22=2,OR(E22=\"1\",E22=\"3\",F22=TRUE),OR(E22=\"2\",E22=\"3\"))","v":false},{"$f":"AND(G22=TRUE,PARTITA!AN22=1)","v":false},{"$f":"AND(H22=TRUE,PARTITA!AN22=2)","v":false},{"$f":"IF(PARTITA!AN22=1,K21+1,0)","v":0},{"$f":"IF(PARTITA!AN22=2,L21+1,0)","v":0},{"$f":"PARTITA!A22","v":""},null,null,{"$f":"PARTITA!BA22","v":""}]
[{"$f":"AND(PARTITA!K23=2, COUNTIF(Tables!L$1:L$4, PARTITA!F23))","v":false},{"$f":"AND(PARTITA!K23=1, COUNTIF(Tables!L$1:L$4, PARTITA!F23))","v":false},{"$f":"AND(A23, PARTITA!AO23=0)","v":false},{"$f":"AND(B23, PARTITA!AO23=0)","v":false},{"$f":"isNetPoint(PARTITA!AC23)","v":"0"},{"$f":"OR(PARTITA!S23=1, PARTITA!T23=1)","v":false},{"$f":"IF(PARTITA!K23=1,OR(E23=\"1\",E23=\"3\",F23=TRUE),OR(E23=\"2\",E23=\"3\"))","v":false},{"$f":"IF(PARTITA!K23=2,OR(E23=\"1\",E23=\"3\",F23=TRUE),OR(E23=\"2\",E23=\"3\"))","v":false},{"$f":"AND(G23=TRUE,PARTITA!AN23=1)","v":false},{"$f":"AND(H23=TRUE,PARTITA!AN23=2)","v":false},{"$f":"IF(PARTITA!AN23=1,K22+1,0)","v":0},{"$f":"IF(PARTITA!AN23=2,L22+1,0)","v":0},{"$f":"PARTITA!A23","v":""},null,null,{"$f":"PARTITA!BA23","v":""}]
[{"$f":"AND(PARTITA!K24=2, COUNTIF(Tables!L$1:L$4, PARTITA!F24))","v":false},{"$f":"AND(PARTITA!K24=1, COUNTIF(Tables!L$1:L$4, PARTITA!F24))","v":false},{"$f":"AND(A24, PARTITA!AO24=0)","v":false},{"$f":"AND(B24, PARTITA!AO24=0)","v":false},{"$f":"isNetPoint(PARTITA!AC24)","v":"0"},{"$f":"OR(PARTITA!S24=1, PARTITA!T24=1)","v":false},{"$f":"IF(PARTITA!K24=1,OR(E24=\"1\",E24=\"3\",F24=TRUE),OR(E24=\"2\",E24=\"3\"))","v":false},{"$f":"IF(PARTITA!K24=2,OR(E24=\"1\",E24=\"3\",F24=TRUE),OR(E24=\"2\",E24=\"3\"))","v":false},{"$f":"AND(G24=TRUE,PARTITA!AN24=1)","v":false},{"$f":"AND(H24=TRUE,PARTITA!AN24=2)","v":false},{"$f":"IF(PARTITA!AN24=1,K23+1,0)","v":0},{"$f":"IF(PARTITA!AN24=2,L23+1,0)","v":0},{"$f":"PARTITA!A24","v":""},null,null,{"$f":"PARTITA!BA24","v":""}]
[{"$f":"AND(PARTITA!K25=2, COUNTIF(Tables!L$1:L$4, PARTITA!F25))","v":false},{"$f":"AND(PARTITA!K25=1, COUNTIF(Tables!L$1:L$4, PARTITA!F25))","v":false},{"$f":"AND(A25, PARTITA!AO25=0)","v":false},{"$f":"AND(B25, PARTITA!AO25=0)","v":false},{"$f":"isNetPoint(PARTITA!AC25)","v":"0"},{"$f":"OR(PARTITA!S25=1, PARTITA!T25=1)","v":false},{"$f":"IF(PARTITA!K25=1,OR(E25=\"1\",E25=\"3\",F25=TRUE),OR(E25=\"2\",E25=\"3\"))","v":false},{"$f":"IF(PARTITA!K25=2,OR(E25=\"1\",E25=\"3\",F25=TRUE),OR(E25=\"2\",E25=\"3\"))","v":false},{"$f":"AND(G25=TRUE,PARTITA!AN25=1)","v":false},{"$f":"AND(H25=TRUE,PARTITA!AN25=2)","v":false},{"$f":"IF(PARTITA!AN25=1,K24+1,0)","v":0},{"$f":"IF(PARTITA!AN25=2,L24+1,0)","v":0},{"$f":"PARTITA!A25","v":""},null,null,{"$f":"PARTITA!BA25","v":""}]
[{"$f":"AND(PARTITA!K26=2, COUNTIF(Tables!L$1:L$4, PARTITA!F26))","v":false},{"$f":"AND(PARTITA!K26=1, COUNTIF(Tables!L$1:L$4, PARTITA!F26))","v":false},{"$f":"AND(A26, PARTITA!AO26=0)","v":false},{"$f":"AND(B26, PARTITA!AO26=0)","v":false},{"$f":"isNetPoint(PARTITA!AC26)","v":"0"},{"$f":"OR(PARTITA!S26=1, PARTITA!T26=1)","v":false},{"$f":"IF(PARTITA!K26=1,OR(E26=\"1\",E26=\"3\",F26=TRUE),OR(E26=\"2\",E26=\"3\"))","v":false},{"$f":"IF(PARTITA!K26=2,OR(E26=\"1\",E26=\"3\",F26=TRUE),OR(E26=\"2\",E26=\"3\"))","v":false},{"$f":"AND(G26=TRUE,PARTITA!AN26=1)","v":false},{"$f":"AND(H26=TRUE,PARTITA!AN26=2)","v":false},{"$f":"IF(PARTITA!AN26=1,K25+1,0)","v":0},{"$f":"IF(PARTITA!AN26=2,L25+1,0)","v":0},{"$f":"PARTITA!A26","v":""},null,null,{"$f":"PARTITA!BA26","v":""}]
[{"$f":"AND(PARTITA!K27=2, COUNTIF(Tables!L$1:L$4, PARTITA!F27))","v":false},{"$f":"AND(PARTITA!K27=1, COUNTIF(Tables!L$1:L$4, PARTITA!F27))","v":false},{"$f":"AND(A27, PARTITA!AO27=0)","v":false},{"$f":"AND(B27, PARTITA!AO27=0)","v":false},{"$f":"isNetPoint(PARTITA!AC27)","v":"0"},{"$f":"OR(PARTITA!S27=1, PARTITA!T27=1)","v":false},{"$f":"IF(PARTITA!K27=1,OR(E27=\"1\",E27=\"3\",F27=TRUE),OR(E27=\"2\",E27=\"3\"))","v":false},{"$f":"IF(PARTITA!K27=2,OR(E27=\"1\",E27=\"3\",F27=TRUE),OR(E27=\"2\",E27=\"3\"))","v":false},{"$f":"AND(G27=TRUE,PARTITA!AN27=1)","v":false},{"$f":"AND(H27=TRUE,PARTITA!AN27=2)","v":false},{"$f":"IF(PARTITA!AN27=1,K26+1,0)","v":0},{"$f":"IF(PARTITA!AN27=2,L26+1,0)","v":0},{"$f":"PARTITA!A27","v":""},{"$f":"COUNTIFS(PARTITA!AN18:AN27, \"=1\")","v":0},{"$f":"COUNTIFS(PARTITA!AN18:AN27, \"=2\")","v":0},{"$f":"PARTITA!BA27","v":""}]
[{"$f":"AND(PARTITA!K28=2, COUNTIF(Tables!L$1:L$4, PARTITA!F28))","v":false},{"$f":"AND(PARTITA!K28=1, COUNTIF(Tables!L$1:L$4, PARTITA!F28))","v":false},{"$f":"AND(A28, PARTITA!AO28=0)","v":false},{"$f":"AND(B28, PARTITA!AO28=0)","v":false},{"$f":"isNetPoint(PARTITA!AC28)","v":"0"},{"$f":"OR(PARTITA!S28=1, PARTITA!T28=1)","v":false},{"$f":"IF(PARTITA!K28=1,OR(E28=\"1\",E28=\"3\",F28=TRUE),OR(E28=\"2\",E28=\"3\"))","v":false},{"$f":"IF(PARTITA!K28=2,OR(E28=\"1\",E28=\"3\",F28=TRUE),OR(E28=\"2\",E28=\"3\"))","v":false},{"$f":"AND(G28=TRUE,PARTITA!AN28=1)","v":false},{"$f":"AND(H28=TRUE,PARTITA!AN28=2)","v":false},{"$f":"IF(PARTITA!AN28=1,K27+1,0)","v":0},{"$f":"IF(PARTITA!AN28=2,L27+1,0)","v":0},{"$f":"PARTITA!A28","v":""},{"$f":"COUNTIFS(PARTITA!AN19:AN28, \"=1\")","v":0},{"$f":"COUNTIFS(PARTITA!AN19:AN28, \"=2\")","v":0},{"$f":"PARTITA!BA28","v":""}]
[{"$f":"AND(PARTITA!K29=2, COUNTIF(Tables!L$1:L$4, PARTITA!F29))","v":false},{"$f":"AND(PARTITA!K29=1, COUNTIF(Tables!L$1:L$4, PARTITA!F29))","v":false},{"$f":"AND(A29, PARTITA!AO29=0)","v":false},{"$f":"AND(B29, PARTITA!AO29=0)","v":false},{"$f":"isNetPoint(PARTITA!AC29)","v":"0"},{"$f":"OR(PARTITA!S29=1, PARTITA!T29=1)","v":false},{"$f":"IF(PARTITA!K29=1,OR(E29=\"1\",E29=\"3\",F29=TRUE),OR(E29=\"2\",E29=\"3\"))","v":false},{"$f":"IF(PARTITA!K29=2,OR(E29=\"1\",E29=\"3\",F29=TRUE),OR(E29=\"2\",E29=\"3\"))","v":false},{"$f":"AND(G29=TRUE,PARTITA!AN29=1)","v":false},{"$f":"AND(H29=TRUE,PARTITA!AN29=2)","v":false},{"$f":"IF(PARTITA!AN29=1,K28+1,0)","v":0},{"$f":"IF(PARTITA!AN29=2,L28+1,0)","v":0},{"$f":"PARTITA!A29","v":""},{"$f":"COUNTIFS(PARTITA!AN20:AN29, \"=1\")","v":0},{"$f":"COUNTIFS(PARTITA!AN20:AN29, \"=2\")","v":0},{"$f":"PARTITA!BA29","v":""}]
[{"$f":"AND(PARTITA!K30=2, COUNTIF(Tables!L$1:L$4, PARTITA!F30))","v":false},{"$f":"AND(PARTITA!K30=1, COUNTIF(Tables!L$1:L$4, PARTITA!F30))","v":false},{"$f":"AND(A30, PARTITA!AO30=0)","v":false},{"$f":"AND(B30, PARTITA!AO30=0)","v":false},{"$f":"isNetPoint(PARTITA!AC30)","v":"0"},{"$f":"OR(PARTITA!S30=1, PARTITA!T30=1)","v":false},{"$f":"IF(PARTITA!K30=1,OR(E30=\"1\",E30=\"3\",F30=TRUE),OR(E30=\"2\",E30=\"3\"))","v":false},{"$f":"IF(PARTITA!K30=2,OR(E30=\"1\",E30=\"3\",F30=TRUE),OR(E30=\"2\",E30=\"3\"))","v":false},{"$f":"AND(G30=TRUE,PARTITA!AN30=1)","v":false},{"$f":"AND(H30=TRUE,PARTITA!AN30=2)","v":false},{"$f":"IF(PARTITA!AN30=1,K29+1,0)","v":0},{"$f":"IF(PARTITA!AN30=2,L29+1,0)","v":0},{"$f":"PARTITA!A30","v":""},{"$f":"COUNTIFS(PARTITA!AN21:AN30, \"=1\")","v":0},{"$f":"COUNTIFS(PARTITA!AN21:AN30, \"=2\")","v":0},{"$f":"PARTITA!BA30","v":""}]
[{"$f":"AND(PARTITA!K31=2, COUNTIF(Tables!L$1:L$4, PARTITA!F31))","v":false},{"$f":"AND(PARTITA!K31=1, COUNTIF(Tables!L$1:L$4, PARTITA!F31))","v":false},{"$f":"AND(A31, PARTITA!AO31=0)","v":false},{"$f":"AND(B31, PARTITA!AO31=0)","v":false},{"$f":"isNetPoint(PARTITA!AC31)","v":"0"},{"$f":"OR(PARTITA!S31=1, PARTITA!T31=1)","v":false},{"$f":"IF(PARTITA!K31=1,OR(E31=\"1\",E31=\"3\",F31=TRUE),OR(E31=\"2\",E31=\"3\"))","v":false},{"$f":"IF(PARTITA!K31=2,OR(E31=\"1\",E31=\"3\",F31=TRUE),OR(E31=\"2\",E31=\"3\"))","v":false},{"$f":"AND(G31=TRUE,PARTITA!AN31=1)","v":false},{"$f":"AND(H31=TRUE,PARTITA!AN31=2)","v":false},{"$f":"IF(PARTITA!AN31=1,K30+1,0)","v":0},{"$f":"IF(PARTITA!AN31=2,L30+1,0)","v":0},{"$f":"PARTITA!A31","v":""},{"$f":"COUNTIFS(PARTITA!AN22:AN31, \"=1\")","v":0},{"$f":"COUNTIFS(PARTITA!AN22:AN31, \"=2\")","v":0},{"$f":"PARTITA!BA31","v":""}]
[{"$f":"AND(PARTITA!K32=2, COUNTIF(Tables!L$1:L$4, PARTITA!F32))","v":false},{"$f":"AND(PARTITA!K32=1, COUNTIF(Tables!L$1:L$4, PARTITA!F32))","v":false},{"$f":"AND(A32, PARTITA!AO32=0)","v":false},{"$f":"AND(B32, PARTITA!AO32=0)","v":false},{"$f":"isNetPoint(PARTITA!AC32)","v":"0"},{"$f":"OR(PARTITA!S32=1, PARTITA!T32=1)","v":false},{"$f":"IF(PARTITA!K32=1,OR(E32=\"1\",E32=\"3\",F32=TRUE),OR(E32=\"2\",E32=\"3\"))","v":false},{"$f":"IF(PARTITA!K32=2,OR(E32=\"1\",E32=\"3\",F32=TRUE),OR(E32=\"2\",E32=\"3\"))","v":false},{"$f":"AND(G32=TRUE,PARTITA!AN32=1)","v":false},{"$f":"AND(H32=TRUE,PARTITA!AN32=2)","v":false},{"$f":"IF(PARTITA!AN32=1,K31+1,0)","v":0},{"$f":"IF(PARTITA!AN32=2,L31+1,0)","v":0},{"$f":"PARTITA!A32","v":""},{"$f":"COUNTIFS(PARTITA!AN23:AN32, \"=1\")","v":0},{"$f":"COUNTIFS(PARTITA!AN23:AN32, \"=2\")","v":0},{"$f":"PARTITA!BA32","v":""}]
[{"$f":"AND(PARTITA!K33=2, COUNTIF(Tables!L$1:L$4, PARTITA!F33))","v":false},{"$f":"AND(PARTITA!K33=1, COUNTIF(Tables!L$1:L$4, PARTITA!F33))","v":false},{"$f":"AND(A33, PARTITA!AO33=0)","v":false},{"$f":"AND(B33, PARTITA!AO33=0)","v":false},{"$f":"isNetPoint(PARTITA!AC33)","v":"0"},{"$f":"OR(PARTITA!S33=1, PARTITA!T33=1)","v":false},{"$f":"IF(PARTITA!K33=1,OR(E33=\"1\",E33=\"3\",F33=TRUE),OR(E33=\"2\",E33=\"3\"))","v":false},{"$f":"IF(PARTITA!K33=2,OR(E33=\"1\",E33=\"3\",F33=TRUE),OR(E33=\"2\",E33=\"3\"))","v":false},{"$f":"AND(G33=TRUE,PARTITA!AN33=1)","v":false},{"$f":"AND(H33=TRUE,PARTITA!AN33=2)","v":false},{"$f":"IF(PARTITA!AN33=1,K32+1,0)","v":0},{"$f":"IF(PARTITA!AN33=2,L32+1,0)","v":0},{"$f":"PARTITA!A33","v":""},{"$f":"COUNTIFS(PARTITA!AN24:AN33, \"=1\")","v":0},{"$f":"COUNTIFS(PARTITA!AN24:AN33, \"=2\")","v":0},{"$f":"PARTITA!BA33","v":""}]
[{"$f":"AND(PARTITA!K34=2, COUNTIF(Tables!L$1:L$4, PARTITA!F34))","v":false},{"$f":"AND(PARTITA!K34=1, COUNTIF(Tables!L$1:L$4, PARTITA!F34))","v":false},{"$f":"AND(A34, PARTITA!AO34=0)","v":false},{"$f":"AND(B34, PARTITA!AO34=0)","v":false},{"$f":"isNetPoint(PARTITA!AC34)","v":"0"},{"$f":"OR(PARTITA!S34=1, PARTITA!T34=1)","v":false},{"$f":"IF(PARTITA!K34=1,OR(E34=\"1\",E34=\"3\",F34=TRUE),OR(E34=\"2\",E34=\"3\"))","v":false},{"$f":"IF(PARTITA!K34=2,OR(E34=\"1\",E34=\"3\",F34=TRUE),OR(E34=\"2\",E34=\"3\"))","v":false},{"$f":"AND(G34=TRUE,PARTITA!AN34=1)","v":false},{"$f":"AND(H34=TRUE,PARTITA!AN34=2)","v":false},{"$f":"IF(PARTITA!AN34=1,K33+1,0)","v":0},{"$f":"IF(PARTITA!AN34=2,L33+1,0)","v":0},{"$f":"PARTITA!A34","v":""},{"$f":"COUNTIFS(PARTITA!AN25:AN34, \"=1\")","v":0},{"$f":"COUNTIFS(PARTITA!AN25:AN34, \"=2\")","v":0},{"$f":"PARTITA!BA34","v":""}]
[{"$f":"AND(PARTITA!K35=2, COUNTIF(Tables!L$1:L$4, PARTITA!F35))","v":false},{"$f":"AND(PARTITA!K35=1, COUNTIF(Tables!L$1:L$4, PARTITA!F35))","v":false},{"$f":"AND(A35, PARTITA!AO35=0)","v":false},{"$f":"AND(B35, PARTITA!AO35=0)","v":false},{"$f":"isNetPoint(PARTITA!AC35)","v":"0"},{"$f":"OR(PARTITA!S35=1, PARTITA!T35=1)","v":false},{"$f":"IF(PARTITA!K35=1,OR(E35=\"1\",E35=\"3\",F35=TRUE),OR(E35=\"2\",E35=\"3\"))","v":false},{"$f":"IF(PARTITA!K35=2,OR(E35=\"1\",E35=\"3\",F35=TRUE),OR(E35=\"2\",E35=\"3\"))","v":false},{"$f":"AND(G35=TRUE,PARTITA!AN35=1)","v":false},{"$f":"AND(H35=TRUE,PARTITA!AN35=2)","v":false},{"$f":"IF(PARTITA!AN35=1,K34+1,0)","v":0},{"$f":"IF(PARTITA!AN35=2,L34+1,0)","v":0},{"$f":"PARTITA!A35","v":""},{"$f":"COUNTIFS(PARTITA!AN26:AN35, \"=1\")","v":0},{"$f":"COUNTIFS(PARTITA!AN26:AN35, \"=2\")","v":0},{"$f":"PARTITA!BA35","v":""}]
[{"$f":"AND(PARTITA!K36=2, COUNTIF(Tables!L$1:L$4, PARTITA!F36))","v":false},{"$f":"AND(PARTITA!K36=1, COUNTIF(Tables!L$1:L$4, PARTITA!F36))","v":false},{"$f":"AND(A36, PARTITA!AO36=0)","v":false},{"$f":"AND(B36, PARTITA!AO36=0)","v":false},{"$f":"isNetPoint(PARTITA!AC36)","v":"0"},{"$f":"OR(PARTITA!S36=1, PARTITA!T36=1)","v":false},{"$f":"IF(PARTITA!K36=1,OR(E36=\"1\",E36=\"3\",F36=TRUE),OR(E36=\"2\",E36=\"3\"))","v":false},{"$f":"IF(PARTITA!K36=2,OR(E36=\"1\",E36=\"3\",F36=TRUE),OR(E36=\"2\",E36=\"3\"))","v":false},{"$f":"AND(G36=TRUE,PARTITA!AN36=1)","v":false},{"$f":"AND(H36=TRUE,PARTITA!AN36=2)","v":false},{"$f":"IF(PARTITA!AN36=1,K35+1,0)","v":0},{"$f":"IF(PARTITA!AN36=2,L35+1,0)","v":0},{"$f":"PARTITA!A36","v":""},{"$f":"COUNTIFS(PARTITA!AN27:AN36, \"=1\")","v":0},{"$f":"COUNTIFS(PARTITA!AN27:AN36, \"=2\")","v":0},{"$f":"PARTITA!BA36","v":""}]
[{"$f":"AND(PARTITA!K37=2, COUNTIF(Tables!L$1:L$4, PARTITA!F37))","v":false},{"$f":"AND(PARTITA!K37=1, COUNTIF(Tables!L$1:L$4, PARTITA!F37))","v":false},{"$f":"AND(A37, PARTITA!AO37=0)","v":false},{"$f":"AND(B37, PARTITA!AO37=0)","v":false},{"$f":"isNetPoint(PARTITA!AC37)","v":"0"},{"$f":"OR(PARTITA!S37=1, PARTITA!T37=1)","v":false},{"$f":"IF(PARTITA!K37=1,OR(E37=\"1\",E37=\"3\",F37=TRUE),OR(E37=\"2\",E37=\"3\"))","v":false},{"$f":"IF(PARTITA!K37=2,OR(E37=\"1\",E37=\"3\",F37=TRUE),OR(E37=\"2\",E37=\"3\"))","v":false},{"$f":"AND(G37=TRUE,PARTITA!AN37=1)","v":false},{"$f":"AND(H37=TRUE,PARTITA!AN37=2)","v":false},{"$f":"IF(PARTITA!AN37=1,K36+1,0)","v":0},{"$f":"IF(PARTITA!AN37=2,L36+1,0)","v":0},{"$f":"PARTITA!A37","v":""},{"$f":"COUNTIFS(PARTITA!AN28:AN37, \"=1\")","v":0},{"$f":"COUNTIFS(PARTITA!AN28:AN37, \"=2\")","v":0},{"$f":"PARTITA!BA37","v":""}]
[{"$f":"AND(PARTITA!K38=2, COUNTIF(Tables!L$1:L$4, PARTITA!F38))","v":false},{"$f":"AND(PARTITA!K38=1, COUNTIF(Tables!L$1:L$4, PARTITA!F38))","v":false},{"$f":"AND(A38, PARTITA!AO38=0)","v":false},{"$f":"AND(B38, PARTITA!AO38=0)","v":false},{"$f":"isNetPoint(PARTITA!AC38)","v":"0"},{"$f":"OR(PARTITA!S38=1, PARTITA!T38=1)","v":false},{"$f":"IF(PARTITA!K38=1,OR(E38=\"1\",E38=\"3\",F38=TRUE),OR(E38=\"2\",E38=\"3\"))","v":false},{"$f":"IF(PARTITA!K38=2,OR(E38=\"1\",E38=\"3\",F38=TRUE),OR(E38=\"2\",E38=\"3\"))","v":false},{"$f":"AND(G38=TRUE,PARTITA!AN38=1)","v":false},{"$f":"AND(H38=TRUE,PARTITA!AN38=2)","v":false},{"$f":"IF(PARTITA!AN38=1,K37+1,0)","v":0},{"$f":"IF(PARTITA!AN38=2,L37+1,0)","v":0},{"$f":"PARTITA!A38","v":""},{"$f":"COUNTIFS(PARTITA!AN29:AN38, \"=1\")","v":0},{"$f":"COUNTIFS(PARTITA!AN29:AN38, \"=2\")","v":0},{"$f":"PARTITA!BA38","v":""}]
[{"$f":"AND(PARTITA!K39=2, COUNTIF(Tables!L$1:L$4, PARTITA!F39))","v":false},{"$f":"AND(PARTITA!K39=1, COUNTIF(Tables!L$1:L$4, PARTITA!F39))","v":false},{"$f":"AND(A39, PARTITA!AO39=0)","v":false},{"$f":"AND(B39, PARTITA!AO39=0)","v":false},{"$f":"isNetPoint(PARTITA!AC39)","v":"0"},{"$f":"OR(PARTITA!S39=1, PARTITA!T39=1)","v":false},{"$f":"IF(PARTITA!K39=1,OR(E39=\"1\",E39=\"3\",F39=TRUE),OR(E39=\"2\",E39=\"3\"))","v":false},{"$f":"IF(PARTITA!K39=2,OR(E39=\"1\",E39=\"3\",F39=TRUE),OR(E39=\"2\",E39=\"3\"))","v":false},{"$f":"AND(G39=TRUE,PARTITA!AN39=1)","v":false},{"$f":"AND(H39=TRUE,PARTITA!AN39=2)","v":false},{"$f":"IF(PARTITA!AN39=1,K38+1,0)","v":0},{"$f":"IF(PARTITA!AN39=2,L38+1,0)","v":0},{"$f":"PARTITA!A39","v":""},{"$f":"COUNTIFS(PARTITA!AN30:AN39, \"=1\")","v":0},{"$f":"COUNTIFS(PARTITA!AN30:AN39, \"=2\")","v":0},{"$f":"PARTITA!BA39","v":""}]
[{"$f":"AND(PARTITA!K40=2, COUNTIF(Tables!L$1:L$4, PARTITA!F40))","v":false},{"$f":"AND(PARTITA!K40=1, COUNTIF(Tables!L$1:L$4, PARTITA!F40))","v":false},{"$f":"AND(A40, PARTITA!AO40=0)","v":false},{"$f":"AND(B40, PARTITA!AO40=0)","v":false},{"$f":"isNetPoint(PARTITA!AC40)","v":"0"},{"$f":"OR(PARTITA!S40=1, PARTITA!T40=1)","v":false},{"$f":"IF(PARTITA!K40=1,OR(E40=\"1\",E40=\"3\",F40=TRUE),OR(E40=\"2\",E40=\"3\"))","v":false},{"$f":"IF(PARTITA!K40=2,OR(E40=\"1\",E40=\"3\",F40=TRUE),OR(E40=\"2\",E40=\"3\"))","v":false},{"$f":"AND(G40=TRUE,PARTITA!AN40=1)","v":false},{"$f":"AND(H40=TRUE,PARTITA!AN40=2)","v":false},{"$f":"IF(PARTITA!AN40=1,K39+1,0)","v":0},{"$f":"IF(PARTITA!AN40=2,L39+1,0)","v":0},{"$f":"PARTITA!A40","v":""},{"$f":"COUNTIFS(PARTITA!AN31:AN40, \"=1\")","v":0},{"$f":"COUNTIFS(PARTITA!AN31:AN40, \"=2\")","v":0},{"$f":"PARTITA!BA40","v":""}]
[{"$f":"AND(PARTITA!K41=2, COUNTIF(Tables!L$1:L$4, PARTITA!F41))","v":false},{"$f":"AND(PARTITA!K41=1, COUNTIF(Tables!L$1:L$4, PARTITA!F41))","v":false},{"$f":"AND(A41, PARTITA!AO41=0)","v":false},{"$f":"AND(B41, PARTITA!AO41=0)","v":false},{"$f":"isNetPoint(PARTITA!AC41)","v":"0"},{"$f":"OR(PARTITA!S41=1, PARTITA!T41=1)","v":false},{"$f":"IF(PARTITA!K41=1,OR(E41=\"1\",E41=\"3\",F41=TRUE),OR(E41=\"2\",E41=\"3\"))","v":false},{"$f":"IF(PARTITA!K41=2,OR(E41=\"1\",E41=\"3\",F41=TRUE),OR(E41=\"2\",E41=\"3\"))","v":false},{"$f":"AND(G41=TRUE,PARTITA!AN41=1)","v":false},{"$f":"AND(H41=TRUE,PARTITA!AN41=2)","v":false},{"$f":"IF(PARTITA!AN41=1,K40+1,0)","v":0},{"$f":"IF(PARTITA!AN41=2,L40+1,0)","v":0},{"$f":"PARTITA!A41","v":""},{"$f":"COUNTIFS(PARTITA!AN32:AN41, \"=1\")","v":0},{"$f":"COUNTIFS(PARTITA!AN32:AN41, \"=2\")","v":0},{"$f":"PARTITA!BA41","v":""}]
[{"$f":"AND(PARTITA!K42=2, COUNTIF(Tables!L$1:L$4, PARTITA!F42))","v":false},{"$f":"AND(PARTITA!K42=1, COUNTIF(Tables!L$1:L$4, PARTITA!F42))","v":false},{"$f":"AND(A42, PARTITA!AO42=0)","v":false},{"$f":"AND(B42, PARTITA!AO42=0)","v":false},{"$f":"isNetPoint(PARTITA!AC42)","v":"0"},{"$f":"OR(PARTITA!S42=1, PARTITA!T42=1)","v":false},{"$f":"IF(PARTITA!K42=1,OR(E42=\"1\",E42=\"3\",F42=TRUE),OR(E42=\"2\",E42=\"3\"))","v":false},{"$f":"IF(PARTITA!K42=2,OR(E42=\"1\",E42=\"3\",F42=TRUE),OR(E42=\"2\",E42=\"3\"))","v":false},{"$f":"AND(G42=TRUE,PARTITA!AN42=1)","v":false},{"$f":"AND(H42=TRUE,PARTITA!AN42=2)","v":false},{"$f":"IF(PARTITA!AN42=1,K41+1,0)","v":0},{"$f":"IF(PARTITA!AN42=2,L41+1,0)","v":0},{"$f":"PARTITA!A42","v":""},{"$f":"COUNTIFS(PARTITA!AN33:AN42, \"=1\")","v":0},{"$f":"COUNTIFS(PARTITA!AN33:AN42, \"=2\")","v":0},{"$f":"PARTITA!BA42","v":""}]
[{"$f":"AND(PARTITA!K43=2, COUNTIF(Tables!L$1:L$4, PARTITA!F43))","v":false},{"$f":"AND(PARTITA!K43=1, COUNTIF(Tables!L$1:L$4, PARTITA!F43))","v":false},{"$f":"AND(A43, PARTITA!AO43=0)","v":false},{"$f":"AND(B43, PARTITA!AO43=0)","v":false},{"$f":"isNetPoint(PARTITA!AC43)","v":"0"},{"$f":"OR(PARTITA!S43=1, PARTITA!T43=1)","v":false},{"$f":"IF(PARTITA!K43=1,OR(E43=\"1\",E43=\"3\",F43=TRUE),OR(E43=\"2\",E43=\"3\"))","v":false},{"$f":"IF(PARTITA!K43=2,OR(E43=\"1\",E43=\"3\",F43=TRUE),OR(E43=\"2\",E43=\"3\"))","v":false},{"$f":"AND(G43=TRUE,PARTITA!AN43=1)","v":false},{"$f":"AND(H43=TRUE,PARTITA!AN43=2)","v":false},{"$f":"IF(PARTITA!AN43=1,K42+1,0)","v":0},{"$f":"IF(PARTITA!AN43=2,L42+1,0)","v":0},{"$f":"PARTITA!A43","v":""},{"$f":"COUNTIFS(PARTITA!AN34:AN43, \"=1\")","v":0},{"$f":"COUNTIFS(PARTITA!AN34:AN43, \"=2\")","v":0},{"$f":"PARTITA!BA43","v":""}]
[{"$f":"AND(PARTITA!K44=2, COUNTIF(Tables!L$1:L$4, PARTITA!F44))","v":false},{"$f":"AND(PARTITA!K44=1, COUNTIF(Tables!L$1:L$4, PARTITA!F44))","v":false},{"$f":"AND(A44, PARTITA!AO44=0)","v":false},{"$f":"AND(B44, PARTITA!AO44=0)","v":false},{"$f":"isNetPoint(PARTITA!AC44)","v":"0"},{"$f":"OR(PARTITA!S44=1, PARTITA!T44=1)","v":false},{"$f":"IF(PARTITA!K44=1,OR(E44=\"1\",E44=\"3\",F44=TRUE),OR(E44=\"2\",E44=\"3\"))","v":false},{"$f":"IF(PARTITA!K44=2,OR(E44=\"1\",E44=\"3\",F44=TRUE),OR(E44=\"2\",E44=\"3\"))","v":false},{"$f":"AND(G44=TRUE,PARTITA!AN44=1)","v":false},{"$f":"AND(H44=TRUE,PARTITA!AN44=2)","v":false},{"$f":"IF(PARTITA!AN44=1,K43+1,0)","v":0},{"$f":"IF(PARTITA!AN44=2,L43+1,0)","v":0},{"$f":"PARTITA!A44","v":""},{"$f":"COUNTIFS(PARTITA!AN35:AN44, \"=1\")","v":0},{"$f":"COUNTIFS(PARTITA!AN35:AN44, \"=2\")","v":0},{"$f":"PARTITA!BA44","v":""}]
[{"$f":"AND(PARTITA!K45=2, COUNTIF(Tables!L$1:L$4, PARTITA!F45))","v":false},{"$f":"AND(PARTITA!K45=1, COUNTIF(Tables!L$1:L$4, PARTITA!F45))","v":false},{"$f":"AND(A45, PARTITA!AO45=0)","v":false},{"$f":"AND(B45, PARTITA!AO45=0)","v":false},{"$f":"isNetPoint(PARTITA!AC45)","v":"0"},{"$f":"OR(PARTITA!S45=1, PARTITA!T45=1)","v":false},{"$f":"IF(PARTITA!K45=1,OR(E45=\"1\",E45=\"3\",F45=TRUE),OR(E45=\"2\",E45=\"3\"))","v":false},{"$f":"IF(PARTITA!K45=2,OR(E45=\"1\",E45=\"3\",F45=TRUE),OR(E45=\"2\",E45=\"3\"))","v":false},{"$f":"AND(G45=TRUE,PARTITA!AN45=1)","v":false},{"$f":"AND(H45=TRUE,PARTITA!AN45=2)","v":false},{"$f":"IF(PARTITA!AN45=1,K44+1,0)","v":0},{"$f":"IF(PARTITA!AN45=2,L44+1,0)","v":0},{"$f":"PARTITA!A45","v":""},{"$f":"COUNTIFS(PARTITA!AN36:AN45, \"=1\")","v":0},{"$f":"COUNTIFS(PARTITA!AN36:AN45, \"=2\")","v":0},{"$f":"PARTITA!BA45","v":""}]
[{"$f":"AND(PARTITA!K46=2, COUNTIF(Tables!L$1:L$4, PARTITA!F46))","v":false},{"$f":"AND(PARTITA!K46=1, COUNTIF(Tables!L$1:L$4, PARTITA!F46))","v":false},{"$f":"AND(A46, PARTITA!AO46=0)","v":false},{"$f":"AND(B46, PARTITA!AO46=0)","v":false},{"$f":"isNetPoint(PARTITA!AC46)","v":"0"},{"$f":"OR(PARTITA!S46=1, PARTITA!T46=1)","v":false},{"$f":"IF(PARTITA!K46=1,OR(E46=\"1\",E46=\"3\",F46=TRUE),OR(E46=\"2\",E46=\"3\"))","v":false},{"$f":"IF(PARTITA!K46=2,OR(E46=\"1\",E46=\"3\",F46=TRUE),OR(E46=\"2\",E46=\"3\"))","v":false},{"$f":"AND(G46=TRUE,PARTITA!AN46=1)","v":false},{"$f":"AND(H46=TRUE,PARTITA!AN46=2)","v":false},{"$f":"IF(PARTITA!AN46=1,K45+1,0)","v":0},{"$f":"IF(PARTITA!AN46=2,L45+1,0)","v":0},{"$f":"PARTITA!A46","v":""},{"$f":"COUNTIFS(PARTITA!AN37:AN46, \"=1\")","v":0},{"$f":"COUNTIFS(PARTITA!AN37:AN46, \"=2\")","v":0},{"$f":"PARTITA!BA46","v":""}]
[{"$f":"AND(PARTITA!K47=2, COUNTIF(Tables!L$1:L$4, PARTITA!F47))","v":false},{"$f":"AND(PARTITA!K47=1, COUNTIF(Tables!L$1:L$4, PARTITA!F47))","v":false},{"$f":"AND(A47, PARTITA!AO47=0)","v":false},{"$f":"AND(B47, PARTITA!AO47=0)","v":false},{"$f":"isNetPoint(PARTITA!AC47)","v":"0"},{"$f":"OR(PARTITA!S47=1, PARTITA!T47=1)","v":false},{"$f":"IF(PARTITA!K47=1,OR(E47=\"1\",E47=\"3\",F47=TRUE),OR(E47=\"2\",E47=\"3\"))","v":false},{"$f":"IF(PARTITA!K47=2,OR(E47=\"1\",E47=\"3\",F47=TRUE),OR(E47=\"2\",E47=\"3\"))","v":false},{"$f":"AND(G47=TRUE,PARTITA!AN47=1)","v":false},{"$f":"AND(H47=TRUE,PARTITA!AN47=2)","v":false},{"$f":"IF(PARTITA!AN47=1,K46+1,0)","v":0},{"$f":"IF(PARTITA!AN47=2,L46+1,0)","v":0},{"$f":"PARTITA!A47","v":""},{"$f":"COUNTIFS(PARTITA!AN38:AN47, \"=1\")","v":0},{"$f":"COUNTIFS(PARTITA!AN38:AN47, \"=2\")","v":0},{"$f":"PARTITA!BA47","v":""}]
[{"$f":"AND(PARTITA!K48=2, COUNTIF(Tables!L$1:L$4, PARTITA!F48))","v":false},{"$f":"AND(PARTITA!K48=1, COUNTIF(Tables!L$1:L$4, PARTITA!F48))","v":false},{"$f":"AND(A48, PARTITA!AO48=0)","v":false},{"$f":"AND(B48, PARTITA!AO48=0)","v":false},{"$f":"isNetPoint(PARTITA!AC48)","v":"0"},{"$f":"OR(PARTITA!S48=1, PARTITA!T48=1)","v":false},{"$f":"IF(PARTITA!K48=1,OR(E48=\"1\",E48=\"3\",F48=TRUE),OR(E48=\"2\",E48=\"3\"))","v":false},{"$f":"IF(PARTITA!K48=2,OR(E48=\"1\",E48=\"3\",F48=TRUE),OR(E48=\"2\",E48=\"3\"))","v":false},{"$f":"AND(G48=TRUE,PARTITA!AN48=1)","v":false},{"$f":"AND(H48=TRUE,PARTITA!AN48=2)","v":false},{"$f":"IF(PARTITA!AN48=1,K47+1,0)","v":0},{"$f":"IF(PARTITA!AN48=2,L47+1,0)","v":0},{"$f":"PARTITA!A48","v":""},{"$f":"COUNTIFS(PARTITA!AN39:AN48, \"=1\")","v":0},{"$f":"COUNTIFS(PARTITA!AN39:AN48, \"=2\")","v":0},{"$f":"PARTITA!BA48","v":""}]
[{"$f":"AND(PARTITA!K49=2, COUNTIF(Tables!L$1:L$4, PARTITA!F49))","v":false},{"$f":"AND(PARTITA!K49=1, COUNTIF(Tables!L$1:L$4, PARTITA!F49))","v":false},{"$f":"AND(A49, PARTITA!AO49=0)","v":false},{"$f":"AND(B49, PARTITA!AO49=0)","v":false},{"$f":"isNetPoint(PARTITA!AC49)","v":"0"},{"$f":"OR(PARTITA!S49=1, PARTITA!T49=1)","v":false},{"$f":"IF(PARTITA!K49=1,OR(E49=\"1\",E49=\"3\",F49=TRUE),OR(E49=\"2\",E49=\"3\"))","v":false},{"$f":"IF(PARTITA!K49=2,OR(E49=\"1\",E49=\"3\",F49=TRUE),OR(E49=\"2\",E49=\"3\"))","v":false},{"$f":"AND(G49=TRUE,PARTITA!AN49=1)","v":false},{"$f":"AND(H49=TRUE,PARTITA!AN49=2)","v":false},{"$f":"IF(PARTITA!AN49=1,K48+1,0)","v":0},{"$f":"IF(PARTITA!AN49=2,L48+1,0)","v":0},{"$f":"PARTITA!A49","v":""},{"$f":"COUNTIFS(PARTITA!AN40:AN49, \"=1\")","v":0},{"$f":"COUNTIFS(PARTITA!AN40:AN49, \"=2\")","v":0},{"$f":"PARTITA!BA49","v":""}]
[{"$f":"AND(PARTITA!K50=2, COUNTIF(Tables!L$1:L$4, PARTITA!F50))","v":false},{"$f":"AND(PARTITA!K50=1, COUNTIF(Tables!L$1:L$4, PARTITA!F50))","v":false},{"$f":"AND(A50, PARTITA!AO50=0)","v":false},{"$f":"AND(B50, PARTITA!AO50=0)","v":false},{"$f":"isNetPoint(PARTITA!AC50)","v":"0"},{"$f":"OR(PARTITA!S50=1, PARTITA!T50=1)","v":false},{"$f":"IF(PARTITA!K50=1,OR(E50=\"1\",E50=\"3\",F50=TRUE),OR(E50=\"2\",E50=\"3\"))","v":false},{"$f":"IF(PARTITA!K50=2,OR(E50=\"1\",E50=\"3\",F50=TRUE),OR(E50=\"2\",E50=\"3\"))","v":false},{"$f":"AND(G50=TRUE,PARTITA!AN50=1)","v":false},{"$f":"AND(H50=TRUE,PARTITA!AN50=2)","v":false},{"$f":"IF(PARTITA!AN50=1,K49+1,0)","v":0},{"$f":"IF(PARTITA!AN50=2,L49+1,0)","v":0},{"$f":"PARTITA!A50","v":""},{"$f":"COUNTIFS(PARTITA!AN41:AN50, \"=1\")","v":0},{"$f":"COUNTIFS(PARTITA!AN41:AN50, \"=2\")","v":0},{"$f":"PARTITA!BA50","v":""}]
[{"$f":"AND(PARTITA!K51=2, COUNTIF(Tables!L$1:L$4, PARTITA!F51))","v":false},{"$f":"AND(PARTITA!K51=1, COUNTIF(Tables!L$1:L$4, PARTITA!F51))","v":false},{"$f":"AND(A51, PARTITA!AO51=0)","v":false},{"$f":"AND(B51, PARTITA!AO51=0)","v":false},{"$f":"isNetPoint(PARTITA!AC51)","v":"0"},{"$f":"OR(PARTITA!S51=1, PARTITA!T51=1)","v":false},{"$f":"IF(PARTITA!K51=1,OR(E51=\"1\",E51=\"3\",F51=TRUE),OR(E51=\"2\",E51=\"3\"))","v":false},{"$f":"IF(PARTITA!K51=2,OR(E51=\"1\",E51=\"3\",F51=TRUE),OR(E51=\"2\",E51=\"3\"))","v":false},{"$f":"AND(G51=TRUE,PARTITA!AN51=1)","v":false},{"$f":"AND(H51=TRUE,PARTITA!AN51=2)","v":false},{"$f":"IF(PARTITA!AN51=1,K50+1,0)","v":0},{"$f":"IF(PARTITA!AN51=2,L50+1,0)","v":0},{"$f":"PARTITA!A51","v":""},{"$f":"COUNTIFS(PARTITA!AN42:AN51, \"=1\")","v":0},{"$f":"COUNTIFS(PARTITA!AN42:AN51, \"=2\")","v":0},{"$f":"PARTITA!BA51","v":""}]
[{"$f":"AND(PARTITA!K52=2, COUNTIF(Tables!L$1:L$4, PARTITA!F52))","v":false},{"$f":"AND(PARTITA!K52=1, COUNTIF(Tables!L$1:L$4, PARTITA!F52))","v":false},{"$f":"AND(A52, PARTITA!AO52=0)","v":false},{"$f":"AND(B52, PARTITA!AO52=0)","v":false},{"$f":"isNetPoint(PARTITA!AC52)","v":"0"},{"$f":"OR(PARTITA!S52=1, PARTITA!T52=1)","v":false},{"$f":"IF(PARTITA!K52=1,OR(E52=\"1\",E52=\"3\",F52=TRUE),OR(E52=\"2\",E52=\"3\"))","v":false},{"$f":"IF(PARTITA!K52=2,OR(E52=\"1\",E52=\"3\",F52=TRUE),OR(E52=\"2\",E52=\"3\"))","v":false},{"$f":"AND(G52=TRUE,PARTITA!AN52=1)","v":false},{"$f":"AND(H52=TRUE,PARTITA!AN52=2)","v":false},{"$f":"IF(PARTITA!AN52=1,K51+1,0)","v":0},{"$f":"IF(PARTITA!AN52=2,L51+1,0)","v":0},{"$f":"PARTITA!A52","v":""},{"$f":"COUNTIFS(PARTITA!AN43:AN52, \"=1\")","v":0},{"$f":"COUNTIFS(PARTITA!AN43:AN52, \"=2\")","v":0},{"$f":"PARTITA!BA52","v":""}]
[{"$f":"AND(PARTITA!K53=2, COUNTIF(Tables!L$1:L$4, PARTITA!F53))","v":false},{"$f":"AND(PARTITA!K53=1, COUNTIF(Tables!L$1:L$4, PARTITA!F53))","v":false},{"$f":"AND(A53, PARTITA!AO53=0)","v":false},{"$f":"AND(B53, PARTITA!AO53=0)","v":false},{"$f":"isNetPoint(PARTITA!AC53)","v":"0"},{"$f":"OR(PARTITA!S53=1, PARTITA!T53=1)","v":false},{"$f":"IF(PARTITA!K53=1,OR(E53=\"1\",E53=\"3\",F53=TRUE),OR(E53=\"2\",E53=\"3\"))","v":false},{"$f":"IF(PARTITA!K53=2,OR(E53=\"1\",E53=\"3\",F53=TRUE),OR(E53=\"2\",E53=\"3\"))","v":false},{"$f":"AND(G53=TRUE,PARTITA!AN53=1)","v":false},{"$f":"AND(H53=TRUE,PARTITA!AN53=2)","v":false},{"$f":"IF(PARTITA!AN53=1,K52+1,0)","v":0},{"$f":"IF(PARTITA!AN53=2,L52+1,0)","v":0},{"$f":"PARTITA!A53","v":""},{"$f":"COUNTIFS(PARTITA!AN44:AN53, \"=1\")","v":0},{"$f":"COUNTIFS(PARTITA!AN44:AN53, \"=2\")","v":0},{"$f":"PARTITA!BA53","v":""}]
[{"$f":"AND(PARTITA!K54=2, COUNTIF(Tables!L$1:L$4, PARTITA!F54))","v":false},{"$f":"AND(PARTITA!K54=1, COUNTIF(Tables!L$1:L$4, PARTITA!F54))","v":false},{"$f":"AND(A54, PARTITA!AO54=0)","v":false},{"$f":"AND(B54, PARTITA!AO54=0)","v":false},{"$f":"isNetPoint(PARTITA!AC54)","v":"0"},{"$f":"OR(PARTITA!S54=1, PARTITA!T54=1)","v":false},{"$f":"IF(PARTITA!K54=1,OR(E54=\"1\",E54=\"3\",F54=TRUE),OR(E54=\"2\",E54=\"3\"))","v":false},{"$f":"IF(PARTITA!K54=2,OR(E54=\"1\",E54=\"3\",F54=TRUE),OR(E54=\"2\",E54=\"3\"))","v":false},{"$f":"AND(G54=TRUE,PARTITA!AN54=1)","v":false},{"$f":"AND(H54=TRUE,PARTITA!AN54=2)","v":false},{"$f":"IF(PARTITA!AN54=1,K53+1,0)","v":0},{"$f":"IF(PARTITA!AN54=2,L53+1,0)","v":0},{"$f":"PARTITA!A54","v":""},{"$f":"COUNTIFS(PARTITA!AN45:AN54, \"=1\")","v":0},{"$f":"COUNTIFS(PARTITA!AN45:AN54, \"=2\")","v":0},{"$f":"PARTITA!BA54","v":""}]
[{"$f":"AND(PARTITA!K55=2, COUNTIF(Tables!L$1:L$4, PARTITA!F55))","v":false},{"$f":"AND(PARTITA!K55=1, COUNTIF(Tables!L$1:L$4, PARTITA!F55))","v":false},{"$f":"AND(A55, PARTITA!AO55=0)","v":false},{"$f":"AND(B55, PARTITA!AO55=0)","v":false},{"$f":"isNetPoint(PARTITA!AC55)","v":"0"},{"$f":"OR(PARTITA!S55=1, PARTITA!T55=1)","v":false},{"$f":"IF(PARTITA!K55=1,OR(E55=\"1\",E55=\"3\",F55=TRUE),OR(E55=\"2\",E55=\"3\"))","v":false},{"$f":"IF(PARTITA!K55=2,OR(E55=\"1\",E55=\"3\",F55=TRUE),OR(E55=\"2\",E55=\"3\"))","v":false},{"$f":"AND(G55=TRUE,PARTITA!AN55=1)","v":false},{"$f":"AND(H55=TRUE,PARTITA!AN55=2)","v":false},{"$f":"IF(PARTITA!AN55=1,K54+1,0)","v":0},{"$f":"IF(PARTITA!AN55=2,L54+1,0)","v":0},{"$f":"PARTITA!A55","v":""},{"$f":"COUNTIFS(PARTITA!AN46:AN55, \"=1\")","v":0},{"$f":"COUNTIFS(PARTITA!AN46:AN55, \"=2\")","v":0},{"$f":"PARTITA!BA55","v":""}]
[{"$f":"AND(PARTITA!K56=2, COUNTIF(Tables!L$1:L$4, PARTITA!F56))","v":false},{"$f":"AND(PARTITA!K56=1, COUNTIF(Tables!L$1:L$4, PARTITA!F56))","v":false},{"$f":"AND(A56, PARTITA!AO56=0)","v":false},{"$f":"AND(B56, PARTITA!AO56=0)","v":false},{"$f":"isNetPoint(PARTITA!AC56)","v":"0"},{"$f":"OR(PARTITA!S56=1, PARTITA!T56=1)","v":false},{"$f":"IF(PARTITA!K56=1,OR(E56=\"1\",E56=\"3\",F56=TRUE),OR(E56=\"2\",E56=\"3\"))","v":false},{"$f":"IF(PARTITA!K56=2,OR(E56=\"1\",E56=\"3\",F56=TRUE),OR(E56=\"2\",E56=\"3\"))","v":false},{"$f":"AND(G56=TRUE,PARTITA!AN56=1)","v":false},{"$f":"AND(H56=TRUE,PARTITA!AN56=2)","v":false},{"$f":"IF(PARTITA!AN56=1,K55+1,0)","v":0},{"$f":"IF(PARTITA!AN56=2,L55+1,0)","v":0},{"$f":"PARTITA!A56","v":""},{"$f":"COUNTIFS(PARTITA!AN47:AN56, \"=1\")","v":0},{"$f":"COUNTIFS(PARTITA!AN47:AN56, \"=2\")","v":0},{"$f":"PARTITA!BA56","v":""}]
[{"$f":"AND(PARTITA!K57=2, COUNTIF(Tables!L$1:L$4, PARTITA!F57))","v":false},{"$f":"AND(PARTITA!K57=1, COUNTIF(Tables!L$1:L$4, PARTITA!F57))","v":false},{"$f":"AND(A57, PARTITA!AO57=0)","v":false},{"$f":"AND(B57, PARTITA!AO57=0)","v":false},{"$f":"isNetPoint(PARTITA!AC57)","v":"0"},{"$f":"OR(PARTITA!S57=1, PARTITA!T57=1)","v":false},{"$f":"IF(PARTITA!K57=1,OR(E57=\"1\",E57=\"3\",F57=TRUE),OR(E57=\"2\",E57=\"3\"))","v":false},{"$f":"IF(PARTITA!K57=2,OR(E57=\"1\",E57=\"3\",F57=TRUE),OR(E57=\"2\",E57=\"3\"))","v":false},{"$f":"AND(G57=TRUE,PARTITA!AN57=1)","v":false},{"$f":"AND(H57=TRUE,PARTITA!AN57=2)","v":false},{"$f":"IF(PARTITA!AN57=1,K56+1,0)","v":0},{"$f":"IF(PARTITA!AN57=2,L56+1,0)","v":0},{"$f":"PARTITA!A57","v":""},{"$f":"COUNTIFS(PARTITA!AN48:AN57, \"=1\")","v":0},{"$f":"COUNTIFS(PARTITA!AN48:AN57, \"=2\")","v":0},{"$f":"PARTITA!BA57","v":""}]
[{"$f":"AND(PARTITA!K58=2, COUNTIF(Tables!L$1:L$4, PARTITA!F58))","v":false},{"$f":"AND(PARTITA!K58=1, COUNTIF(Tables!L$1:L$4, PARTITA!F58))","v":false},{"$f":"AND(A58, PARTITA!AO58=0)","v":false},{"$f":"AND(B58, PARTITA!AO58=0)","v":false},{"$f":"isNetPoint(PARTITA!AC58)","v":"0"},{"$f":"OR(PARTITA!S58=1, PARTITA!T58=1)","v":false},{"$f":"IF(PARTITA!K58=1,OR(E58=\"1\",E58=\"3\",F58=TRUE),OR(E58=\"2\",E58=\"3\"))","v":false},{"$f":"IF(PARTITA!K58=2,OR(E58=\"1\",E58=\"3\",F58=TRUE),OR(E58=\"2\",E58=\"3\"))","v":false},{"$f":"AND(G58=TRUE,PARTITA!AN58=1)","v":false},{"$f":"AND(H58=TRUE,PARTITA!AN58=2)","v":false},{"$f":"IF(PARTITA!AN58=1,K57+1,0)","v":0},{"$f":"IF(PARTITA!AN58=2,L57+1,0)","v":0},{"$f":"PARTITA!A58","v":""},{"$f":"COUNTIFS(PARTITA!AN49:AN58, \"=1\")","v":0},{"$f":"COUNTIFS(PARTITA!AN49:AN58, \"=2\")","v":0},{"$f":"PARTITA!BA58","v":""}]
[{"$f":"AND(PARTITA!K59=2, COUNTIF(Tables!L$1:L$4, PARTITA!F59))","v":false},{"$f":"AND(PARTITA!K59=1, COUNTIF(Tables!L$1:L$4, PARTITA!F59))","v":false},{"$f":"AND(A59, PARTITA!AO59=0)","v":false},{"$f":"AND(B59, PARTITA!AO59=0)","v":false},{"$f":"isNetPoint(PARTITA!AC59)","v":"0"},{"$f":"OR(PARTITA!S59=1, PARTITA!T59=1)","v":false},{"$f":"IF(PARTITA!K59=1,OR(E59=\"1\",E59=\"3\",F59=TRUE),OR(E59=\"2\",E59=\"3\"))","v":false},{"$f":"IF(PARTITA!K59=2,OR(E59=\"1\",E59=\"3\",F59=TRUE),OR(E59=\"2\",E59=\"3\"))","v":false},{"$f":"AND(G59=TRUE,PARTITA!AN59=1)","v":false},{"$f":"AND(H59=TRUE,PARTITA!AN59=2)","v":false},{"$f":"IF(PARTITA!AN59=1,K58+1,0)","v":0},{"$f":"IF(PARTITA!AN59=2,L58+1,0)","v":0},{"$f":"PARTITA!A59","v":""},{"$f":"COUNTIFS(PARTITA!AN50:AN59, \"=1\")","v":0},{"$f":"COUNTIFS(PARTITA!AN50:AN59, \"=2\")","v":0},{"$f":"PARTITA!BA59","v":""}]
[{"$f":"AND(PARTITA!K60=2, COUNTIF(Tables!L$1:L$4, PARTITA!F60))","v":false},{"$f":"AND(PARTITA!K60=1, COUNTIF(Tables!L$1:L$4, PARTITA!F60))","v":false},{"$f":"AND(A60, PARTITA!AO60=0)","v":false},{"$f":"AND(B60, PARTITA!AO60=0)","v":false},{"$f":"isNetPoint(PARTITA!AC60)","v":"0"},{"$f":"OR(PARTITA!S60=1, PARTITA!T60=1)","v":false},{"$f":"IF(PARTITA!K60=1,OR(E60=\"1\",E60=\"3\",F60=TRUE),OR(E60=\"2\",E60=\"3\"))","v":false},{"$f":"IF(PARTITA!K60=2,OR(E60=\"1\",E60=\"3\",F60=TRUE),OR(E60=\"2\",E60=\"3\"))","v":false},{"$f":"AND(G60=TRUE,PARTITA!AN60=1)","v":false},{"$f":"AND(H60=TRUE,PARTITA!AN60=2)","v":false},{"$f":"IF(PARTITA!AN60=1,K59+1,0)","v":0},{"$f":"IF(PARTITA!AN60=2,L59+1,0)","v":0},{"$f":"PARTITA!A60","v":""},{"$f":"COUNTIFS(PARTITA!AN51:AN60, \"=1\")","v":0},{"$f":"COUNTIFS(PARTITA!AN51:AN60, \"=2\")","v":0},{"$f":"PARTITA!BA60","v":""}]
[{"$f":"AND(PARTITA!K61=2, COUNTIF(Tables!L$1:L$4, PARTITA!F61))","v":false},{"$f":"AND(PARTITA!K61=1, COUNTIF(Tables!L$1:L$4, PARTITA!F61))","v":false},{"$f":"AND(A61, PARTITA!AO61=0)","v":false},{"$f":"AND(B61, PARTITA!AO61=0)","v":false},{"$f":"isNetPoint(PARTITA!AC61)","v":"0"},{"$f":"OR(PARTITA!S61=1, PARTITA!T61=1)","v":false},{"$f":"IF(PARTITA!K61=1,OR(E61=\"1\",E61=\"3\",F61=TRUE),OR(E61=\"2\",E61=\"3\"))","v":false},{"$f":"IF(PARTITA!K61=2,OR(E61=\"1\",E61=\"3\",F61=TRUE),OR(E61=\"2\",E61=\"3\"))","v":false},{"$f":"AND(G61=TRUE,PARTITA!AN61=1)","v":false},{"$f":"AND(H61=TRUE,PARTITA!AN61=2)","v":false},{"$f":"IF(PARTITA!AN61=1,K60+1,0)","v":0},{"$f":"IF(PARTITA!AN61=2,L60+1,0)","v":0},{"$f":"PARTITA!A61","v":""},{"$f":"COUNTIFS(PARTITA!AN52:AN61, \"=1\")","v":0},{"$f":"COUNTIFS(PARTITA!AN52:AN61, \"=2\")","v":0},{"$f":"PARTITA!BA61","v":""}]
[{"$f":"AND(PARTITA!K62=2, COUNTIF(Tables!L$1:L$4, PARTITA!F62))","v":false},{"$f":"AND(PARTITA!K62=1, COUNTIF(Tables!L$1:L$4, PARTITA!F62))","v":false},{"$f":"AND(A62, PARTITA!AO62=0)","v":false},{"$f":"AND(B62, PARTITA!AO62=0)","v":false},{"$f":"isNetPoint(PARTITA!AC62)","v":"0"},{"$f":"OR(PARTITA!S62=1, PARTITA!T62=1)","v":false},{"$f":"IF(PARTITA!K62=1,OR(E62=\"1\",E62=\"3\",F62=TRUE),OR(E62=\"2\",E62=\"3\"))","v":false},{"$f":"IF(PARTITA!K62=2,OR(E62=\"1\",E62=\"3\",F62=TRUE),OR(E62=\"2\",E62=\"3\"))","v":false},{"$f":"AND(G62=TRUE,PARTITA!AN62=1)","v":false},{"$f":"AND(H62=TRUE,PARTITA!AN62=2)","v":false},{"$f":"IF(PARTITA!AN62=1,K61+1,0)","v":0},{"$f":"IF(PARTITA!AN62=2,L61+1,0)","v":0},{"$f":"PARTITA!A62","v":""},{"$f":"COUNTIFS(PARTITA!AN53:AN62, \"=1\")","v":0},{"$f":"COUNTIFS(PARTITA!AN53:AN62, \"=2\")","v":0},{"$f":"PARTITA!BA62","v":""}]
[{"$f":"AND(PARTITA!K63=2, COUNTIF(Tables!L$1:L$4, PARTITA!F63))","v":false},{"$f":"AND(PARTITA!K63=1, COUNTIF(Tables!L$1:L$4, PARTITA!F63))","v":false},{"$f":"AND(A63, PARTITA!AO63=0)","v":false},{"$f":"AND(B63, PARTITA!AO63=0)","v":false},{"$f":"isNetPoint(PARTITA!AC63)","v":"0"},{"$f":"OR(PARTITA!S63=1, PARTITA!T63=1)","v":false},{"$f":"IF(PARTITA!K63=1,OR(E63=\"1\",E63=\"3\",F63=TRUE),OR(E63=\"2\",E63=\"3\"))","v":false},{"$f":"IF(PARTITA!K63=2,OR(E63=\"1\",E63=\"3\",F63=TRUE),OR(E63=\"2\",E63=\"3\"))","v":false},{"$f":"AND(G63=TRUE,PARTITA!AN63=1)","v":false},{"$f":"AND(H63=TRUE,PARTITA!AN63=2)","v":false},{"$f":"IF(PARTITA!AN63=1,K62+1,0)","v":0},{"$f":"IF(PARTITA!AN63=2,L62+1,0)","v":0},{"$f":"PARTITA!A63","v":""},{"$f":"COUNTIFS(PARTITA!AN54:AN63, \"=1\")","v":0},{"$f":"COUNTIFS(PARTITA!AN54:AN63, \"=2\")","v":0},{"$f":"PARTITA!BA63","v":""}]
[{"$f":"AND(PARTITA!K64=2, COUNTIF(Tables!L$1:L$4, PARTITA!F64))","v":false},{"$f":"AND(PARTITA!K64=1, COUNTIF(Tables!L$1:L$4, PARTITA!F64))","v":false},{"$f":"AND(A64, PARTITA!AO64=0)","v":false},{"$f":"AND(B64, PARTITA!AO64=0)","v":false},{"$f":"isNetPoint(PARTITA!AC64)","v":"0"},{"$f":"OR(PARTITA!S64=1, PARTITA!T64=1)","v":false},{"$f":"IF(PARTITA!K64=1,OR(E64=\"1\",E64=\"3\",F64=TRUE),OR(E64=\"2\",E64=\"3\"))","v":false},{"$f":"IF(PARTITA!K64=2,OR(E64=\"1\",E64=\"3\",F64=TRUE),OR(E64=\"2\",E64=\"3\"))","v":false},{"$f":"AND(G64=TRUE,PARTITA!AN64=1)","v":false},{"$f":"AND(H64=TRUE,PARTITA!AN64=2)","v":false},{"$f":"IF(PARTITA!AN64=1,K63+1,0)","v":0},{"$f":"IF(PARTITA!AN64=2,L63+1,0)","v":0},{"$f":"PARTITA!A64","v":""},{"$f":"COUNTIFS(PARTITA!AN55:AN64, \"=1\")","v":0},{"$f":"COUNTIFS(PARTITA!AN55:AN64, \"=2\")","v":0},{"$f":"PARTITA!BA64","v":""}]
[{"$f":"AND(PARTITA!K65=2, COUNTIF(Tables!L$1:L$4, PARTITA!F65))","v":false},{"$f":"AND(PARTITA!K65=1, COUNTIF(Tables!L$1:L$4, PARTITA!F65))","v":false},{"$f":"AND(A65, PARTITA!AO65=0)","v":false},{"$f":"AND(B65, PARTITA!AO65=0)","v":false},{"$f":"isNetPoint(PARTITA!AC65)","v":"0"},{"$f":"OR(PARTITA!S65=1, PARTITA!T65=1)","v":false},{"$f":"IF(PARTITA!K65=1,OR(E65=\"1\",E65=\"3\",F65=TRUE),OR(E65=\"2\",E65=\"3\"))","v":false},{"$f":"IF(PARTITA!K65=2,OR(E65=\"1\",E65=\"3\",F65=TRUE),OR(E65=\"2\",E65=\"3\"))","v":false},{"$f":"AND(G65=TRUE,PARTITA!AN65=1)","v":false},{"$f":"AND(H65=TRUE,PARTITA!AN65=2)","v":false},{"$f":"IF(PARTITA!AN65=1,K64+1,0)","v":0},{"$f":"IF(PARTITA!AN65=2,L64+1,0)","v":0},{"$f":"PARTITA!A65","v":""},{"$f":"COUNTIFS(PARTITA!AN56:AN65, \"=1\")","v":0},{"$f":"COUNTIFS(PARTITA!AN56:AN65, \"=2\")","v":0},{"$f":"PARTITA!BA65","v":""}]
[{"$f":"AND(PARTITA!K66=2, COUNTIF(Tables!L$1:L$4, PARTITA!F66))","v":false},{"$f":"AND(PARTITA!K66=1, COUNTIF(Tables!L$1:L$4, PARTITA!F66))","v":false},{"$f":"AND(A66, PARTITA!AO66=0)","v":false},{"$f":"AND(B66, PARTITA!AO66=0)","v":false},{"$f":"isNetPoint(PARTITA!AC66)","v":"0"},{"$f":"OR(PARTITA!S66=1, PARTITA!T66=1)","v":false},{"$f":"IF(PARTITA!K66=1,OR(E66=\"1\",E66=\"3\",F66=TRUE),OR(E66=\"2\",E66=\"3\"))","v":false},{"$f":"IF(PARTITA!K66=2,OR(E66=\"1\",E66=\"3\",F66=TRUE),OR(E66=\"2\",E66=\"3\"))","v":false},{"$f":"AND(G66=TRUE,PARTITA!AN66=1)","v":false},{"$f":"AND(H66=TRUE,PARTITA!AN66=2)","v":false},{"$f":"IF(PARTITA!AN66=1,K65+1,0)","v":0},{"$f":"IF(PARTITA!AN66=2,L65+1,0)","v":0},{"$f":"PARTITA!A66","v":""},{"$f":"COUNTIFS(PARTITA!AN57:AN66, \"=1\")","v":0},{"$f":"COUNTIFS(PARTITA!AN57:AN66, \"=2\")","v":0},{"$f":"PARTITA!BA66","v":""}]
[{"$f":"AND(PARTITA!K67=2, COUNTIF(Tables!L$1:L$4, PARTITA!F67))","v":false},{"$f":"AND(PARTITA!K67=1, COUNTIF(Tables!L$1:L$4, PARTITA!F67))","v":false},{"$f":"AND(A67, PARTITA!AO67=0)","v":false},{"$f":"AND(B67, PARTITA!AO67=0)","v":false},{"$f":"isNetPoint(PARTITA!AC67)","v":"0"},{"$f":"OR(PARTITA!S67=1, PARTITA!T67=1)","v":false},{"$f":"IF(PARTITA!K67=1,OR(E67=\"1\",E67=\"3\",F67=TRUE),OR(E67=\"2\",E67=\"3\"))","v":false},{"$f":"IF(PARTITA!K67=2,OR(E67=\"1\",E67=\"3\",F67=TRUE),OR(E67=\"2\",E67=\"3\"))","v":false},{"$f":"AND(G67=TRUE,PARTITA!AN67=1)","v":false},{"$f":"AND(H67=TRUE,PARTITA!AN67=2)","v":false},{"$f":"IF(PARTITA!AN67=1,K66+1,0)","v":0},{"$f":"IF(PARTITA!AN67=2,L66+1,0)","v":0},{"$f":"PARTITA!A67","v":""},{"$f":"COUNTIFS(PARTITA!AN58:AN67, \"=1\")","v":0},{"$f":"COUNTIFS(PARTITA!AN58:AN67, \"=2\")","v":0},{"$f":"PARTITA!BA67","v":""}]
[{"$f":"AND(PARTITA!K68=2, COUNTIF(Tables!L$1:L$4, PARTITA!F68))","v":false},{"$f":"AND(PARTITA!K68=1, COUNTIF(Tables!L$1:L$4, PARTITA!F68))","v":false},{"$f":"AND(A68, PARTITA!AO68=0)","v":false},{"$f":"AND(B68, PARTITA!AO68=0)","v":false},{"$f":"isNetPoint(PARTITA!AC68)","v":"0"},{"$f":"OR(PARTITA!S68=1, PARTITA!T68=1)","v":false},{"$f":"IF(PARTITA!K68=1,OR(E68=\"1\",E68=\"3\",F68=TRUE),OR(E68=\"2\",E68=\"3\"))","v":false},{"$f":"IF(PARTITA!K68=2,OR(E68=\"1\",E68=\"3\",F68=TRUE),OR(E68=\"2\",E68=\"3\"))","v":false},{"$f":"AND(G68=TRUE,PARTITA!AN68=1)","v":false},{"$f":"AND(H68=TRUE,PARTITA!AN68=2)","v":false},{"$f":"IF(PARTITA!AN68=1,K67+1,0)","v":0},{"$f":"IF(PARTITA!AN68=2,L67+1,0)","v":0},{"$f":"PARTITA!A68","v":""},{"$f":"COUNTIFS(PARTITA!AN59:AN68, \"=1\")","v":0},{"$f":"COUNTIFS(PARTITA!AN59:AN68, \"=2\")","v":0},{"$f":"PARTITA!BA68","v":""}]
[{"$f":"AND(PARTITA!K69=2, COUNTIF(Tables!L$1:L$4, PARTITA!F69))","v":false},{"$f":"AND(PARTITA!K69=1, COUNTIF(Tables!L$1:L$4, PARTITA!F69))","v":false},{"$f":"AND(A69, PARTITA!AO69=0)","v":false},{"$f":"AND(B69, PARTITA!AO69=0)","v":false},{"$f":"isNetPoint(PARTITA!AC69)","v":"0"},{"$f":"OR(PARTITA!S69=1, PARTITA!T69=1)","v":false},{"$f":"IF(PARTITA!K69=1,OR(E69=\"1\",E69=\"3\",F69=TRUE),OR(E69=\"2\",E69=\"3\"))","v":false},{"$f":"IF(PARTITA!K69=2,OR(E69=\"1\",E69=\"3\",F69=TRUE),OR(E69=\"2\",E69=\"3\"))","v":false},{"$f":"AND(G69=TRUE,PARTITA!AN69=1)","v":false},{"$f":"AND(H69=TRUE,PARTITA!AN69=2)","v":false},{"$f":"IF(PARTITA!AN69=1,K68+1,0)","v":0},{"$f":"IF(PARTITA!AN69=2,L68+1,0)","v":0},{"$f":"PARTITA!A69","v":""},{"$f":"COUNTIFS(PARTITA!AN60:AN69, \"=1\")","v":0},{"$f":"COUNTIFS(PARTITA!AN60:AN69, \"=2\")","v":0},{"$f":"PARTITA!BA69","v":""}]
[{"$f":"AND(PARTITA!K70=2, COUNTIF(Tables!L$1:L$4, PARTITA!F70))","v":false},{"$f":"AND(PARTITA!K70=1, COUNTIF(Tables!L$1:L$4, PARTITA!F70))","v":false},{"$f":"AND(A70, PARTITA!AO70=0)","v":false},{"$f":"AND(B70, PARTITA!AO70=0)","v":false},{"$f":"isNetPoint(PARTITA!AC70)","v":"0"},{"$f":"OR(PARTITA!S70=1, PARTITA!T70=1)","v":false},{"$f":"IF(PARTITA!K70=1,OR(E70=\"1\",E70=\"3\",F70=TRUE),OR(E70=\"2\",E70=\"3\"))","v":false},{"$f":"IF(PARTITA!K70=2,OR(E70=\"1\",E70=\"3\",F70=TRUE),OR(E70=\"2\",E70=\"3\"))","v":false},{"$f":"AND(G70=TRUE,PARTITA!AN70=1)","v":false},{"$f":"AND(H70=TRUE,PARTITA!AN70=2)","v":false},{"$f":"IF(PARTITA!AN70=1,K69+1,0)","v":0},{"$f":"IF(PARTITA!AN70=2,L69+1,0)","v":0},{"$f":"PARTITA!A70","v":""},{"$f":"COUNTIFS(PARTITA!AN61:AN70, \"=1\")","v":0},{"$f":"COUNTIFS(PARTITA!AN61:AN70, \"=2\")","v":0},{"$f":"PARTITA!BA70","v":""}]
[{"$f":"AND(PARTITA!K71=2, COUNTIF(Tables!L$1:L$4, PARTITA!F71))","v":false},{"$f":"AND(PARTITA!K71=1, COUNTIF(Tables!L$1:L$4, PARTITA!F71))","v":false},{"$f":"AND(A71, PARTITA!AO71=0)","v":false},{"$f":"AND(B71, PARTITA!AO71=0)","v":false},{"$f":"isNetPoint(PARTITA!AC71)","v":"0"},{"$f":"OR(PARTITA!S71=1, PARTITA!T71=1)","v":false},{"$f":"IF(PARTITA!K71=1,OR(E71=\"1\",E71=\"3\",F71=TRUE),OR(E71=\"2\",E71=\"3\"))","v":false},{"$f":"IF(PARTITA!K71=2,OR(E71=\"1\",E71=\"3\",F71=TRUE),OR(E71=\"2\",E71=\"3\"))","v":false},{"$f":"AND(G71=TRUE,PARTITA!AN71=1)","v":false},{"$f":"AND(H71=TRUE,PARTITA!AN71=2)","v":false},{"$f":"IF(PARTITA!AN71=1,K70+1,0)","v":0},{"$f":"IF(PARTITA!AN71=2,L70+1,0)","v":0},{"$f":"PARTITA!A71","v":""},{"$f":"COUNTIFS(PARTITA!AN62:AN71, \"=1\")","v":0},{"$f":"COUNTIFS(PARTITA!AN62:AN71, \"=2\")","v":0},{"$f":"PARTITA!BA71","v":""}]
[{"$f":"AND(PARTITA!K72=2, COUNTIF(Tables!L$1:L$4, PARTITA!F72))","v":false},{"$f":"AND(PARTITA!K72=1, COUNTIF(Tables!L$1:L$4, PARTITA!F72))","v":false},{"$f":"AND(A72, PARTITA!AO72=0)","v":false},{"$f":"AND(B72, PARTITA!AO72=0)","v":false},{"$f":"isNetPoint(PARTITA!AC72)","v":"0"},{"$f":"OR(PARTITA!S72=1, PARTITA!T72=1)","v":false},{"$f":"IF(PARTITA!K72=1,OR(E72=\"1\",E72=\"3\",F72=TRUE),OR(E72=\"2\",E72=\"3\"))","v":false},{"$f":"IF(PARTITA!K72=2,OR(E72=\"1\",E72=\"3\",F72=TRUE),OR(E72=\"2\",E72=\"3\"))","v":false},{"$f":"AND(G72=TRUE,PARTITA!AN72=1)","v":false},{"$f":"AND(H72=TRUE,PARTITA!AN72=2)","v":false},{"$f":"IF(PARTITA!AN72=1,K71+1,0)","v":0},{"$f":"IF(PARTITA!AN72=2,L71+1,0)","v":0},{"$f":"PARTITA!A72","v":""},{"$f":"COUNTIFS(PARTITA!AN63:AN72, \"=1\")","v":0},{"$f":"COUNTIFS(PARTITA!AN63:AN72, \"=2\")","v":0},{"$f":"PARTITA!BA72","v":""}]
[{"$f":"AND(PARTITA!K73=2, COUNTIF(Tables!L$1:L$4, PARTITA!F73))","v":false},{"$f":"AND(PARTITA!K73=1, COUNTIF(Tables!L$1:L$4, PARTITA!F73))","v":false},{"$f":"AND(A73, PARTITA!AO73=0)","v":false},{"$f":"AND(B73, PARTITA!AO73=0)","v":false},{"$f":"isNetPoint(PARTITA!AC73)","v":"0"},{"$f":"OR(PARTITA!S73=1, PARTITA!T73=1)","v":false},{"$f":"IF(PARTITA!K73=1,OR(E73=\"1\",E73=\"3\",F73=TRUE),OR(E73=\"2\",E73=\"3\"))","v":false},{"$f":"IF(PARTITA!K73=2,OR(E73=\"1\",E73=\"3\",F73=TRUE),OR(E73=\"2\",E73=\"3\"))","v":false},{"$f":"AND(G73=TRUE,PARTITA!AN73=1)","v":false},{"$f":"AND(H73=TRUE,PARTITA!AN73=2)","v":false},{"$f":"IF(PARTITA!AN73=1,K72+1,0)","v":0},{"$f":"IF(PARTITA!AN73=2,L72+1,0)","v":0},{"$f":"PARTITA!A73","v":""},{"$f":"COUNTIFS(PARTITA!AN64:AN73, \"=1\")","v":0},{"$f":"COUNTIFS(PARTITA!AN64:AN73, \"=2\")","v":0},{"$f":"PARTITA!BA73","v":""}]
[{"$f":"AND(PARTITA!K74=2, COUNTIF(Tables!L$1:L$4, PARTITA!F74))","v":false},{"$f":"AND(PARTITA!K74=1, COUNTIF(Tables!L$1:L$4, PARTITA!F74))","v":false},{"$f":"AND(A74, PARTITA!AO74=0)","v":false},{"$f":"AND(B74, PARTITA!AO74=0)","v":false},{"$f":"isNetPoint(PARTITA!AC74)","v":"0"},{"$f":"OR(PARTITA!S74=1, PARTITA!T74=1)","v":false},{"$f":"IF(PARTITA!K74=1,OR(E74=\"1\",E74=\"3\",F74=TRUE),OR(E74=\"2\",E74=\"3\"))","v":false},{"$f":"IF(PARTITA!K74=2,OR(E74=\"1\",E74=\"3\",F74=TRUE),OR(E74=\"2\",E74=\"3\"))","v":false},{"$f":"AND(G74=TRUE,PARTITA!AN74=1)","v":false},{"$f":"AND(H74=TRUE,PARTITA!AN74=2)","v":false},{"$f":"IF(PARTITA!AN74=1,K73+1,0)","v":0},{"$f":"IF(PARTITA!AN74=2,L73+1,0)","v":0},{"$f":"PARTITA!A74","v":""},{"$f":"COUNTIFS(PARTITA!AN65:AN74, \"=1\")","v":0},{"$f":"COUNTIFS(PARTITA!AN65:AN74, \"=2\")","v":0},{"$f":"PARTITA!BA74","v":""}]
[{"$f":"AND(PARTITA!K75=2, COUNTIF(Tables!L$1:L$4, PARTITA!F75))","v":false},{"$f":"AND(PARTITA!K75=1, COUNTIF(Tables!L$1:L$4, PARTITA!F75))","v":false},{"$f":"AND(A75, PARTITA!AO75=0)","v":false},{"$f":"AND(B75, PARTITA!AO75=0)","v":false},{"$f":"isNetPoint(PARTITA!AC75)","v":"0"},{"$f":"OR(PARTITA!S75=1, PARTITA!T75=1)","v":false},{"$f":"IF(PARTITA!K75=1,OR(E75=\"1\",E75=\"3\",F75=TRUE),OR(E75=\"2\",E75=\"3\"))","v":false},{"$f":"IF(PARTITA!K75=2,OR(E75=\"1\",E75=\"3\",F75=TRUE),OR(E75=\"2\",E75=\"3\"))","v":false},{"$f":"AND(G75=TRUE,PARTITA!AN75=1)","v":false},{"$f":"AND(H75=TRUE,PARTITA!AN75=2)","v":false},{"$f":"IF(PARTITA!AN75=1,K74+1,0)","v":0},{"$f":"IF(PARTITA!AN75=2,L74+1,0)","v":0},{"$f":"PARTITA!A75","v":""},{"$f":"COUNTIFS(PARTITA!AN66:AN75, \"=1\")","v":0},{"$f":"COUNTIFS(PARTITA!AN66:AN75, \"=2\")","v":0},{"$f":"PARTITA!BA75","v":""}]
[{"$f":"AND(PARTITA!K76=2, COUNTIF(Tables!L$1:L$4, PARTITA!F76))","v":false},{"$f":"AND(PARTITA!K76=1, COUNTIF(Tables!L$1:L$4, PARTITA!F76))","v":false},{"$f":"AND(A76, PARTITA!AO76=0)","v":false},{"$f":"AND(B76, PARTITA!AO76=0)","v":false},{"$f":"isNetPoint(PARTITA!AC76)","v":"0"},{"$f":"OR(PARTITA!S76=1, PARTITA!T76=1)","v":false},{"$f":"IF(PARTITA!K76=1,OR(E76=\"1\",E76=\"3\",F76=TRUE),OR(E76=\"2\",E76=\"3\"))","v":false},{"$f":"IF(PARTITA!K76=2,OR(E76=\"1\",E76=\"3\",F76=TRUE),OR(E76=\"2\",E76=\"3\"))","v":false},{"$f":"AND(G76=TRUE,PARTITA!AN76=1)","v":false},{"$f":"AND(H76=TRUE,PARTITA!AN76=2)","v":false},{"$f":"IF(PARTITA!AN76=1,K75+1,0)","v":0},{"$f":"IF(PARTITA!AN76=2,L75+1,0)","v":0},{"$f":"PARTITA!A76","v":""},{"$f":"COUNTIFS(PARTITA!AN67:AN76, \"=1\")","v":0},{"$f":"COUNTIFS(PARTITA!AN67:AN76, \"=2\")","v":0},{"$f":"PARTITA!BA76","v":""}]
[{"$f":"AND(PARTITA!K77=2, COUNTIF(Tables!L$1:L$4, PARTITA!F77))","v":false},{"$f":"AND(PARTITA!K77=1, COUNTIF(Tables!L$1:L$4, PARTITA!F77))","v":false},{"$f":"AND(A77, PARTITA!AO77=0)","v":false},{"$f":"AND(B77, PARTITA!AO77=0)","v":false},{"$f":"isNetPoint(PARTITA!AC77)","v":"0"},{"$f":"OR(PARTITA!S77=1, PARTITA!T77=1)","v":false},{"$f":"IF(PARTITA!K77=1,OR(E77=\"1\",E77=\"3\",F77=TRUE),OR(E77=\"2\",E77=\"3\"))","v":false},{"$f":"IF(PARTITA!K77=2,OR(E77=\"1\",E77=\"3\",F77=TRUE),OR(E77=\"2\",E77=\"3\"))","v":false},{"$f":"AND(G77=TRUE,PARTITA!AN77=1)","v":false},{"$f":"AND(H77=TRUE,PARTITA!AN77=2)","v":false},{"$f":"IF(PARTITA!AN77=1,K76+1,0)","v":0},{"$f":"IF(PARTITA!AN77=2,L76+1,0)","v":0},{"$f":"PARTITA!A77","v":""},{"$f":"COUNTIFS(PARTITA!AN68:AN77, \"=1\")","v":0},{"$f":"COUNTIFS(PARTITA!AN68:AN77, \"=2\")","v":0},{"$f":"PARTITA!BA77","v":""}]
[{"$f":"AND(PARTITA!K78=2, COUNTIF(Tables!L$1:L$4, PARTITA!F78))","v":false},{"$f":"AND(PARTITA!K78=1, COUNTIF(Tables!L$1:L$4, PARTITA!F78))","v":false},{"$f":"AND(A78, PARTITA!AO78=0)","v":false},{"$f":"AND(B78, PARTITA!AO78=0)","v":false},{"$f":"isNetPoint(PARTITA!AC78)","v":"0"},{"$f":"OR(PARTITA!S78=1, PARTITA!T78=1)","v":false},{"$f":"IF(PARTITA!K78=1,OR(E78=\"1\",E78=\"3\",F78=TRUE),OR(E78=\"2\",E78=\"3\"))","v":false},{"$f":"IF(PARTITA!K78=2,OR(E78=\"1\",E78=\"3\",F78=TRUE),OR(E78=\"2\",E78=\"3\"))","v":false},{"$f":"AND(G78=TRUE,PARTITA!AN78=1)","v":false},{"$f":"AND(H78=TRUE,PARTITA!AN78=2)","v":false},{"$f":"IF(PARTITA!AN78=1,K77+1,0)","v":0},{"$f":"IF(PARTITA!AN78=2,L77+1,0)","v":0},{"$f":"PARTITA!A78","v":""},{"$f":"COUNTIFS(PARTITA!AN69:AN78, \"=1\")","v":0},{"$f":"COUNTIFS(PARTITA!AN69:AN78, \"=2\")","v":0},{"$f":"PARTITA!BA78","v":""}]
[{"$f":"AND(PARTITA!K79=2, COUNTIF(Tables!L$1:L$4, PARTITA!F79))","v":false},{"$f":"AND(PARTITA!K79=1, COUNTIF(Tables!L$1:L$4, PARTITA!F79))","v":false},{"$f":"AND(A79, PARTITA!AO79=0)","v":false},{"$f":"AND(B79, PARTITA!AO79=0)","v":false},{"$f":"isNetPoint(PARTITA!AC79)","v":"0"},{"$f":"OR(PARTITA!S79=1, PARTITA!T79=1)","v":false},{"$f":"IF(PARTITA!K79=1,OR(E79=\"1\",E79=\"3\",F79=TRUE),OR(E79=\"2\",E79=\"3\"))","v":false},{"$f":"IF(PARTITA!K79=2,OR(E79=\"1\",E79=\"3\",F79=TRUE),OR(E79=\"2\",E79=\"3\"))","v":false},{"$f":"AND(G79=TRUE,PARTITA!AN79=1)","v":false},{"$f":"AND(H79=TRUE,PARTITA!AN79=2)","v":false},{"$f":"IF(PARTITA!AN79=1,K78+1,0)","v":0},{"$f":"IF(PARTITA!AN79=2,L78+1,0)","v":0},{"$f":"PARTITA!A79","v":""},{"$f":"COUNTIFS(PARTITA!AN70:AN79, \"=1\")","v":0},{"$f":"COUNTIFS(PARTITA!AN70:AN79, \"=2\")","v":0},{"$f":"PARTITA!BA79","v":""}]
[{"$f":"AND(PARTITA!K80=2, COUNTIF(Tables!L$1:L$4, PARTITA!F80))","v":false},{"$f":"AND(PARTITA!K80=1, COUNTIF(Tables!L$1:L$4, PARTITA!F80))","v":false},{"$f":"AND(A80, PARTITA!AO80=0)","v":false},{"$f":"AND(B80, PARTITA!AO80=0)","v":false},{"$f":"isNetPoint(PARTITA!AC80)","v":"0"},{"$f":"OR(PARTITA!S80=1, PARTITA!T80=1)","v":false},{"$f":"IF(PARTITA!K80=1,OR(E80=\"1\",E80=\"3\",F80=TRUE),OR(E80=\"2\",E80=\"3\"))","v":false},{"$f":"IF(PARTITA!K80=2,OR(E80=\"1\",E80=\"3\",F80=TRUE),OR(E80=\"2\",E80=\"3\"))","v":false},{"$f":"AND(G80=TRUE,PARTITA!AN80=1)","v":false},{"$f":"AND(H80=TRUE,PARTITA!AN80=2)","v":false},{"$f":"IF(PARTITA!AN80=1,K79+1,0)","v":0},{"$f":"IF(PARTITA!AN80=2,L79+1,0)","v":0},{"$f":"PARTITA!A80","v":""},{"$f":"COUNTIFS(PARTITA!AN71:AN80, \"=1\")","v":0},{"$f":"COUNTIFS(PARTITA!AN71:AN80, \"=2\")","v":0},{"$f":"PARTITA!BA80","v":""}]
[{"$f":"AND(PARTITA!K81=2, COUNTIF(Tables!L$1:L$4, PARTITA!F81))","v":false},{"$f":"AND(PARTITA!K81=1, COUNTIF(Tables!L$1:L$4, PARTITA!F81))","v":false},{"$f":"AND(A81, PARTITA!AO81=0)","v":false},{"$f":"AND(B81, PARTITA!AO81=0)","v":false},{"$f":"isNetPoint(PARTITA!AC81)","v":"0"},{"$f":"OR(PARTITA!S81=1, PARTITA!T81=1)","v":false},{"$f":"IF(PARTITA!K81=1,OR(E81=\"1\",E81=\"3\",F81=TRUE),OR(E81=\"2\",E81=\"3\"))","v":false},{"$f":"IF(PARTITA!K81=2,OR(E81=\"1\",E81=\"3\",F81=TRUE),OR(E81=\"2\",E81=\"3\"))","v":false},{"$f":"AND(G81=TRUE,PARTITA!AN81=1)","v":false},{"$f":"AND(H81=TRUE,PARTITA!AN81=2)","v":false},{"$f":"IF(PARTITA!AN81=1,K80+1,0)","v":0},{"$f":"IF(PARTITA!AN81=2,L80+1,0)","v":0},{"$f":"PARTITA!A81","v":""},{"$f":"COUNTIFS(PARTITA!AN72:AN81, \"=1\")","v":0},{"$f":"COUNTIFS(PARTITA!AN72:AN81, \"=2\")","v":0},{"$f":"PARTITA!BA81","v":""}]
[{"$f":"AND(PARTITA!K82=2, COUNTIF(Tables!L$1:L$4, PARTITA!F82))","v":false},{"$f":"AND(PARTITA!K82=1, COUNTIF(Tables!L$1:L$4, PARTITA!F82))","v":false},{"$f":"AND(A82, PARTITA!AO82=0)","v":false},{"$f":"AND(B82, PARTITA!AO82=0)","v":false},{"$f":"isNetPoint(PARTITA!AC82)","v":"0"},{"$f":"OR(PARTITA!S82=1, PARTITA!T82=1)","v":false},{"$f":"IF(PARTITA!K82=1,OR(E82=\"1\",E82=\"3\",F82=TRUE),OR(E82=\"2\",E82=\"3\"))","v":false},{"$f":"IF(PARTITA!K82=2,OR(E82=\"1\",E82=\"3\",F82=TRUE),OR(E82=\"2\",E82=\"3\"))","v":false},{"$f":"AND(G82=TRUE,PARTITA!AN82=1)","v":false},{"$f":"AND(H82=TRUE,PARTITA!AN82=2)","v":false},{"$f":"IF(PARTITA!AN82=1,K81+1,0)","v":0},{"$f":"IF(PARTITA!AN82=2,L81+1,0)","v":0},{"$f":"PARTITA!A82","v":""},{"$f":"COUNTIFS(PARTITA!AN73:AN82, \"=1\")","v":0},{"$f":"COUNTIFS(PARTITA!AN73:AN82, \"=2\")","v":0},{"$f":"PARTITA!BA82","v":""}]
[{"$f":"AND(PARTITA!K83=2, COUNTIF(Tables!L$1:L$4, PARTITA!F83))","v":false},{"$f":"AND(PARTITA!K83=1, COUNTIF(Tables!L$1:L$4, PARTITA!F83))","v":false},{"$f":"AND(A83, PARTITA!AO83=0)","v":false},{"$f":"AND(B83, PARTITA!AO83=0)","v":false},{"$f":"isNetPoint(PARTITA!AC83)","v":"0"},{"$f":"OR(PARTITA!S83=1, PARTITA!T83=1)","v":false},{"$f":"IF(PARTITA!K83=1,OR(E83=\"1\",E83=\"3\",F83=TRUE),OR(E83=\"2\",E83=\"3\"))","v":false},{"$f":"IF(PARTITA!K83=2,OR(E83=\"1\",E83=\"3\",F83=TRUE),OR(E83=\"2\",E83=\"3\"))","v":false},{"$f":"AND(G83=TRUE,PARTITA!AN83=1)","v":false},{"$f":"AND(H83=TRUE,PARTITA!AN83=2)","v":false},{"$f":"IF(PARTITA!AN83=1,K82+1,0)","v":0},{"$f":"IF(PARTITA!AN83=2,L82+1,0)","v":0},{"$f":"PARTITA!A83","v":""},{"$f":"COUNTIFS(PARTITA!AN74:AN83, \"=1\")","v":0},{"$f":"COUNTIFS(PARTITA!AN74:AN83, \"=2\")","v":0},{"$f":"PARTITA!BA83","v":""}]
[{"$f":"AND(PARTITA!K84=2, COUNTIF(Tables!L$1:L$4, PARTITA!F84))","v":false},{"$f":"AND(PARTITA!K84=1, COUNTIF(Tables!L$1:L$4, PARTITA!F84))","v":false},{"$f":"AND(A84, PARTITA!AO84=0)","v":false},{"$f":"AND(B84, PARTITA!AO84=0)","v":false},{"$f":"isNetPoint(PARTITA!AC84)","v":"0"},{"$f":"OR(PARTITA!S84=1, PARTITA!T84=1)","v":false},{"$f":"IF(PARTITA!K84=1,OR(E84=\"1\",E84=\"3\",F84=TRUE),OR(E84=\"2\",E84=\"3\"))","v":false},{"$f":"IF(PARTITA!K84=2,OR(E84=\"1\",E84=\"3\",F84=TRUE),OR(E84=\"2\",E84=\"3\"))","v":false},{"$f":"AND(G84=TRUE,PARTITA!AN84=1)","v":false},{"$f":"AND(H84=TRUE,PARTITA!AN84=2)","v":false},{"$f":"IF(PARTITA!AN84=1,K83+1,0)","v":0},{"$f":"IF(PARTITA!AN84=2,L83+1,0)","v":0},{"$f":"PARTITA!A84","v":""},{"$f":"COUNTIFS(PARTITA!AN75:AN84, \"=1\")","v":0},{"$f":"COUNTIFS(PARTITA!AN75:AN84, \"=2\")","v":0},{"$f":"PARTITA!BA84","v":""}]
[{"$f":"AND(PARTITA!K85=2, COUNTIF(Tables!L$1:L$4, PARTITA!F85))","v":false},{"$f":"AND(PARTITA!K85=1, COUNTIF(Tables!L$1:L$4, PARTITA!F85))","v":false},{"$f":"AND(A85, PARTITA!AO85=0)","v":false},{"$f":"AND(B85, PARTITA!AO85=0)","v":false},{"$f":"isNetPoint(PARTITA!AC85)","v":"0"},{"$f":"OR(PARTITA!S85=1, PARTITA!T85=1)","v":false},{"$f":"IF(PARTITA!K85=1,OR(E85=\"1\",E85=\"3\",F85=TRUE),OR(E85=\"2\",E85=\"3\"))","v":false},{"$f":"IF(PARTITA!K85=2,OR(E85=\"1\",E85=\"3\",F85=TRUE),OR(E85=\"2\",E85=\"3\"))","v":false},{"$f":"AND(G85=TRUE,PARTITA!AN85=1)","v":false},{"$f":"AND(H85=TRUE,PARTITA!AN85=2)","v":false},{"$f":"IF(PARTITA!AN85=1,K84+1,0)","v":0},{"$f":"IF(PARTITA!AN85=2,L84+1,0)","v":0},{"$f":"PARTITA!A85","v":""},{"$f":"COUNTIFS(PARTITA!AN76:AN85, \"=1\")","v":0},{"$f":"COUNTIFS(PARTITA!AN76:AN85, \"=2\")","v":0},{"$f":"PARTITA!BA85","v":""}]
[{"$f":"AND(PARTITA!K86=2, COUNTIF(Tables!L$1:L$4, PARTITA!F86))","v":false},{"$f":"AND(PARTITA!K86=1, COUNTIF(Tables!L$1:L$4, PARTITA!F86))","v":false},{"$f":"AND(A86, PARTITA!AO86=0)","v":false},{"$f":"AND(B86, PARTITA!AO86=0)","v":false},{"$f":"isNetPoint(PARTITA!AC86)","v":"0"},{"$f":"OR(PARTITA!S86=1, PARTITA!T86=1)","v":false},{"$f":"IF(PARTITA!K86=1,OR(E86=\"1\",E86=\"3\",F86=TRUE),OR(E86=\"2\",E86=\"3\"))","v":false},{"$f":"IF(PARTITA!K86=2,OR(E86=\"1\",E86=\"3\",F86=TRUE),OR(E86=\"2\",E86=\"3\"))","v":false},{"$f":"AND(G86=TRUE,PARTITA!AN86=1)","v":false},{"$f":"AND(H86=TRUE,PARTITA!AN86=2)","v":false},{"$f":"IF(PARTITA!AN86=1,K85+1,0)","v":0},{"$f":"IF(PARTITA!AN86=2,L85+1,0)","v":0},{"$f":"PARTITA!A86","v":""},{"$f":"COUNTIFS(PARTITA!AN77:AN86, \"=1\")","v":0},{"$f":"COUNTIFS(PARTITA!AN77:AN86, \"=2\")","v":0},{"$f":"PARTITA!BA86","v":""}]
[{"$f":"AND(PARTITA!K87=2, COUNTIF(Tables!L$1:L$4, PARTITA!F87))","v":false},{"$f":"AND(PARTITA!K87=1, COUNTIF(Tables!L$1:L$4, PARTITA!F87))","v":false},{"$f":"AND(A87, PARTITA!AO87=0)","v":false},{"$f":"AND(B87, PARTITA!AO87=0)","v":false},{"$f":"isNetPoint(PARTITA!AC87)","v":"0"},{"$f":"OR(PARTITA!S87=1, PARTITA!T87=1)","v":false},{"$f":"IF(PARTITA!K87=1,OR(E87=\"1\",E87=\"3\",F87=TRUE),OR(E87=\"2\",E87=\"3\"))","v":false},{"$f":"IF(PARTITA!K87=2,OR(E87=\"1\",E87=\"3\",F87=TRUE),OR(E87=\"2\",E87=\"3\"))","v":false},{"$f":"AND(G87=TRUE,PARTITA!AN87=1)","v":false},{"$f":"AND(H87=TRUE,PARTITA!AN87=2)","v":false},{"$f":"IF(PARTITA!AN87=1,K86+1,0)","v":0},{"$f":"IF(PARTITA!AN87=2,L86+1,0)","v":0},{"$f":"PARTITA!A87","v":""},{"$f":"COUNTIFS(PARTITA!AN78:AN87, \"=1\")","v":0},{"$f":"COUNTIFS(PARTITA!AN78:AN87, \"=2\")","v":0},{"$f":"PARTITA!BA87","v":""}]
[{"$f":"AND(PARTITA!K88=2, COUNTIF(Tables!L$1:L$4, PARTITA!F88))","v":false},{"$f":"AND(PARTITA!K88=1, COUNTIF(Tables!L$1:L$4, PARTITA!F88))","v":false},{"$f":"AND(A88, PARTITA!AO88=0)","v":false},{"$f":"AND(B88, PARTITA!AO88=0)","v":false},{"$f":"isNetPoint(PARTITA!AC88)","v":"0"},{"$f":"OR(PARTITA!S88=1, PARTITA!T88=1)","v":false},{"$f":"IF(PARTITA!K88=1,OR(E88=\"1\",E88=\"3\",F88=TRUE),OR(E88=\"2\",E88=\"3\"))","v":false},{"$f":"IF(PARTITA!K88=2,OR(E88=\"1\",E88=\"3\",F88=TRUE),OR(E88=\"2\",E88=\"3\"))","v":false},{"$f":"AND(G88=TRUE,PARTITA!AN88=1)","v":false},{"$f":"AND(H88=TRUE,PARTITA!AN88=2)","v":false},{"$f":"IF(PARTITA!AN88=1,K87+1,0)","v":0},{"$f":"IF(PARTITA!AN88=2,L87+1,0)","v":0},{"$f":"PARTITA!A88","v":""},{"$f":"COUNTIFS(PARTITA!AN79:AN88, \"=1\")","v":0},{"$f":"COUNTIFS(PARTITA!AN79:AN88, \"=2\")","v":0},{"$f":"PARTITA!BA88","v":""}]
[{"$f":"AND(PARTITA!K89=2, COUNTIF(Tables!L$1:L$4, PARTITA!F89))","v":false},{"$f":"AND(PARTITA!K89=1, COUNTIF(Tables!L$1:L$4, PARTITA!F89))","v":false},{"$f":"AND(A89, PARTITA!AO89=0)","v":false},{"$f":"AND(B89, PARTITA!AO89=0)","v":false},{"$f":"isNetPoint(PARTITA!AC89)","v":"0"},{"$f":"OR(PARTITA!S89=1, PARTITA!T89=1)","v":false},{"$f":"IF(PARTITA!K89=1,OR(E89=\"1\",E89=\"3\",F89=TRUE),OR(E89=\"2\",E89=\"3\"))","v":false},{"$f":"IF(PARTITA!K89=2,OR(E89=\"1\",E89=\"3\",F89=TRUE),OR(E89=\"2\",E89=\"3\"))","v":false},{"$f":"AND(G89=TRUE,PARTITA!AN89=1)","v":false},{"$f":"AND(H89=TRUE,PARTITA!AN89=2)","v":false},{"$f":"IF(PARTITA!AN89=1,K88+1,0)","v":0},{"$f":"IF(PARTITA!AN89=2,L88+1,0)","v":0},{"$f":"PARTITA!A89","v":""},{"$f":"COUNTIFS(PARTITA!AN80:AN89, \"=1\")","v":0},{"$f":"COUNTIFS(PARTITA!AN80:AN89, \"=2\")","v":0},{"$f":"PARTITA!BA89","v":""}]
[{"$f":"AND(PARTITA!K90=2, COUNTIF(Tables!L$1:L$4, PARTITA!F90))","v":false},{"$f":"AND(PARTITA!K90=1, COUNTIF(Tables!L$1:L$4, PARTITA!F90))","v":false},{"$f":"AND(A90, PARTITA!AO90=0)","v":false},{"$f":"AND(B90, PARTITA!AO90=0)","v":false},{"$f":"isNetPoint(PARTITA!AC90)","v":"0"},{"$f":"OR(PARTITA!S90=1, PARTITA!T90=1)","v":false},{"$f":"IF(PARTITA!K90=1,OR(E90=\"1\",E90=\"3\",F90=TRUE),OR(E90=\"2\",E90=\"3\"))","v":false},{"$f":"IF(PARTITA!K90=2,OR(E90=\"1\",E90=\"3\",F90=TRUE),OR(E90=\"2\",E90=\"3\"))","v":false},{"$f":"AND(G90=TRUE,PARTITA!AN90=1)","v":false},{"$f":"AND(H90=TRUE,PARTITA!AN90=2)","v":false},{"$f":"IF(PARTITA!AN90=1,K89+1,0)","v":0},{"$f":"IF(PARTITA!AN90=2,L89+1,0)","v":0},{"$f":"PARTITA!A90","v":""},{"$f":"COUNTIFS(PARTITA!AN81:AN90, \"=1\")","v":0},{"$f":"COUNTIFS(PARTITA!AN81:AN90, \"=2\")","v":0},{"$f":"PARTITA!BA90","v":""}]
[{"$f":"AND(PARTITA!K91=2, COUNTIF(Tables!L$1:L$4, PARTITA!F91))","v":false},{"$f":"AND(PARTITA!K91=1, COUNTIF(Tables!L$1:L$4, PARTITA!F91))","v":false},{"$f":"AND(A91, PARTITA!AO91=0)","v":false},{"$f":"AND(B91, PARTITA!AO91=0)","v":false},{"$f":"isNetPoint(PARTITA!AC91)","v":"0"},{"$f":"OR(PARTITA!S91=1, PARTITA!T91=1)","v":false},{"$f":"IF(PARTITA!K91=1,OR(E91=\"1\",E91=\"3\",F91=TRUE),OR(E91=\"2\",E91=\"3\"))","v":false},{"$f":"IF(PARTITA!K91=2,OR(E91=\"1\",E91=\"3\",F91=TRUE),OR(E91=\"2\",E91=\"3\"))","v":false},{"$f":"AND(G91=TRUE,PARTITA!AN91=1)","v":false},{"$f":"AND(H91=TRUE,PARTITA!AN91=2)","v":false},{"$f":"IF(PARTITA!AN91=1,K90+1,0)","v":0},{"$f":"IF(PARTITA!AN91=2,L90+1,0)","v":0},{"$f":"PARTITA!A91","v":""},{"$f":"COUNTIFS(PARTITA!AN82:AN91, \"=1\")","v":0},{"$f":"COUNTIFS(PARTITA!AN82:AN91, \"=2\")","v":0},{"$f":"PARTITA!BA91","v":""}]
[{"$f":"AND(PARTITA!K92=2, COUNTIF(Tables!L$1:L$4, PARTITA!F92))","v":false},{"$f":"AND(PARTITA!K92=1, COUNTIF(Tables!L$1:L$4, PARTITA!F92))","v":false},{"$f":"AND(A92, PARTITA!AO92=0)","v":false},{"$f":"AND(B92, PARTITA!AO92=0)","v":false},{"$f":"isNetPoint(PARTITA!AC92)","v":"0"},{"$f":"OR(PARTITA!S92=1, PARTITA!T92=1)","v":false},{"$f":"IF(PARTITA!K92=1,OR(E92=\"1\",E92=\"3\",F92=TRUE),OR(E92=\"2\",E92=\"3\"))","v":false},{"$f":"IF(PARTITA!K92=2,OR(E92=\"1\",E92=\"3\",F92=TRUE),OR(E92=\"2\",E92=\"3\"))","v":false},{"$f":"AND(G92=TRUE,PARTITA!AN92=1)","v":false},{"$f":"AND(H92=TRUE,PARTITA!AN92=2)","v":false},{"$f":"IF(PARTITA!AN92=1,K91+1,0)","v":0},{"$f":"IF(PARTITA!AN92=2,L91+1,0)","v":0},{"$f":"PARTITA!A92","v":""},{"$f":"COUNTIFS(PARTITA!AN83:AN92, \"=1\")","v":0},{"$f":"COUNTIFS(PARTITA!AN83:AN92, \"=2\")","v":0},{"$f":"PARTITA!BA92","v":""}]
[{"$f":"AND(PARTITA!K93=2, COUNTIF(Tables!L$1:L$4, PARTITA!F93))","v":false},{"$f":"AND(PARTITA!K93=1, COUNTIF(Tables!L$1:L$4, PARTITA!F93))","v":false},{"$f":"AND(A93, PARTITA!AO93=0)","v":false},{"$f":"AND(B93, PARTITA!AO93=0)","v":false},{"$f":"isNetPoint(PARTITA!AC93)","v":"0"},{"$f":"OR(PARTITA!S93=1, PARTITA!T93=1)","v":false},{"$f":"IF(PARTITA!K93=1,OR(E93=\"1\",E93=\"3\",F93=TRUE),OR(E93=\"2\",E93=\"3\"))","v":false},{"$f":"IF(PARTITA!K93=2,OR(E93=\"1\",E93=\"3\",F93=TRUE),OR(E93=\"2\",E93=\"3\"))","v":false},{"$f":"AND(G93=TRUE,PARTITA!AN93=1)","v":false},{"$f":"AND(H93=TRUE,PARTITA!AN93=2)","v":false},{"$f":"IF(PARTITA!AN93=1,K92+1,0)","v":0},{"$f":"IF(PARTITA!AN93=2,L92+1,0)","v":0},{"$f":"PARTITA!A93","v":""},{"$f":"COUNTIFS(PARTITA!AN84:AN93, \"=1\")","v":0},{"$f":"COUNTIFS(PARTITA!AN84:AN93, \"=2\")","v":0},{"$f":"PARTITA!BA93","v":""}]
[{"$f":"AND(PARTITA!K94=2, COUNTIF(Tables!L$1:L$4, PARTITA!F94))","v":false},{"$f":"AND(PARTITA!K94=1, COUNTIF(Tables!L$1:L$4, PARTITA!F94))","v":false},{"$f":"AND(A94, PARTITA!AO94=0)","v":false},{"$f":"AND(B94, PARTITA!AO94=0)","v":false},{"$f":"isNetPoint(PARTITA!AC94)","v":"0"},{"$f":"OR(PARTITA!S94=1, PARTITA!T94=1)","v":false},{"$f":"IF(PARTITA!K94=1,OR(E94=\"1\",E94=\"3\",F94=TRUE),OR(E94=\"2\",E94=\"3\"))","v":false},{"$f":"IF(PARTITA!K94=2,OR(E94=\"1\",E94=\"3\",F94=TRUE),OR(E94=\"2\",E94=\"3\"))","v":false},{"$f":"AND(G94=TRUE,PARTITA!AN94=1)","v":false},{"$f":"AND(H94=TRUE,PARTITA!AN94=2)","v":false},{"$f":"IF(PARTITA!AN94=1,K93+1,0)","v":0},{"$f":"IF(PARTITA!AN94=2,L93+1,0)","v":0},{"$f":"PARTITA!A94","v":""},{"$f":"COUNTIFS(PARTITA!AN85:AN94, \"=1\")","v":0},{"$f":"COUNTIFS(PARTITA!AN85:AN94, \"=2\")","v":0},{"$f":"PARTITA!BA94","v":""}]
[{"$f":"AND(PARTITA!K95=2, COUNTIF(Tables!L$1:L$4, PARTITA!F95))","v":false},{"$f":"AND(PARTITA!K95=1, COUNTIF(Tables!L$1:L$4, PARTITA!F95))","v":false},{"$f":"AND(A95, PARTITA!AO95=0)","v":false},{"$f":"AND(B95, PARTITA!AO95=0)","v":false},{"$f":"isNetPoint(PARTITA!AC95)","v":"0"},{"$f":"OR(PARTITA!S95=1, PARTITA!T95=1)","v":false},{"$f":"IF(PARTITA!K95=1,OR(E95=\"1\",E95=\"3\",F95=TRUE),OR(E95=\"2\",E95=\"3\"))","v":false},{"$f":"IF(PARTITA!K95=2,OR(E95=\"1\",E95=\"3\",F95=TRUE),OR(E95=\"2\",E95=\"3\"))","v":false},{"$f":"AND(G95=TRUE,PARTITA!AN95=1)","v":false},{"$f":"AND(H95=TRUE,PARTITA!AN95=2)","v":false},{"$f":"IF(PARTITA!AN95=1,K94+1,0)","v":0},{"$f":"IF(PARTITA!AN95=2,L94+1,0)","v":0},{"$f":"PARTITA!A95","v":""},{"$f":"COUNTIFS(PARTITA!AN86:AN95, \"=1\")","v":0},{"$f":"COUNTIFS(PARTITA!AN86:AN95, \"=2\")","v":0},{"$f":"PARTITA!BA95","v":""}]
[{"$f":"AND(PARTITA!K96=2, COUNTIF(Tables!L$1:L$4, PARTITA!F96))","v":false},{"$f":"AND(PARTITA!K96=1, COUNTIF(Tables!L$1:L$4, PARTITA!F96))","v":false},{"$f":"AND(A96, PARTITA!AO96=0)","v":false},{"$f":"AND(B96, PARTITA!AO96=0)","v":false},{"$f":"isNetPoint(PARTITA!AC96)","v":"0"},{"$f":"OR(PARTITA!S96=1, PARTITA!T96=1)","v":false},{"$f":"IF(PARTITA!K96=1,OR(E96=\"1\",E96=\"3\",F96=TRUE),OR(E96=\"2\",E96=\"3\"))","v":false},{"$f":"IF(PARTITA!K96=2,OR(E96=\"1\",E96=\"3\",F96=TRUE),OR(E96=\"2\",E96=\"3\"))","v":false},{"$f":"AND(G96=TRUE,PARTITA!AN96=1)","v":false},{"$f":"AND(H96=TRUE,PARTITA!AN96=2)","v":false},{"$f":"IF(PARTITA!AN96=1,K95+1,0)","v":0},{"$f":"IF(PARTITA!AN96=2,L95+1,0)","v":0},{"$f":"PARTITA!A96","v":""},{"$f":"COUNTIFS(PARTITA!AN87:AN96, \"=1\")","v":0},{"$f":"COUNTIFS(PARTITA!AN87:AN96, \"=2\")","v":0},{"$f":"PARTITA!BA96","v":""}]
[{"$f":"AND(PARTITA!K97=2, COUNTIF(Tables!L$1:L$4, PARTITA!F97))","v":false},{"$f":"AND(PARTITA!K97=1, COUNTIF(Tables!L$1:L$4, PARTITA!F97))","v":false},{"$f":"AND(A97, PARTITA!AO97=0)","v":false},{"$f":"AND(B97, PARTITA!AO97=0)","v":false},{"$f":"isNetPoint(PARTITA!AC97)","v":"0"},{"$f":"OR(PARTITA!S97=1, PARTITA!T97=1)","v":false},{"$f":"IF(PARTITA!K97=1,OR(E97=\"1\",E97=\"3\",F97=TRUE),OR(E97=\"2\",E97=\"3\"))","v":false},{"$f":"IF(PARTITA!K97=2,OR(E97=\"1\",E97=\"3\",F97=TRUE),OR(E97=\"2\",E97=\"3\"))","v":false},{"$f":"AND(G97=TRUE,PARTITA!AN97=1)","v":false},{"$f":"AND(H97=TRUE,PARTITA!AN97=2)","v":false},{"$f":"IF(PARTITA!AN97=1,K96+1,0)","v":0},{"$f":"IF(PARTITA!AN97=2,L96+1,0)","v":0},{"$f":"PARTITA!A97","v":""},{"$f":"COUNTIFS(PARTITA!AN88:AN97, \"=1\")","v":0},{"$f":"COUNTIFS(PARTITA!AN88:AN97, \"=2\")","v":0},{"$f":"PARTITA!BA97","v":""}]
[{"$f":"AND(PARTITA!K98=2, COUNTIF(Tables!L$1:L$4, PARTITA!F98))","v":false},{"$f":"AND(PARTITA!K98=1, COUNTIF(Tables!L$1:L$4, PARTITA!F98))","v":false},{"$f":"AND(A98, PARTITA!AO98=0)","v":false},{"$f":"AND(B98, PARTITA!AO98=0)","v":false},{"$f":"isNetPoint(PARTITA!AC98)","v":"0"},{"$f":"OR(PARTITA!S98=1, PARTITA!T98=1)","v":false},{"$f":"IF(PARTITA!K98=1,OR(E98=\"1\",E98=\"3\",F98=TRUE),OR(E98=\"2\",E98=\"3\"))","v":false},{"$f":"IF(PARTITA!K98=2,OR(E98=\"1\",E98=\"3\",F98=TRUE),OR(E98=\"2\",E98=\"3\"))","v":false},{"$f":"AND(G98=TRUE,PARTITA!AN98=1)","v":false},{"$f":"AND(H98=TRUE,PARTITA!AN98=2)","v":false},{"$f":"IF(PARTITA!AN98=1,K97+1,0)","v":0},{"$f":"IF(PARTITA!AN98=2,L97+1,0)","v":0},{"$f":"PARTITA!A98","v":""},{"$f":"COUNTIFS(PARTITA!AN89:AN98, \"=1\")","v":0},{"$f":"COUNTIFS(PARTITA!AN89:AN98, \"=2\")","v":0},{"$f":"PARTITA!BA98","v":""}]
[{"$f":"AND(PARTITA!K99=2, COUNTIF(Tables!L$1:L$4, PARTITA!F99))","v":false},{"$f":"AND(PARTITA!K99=1, COUNTIF(Tables!L$1:L$4, PARTITA!F99))","v":false},{"$f":"AND(A99, PARTITA!AO99=0)","v":false},{"$f":"AND(B99, PARTITA!AO99=0)","v":false},{"$f":"isNetPoint(PARTITA!AC99)","v":"0"},{"$f":"OR(PARTITA!S99=1, PARTITA!T99=1)","v":false},{"$f":"IF(PARTITA!K99=1,OR(E99=\"1\",E99=\"3\",F99=TRUE),OR(E99=\"2\",E99=\"3\"))","v":false},{"$f":"IF(PARTITA!K99=2,OR(E99=\"1\",E99=\"3\",F99=TRUE),OR(E99=\"2\",E99=\"3\"))","v":false},{"$f":"AND(G99=TRUE,PARTITA!AN99=1)","v":false},{"$f":"AND(H99=TRUE,PARTITA!AN99=2)","v":false},{"$f":"IF(PARTITA!AN99=1,K98+1,0)","v":0},{"$f":"IF(PARTITA!AN99=2,L98+1,0)","v":0},{"$f":"PARTITA!A99","v":""},{"$f":"COUNTIFS(PARTITA!AN90:AN99, \"=1\")","v":0},{"$f":"COUNTIFS(PARTITA!AN90:AN99, \"=2\")","v":0},{"$f":"PARTITA!BA99","v":""}]
[{"$f":"AND(PARTITA!K100=2, COUNTIF(Tables!L$1:L$4, PARTITA!F100))","v":false},{"$f":"AND(PARTITA!K100=1, COUNTIF(Tables!L$1:L$4, PARTITA!F100))","v":false},{"$f":"AND(A100, PARTITA!AO100=0)","v":false},{"$f":"AND(B100, PARTITA!AO100=0)","v":false},{"$f":"isNetPoint(PARTITA!AC100)","v":"0"},{"$f":"OR(PARTITA!S100=1, PARTITA!T100=1)","v":false},{"$f":"IF(PARTITA!K100=1,OR(E100=\"1\",E100=\"3\",F100=TRUE),OR(E100=\"2\",E100=\"3\"))","v":false},{"$f":"IF(PARTITA!K100=2,OR(E100=\"1\",E100=\"3\",F100=TRUE),OR(E100=\"2\",E100=\"3\"))","v":false},{"$f":"AND(G100=TRUE,PARTITA!AN100=1)","v":false},{"$f":"AND(H100=TRUE,PARTITA!AN100=2)","v":false},{"$f":"IF(PARTITA!AN100=1,K99+1,0)","v":0},{"$f":"IF(PARTITA!AN100=2,L99+1,0)","v":0},{"$f":"PARTITA!A100","v":""},{"$f":"COUNTIFS(PARTITA!AN91:AN100, \"=1\")","v":0},{"$f":"COUNTIFS(PARTITA!AN91:AN100, \"=2\")","v":0},{"$f":"PARTITA!BA100","v":""}]
[{"$f":"AND(PARTITA!K101=2, COUNTIF(Tables!L$1:L$4, PARTITA!F101))","v":false},{"$f":"AND(PARTITA!K101=1, COUNTIF(Tables!L$1:L$4, PARTITA!F101))","v":false},{"$f":"AND(A101, PARTITA!AO101=0)","v":false},{"$f":"AND(B101, PARTITA!AO101=0)","v":false},{"$f":"isNetPoint(PARTITA!AC101)","v":"0"},{"$f":"OR(PARTITA!S101=1, PARTITA!T101=1)","v":false},{"$f":"IF(PARTITA!K101=1,OR(E101=\"1\",E101=\"3\",F101=TRUE),OR(E101=\"2\",E101=\"3\"))","v":false},{"$f":"IF(PARTITA!K101=2,OR(E101=\"1\",E101=\"3\",F101=TRUE),OR(E101=\"2\",E101=\"3\"))","v":false},{"$f":"AND(G101=TRUE,PARTITA!AN101=1)","v":false},{"$f":"AND(H101=TRUE,PARTITA!AN101=2)","v":false},{"$f":"IF(PARTITA!AN101=1,K100+1,0)","v":0},{"$f":"IF(PARTITA!AN101=2,L100+1,0)","v":0},{"$f":"PARTITA!A101","v":""},{"$f":"COUNTIFS(PARTITA!AN92:AN101, \"=1\")","v":0},{"$f":"COUNTIFS(PARTITA!AN92:AN101, \"=2\")","v":0},{"$f":"PARTITA!BA101","v":""}]
[{"$f":"AND(PARTITA!K102=2, COUNTIF(Tables!L$1:L$4, PARTITA!F102))","v":false},{"$f":"AND(PARTITA!K102=1, COUNTIF(Tables!L$1:L$4, PARTITA!F102))","v":false},{"$f":"AND(A102, PARTITA!AO102=0)","v":false},{"$f":"AND(B102, PARTITA!AO102=0)","v":false},{"$f":"isNetPoint(PARTITA!AC102)","v":"0"},{"$f":"OR(PARTITA!S102=1, PARTITA!T102=1)","v":false},{"$f":"IF(PARTITA!K102=1,OR(E102=\"1\",E102=\"3\",F102=TRUE),OR(E102=\"2\",E102=\"3\"))","v":false},{"$f":"IF(PARTITA!K102=2,OR(E102=\"1\",E102=\"3\",F102=TRUE),OR(E102=\"2\",E102=\"3\"))","v":false},{"$f":"AND(G102=TRUE,PARTITA!AN102=1)","v":false},{"$f":"AND(H102=TRUE,PARTITA!AN102=2)","v":false},{"$f":"IF(PARTITA!AN102=1,K101+1,0)","v":0},{"$f":"IF(PARTITA!AN102=2,L101+1,0)","v":0},{"$f":"PARTITA!A102","v":""},{"$f":"COUNTIFS(PARTITA!AN93:AN102, \"=1\")","v":0},{"$f":"COUNTIFS(PARTITA!AN93:AN102, \"=2\")","v":0},{"$f":"PARTITA!BA102","v":""}]
[{"$f":"AND(PARTITA!K103=2, COUNTIF(Tables!L$1:L$4, PARTITA!F103))","v":false},{"$f":"AND(PARTITA!K103=1, COUNTIF(Tables!L$1:L$4, PARTITA!F103))","v":false},{"$f":"AND(A103, PARTITA!AO103=0)","v":false},{"$f":"AND(B103, PARTITA!AO103=0)","v":false},{"$f":"isNetPoint(PARTITA!AC103)","v":"0"},{"$f":"OR(PARTITA!S103=1, PARTITA!T103=1)","v":false},{"$f":"IF(PARTITA!K103=1,OR(E103=\"1\",E103=\"3\",F103=TRUE),OR(E103=\"2\",E103=\"3\"))","v":false},{"$f":"IF(PARTITA!K103=2,OR(E103=\"1\",E103=\"3\",F103=TRUE),OR(E103=\"2\",E103=\"3\"))","v":false},{"$f":"AND(G103=TRUE,PARTITA!AN103=1)","v":false},{"$f":"AND(H103=TRUE,PARTITA!AN103=2)","v":false},{"$f":"IF(PARTITA!AN103=1,K102+1,0)","v":0},{"$f":"IF(PARTITA!AN103=2,L102+1,0)","v":0},{"$f":"PARTITA!A103","v":""},{"$f":"COUNTIFS(PARTITA!AN94:AN103, \"=1\")","v":0},{"$f":"COUNTIFS(PARTITA!AN94:AN103, \"=2\")","v":0},{"$f":"PARTITA!BA103","v":""}]
[{"$f":"AND(PARTITA!K104=2, COUNTIF(Tables!L$1:L$4, PARTITA!F104))","v":false},{"$f":"AND(PARTITA!K104=1, COUNTIF(Tables!L$1:L$4, PARTITA!F104))","v":false},{"$f":"AND(A104, PARTITA!AO104=0)","v":false},{"$f":"AND(B104, PARTITA!AO104=0)","v":false},{"$f":"isNetPoint(PARTITA!AC104)","v":"0"},{"$f":"OR(PARTITA!S104=1, PARTITA!T104=1)","v":false},{"$f":"IF(PARTITA!K104=1,OR(E104=\"1\",E104=\"3\",F104=TRUE),OR(E104=\"2\",E104=\"3\"))","v":false},{"$f":"IF(PARTITA!K104=2,OR(E104=\"1\",E104=\"3\",F104=TRUE),OR(E104=\"2\",E104=\"3\"))","v":false},{"$f":"AND(G104=TRUE,PARTITA!AN104=1)","v":false},{"$f":"AND(H104=TRUE,PARTITA!AN104=2)","v":false},{"$f":"IF(PARTITA!AN104=1,K103+1,0)","v":0},{"$f":"IF(PARTITA!AN104=2,L103+1,0)","v":0},{"$f":"PARTITA!A104","v":""},{"$f":"COUNTIFS(PARTITA!AN95:AN104, \"=1\")","v":0},{"$f":"COUNTIFS(PARTITA!AN95:AN104, \"=2\")","v":0},{"$f":"PARTITA!BA104","v":""}]
[{"$f":"AND(PARTITA!K105=2, COUNTIF(Tables!L$1:L$4, PARTITA!F105))","v":false},{"$f":"AND(PARTITA!K105=1, COUNTIF(Tables!L$1:L$4, PARTITA!F105))","v":false},{"$f":"AND(A105, PARTITA!AO105=0)","v":false},{"$f":"AND(B105, PARTITA!AO105=0)","v":false},{"$f":"isNetPoint(PARTITA!AC105)","v":"0"},{"$f":"OR(PARTITA!S105=1, PARTITA!T105=1)","v":false},{"$f":"IF(PARTITA!K105=1,OR(E105=\"1\",E105=\"3\",F105=TRUE),OR(E105=\"2\",E105=\"3\"))","v":false},{"$f":"IF(PARTITA!K105=2,OR(E105=\"1\",E105=\"3\",F105=TRUE),OR(E105=\"2\",E105=\"3\"))","v":false},{"$f":"AND(G105=TRUE,PARTITA!AN105=1)","v":false},{"$f":"AND(H105=TRUE,PARTITA!AN105=2)","v":false},{"$f":"IF(PARTITA!AN105=1,K104+1,0)","v":0},{"$f":"IF(PARTITA!AN105=2,L104+1,0)","v":0},{"$f":"PARTITA!A105","v":""},{"$f":"COUNTIFS(PARTITA!AN96:AN105, \"=1\")","v":0},{"$f":"COUNTIFS(PARTITA!AN96:AN105, \"=2\")","v":0},{"$f":"PARTITA!BA105","v":""}]
[{"$f":"AND(PARTITA!K106=2, COUNTIF(Tables!L$1:L$4, PARTITA!F106))","v":false},{"$f":"AND(PARTITA!K106=1, COUNTIF(Tables!L$1:L$4, PARTITA!F106))","v":false},{"$f":"AND(A106, PARTITA!AO106=0)","v":false},{"$f":"AND(B106, PARTITA!AO106=0)","v":false},{"$f":"isNetPoint(PARTITA!AC106)","v":"0"},{"$f":"OR(PARTITA!S106=1, PARTITA!T106=1)","v":false},{"$f":"IF(PARTITA!K106=1,OR(E106=\"1\",E106=\"3\",F106=TRUE),OR(E106=\"2\",E106=\"3\"))","v":false},{"$f":"IF(PARTITA!K106=2,OR(E106=\"1\",E106=\"3\",F106=TRUE),OR(E106=\"2\",E106=\"3\"))","v":false},{"$f":"AND(G106=TRUE,PARTITA!AN106=1)","v":false},{"$f":"AND(H106=TRUE,PARTITA!AN106=2)","v":false},{"$f":"IF(PARTITA!AN106=1,K105+1,0)","v":0},{"$f":"IF(PARTITA!AN106=2,L105+1,0)","v":0},{"$f":"PARTITA!A106","v":""},{"$f":"COUNTIFS(PARTITA!AN97:AN106, \"=1\")","v":0},{"$f":"COUNTIFS(PARTITA!AN97:AN106, \"=2\")","v":0},{"$f":"PARTITA!BA106","v":""}]
[{"$f":"AND(PARTITA!K107=2, COUNTIF(Tables!L$1:L$4, PARTITA!F107))","v":false},{"$f":"AND(PARTITA!K107=1, COUNTIF(Tables!L$1:L$4, PARTITA!F107))","v":false},{"$f":"AND(A107, PARTITA!AO107=0)","v":false},{"$f":"AND(B107, PARTITA!AO107=0)","v":false},{"$f":"isNetPoint(PARTITA!AC107)","v":"0"},{"$f":"OR(PARTITA!S107=1, PARTITA!T107=1)","v":false},{"$f":"IF(PARTITA!K107=1,OR(E107=\"1\",E107=\"3\",F107=TRUE),OR(E107=\"2\",E107=\"3\"))","v":false},{"$f":"IF(PARTITA!K107=2,OR(E107=\"1\",E107=\"3\",F107=TRUE),OR(E107=\"2\",E107=\"3\"))","v":false},{"$f":"AND(G107=TRUE,PARTITA!AN107=1)","v":false},{"$f":"AND(H107=TRUE,PARTITA!AN107=2)","v":false},{"$f":"IF(PARTITA!AN107=1,K106+1,0)","v":0},{"$f":"IF(PARTITA!AN107=2,L106+1,0)","v":0},{"$f":"PARTITA!A107","v":""},{"$f":"COUNTIFS(PARTITA!AN98:AN107, \"=1\")","v":0},{"$f":"COUNTIFS(PARTITA!AN98:AN107, \"=2\")","v":0},{"$f":"PARTITA!BA107","v":""}]
[{"$f":"AND(PARTITA!K108=2, COUNTIF(Tables!L$1:L$4, PARTITA!F108))","v":false},{"$f":"AND(PARTITA!K108=1, COUNTIF(Tables!L$1:L$4, PARTITA!F108))","v":false},{"$f":"AND(A108, PARTITA!AO108=0)","v":false},{"$f":"AND(B108, PARTITA!AO108=0)","v":false},{"$f":"isNetPoint(PARTITA!AC108)","v":"0"},{"$f":"OR(PARTITA!S108=1, PARTITA!T108=1)","v":false},{"$f":"IF(PARTITA!K108=1,OR(E108=\"1\",E108=\"3\",F108=TRUE),OR(E108=\"2\",E108=\"3\"))","v":false},{"$f":"IF(PARTITA!K108=2,OR(E108=\"1\",E108=\"3\",F108=TRUE),OR(E108=\"2\",E108=\"3\"))","v":false},{"$f":"AND(G108=TRUE,PARTITA!AN108=1)","v":false},{"$f":"AND(H108=TRUE,PARTITA!AN108=2)","v":false},{"$f":"IF(PARTITA!AN108=1,K107+1,0)","v":0},{"$f":"IF(PARTITA!AN108=2,L107+1,0)","v":0},{"$f":"PARTITA!A108","v":""},{"$f":"COUNTIFS(PARTITA!AN99:AN108, \"=1\")","v":0},{"$f":"COUNTIFS(PARTITA!AN99:AN108, \"=2\")","v":0},{"$f":"PARTITA!BA108","v":""}]
[{"$f":"AND(PARTITA!K109=2, COUNTIF(Tables!L$1:L$4, PARTITA!F109))","v":false},{"$f":"AND(PARTITA!K109=1, COUNTIF(Tables!L$1:L$4, PARTITA!F109))","v":false},{"$f":"AND(A109, PARTITA!AO109=0)","v":false},{"$f":"AND(B109, PARTITA!AO109=0)","v":false},{"$f":"isNetPoint(PARTITA!AC109)","v":"0"},{"$f":"OR(PARTITA!S109=1, PARTITA!T109=1)","v":false},{"$f":"IF(PARTITA!K109=1,OR(E109=\"1\",E109=\"3\",F109=TRUE),OR(E109=\"2\",E109=\"3\"))","v":false},{"$f":"IF(PARTITA!K109=2,OR(E109=\"1\",E109=\"3\",F109=TRUE),OR(E109=\"2\",E109=\"3\"))","v":false},{"$f":"AND(G109=TRUE,PARTITA!AN109=1)","v":false},{"$f":"AND(H109=TRUE,PARTITA!AN109=2)","v":false},{"$f":"IF(PARTITA!AN109=1,K108+1,0)","v":0},{"$f":"IF(PARTITA!AN109=2,L108+1,0)","v":0},{"$f":"PARTITA!A109","v":""},{"$f":"COUNTIFS(PARTITA!AN100:AN109, \"=1\")","v":0},{"$f":"COUNTIFS(PARTITA!AN100:AN109, \"=2\")","v":0},{"$f":"PARTITA!BA109","v":""}]
[{"$f":"AND(PARTITA!K110=2, COUNTIF(Tables!L$1:L$4, PARTITA!F110))","v":false},{"$f":"AND(PARTITA!K110=1, COUNTIF(Tables!L$1:L$4, PARTITA!F110))","v":false},{"$f":"AND(A110, PARTITA!AO110=0)","v":false},{"$f":"AND(B110, PARTITA!AO110=0)","v":false},{"$f":"isNetPoint(PARTITA!AC110)","v":"0"},{"$f":"OR(PARTITA!S110=1, PARTITA!T110=1)","v":false},{"$f":"IF(PARTITA!K110=1,OR(E110=\"1\",E110=\"3\",F110=TRUE),OR(E110=\"2\",E110=\"3\"))","v":false},{"$f":"IF(PARTITA!K110=2,OR(E110=\"1\",E110=\"3\",F110=TRUE),OR(E110=\"2\",E110=\"3\"))","v":false},{"$f":"AND(G110=TRUE,PARTITA!AN110=1)","v":false},{"$f":"AND(H110=TRUE,PARTITA!AN110=2)","v":false},{"$f":"IF(PARTITA!AN110=1,K109+1,0)","v":0},{"$f":"IF(PARTITA!AN110=2,L109+1,0)","v":0},{"$f":"PARTITA!A110","v":""},{"$f":"COUNTIFS(PARTITA!AN101:AN110, \"=1\")","v":0},{"$f":"COUNTIFS(PARTITA!AN101:AN110, \"=2\")","v":0},{"$f":"PARTITA!BA110","v":""}]
[{"$f":"AND(PARTITA!K111=2, COUNTIF(Tables!L$1:L$4, PARTITA!F111))","v":false},{"$f":"AND(PARTITA!K111=1, COUNTIF(Tables!L$1:L$4, PARTITA!F111))","v":false},{"$f":"AND(A111, PARTITA!AO111=0)","v":false},{"$f":"AND(B111, PARTITA!AO111=0)","v":false},{"$f":"isNetPoint(PARTITA!AC111)","v":"0"},{"$f":"OR(PARTITA!S111=1, PARTITA!T111=1)","v":false},{"$f":"IF(PARTITA!K111=1,OR(E111=\"1\",E111=\"3\",F111=TRUE),OR(E111=\"2\",E111=\"3\"))","v":false},{"$f":"IF(PARTITA!K111=2,OR(E111=\"1\",E111=\"3\",F111=TRUE),OR(E111=\"2\",E111=\"3\"))","v":false},{"$f":"AND(G111=TRUE,PARTITA!AN111=1)","v":false},{"$f":"AND(H111=TRUE,PARTITA!AN111=2)","v":false},{"$f":"IF(PARTITA!AN111=1,K110+1,0)","v":0},{"$f":"IF(PARTITA!AN111=2,L110+1,0)","v":0},{"$f":"PARTITA!A111","v":""},{"$f":"COUNTIFS(PARTITA!AN102:AN111, \"=1\")","v":0},{"$f":"COUNTIFS(PARTITA!AN102:AN111, \"=2\")","v":0},{"$f":"PARTITA!BA111","v":""}]
[{"$f":"AND(PARTITA!K112=2, COUNTIF(Tables!L$1:L$4, PARTITA!F112))","v":false},{"$f":"AND(PARTITA!K112=1, COUNTIF(Tables!L$1:L$4, PARTITA!F112))","v":false},{"$f":"AND(A112, PARTITA!AO112=0)","v":false},{"$f":"AND(B112, PARTITA!AO112=0)","v":false},{"$f":"isNetPoint(PARTITA!AC112)","v":"0"},{"$f":"OR(PARTITA!S112=1, PARTITA!T112=1)","v":false},{"$f":"IF(PARTITA!K112=1,OR(E112=\"1\",E112=\"3\",F112=TRUE),OR(E112=\"2\",E112=\"3\"))","v":false},{"$f":"IF(PARTITA!K112=2,OR(E112=\"1\",E112=\"3\",F112=TRUE),OR(E112=\"2\",E112=\"3\"))","v":false},{"$f":"AND(G112=TRUE,PARTITA!AN112=1)","v":false},{"$f":"AND(H112=TRUE,PARTITA!AN112=2)","v":false},{"$f":"IF(PARTITA!AN112=1,K111+1,0)","v":0},{"$f":"IF(PARTITA!AN112=2,L111+1,0)","v":0},{"$f":"PARTITA!A112","v":""},{"$f":"COUNTIFS(PARTITA!AN103:AN112, \"=1\")","v":0},{"$f":"COUNTIFS(PARTITA!AN103:AN112, \"=2\")","v":0},{"$f":"PARTITA!BA112","v":""}]
[{"$f":"AND(PARTITA!K113=2, COUNTIF(Tables!L$1:L$4, PARTITA!F113))","v":false},{"$f":"AND(PARTITA!K113=1, COUNTIF(Tables!L$1:L$4, PARTITA!F113))","v":false},{"$f":"AND(A113, PARTITA!AO113=0)","v":false},{"$f":"AND(B113, PARTITA!AO113=0)","v":false},{"$f":"isNetPoint(PARTITA!AC113)","v":"0"},{"$f":"OR(PARTITA!S113=1, PARTITA!T113=1)","v":false},{"$f":"IF(PARTITA!K113=1,OR(E113=\"1\",E113=\"3\",F113=TRUE),OR(E113=\"2\",E113=\"3\"))","v":false},{"$f":"IF(PARTITA!K113=2,OR(E113=\"1\",E113=\"3\",F113=TRUE),OR(E113=\"2\",E113=\"3\"))","v":false},{"$f":"AND(G113=TRUE,PARTITA!AN113=1)","v":false},{"$f":"AND(H113=TRUE,PARTITA!AN113=2)","v":false},{"$f":"IF(PARTITA!AN113=1,K112+1,0)","v":0},{"$f":"IF(PARTITA!AN113=2,L112+1,0)","v":0},{"$f":"PARTITA!A113","v":""},{"$f":"COUNTIFS(PARTITA!AN104:AN113, \"=1\")","v":0},{"$f":"COUNTIFS(PARTITA!AN104:AN113, \"=2\")","v":0},{"$f":"PARTITA!BA113","v":""}]
[{"$f":"AND(PARTITA!K114=2, COUNTIF(Tables!L$1:L$4, PARTITA!F114))","v":false},{"$f":"AND(PARTITA!K114=1, COUNTIF(Tables!L$1:L$4, PARTITA!F114))","v":false},{"$f":"AND(A114, PARTITA!AO114=0)","v":false},{"$f":"AND(B114, PARTITA!AO114=0)","v":false},{"$f":"isNetPoint(PARTITA!AC114)","v":"0"},{"$f":"OR(PARTITA!S114=1, PARTITA!T114=1)","v":false},{"$f":"IF(PARTITA!K114=1,OR(E114=\"1\",E114=\"3\",F114=TRUE),OR(E114=\"2\",E114=\"3\"))","v":false},{"$f":"IF(PARTITA!K114=2,OR(E114=\"1\",E114=\"3\",F114=TRUE),OR(E114=\"2\",E114=\"3\"))","v":false},{"$f":"AND(G114=TRUE,PARTITA!AN114=1)","v":false},{"$f":"AND(H114=TRUE,PARTITA!AN114=2)","v":false},{"$f":"IF(PARTITA!AN114=1,K113+1,0)","v":0},{"$f":"IF(PARTITA!AN114=2,L113+1,0)","v":0},{"$f":"PARTITA!A114","v":""},{"$f":"COUNTIFS(PARTITA!AN105:AN114, \"=1\")","v":0},{"$f":"COUNTIFS(PARTITA!AN105:AN114, \"=2\")","v":0},{"$f":"PARTITA!BA114","v":""}]
[{"$f":"AND(PARTITA!K115=2, COUNTIF(Tables!L$1:L$4, PARTITA!F115))","v":false},{"$f":"AND(PARTITA!K115=1, COUNTIF(Tables!L$1:L$4, PARTITA!F115))","v":false},{"$f":"AND(A115, PARTITA!AO115=0)","v":false},{"$f":"AND(B115, PARTITA!AO115=0)","v":false},{"$f":"isNetPoint(PARTITA!AC115)","v":"0"},{"$f":"OR(PARTITA!S115=1, PARTITA!T115=1)","v":false},{"$f":"IF(PARTITA!K115=1,OR(E115=\"1\",E115=\"3\",F115=TRUE),OR(E115=\"2\",E115=\"3\"))","v":false},{"$f":"IF(PARTITA!K115=2,OR(E115=\"1\",E115=\"3\",F115=TRUE),OR(E115=\"2\",E115=\"3\"))","v":false},{"$f":"AND(G115=TRUE,PARTITA!AN115=1)","v":false},{"$f":"AND(H115=TRUE,PARTITA!AN115=2)","v":false},{"$f":"IF(PARTITA!AN115=1,K114+1,0)","v":0},{"$f":"IF(PARTITA!AN115=2,L114+1,0)","v":0},{"$f":"PARTITA!A115","v":""},{"$f":"COUNTIFS(PARTITA!AN106:AN115, \"=1\")","v":0},{"$f":"COUNTIFS(PARTITA!AN106:AN115, \"=2\")","v":0},{"$f":"PARTITA!BA115","v":""}]
[{"$f":"AND(PARTITA!K116=2, COUNTIF(Tables!L$1:L$4, PARTITA!F116))","v":false},{"$f":"AND(PARTITA!K116=1, COUNTIF(Tables!L$1:L$4, PARTITA!F116))","v":false},{"$f":"AND(A116, PARTITA!AO116=0)","v":false},{"$f":"AND(B116, PARTITA!AO116=0)","v":false},{"$f":"isNetPoint(PARTITA!AC116)","v":"0"},{"$f":"OR(PARTITA!S116=1, PARTITA!T116=1)","v":false},{"$f":"IF(PARTITA!K116=1,OR(E116=\"1\",E116=\"3\",F116=TRUE),OR(E116=\"2\",E116=\"3\"))","v":false},{"$f":"IF(PARTITA!K116=2,OR(E116=\"1\",E116=\"3\",F116=TRUE),OR(E116=\"2\",E116=\"3\"))","v":false},{"$f":"AND(G116=TRUE,PARTITA!AN116=1)","v":false},{"$f":"AND(H116=TRUE,PARTITA!AN116=2)","v":false},{"$f":"IF(PARTITA!AN116=1,K115+1,0)","v":0},{"$f":"IF(PARTITA!AN116=2,L115+1,0)","v":0},{"$f":"PARTITA!A116","v":""},{"$f":"COUNTIFS(PARTITA!AN107:AN116, \"=1\")","v":0},{"$f":"COUNTIFS(PARTITA!AN107:AN116, \"=2\")","v":0},{"$f":"PARTITA!BA116","v":""}]
[{"$f":"AND(PARTITA!K117=2, COUNTIF(Tables!L$1:L$4, PARTITA!F117))","v":false},{"$f":"AND(PARTITA!K117=1, COUNTIF(Tables!L$1:L$4, PARTITA!F117))","v":false},{"$f":"AND(A117, PARTITA!AO117=0)","v":false},{"$f":"AND(B117, PARTITA!AO117=0)","v":false},{"$f":"isNetPoint(PARTITA!AC117)","v":"0"},{"$f":"OR(PARTITA!S117=1, PARTITA!T117=1)","v":false},{"$f":"IF(PARTITA!K117=1,OR(E117=\"1\",E117=\"3\",F117=TRUE),OR(E117=\"2\",E117=\"3\"))","v":false},{"$f":"IF(PARTITA!K117=2,OR(E117=\"1\",E117=\"3\",F117=TRUE),OR(E117=\"2\",E117=\"3\"))","v":false},{"$f":"AND(G117=TRUE,PARTITA!AN117=1)","v":false},{"$f":"AND(H117=TRUE,PARTITA!AN117=2)","v":false},{"$f":"IF(PARTITA!AN117=1,K116+1,0)","v":0},{"$f":"IF(PARTITA!AN117=2,L116+1,0)","v":0},{"$f":"PARTITA!A117","v":""},{"$f":"COUNTIFS(PARTITA!AN108:AN117, \"=1\")","v":0},{"$f":"COUNTIFS(PARTITA!AN108:AN117, \"=2\")","v":0},{"$f":"PARTITA!BA117","v":""}]
[{"$f":"AND(PARTITA!K118=2, COUNTIF(Tables!L$1:L$4, PARTITA!F118))","v":false},{"$f":"AND(PARTITA!K118=1, COUNTIF(Tables!L$1:L$4, PARTITA!F118))","v":false},{"$f":"AND(A118, PARTITA!AO118=0)","v":false},{"$f":"AND(B118, PARTITA!AO118=0)","v":false},{"$f":"isNetPoint(PARTITA!AC118)","v":"0"},{"$f":"OR(PARTITA!S118=1, PARTITA!T118=1)","v":false},{"$f":"IF(PARTITA!K118=1,OR(E118=\"1\",E118=\"3\",F118=TRUE),OR(E118=\"2\",E118=\"3\"))","v":false},{"$f":"IF(PARTITA!K118=2,OR(E118=\"1\",E118=\"3\",F118=TRUE),OR(E118=\"2\",E118=\"3\"))","v":false},{"$f":"AND(G118=TRUE,PARTITA!AN118=1)","v":false},{"$f":"AND(H118=TRUE,PARTITA!AN118=2)","v":false},{"$f":"IF(PARTITA!AN118=1,K117+1,0)","v":0},{"$f":"IF(PARTITA!AN118=2,L117+1,0)","v":0},{"$f":"PARTITA!A118","v":""},{"$f":"COUNTIFS(PARTITA!AN109:AN118, \"=1\")","v":0},{"$f":"COUNTIFS(PARTITA!AN109:AN118, \"=2\")","v":0},{"$f":"PARTITA!BA118","v":""}]
[{"$f":"AND(PARTITA!K119=2, COUNTIF(Tables!L$1:L$4, PARTITA!F119))","v":false},{"$f":"AND(PARTITA!K119=1, COUNTIF(Tables!L$1:L$4, PARTITA!F119))","v":false},{"$f":"AND(A119, PARTITA!AO119=0)","v":false},{"$f":"AND(B119, PARTITA!AO119=0)","v":false},{"$f":"isNetPoint(PARTITA!AC119)","v":"0"},{"$f":"OR(PARTITA!S119=1, PARTITA!T119=1)","v":false},{"$f":"IF(PARTITA!K119=1,OR(E119=\"1\",E119=\"3\",F119=TRUE),OR(E119=\"2\",E119=\"3\"))","v":false},{"$f":"IF(PARTITA!K119=2,OR(E119=\"1\",E119=\"3\",F119=TRUE),OR(E119=\"2\",E119=\"3\"))","v":false},{"$f":"AND(G119=TRUE,PARTITA!AN119=1)","v":false},{"$f":"AND(H119=TRUE,PARTITA!AN119=2)","v":false},{"$f":"IF(PARTITA!AN119=1,K118+1,0)","v":0},{"$f":"IF(PARTITA!AN119=2,L118+1,0)","v":0},{"$f":"PARTITA!A119","v":""},{"$f":"COUNTIFS(PARTITA!AN110:AN119, \"=1\")","v":0},{"$f":"COUNTIFS(PARTITA!AN110:AN119, \"=2\")","v":0},{"$f":"PARTITA!BA119","v":""}]
[{"$f":"AND(PARTITA!K120=2, COUNTIF(Tables!L$1:L$4, PARTITA!F120))","v":false},{"$f":"AND(PARTITA!K120=1, COUNTIF(Tables!L$1:L$4, PARTITA!F120))","v":false},{"$f":"AND(A120, PARTITA!AO120=0)","v":false},{"$f":"AND(B120, PARTITA!AO120=0)","v":false},{"$f":"isNetPoint(PARTITA!AC120)","v":"0"},{"$f":"OR(PARTITA!S120=1, PARTITA!T120=1)","v":false},{"$f":"IF(PARTITA!K120=1,OR(E120=\"1\",E120=\"3\",F120=TRUE),OR(E120=\"2\",E120=\"3\"))","v":false},{"$f":"IF(PARTITA!K120=2,OR(E120=\"1\",E120=\"3\",F120=TRUE),OR(E120=\"2\",E120=\"3\"))","v":false},{"$f":"AND(G120=TRUE,PARTITA!AN120=1)","v":false},{"$f":"AND(H120=TRUE,PARTITA!AN120=2)","v":false},{"$f":"IF(PARTITA!AN120=1,K119+1,0)","v":0},{"$f":"IF(PARTITA!AN120=2,L119+1,0)","v":0},{"$f":"PARTITA!A120","v":""},{"$f":"COUNTIFS(PARTITA!AN111:AN120, \"=1\")","v":0},{"$f":"COUNTIFS(PARTITA!AN111:AN120, \"=2\")","v":0},{"$f":"PARTITA!BA120","v":""}]
[{"$f":"AND(PARTITA!K121=2, COUNTIF(Tables!L$1:L$4, PARTITA!F121))","v":false},{"$f":"AND(PARTITA!K121=1, COUNTIF(Tables!L$1:L$4, PARTITA!F121))","v":false},{"$f":"AND(A121, PARTITA!AO121=0)","v":false},{"$f":"AND(B121, PARTITA!AO121=0)","v":false},{"$f":"isNetPoint(PARTITA!AC121)","v":"0"},{"$f":"OR(PARTITA!S121=1, PARTITA!T121=1)","v":false},{"$f":"IF(PARTITA!K121=1,OR(E121=\"1\",E121=\"3\",F121=TRUE),OR(E121=\"2\",E121=\"3\"))","v":false},{"$f":"IF(PARTITA!K121=2,OR(E121=\"1\",E121=\"3\",F121=TRUE),OR(E121=\"2\",E121=\"3\"))","v":false},{"$f":"AND(G121=TRUE,PARTITA!AN121=1)","v":false},{"$f":"AND(H121=TRUE,PARTITA!AN121=2)","v":false},{"$f":"IF(PARTITA!AN121=1,K120+1,0)","v":0},{"$f":"IF(PARTITA!AN121=2,L120+1,0)","v":0},{"$f":"PARTITA!A121","v":""},{"$f":"COUNTIFS(PARTITA!AN112:AN121, \"=1\")","v":0},{"$f":"COUNTIFS(PARTITA!AN112:AN121, \"=2\")","v":0},{"$f":"PARTITA!BA121","v":""}]
[{"$f":"AND(PARTITA!K122=2, COUNTIF(Tables!L$1:L$4, PARTITA!F122))","v":false},{"$f":"AND(PARTITA!K122=1, COUNTIF(Tables!L$1:L$4, PARTITA!F122))","v":false},{"$f":"AND(A122, PARTITA!AO122=0)","v":false},{"$f":"AND(B122, PARTITA!AO122=0)","v":false},{"$f":"isNetPoint(PARTITA!AC122)","v":"0"},{"$f":"OR(PARTITA!S122=1, PARTITA!T122=1)","v":false},{"$f":"IF(PARTITA!K122=1,OR(E122=\"1\",E122=\"3\",F122=TRUE),OR(E122=\"2\",E122=\"3\"))","v":false},{"$f":"IF(PARTITA!K122=2,OR(E122=\"1\",E122=\"3\",F122=TRUE),OR(E122=\"2\",E122=\"3\"))","v":false},{"$f":"AND(G122=TRUE,PARTITA!AN122=1)","v":false},{"$f":"AND(H122=TRUE,PARTITA!AN122=2)","v":false},{"$f":"IF(PARTITA!AN122=1,K121+1,0)","v":0},{"$f":"IF(PARTITA!AN122=2,L121+1,0)","v":0},{"$f":"PARTITA!A122","v":""},{"$f":"COUNTIFS(PARTITA!AN113:AN122, \"=1\")","v":0},{"$f":"COUNTIFS(PARTITA!AN113:AN122, \"=2\")","v":0},{"$f":"PARTITA!BA122","v":""}]
[{"$f":"AND(PARTITA!K123=2, COUNTIF(Tables!L$1:L$4, PARTITA!F123))","v":false},{"$f":"AND(PARTITA!K123=1, COUNTIF(Tables!L$1:L$4, PARTITA!F123))","v":false},{"$f":"AND(A123, PARTITA!AO123=0)","v":false},{"$f":"AND(B123, PARTITA!AO123=0)","v":false},{"$f":"isNetPoint(PARTITA!AC123)","v":"0"},{"$f":"OR(PARTITA!S123=1, PARTITA!T123=1)","v":false},{"$f":"IF(PARTITA!K123=1,OR(E123=\"1\",E123=\"3\",F123=TRUE),OR(E123=\"2\",E123=\"3\"))","v":false},{"$f":"IF(PARTITA!K123=2,OR(E123=\"1\",E123=\"3\",F123=TRUE),OR(E123=\"2\",E123=\"3\"))","v":false},{"$f":"AND(G123=TRUE,PARTITA!AN123=1)","v":false},{"$f":"AND(H123=TRUE,PARTITA!AN123=2)","v":false},{"$f":"IF(PARTITA!AN123=1,K122+1,0)","v":0},{"$f":"IF(PARTITA!AN123=2,L122+1,0)","v":0},{"$f":"PARTITA!A123","v":""},{"$f":"COUNTIFS(PARTITA!AN114:AN123, \"=1\")","v":0},{"$f":"COUNTIFS(PARTITA!AN114:AN123, \"=2\")","v":0},{"$f":"PARTITA!BA123","v":""}]
[{"$f":"AND(PARTITA!K124=2, COUNTIF(Tables!L$1:L$4, PARTITA!F124))","v":false},{"$f":"AND(PARTITA!K124=1, COUNTIF(Tables!L$1:L$4, PARTITA!F124))","v":false},{"$f":"AND(A124, PARTITA!AO124=0)","v":false},{"$f":"AND(B124, PARTITA!AO124=0)","v":false},{"$f":"isNetPoint(PARTITA!AC124)","v":"0"},{"$f":"OR(PARTITA!S124=1, PARTITA!T124=1)","v":false},{"$f":"IF(PARTITA!K124=1,OR(E124=\"1\",E124=\"3\",F124=TRUE),OR(E124=\"2\",E124=\"3\"))","v":false},{"$f":"IF(PARTITA!K124=2,OR(E124=\"1\",E124=\"3\",F124=TRUE),OR(E124=\"2\",E124=\"3\"))","v":false},{"$f":"AND(G124=TRUE,PARTITA!AN124=1)","v":false},{"$f":"AND(H124=TRUE,PARTITA!AN124=2)","v":false},{"$f":"IF(PARTITA!AN124=1,K123+1,0)","v":0},{"$f":"IF(PARTITA!AN124=2,L123+1,0)","v":0},{"$f":"PARTITA!A124","v":""},{"$f":"COUNTIFS(PARTITA!AN115:AN124, \"=1\")","v":0},{"$f":"COUNTIFS(PARTITA!AN115:AN124, \"=2\")","v":0},{"$f":"PARTITA!BA124","v":""}]
[{"$f":"AND(PARTITA!K125=2, COUNTIF(Tables!L$1:L$4, PARTITA!F125))","v":false},{"$f":"AND(PARTITA!K125=1, COUNTIF(Tables!L$1:L$4, PARTITA!F125))","v":false},{"$f":"AND(A125, PARTITA!AO125=0)","v":false},{"$f":"AND(B125, PARTITA!AO125=0)","v":false},{"$f":"isNetPoint(PARTITA!AC125)","v":"0"},{"$f":"OR(PARTITA!S125=1, PARTITA!T125=1)","v":false},{"$f":"IF(PARTITA!K125=1,OR(E125=\"1\",E125=\"3\",F125=TRUE),OR(E125=\"2\",E125=\"3\"))","v":false},{"$f":"IF(PARTITA!K125=2,OR(E125=\"1\",E125=\"3\",F125=TRUE),OR(E125=\"2\",E125=\"3\"))","v":false},{"$f":"AND(G125=TRUE,PARTITA!AN125=1)","v":false},{"$f":"AND(H125=TRUE,PARTITA!AN125=2)","v":false},{"$f":"IF(PARTITA!AN125=1,K124+1,0)","v":0},{"$f":"IF(PARTITA!AN125=2,L124+1,0)","v":0},{"$f":"PARTITA!A125","v":""},{"$f":"COUNTIFS(PARTITA!AN116:AN125, \"=1\")","v":0},{"$f":"COUNTIFS(PARTITA!AN116:AN125, \"=2\")","v":0},{"$f":"PARTITA!BA125","v":""}]
[{"$f":"AND(PARTITA!K126=2, COUNTIF(Tables!L$1:L$4, PARTITA!F126))","v":false},{"$f":"AND(PARTITA!K126=1, COUNTIF(Tables!L$1:L$4, PARTITA!F126))","v":false},{"$f":"AND(A126, PARTITA!AO126=0)","v":false},{"$f":"AND(B126, PARTITA!AO126=0)","v":false},{"$f":"isNetPoint(PARTITA!AC126)","v":"0"},{"$f":"OR(PARTITA!S126=1, PARTITA!T126=1)","v":false},{"$f":"IF(PARTITA!K126=1,OR(E126=\"1\",E126=\"3\",F126=TRUE),OR(E126=\"2\",E126=\"3\"))","v":false},{"$f":"IF(PARTITA!K126=2,OR(E126=\"1\",E126=\"3\",F126=TRUE),OR(E126=\"2\",E126=\"3\"))","v":false},{"$f":"AND(G126=TRUE,PARTITA!AN126=1)","v":false},{"$f":"AND(H126=TRUE,PARTITA!AN126=2)","v":false},{"$f":"IF(PARTITA!AN126=1,K125+1,0)","v":0},{"$f":"IF(PARTITA!AN126=2,L125+1,0)","v":0},{"$f":"PARTITA!A126","v":""},{"$f":"COUNTIFS(PARTITA!AN117:AN126, \"=1\")","v":0},{"$f":"COUNTIFS(PARTITA!AN117:AN126, \"=2\")","v":0},{"$f":"PARTITA!BA126","v":""}]
[{"$f":"AND(PARTITA!K127=2, COUNTIF(Tables!L$1:L$4, PARTITA!F127))","v":false},{"$f":"AND(PARTITA!K127=1, COUNTIF(Tables!L$1:L$4, PARTITA!F127))","v":false},{"$f":"AND(A127, PARTITA!AO127=0)","v":false},{"$f":"AND(B127, PARTITA!AO127=0)","v":false},{"$f":"isNetPoint(PARTITA!AC127)","v":"0"},{"$f":"OR(PARTITA!S127=1, PARTITA!T127=1)","v":false},{"$f":"IF(PARTITA!K127=1,OR(E127=\"1\",E127=\"3\",F127=TRUE),OR(E127=\"2\",E127=\"3\"))","v":false},{"$f":"IF(PARTITA!K127=2,OR(E127=\"1\",E127=\"3\",F127=TRUE),OR(E127=\"2\",E127=\"3\"))","v":false},{"$f":"AND(G127=TRUE,PARTITA!AN127=1)","v":false},{"$f":"AND(H127=TRUE,PARTITA!AN127=2)","v":false},{"$f":"IF(PARTITA!AN127=1,K126+1,0)","v":0},{"$f":"IF(PARTITA!AN127=2,L126+1,0)","v":0},{"$f":"PARTITA!A127","v":""},{"$f":"COUNTIFS(PARTITA!AN118:AN127, \"=1\")","v":0},{"$f":"COUNTIFS(PARTITA!AN118:AN127, \"=2\")","v":0},{"$f":"PARTITA!BA127","v":""}]
[{"$f":"AND(PARTITA!K128=2, COUNTIF(Tables!L$1:L$4, PARTITA!F128))","v":false},{"$f":"AND(PARTITA!K128=1, COUNTIF(Tables!L$1:L$4, PARTITA!F128))","v":false},{"$f":"AND(A128, PARTITA!AO128=0)","v":false},{"$f":"AND(B128, PARTITA!AO128=0)","v":false},{"$f":"isNetPoint(PARTITA!AC128)","v":"0"},{"$f":"OR(PARTITA!S128=1, PARTITA!T128=1)","v":false},{"$f":"IF(PARTITA!K128=1,OR(E128=\"1\",E128=\"3\",F128=TRUE),OR(E128=\"2\",E128=\"3\"))","v":false},{"$f":"IF(PARTITA!K128=2,OR(E128=\"1\",E128=\"3\",F128=TRUE),OR(E128=\"2\",E128=\"3\"))","v":false},{"$f":"AND(G128=TRUE,PARTITA!AN128=1)","v":false},{"$f":"AND(H128=TRUE,PARTITA!AN128=2)","v":false},{"$f":"IF(PARTITA!AN128=1,K127+1,0)","v":0},{"$f":"IF(PARTITA!AN128=2,L127+1,0)","v":0},{"$f":"PARTITA!A128","v":""},{"$f":"COUNTIFS(PARTITA!AN119:AN128, \"=1\")","v":0},{"$f":"COUNTIFS(PARTITA!AN119:AN128, \"=2\")","v":0},{"$f":"PARTITA!BA128","v":""}]
[{"$f":"AND(PARTITA!K129=2, COUNTIF(Tables!L$1:L$4, PARTITA!F129))","v":false},{"$f":"AND(PARTITA!K129=1, COUNTIF(Tables!L$1:L$4, PARTITA!F129))","v":false},{"$f":"AND(A129, PARTITA!AO129=0)","v":false},{"$f":"AND(B129, PARTITA!AO129=0)","v":false},{"$f":"isNetPoint(PARTITA!AC129)","v":"0"},{"$f":"OR(PARTITA!S129=1, PARTITA!T129=1)","v":false},{"$f":"IF(PARTITA!K129=1,OR(E129=\"1\",E129=\"3\",F129=TRUE),OR(E129=\"2\",E129=\"3\"))","v":false},{"$f":"IF(PARTITA!K129=2,OR(E129=\"1\",E129=\"3\",F129=TRUE),OR(E129=\"2\",E129=\"3\"))","v":false},{"$f":"AND(G129=TRUE,PARTITA!AN129=1)","v":false},{"$f":"AND(H129=TRUE,PARTITA!AN129=2)","v":false},{"$f":"IF(PARTITA!AN129=1,K128+1,0)","v":0},{"$f":"IF(PARTITA!AN129=2,L128+1,0)","v":0},{"$f":"PARTITA!A129","v":""},{"$f":"COUNTIFS(PARTITA!AN120:AN129, \"=1\")","v":0},{"$f":"COUNTIFS(PARTITA!AN120:AN129, \"=2\")","v":0},{"$f":"PARTITA!BA129","v":""}]
[{"$f":"AND(PARTITA!K130=2, COUNTIF(Tables!L$1:L$4, PARTITA!F130))","v":false},{"$f":"AND(PARTITA!K130=1, COUNTIF(Tables!L$1:L$4, PARTITA!F130))","v":false},{"$f":"AND(A130, PARTITA!AO130=0)","v":false},{"$f":"AND(B130, PARTITA!AO130=0)","v":false},{"$f":"isNetPoint(PARTITA!AC130)","v":"0"},{"$f":"OR(PARTITA!S130=1, PARTITA!T130=1)","v":false},{"$f":"IF(PARTITA!K130=1,OR(E130=\"1\",E130=\"3\",F130=TRUE),OR(E130=\"2\",E130=\"3\"))","v":false},{"$f":"IF(PARTITA!K130=2,OR(E130=\"1\",E130=\"3\",F130=TRUE),OR(E130=\"2\",E130=\"3\"))","v":false},{"$f":"AND(G130=TRUE,PARTITA!AN130=1)","v":false},{"$f":"AND(H130=TRUE,PARTITA!AN130=2)","v":false},{"$f":"IF(PARTITA!AN130=1,K129+1,0)","v":0},{"$f":"IF(PARTITA!AN130=2,L129+1,0)","v":0},{"$f":"PARTITA!A130","v":""},{"$f":"COUNTIFS(PARTITA!AN121:AN130, \"=1\")","v":0},{"$f":"COUNTIFS(PARTITA!AN121:AN130, \"=2\")","v":0},{"$f":"PARTITA!BA130","v":""}]
[{"$f":"AND(PARTITA!K131=2, COUNTIF(Tables!L$1:L$4, PARTITA!F131))","v":false},{"$f":"AND(PARTITA!K131=1, COUNTIF(Tables!L$1:L$4, PARTITA!F131))","v":false},{"$f":"AND(A131, PARTITA!AO131=0)","v":false},{"$f":"AND(B131, PARTITA!AO131=0)","v":false},{"$f":"isNetPoint(PARTITA!AC131)","v":"0"},{"$f":"OR(PARTITA!S131=1, PARTITA!T131=1)","v":false},{"$f":"IF(PARTITA!K131=1,OR(E131=\"1\",E131=\"3\",F131=TRUE),OR(E131=\"2\",E131=\"3\"))","v":false},{"$f":"IF(PARTITA!K131=2,OR(E131=\"1\",E131=\"3\",F131=TRUE),OR(E131=\"2\",E131=\"3\"))","v":false},{"$f":"AND(G131=TRUE,PARTITA!AN131=1)","v":false},{"$f":"AND(H131=TRUE,PARTITA!AN131=2)","v":false},{"$f":"IF(PARTITA!AN131=1,K130+1,0)","v":0},{"$f":"IF(PARTITA!AN131=2,L130+1,0)","v":0},{"$f":"PARTITA!A131","v":""},{"$f":"COUNTIFS(PARTITA!AN122:AN131, \"=1\")","v":0},{"$f":"COUNTIFS(PARTITA!AN122:AN131, \"=2\")","v":0},{"$f":"PARTITA!BA131","v":""}]
[{"$f":"AND(PARTITA!K132=2, COUNTIF(Tables!L$1:L$4, PARTITA!F132))","v":false},{"$f":"AND(PARTITA!K132=1, COUNTIF(Tables!L$1:L$4, PARTITA!F132))","v":false},{"$f":"AND(A132, PARTITA!AO132=0)","v":false},{"$f":"AND(B132, PARTITA!AO132=0)","v":false},{"$f":"isNetPoint(PARTITA!AC132)","v":"0"},{"$f":"OR(PARTITA!S132=1, PARTITA!T132=1)","v":false},{"$f":"IF(PARTITA!K132=1,OR(E132=\"1\",E132=\"3\",F132=TRUE),OR(E132=\"2\",E132=\"3\"))","v":false},{"$f":"IF(PARTITA!K132=2,OR(E132=\"1\",E132=\"3\",F132=TRUE),OR(E132=\"2\",E132=\"3\"))","v":false},{"$f":"AND(G132=TRUE,PARTITA!AN132=1)","v":false},{"$f":"AND(H132=TRUE,PARTITA!AN132=2)","v":false},{"$f":"IF(PARTITA!AN132=1,K131+1,0)","v":0},{"$f":"IF(PARTITA!AN132=2,L131+1,0)","v":0},{"$f":"PARTITA!A132","v":""},{"$f":"COUNTIFS(PARTITA!AN123:AN132, \"=1\")","v":0},{"$f":"COUNTIFS(PARTITA!AN123:AN132, \"=2\")","v":0},{"$f":"PARTITA!BA132","v":""}]
[{"$f":"AND(PARTITA!K133=2, COUNTIF(Tables!L$1:L$4, PARTITA!F133))","v":false},{"$f":"AND(PARTITA!K133=1, COUNTIF(Tables!L$1:L$4, PARTITA!F133))","v":false},{"$f":"AND(A133, PARTITA!AO133=0)","v":false},{"$f":"AND(B133, PARTITA!AO133=0)","v":false},{"$f":"isNetPoint(PARTITA!AC133)","v":"0"},{"$f":"OR(PARTITA!S133=1, PARTITA!T133=1)","v":false},{"$f":"IF(PARTITA!K133=1,OR(E133=\"1\",E133=\"3\",F133=TRUE),OR(E133=\"2\",E133=\"3\"))","v":false},{"$f":"IF(PARTITA!K133=2,OR(E133=\"1\",E133=\"3\",F133=TRUE),OR(E133=\"2\",E133=\"3\"))","v":false},{"$f":"AND(G133=TRUE,PARTITA!AN133=1)","v":false},{"$f":"AND(H133=TRUE,PARTITA!AN133=2)","v":false},{"$f":"IF(PARTITA!AN133=1,K132+1,0)","v":0},{"$f":"IF(PARTITA!AN133=2,L132+1,0)","v":0},{"$f":"PARTITA!A133","v":""},{"$f":"COUNTIFS(PARTITA!AN124:AN133, \"=1\")","v":0},{"$f":"COUNTIFS(PARTITA!AN124:AN133, \"=2\")","v":0},{"$f":"PARTITA!BA133","v":""}]
[{"$f":"AND(PARTITA!K134=2, COUNTIF(Tables!L$1:L$4, PARTITA!F134))","v":false},{"$f":"AND(PARTITA!K134=1, COUNTIF(Tables!L$1:L$4, PARTITA!F134))","v":false},{"$f":"AND(A134, PARTITA!AO134=0)","v":false},{"$f":"AND(B134, PARTITA!AO134=0)","v":false},{"$f":"isNetPoint(PARTITA!AC134)","v":"0"},{"$f":"OR(PARTITA!S134=1, PARTITA!T134=1)","v":false},{"$f":"IF(PARTITA!K134=1,OR(E134=\"1\",E134=\"3\",F134=TRUE),OR(E134=\"2\",E134=\"3\"))","v":false},{"$f":"IF(PARTITA!K134=2,OR(E134=\"1\",E134=\"3\",F134=TRUE),OR(E134=\"2\",E134=\"3\"))","v":false},{"$f":"AND(G134=TRUE,PARTITA!AN134=1)","v":false},{"$f":"AND(H134=TRUE,PARTITA!AN134=2)","v":false},{"$f":"IF(PARTITA!AN134=1,K133+1,0)","v":0},{"$f":"IF(PARTITA!AN134=2,L133+1,0)","v":0},{"$f":"PARTITA!A134","v":""},{"$f":"COUNTIFS(PARTITA!AN125:AN134, \"=1\")","v":0},{"$f":"COUNTIFS(PARTITA!AN125:AN134, \"=2\")","v":0},{"$f":"PARTITA!BA134","v":""}]
[{"$f":"AND(PARTITA!K135=2, COUNTIF(Tables!L$1:L$4, PARTITA!F135))","v":false},{"$f":"AND(PARTITA!K135=1, COUNTIF(Tables!L$1:L$4, PARTITA!F135))","v":false},{"$f":"AND(A135, PARTITA!AO135=0)","v":false},{"$f":"AND(B135, PARTITA!AO135=0)","v":false},{"$f":"isNetPoint(PARTITA!AC135)","v":"0"},{"$f":"OR(PARTITA!S135=1, PARTITA!T135=1)","v":false},{"$f":"IF(PARTITA!K135=1,OR(E135=\"1\",E135=\"3\",F135=TRUE),OR(E135=\"2\",E135=\"3\"))","v":false},{"$f":"IF(PARTITA!K135=2,OR(E135=\"1\",E135=\"3\",F135=TRUE),OR(E135=\"2\",E135=\"3\"))","v":false},{"$f":"AND(G135=TRUE,PARTITA!AN135=1)","v":false},{"$f":"AND(H135=TRUE,PARTITA!AN135=2)","v":false},{"$f":"IF(PARTITA!AN135=1,K134+1,0)","v":0},{"$f":"IF(PARTITA!AN135=2,L134+1,0)","v":0},{"$f":"PARTITA!A135","v":""},{"$f":"COUNTIFS(PARTITA!AN126:AN135, \"=1\")","v":0},{"$f":"COUNTIFS(PARTITA!AN126:AN135, \"=2\")","v":0},{"$f":"PARTITA!BA135","v":""}]
[{"$f":"AND(PARTITA!K136=2, COUNTIF(Tables!L$1:L$4, PARTITA!F136))","v":false},{"$f":"AND(PARTITA!K136=1, COUNTIF(Tables!L$1:L$4, PARTITA!F136))","v":false},{"$f":"AND(A136, PARTITA!AO136=0)","v":false},{"$f":"AND(B136, PARTITA!AO136=0)","v":false},{"$f":"isNetPoint(PARTITA!AC136)","v":"0"},{"$f":"OR(PARTITA!S136=1, PARTITA!T136=1)","v":false},{"$f":"IF(PARTITA!K136=1,OR(E136=\"1\",E136=\"3\",F136=TRUE),OR(E136=\"2\",E136=\"3\"))","v":false},{"$f":"IF(PARTITA!K136=2,OR(E136=\"1\",E136=\"3\",F136=TRUE),OR(E136=\"2\",E136=\"3\"))","v":false},{"$f":"AND(G136=TRUE,PARTITA!AN136=1)","v":false},{"$f":"AND(H136=TRUE,PARTITA!AN136=2)","v":false},{"$f":"IF(PARTITA!AN136=1,K135+1,0)","v":0},{"$f":"IF(PARTITA!AN136=2,L135+1,0)","v":0},{"$f":"PARTITA!A136","v":""},{"$f":"COUNTIFS(PARTITA!AN127:AN136, \"=1\")","v":0},{"$f":"COUNTIFS(PARTITA!AN127:AN136, \"=2\")","v":0},{"$f":"PARTITA!BA136","v":""}]
[{"$f":"AND(PARTITA!K137=2, COUNTIF(Tables!L$1:L$4, PARTITA!F137))","v":false},{"$f":"AND(PARTITA!K137=1, COUNTIF(Tables!L$1:L$4, PARTITA!F137))","v":false},{"$f":"AND(A137, PARTITA!AO137=0)","v":false},{"$f":"AND(B137, PARTITA!AO137=0)","v":false},{"$f":"isNetPoint(PARTITA!AC137)","v":"0"},{"$f":"OR(PARTITA!S137=1, PARTITA!T137=1)","v":false},{"$f":"IF(PARTITA!K137=1,OR(E137=\"1\",E137=\"3\",F137=TRUE),OR(E137=\"2\",E137=\"3\"))","v":false},{"$f":"IF(PARTITA!K137=2,OR(E137=\"1\",E137=\"3\",F137=TRUE),OR(E137=\"2\",E137=\"3\"))","v":false},{"$f":"AND(G137=TRUE,PARTITA!AN137=1)","v":false},{"$f":"AND(H137=TRUE,PARTITA!AN137=2)","v":false},{"$f":"IF(PARTITA!AN137=1,K136+1,0)","v":0},{"$f":"IF(PARTITA!AN137=2,L136+1,0)","v":0},{"$f":"PARTITA!A137","v":""},{"$f":"COUNTIFS(PARTITA!AN128:AN137, \"=1\")","v":0},{"$f":"COUNTIFS(PARTITA!AN128:AN137, \"=2\")","v":0},{"$f":"PARTITA!BA137","v":""}]
[{"$f":"AND(PARTITA!K138=2, COUNTIF(Tables!L$1:L$4, PARTITA!F138))","v":false},{"$f":"AND(PARTITA!K138=1, COUNTIF(Tables!L$1:L$4, PARTITA!F138))","v":false},{"$f":"AND(A138, PARTITA!AO138=0)","v":false},{"$f":"AND(B138, PARTITA!AO138=0)","v":false},{"$f":"isNetPoint(PARTITA!AC138)","v":"0"},{"$f":"OR(PARTITA!S138=1, PARTITA!T138=1)","v":false},{"$f":"IF(PARTITA!K138=1,OR(E138=\"1\",E138=\"3\",F138=TRUE),OR(E138=\"2\",E138=\"3\"))","v":false},{"$f":"IF(PARTITA!K138=2,OR(E138=\"1\",E138=\"3\",F138=TRUE),OR(E138=\"2\",E138=\"3\"))","v":false},{"$f":"AND(G138=TRUE,PARTITA!AN138=1)","v":false},{"$f":"AND(H138=TRUE,PARTITA!AN138=2)","v":false},{"$f":"IF(PARTITA!AN138=1,K137+1,0)","v":0},{"$f":"IF(PARTITA!AN138=2,L137+1,0)","v":0},{"$f":"PARTITA!A138","v":""},{"$f":"COUNTIFS(PARTITA!AN129:AN138, \"=1\")","v":0},{"$f":"COUNTIFS(PARTITA!AN129:AN138, \"=2\")","v":0},{"$f":"PARTITA!BA138","v":""}]
[{"$f":"AND(PARTITA!K139=2, COUNTIF(Tables!L$1:L$4, PARTITA!F139))","v":false},{"$f":"AND(PARTITA!K139=1, COUNTIF(Tables!L$1:L$4, PARTITA!F139))","v":false},{"$f":"AND(A139, PARTITA!AO139=0)","v":false},{"$f":"AND(B139, PARTITA!AO139=0)","v":false},{"$f":"isNetPoint(PARTITA!AC139)","v":"0"},{"$f":"OR(PARTITA!S139=1, PARTITA!T139=1)","v":false},{"$f":"IF(PARTITA!K139=1,OR(E139=\"1\",E139=\"3\",F139=TRUE),OR(E139=\"2\",E139=\"3\"))","v":false},{"$f":"IF(PARTITA!K139=2,OR(E139=\"1\",E139=\"3\",F139=TRUE),OR(E139=\"2\",E139=\"3\"))","v":false},{"$f":"AND(G139=TRUE,PARTITA!AN139=1)","v":false},{"$f":"AND(H139=TRUE,PARTITA!AN139=2)","v":false},{"$f":"IF(PARTITA!AN139=1,K138+1,0)","v":0},{"$f":"IF(PARTITA!AN139=2,L138+1,0)","v":0},{"$f":"PARTITA!A139","v":""},{"$f":"COUNTIFS(PARTITA!AN130:AN139, \"=1\")","v":0},{"$f":"COUNTIFS(PARTITA!AN130:AN139, \"=2\")","v":0},{"$f":"PARTITA!BA139","v":""}]
[{"$f":"AND(PARTITA!K140=2, COUNTIF(Tables!L$1:L$4, PARTITA!F140))","v":false},{"$f":"AND(PARTITA!K140=1, COUNTIF(Tables!L$1:L$4, PARTITA!F140))","v":false},{"$f":"AND(A140, PARTITA!AO140=0)","v":false},{"$f":"AND(B140, PARTITA!AO140=0)","v":false},{"$f":"isNetPoint(PARTITA!AC140)","v":"0"},{"$f":"OR(PARTITA!S140=1, PARTITA!T140=1)","v":false},{"$f":"IF(PARTITA!K140=1,OR(E140=\"1\",E140=\"3\",F140=TRUE),OR(E140=\"2\",E140=\"3\"))","v":false},{"$f":"IF(PARTITA!K140=2,OR(E140=\"1\",E140=\"3\",F140=TRUE),OR(E140=\"2\",E140=\"3\"))","v":false},{"$f":"AND(G140=TRUE,PARTITA!AN140=1)","v":false},{"$f":"AND(H140=TRUE,PARTITA!AN140=2)","v":false},{"$f":"IF(PARTITA!AN140=1,K139+1,0)","v":0},{"$f":"IF(PARTITA!AN140=2,L139+1,0)","v":0},{"$f":"PARTITA!A140","v":""},{"$f":"COUNTIFS(PARTITA!AN131:AN140, \"=1\")","v":0},{"$f":"COUNTIFS(PARTITA!AN131:AN140, \"=2\")","v":0},{"$f":"PARTITA!BA140","v":""}]
[{"$f":"AND(PARTITA!K141=2, COUNTIF(Tables!L$1:L$4, PARTITA!F141))","v":false},{"$f":"AND(PARTITA!K141=1, COUNTIF(Tables!L$1:L$4, PARTITA!F141))","v":false},{"$f":"AND(A141, PARTITA!AO141=0)","v":false},{"$f":"AND(B141, PARTITA!AO141=0)","v":false},{"$f":"isNetPoint(PARTITA!AC141)","v":"0"},{"$f":"OR(PARTITA!S141=1, PARTITA!T141=1)","v":false},{"$f":"IF(PARTITA!K141=1,OR(E141=\"1\",E141=\"3\",F141=TRUE),OR(E141=\"2\",E141=\"3\"))","v":false},{"$f":"IF(PARTITA!K141=2,OR(E141=\"1\",E141=\"3\",F141=TRUE),OR(E141=\"2\",E141=\"3\"))","v":false},{"$f":"AND(G141=TRUE,PARTITA!AN141=1)","v":false},{"$f":"AND(H141=TRUE,PARTITA!AN141=2)","v":false},{"$f":"IF(PARTITA!AN141=1,K140+1,0)","v":0},{"$f":"IF(PARTITA!AN141=2,L140+1,0)","v":0},{"$f":"PARTITA!A141","v":""},{"$f":"COUNTIFS(PARTITA!AN132:AN141, \"=1\")","v":0},{"$f":"COUNTIFS(PARTITA!AN132:AN141, \"=2\")","v":0},{"$f":"PARTITA!BA141","v":""}]
[{"$f":"AND(PARTITA!K142=2, COUNTIF(Tables!L$1:L$4, PARTITA!F142))","v":false},{"$f":"AND(PARTITA!K142=1, COUNTIF(Tables!L$1:L$4, PARTITA!F142))","v":false},{"$f":"AND(A142, PARTITA!AO142=0)","v":false},{"$f":"AND(B142, PARTITA!AO142=0)","v":false},{"$f":"isNetPoint(PARTITA!AC142)","v":"0"},{"$f":"OR(PARTITA!S142=1, PARTITA!T142=1)","v":false},{"$f":"IF(PARTITA!K142=1,OR(E142=\"1\",E142=\"3\",F142=TRUE),OR(E142=\"2\",E142=\"3\"))","v":false},{"$f":"IF(PARTITA!K142=2,OR(E142=\"1\",E142=\"3\",F142=TRUE),OR(E142=\"2\",E142=\"3\"))","v":false},{"$f":"AND(G142=TRUE,PARTITA!AN142=1)","v":false},{"$f":"AND(H142=TRUE,PARTITA!AN142=2)","v":false},{"$f":"IF(PARTITA!AN142=1,K141+1,0)","v":0},{"$f":"IF(PARTITA!AN142=2,L141+1,0)","v":0},{"$f":"PARTITA!A142","v":""},{"$f":"COUNTIFS(PARTITA!AN133:AN142, \"=1\")","v":0},{"$f":"COUNTIFS(PARTITA!AN133:AN142, \"=2\")","v":0},{"$f":"PARTITA!BA142","v":""}]
[{"$f":"AND(PARTITA!K143=2, COUNTIF(Tables!L$1:L$4, PARTITA!F143))","v":false},{"$f":"AND(PARTITA!K143=1, COUNTIF(Tables!L$1:L$4, PARTITA!F143))","v":false},{"$f":"AND(A143, PARTITA!AO143=0)","v":false},{"$f":"AND(B143, PARTITA!AO143=0)","v":false},{"$f":"isNetPoint(PARTITA!AC143)","v":"0"},{"$f":"OR(PARTITA!S143=1, PARTITA!T143=1)","v":false},{"$f":"IF(PARTITA!K143=1,OR(E143=\"1\",E143=\"3\",F143=TRUE),OR(E143=\"2\",E143=\"3\"))","v":false},{"$f":"IF(PARTITA!K143=2,OR(E143=\"1\",E143=\"3\",F143=TRUE),OR(E143=\"2\",E143=\"3\"))","v":false},{"$f":"AND(G143=TRUE,PARTITA!AN143=1)","v":false},{"$f":"AND(H143=TRUE,PARTITA!AN143=2)","v":false},{"$f":"IF(PARTITA!AN143=1,K142+1,0)","v":0},{"$f":"IF(PARTITA!AN143=2,L142+1,0)","v":0},{"$f":"PARTITA!A143","v":""},{"$f":"COUNTIFS(PARTITA!AN134:AN143, \"=1\")","v":0},{"$f":"COUNTIFS(PARTITA!AN134:AN143, \"=2\")","v":0},{"$f":"PARTITA!BA143","v":""}]
[{"$f":"AND(PARTITA!K144=2, COUNTIF(Tables!L$1:L$4, PARTITA!F144))","v":false},{"$f":"AND(PARTITA!K144=1, COUNTIF(Tables!L$1:L$4, PARTITA!F144))","v":false},{"$f":"AND(A144, PARTITA!AO144=0)","v":false},{"$f":"AND(B144, PARTITA!AO144=0)","v":false},{"$f":"isNetPoint(PARTITA!AC144)","v":"0"},{"$f":"OR(PARTITA!S144=1, PARTITA!T144=1)","v":false},{"$f":"IF(PARTITA!K144=1,OR(E144=\"1\",E144=\"3\",F144=TRUE),OR(E144=\"2\",E144=\"3\"))","v":false},{"$f":"IF(PARTITA!K144=2,OR(E144=\"1\",E144=\"3\",F144=TRUE),OR(E144=\"2\",E144=\"3\"))","v":false},{"$f":"AND(G144=TRUE,PARTITA!AN144=1)","v":false},{"$f":"AND(H144=TRUE,PARTITA!AN144=2)","v":false},{"$f":"IF(PARTITA!AN144=1,K143+1,0)","v":0},{"$f":"IF(PARTITA!AN144=2,L143+1,0)","v":0},{"$f":"PARTITA!A144","v":""},{"$f":"COUNTIFS(PARTITA!AN135:AN144, \"=1\")","v":0},{"$f":"COUNTIFS(PARTITA!AN135:AN144, \"=2\")","v":0},{"$f":"PARTITA!BA144","v":""}]
[{"$f":"AND(PARTITA!K145=2, COUNTIF(Tables!L$1:L$4, PARTITA!F145))","v":false},{"$f":"AND(PARTITA!K145=1, COUNTIF(Tables!L$1:L$4, PARTITA!F145))","v":false},{"$f":"AND(A145, PARTITA!AO145=0)","v":false},{"$f":"AND(B145, PARTITA!AO145=0)","v":false},{"$f":"isNetPoint(PARTITA!AC145)","v":"0"},{"$f":"OR(PARTITA!S145=1, PARTITA!T145=1)","v":false},{"$f":"IF(PARTITA!K145=1,OR(E145=\"1\",E145=\"3\",F145=TRUE),OR(E145=\"2\",E145=\"3\"))","v":false},{"$f":"IF(PARTITA!K145=2,OR(E145=\"1\",E145=\"3\",F145=TRUE),OR(E145=\"2\",E145=\"3\"))","v":false},{"$f":"AND(G145=TRUE,PARTITA!AN145=1)","v":false},{"$f":"AND(H145=TRUE,PARTITA!AN145=2)","v":false},{"$f":"IF(PARTITA!AN145=1,K144+1,0)","v":0},{"$f":"IF(PARTITA!AN145=2,L144+1,0)","v":0},{"$f":"PARTITA!A145","v":""},{"$f":"COUNTIFS(PARTITA!AN136:AN145, \"=1\")","v":0},{"$f":"COUNTIFS(PARTITA!AN136:AN145, \"=2\")","v":0},{"$f":"PARTITA!BA145","v":""}]
[{"$f":"AND(PARTITA!K146=2, COUNTIF(Tables!L$1:L$4, PARTITA!F146))","v":false},{"$f":"AND(PARTITA!K146=1, COUNTIF(Tables!L$1:L$4, PARTITA!F146))","v":false},{"$f":"AND(A146, PARTITA!AO146=0)","v":false},{"$f":"AND(B146, PARTITA!AO146=0)","v":false},{"$f":"isNetPoint(PARTITA!AC146)","v":"0"},{"$f":"OR(PARTITA!S146=1, PARTITA!T146=1)","v":false},{"$f":"IF(PARTITA!K146=1,OR(E146=\"1\",E146=\"3\",F146=TRUE),OR(E146=\"2\",E146=\"3\"))","v":false},{"$f":"IF(PARTITA!K146=2,OR(E146=\"1\",E146=\"3\",F146=TRUE),OR(E146=\"2\",E146=\"3\"))","v":false},{"$f":"AND(G146=TRUE,PARTITA!AN146=1)","v":false},{"$f":"AND(H146=TRUE,PARTITA!AN146=2)","v":false},{"$f":"IF(PARTITA!AN146=1,K145+1,0)","v":0},{"$f":"IF(PARTITA!AN146=2,L145+1,0)","v":0},{"$f":"PARTITA!A146","v":""},{"$f":"COUNTIFS(PARTITA!AN137:AN146, \"=1\")","v":0},{"$f":"COUNTIFS(PARTITA!AN137:AN146, \"=2\")","v":0},{"$f":"PARTITA!BA146","v":""}]
[{"$f":"AND(PARTITA!K147=2, COUNTIF(Tables!L$1:L$4, PARTITA!F147))","v":false},{"$f":"AND(PARTITA!K147=1, COUNTIF(Tables!L$1:L$4, PARTITA!F147))","v":false},{"$f":"AND(A147, PARTITA!AO147=0)","v":false},{"$f":"AND(B147, PARTITA!AO147=0)","v":false},{"$f":"isNetPoint(PARTITA!AC147)","v":"0"},{"$f":"OR(PARTITA!S147=1, PARTITA!T147=1)","v":false},{"$f":"IF(PARTITA!K147=1,OR(E147=\"1\",E147=\"3\",F147=TRUE),OR(E147=\"2\",E147=\"3\"))","v":false},{"$f":"IF(PARTITA!K147=2,OR(E147=\"1\",E147=\"3\",F147=TRUE),OR(E147=\"2\",E147=\"3\"))","v":false},{"$f":"AND(G147=TRUE,PARTITA!AN147=1)","v":false},{"$f":"AND(H147=TRUE,PARTITA!AN147=2)","v":false},{"$f":"IF(PARTITA!AN147=1,K146+1,0)","v":0},{"$f":"IF(PARTITA!AN147=2,L146+1,0)","v":0},{"$f":"PARTITA!A147","v":""},{"$f":"COUNTIFS(PARTITA!AN138:AN147, \"=1\")","v":0},{"$f":"COUNTIFS(PARTITA!AN138:AN147, \"=2\")","v":0},{"$f":"PARTITA!BA147","v":""}]
[{"$f":"AND(PARTITA!K148=2, COUNTIF(Tables!L$1:L$4, PARTITA!F148))","v":false},{"$f":"AND(PARTITA!K148=1, COUNTIF(Tables!L$1:L$4, PARTITA!F148))","v":false},{"$f":"AND(A148, PARTITA!AO148=0)","v":false},{"$f":"AND(B148, PARTITA!AO148=0)","v":false},{"$f":"isNetPoint(PARTITA!AC148)","v":"0"},{"$f":"OR(PARTITA!S148=1, PARTITA!T148=1)","v":false},{"$f":"IF(PARTITA!K148=1,OR(E148=\"1\",E148=\"3\",F148=TRUE),OR(E148=\"2\",E148=\"3\"))","v":false},{"$f":"IF(PARTITA!K148=2,OR(E148=\"1\",E148=\"3\",F148=TRUE),OR(E148=\"2\",E148=\"3\"))","v":false},{"$f":"AND(G148=TRUE,PARTITA!AN148=1)","v":false},{"$f":"AND(H148=TRUE,PARTITA!AN148=2)","v":false},{"$f":"IF(PARTITA!AN148=1,K147+1,0)","v":0},{"$f":"IF(PARTITA!AN148=2,L147+1,0)","v":0},{"$f":"PARTITA!A148","v":""},{"$f":"COUNTIFS(PARTITA!AN139:AN148, \"=1\")","v":0},{"$f":"COUNTIFS(PARTITA!AN139:AN148, \"=2\")","v":0},{"$f":"PARTITA!BA148","v":""}]
[{"$f":"AND(PARTITA!K149=2, COUNTIF(Tables!L$1:L$4, PARTITA!F149))","v":false},{"$f":"AND(PARTITA!K149=1, COUNTIF(Tables!L$1:L$4, PARTITA!F149))","v":false},{"$f":"AND(A149, PARTITA!AO149=0)","v":false},{"$f":"AND(B149, PARTITA!AO149=0)","v":false},{"$f":"isNetPoint(PARTITA!AC149)","v":"0"},{"$f":"OR(PARTITA!S149=1, PARTITA!T149=1)","v":false},{"$f":"IF(PARTITA!K149=1,OR(E149=\"1\",E149=\"3\",F149=TRUE),OR(E149=\"2\",E149=\"3\"))","v":false},{"$f":"IF(PARTITA!K149=2,OR(E149=\"1\",E149=\"3\",F149=TRUE),OR(E149=\"2\",E149=\"3\"))","v":false},{"$f":"AND(G149=TRUE,PARTITA!AN149=1)","v":false},{"$f":"AND(H149=TRUE,PARTITA!AN149=2)","v":false},{"$f":"IF(PARTITA!AN149=1,K148+1,0)","v":0},{"$f":"IF(PARTITA!AN149=2,L148+1,0)","v":0},{"$f":"PARTITA!A149","v":""},{"$f":"COUNTIFS(PARTITA!AN140:AN149, \"=1\")","v":0},{"$f":"COUNTIFS(PARTITA!AN140:AN149, \"=2\")","v":0},{"$f":"PARTITA!BA149","v":""}]
[{"$f":"AND(PARTITA!K150=2, COUNTIF(Tables!L$1:L$4, PARTITA!F150))","v":false},{"$f":"AND(PARTITA!K150=1, COUNTIF(Tables!L$1:L$4, PARTITA!F150))","v":false},{"$f":"AND(A150, PARTITA!AO150=0)","v":false},{"$f":"AND(B150, PARTITA!AO150=0)","v":false},{"$f":"isNetPoint(PARTITA!AC150)","v":"0"},{"$f":"OR(PARTITA!S150=1, PARTITA!T150=1)","v":false},{"$f":"IF(PARTITA!K150=1,OR(E150=\"1\",E150=\"3\",F150=TRUE),OR(E150=\"2\",E150=\"3\"))","v":false},{"$f":"IF(PARTITA!K150=2,OR(E150=\"1\",E150=\"3\",F150=TRUE),OR(E150=\"2\",E150=\"3\"))","v":false},{"$f":"AND(G150=TRUE,PARTITA!AN150=1)","v":false},{"$f":"AND(H150=TRUE,PARTITA!AN150=2)","v":false},{"$f":"IF(PARTITA!AN150=1,K149+1,0)","v":0},{"$f":"IF(PARTITA!AN150=2,L149+1,0)","v":0},{"$f":"PARTITA!A150","v":""},{"$f":"COUNTIFS(PARTITA!AN141:AN150, \"=1\")","v":0},{"$f":"COUNTIFS(PARTITA!AN141:AN150, \"=2\")","v":0},{"$f":"PARTITA!BA150","v":""}]
[{"$f":"AND(PARTITA!K151=2, COUNTIF(Tables!L$1:L$4, PARTITA!F151))","v":false},{"$f":"AND(PARTITA!K151=1, COUNTIF(Tables!L$1:L$4, PARTITA!F151))","v":false},{"$f":"AND(A151, PARTITA!AO151=0)","v":false},{"$f":"AND(B151, PARTITA!AO151=0)","v":false},{"$f":"isNetPoint(PARTITA!AC151)","v":"0"},{"$f":"OR(PARTITA!S151=1, PARTITA!T151=1)","v":false},{"$f":"IF(PARTITA!K151=1,OR(E151=\"1\",E151=\"3\",F151=TRUE),OR(E151=\"2\",E151=\"3\"))","v":false},{"$f":"IF(PARTITA!K151=2,OR(E151=\"1\",E151=\"3\",F151=TRUE),OR(E151=\"2\",E151=\"3\"))","v":false},{"$f":"AND(G151=TRUE,PARTITA!AN151=1)","v":false},{"$f":"AND(H151=TRUE,PARTITA!AN151=2)","v":false},{"$f":"IF(PARTITA!AN151=1,K150+1,0)","v":0},{"$f":"IF(PARTITA!AN151=2,L150+1,0)","v":0},{"$f":"PARTITA!A151","v":""},{"$f":"COUNTIFS(PARTITA!AN142:AN151, \"=1\")","v":0},{"$f":"COUNTIFS(PARTITA!AN142:AN151, \"=2\")","v":0},{"$f":"PARTITA!BA151","v":""}]
[{"$f":"AND(PARTITA!K152=2, COUNTIF(Tables!L$1:L$4, PARTITA!F152))","v":false},{"$f":"AND(PARTITA!K152=1, COUNTIF(Tables!L$1:L$4, PARTITA!F152))","v":false},{"$f":"AND(A152, PARTITA!AO152=0)","v":false},{"$f":"AND(B152, PARTITA!AO152=0)","v":false},{"$f":"isNetPoint(PARTITA!AC152)","v":"0"},{"$f":"OR(PARTITA!S152=1, PARTITA!T152=1)","v":false},{"$f":"IF(PARTITA!K152=1,OR(E152=\"1\",E152=\"3\",F152=TRUE),OR(E152=\"2\",E152=\"3\"))","v":false},{"$f":"IF(PARTITA!K152=2,OR(E152=\"1\",E152=\"3\",F152=TRUE),OR(E152=\"2\",E152=\"3\"))","v":false},{"$f":"AND(G152=TRUE,PARTITA!AN152=1)","v":false},{"$f":"AND(H152=TRUE,PARTITA!AN152=2)","v":false},{"$f":"IF(PARTITA!AN152=1,K151+1,0)","v":0},{"$f":"IF(PARTITA!AN152=2,L151+1,0)","v":0},{"$f":"PARTITA!A152","v":""},{"$f":"COUNTIFS(PARTITA!AN143:AN152, \"=1\")","v":0},{"$f":"COUNTIFS(PARTITA!AN143:AN152, \"=2\")","v":0},{"$f":"PARTITA!BA152","v":""}]
[{"$f":"AND(PARTITA!K153=2, COUNTIF(Tables!L$1:L$4, PARTITA!F153))","v":false},{"$f":"AND(PARTITA!K153=1, COUNTIF(Tables!L$1:L$4, PARTITA!F153))","v":false},{"$f":"AND(A153, PARTITA!AO153=0)","v":false},{"$f":"AND(B153, PARTITA!AO153=0)","v":false},{"$f":"isNetPoint(PARTITA!AC153)","v":"0"},{"$f":"OR(PARTITA!S153=1, PARTITA!T153=1)","v":false},{"$f":"IF(PARTITA!K153=1,OR(E153=\"1\",E153=\"3\",F153=TRUE),OR(E153=\"2\",E153=\"3\"))","v":false},{"$f":"IF(PARTITA!K153=2,OR(E153=\"1\",E153=\"3\",F153=TRUE),OR(E153=\"2\",E153=\"3\"))","v":false},{"$f":"AND(G153=TRUE,PARTITA!AN153=1)","v":false},{"$f":"AND(H153=TRUE,PARTITA!AN153=2)","v":false},{"$f":"IF(PARTITA!AN153=1,K152+1,0)","v":0},{"$f":"IF(PARTITA!AN153=2,L152+1,0)","v":0},{"$f":"PARTITA!A153","v":""},{"$f":"COUNTIFS(PARTITA!AN144:AN153, \"=1\")","v":0},{"$f":"COUNTIFS(PARTITA!AN144:AN153, \"=2\")","v":0},{"$f":"PARTITA!BA153","v":""}]
[{"$f":"AND(PARTITA!K154=2, COUNTIF(Tables!L$1:L$4, PARTITA!F154))","v":false},{"$f":"AND(PARTITA!K154=1, COUNTIF(Tables!L$1:L$4, PARTITA!F154))","v":false},{"$f":"AND(A154, PARTITA!AO154=0)","v":false},{"$f":"AND(B154, PARTITA!AO154=0)","v":false},{"$f":"isNetPoint(PARTITA!AC154)","v":"0"},{"$f":"OR(PARTITA!S154=1, PARTITA!T154=1)","v":false},{"$f":"IF(PARTITA!K154=1,OR(E154=\"1\",E154=\"3\",F154=TRUE),OR(E154=\"2\",E154=\"3\"))","v":false},{"$f":"IF(PARTITA!K154=2,OR(E154=\"1\",E154=\"3\",F154=TRUE),OR(E154=\"2\",E154=\"3\"))","v":false},{"$f":"AND(G154=TRUE,PARTITA!AN154=1)","v":false},{"$f":"AND(H154=TRUE,PARTITA!AN154=2)","v":false},{"$f":"IF(PARTITA!AN154=1,K153+1,0)","v":0},{"$f":"IF(PARTITA!AN154=2,L153+1,0)","v":0},{"$f":"PARTITA!A154","v":""},{"$f":"COUNTIFS(PARTITA!AN145:AN154, \"=1\")","v":0},{"$f":"COUNTIFS(PARTITA!AN145:AN154, \"=2\")","v":0},{"$f":"PARTITA!BA154","v":""}]
[{"$f":"AND(PARTITA!K155=2, COUNTIF(Tables!L$1:L$4, PARTITA!F155))","v":false},{"$f":"AND(PARTITA!K155=1, COUNTIF(Tables!L$1:L$4, PARTITA!F155))","v":false},{"$f":"AND(A155, PARTITA!AO155=0)","v":false},{"$f":"AND(B155, PARTITA!AO155=0)","v":false},{"$f":"isNetPoint(PARTITA!AC155)","v":"0"},{"$f":"OR(PARTITA!S155=1, PARTITA!T155=1)","v":false},{"$f":"IF(PARTITA!K155=1,OR(E155=\"1\",E155=\"3\",F155=TRUE),OR(E155=\"2\",E155=\"3\"))","v":false},{"$f":"IF(PARTITA!K155=2,OR(E155=\"1\",E155=\"3\",F155=TRUE),OR(E155=\"2\",E155=\"3\"))","v":false},{"$f":"AND(G155=TRUE,PARTITA!AN155=1)","v":false},{"$f":"AND(H155=TRUE,PARTITA!AN155=2)","v":false},{"$f":"IF(PARTITA!AN155=1,K154+1,0)","v":0},{"$f":"IF(PARTITA!AN155=2,L154+1,0)","v":0},{"$f":"PARTITA!A155","v":""},{"$f":"COUNTIFS(PARTITA!AN146:AN155, \"=1\")","v":0},{"$f":"COUNTIFS(PARTITA!AN146:AN155, \"=2\")","v":0},{"$f":"PARTITA!BA155","v":""}]
[{"$f":"AND(PARTITA!K156=2, COUNTIF(Tables!L$1:L$4, PARTITA!F156))","v":false},{"$f":"AND(PARTITA!K156=1, COUNTIF(Tables!L$1:L$4, PARTITA!F156))","v":false},{"$f":"AND(A156, PARTITA!AO156=0)","v":false},{"$f":"AND(B156, PARTITA!AO156=0)","v":false},{"$f":"isNetPoint(PARTITA!AC156)","v":"0"},{"$f":"OR(PARTITA!S156=1, PARTITA!T156=1)","v":false},{"$f":"IF(PARTITA!K156=1,OR(E156=\"1\",E156=\"3\",F156=TRUE),OR(E156=\"2\",E156=\"3\"))","v":false},{"$f":"IF(PARTITA!K156=2,OR(E156=\"1\",E156=\"3\",F156=TRUE),OR(E156=\"2\",E156=\"3\"))","v":false},{"$f":"AND(G156=TRUE,PARTITA!AN156=1)","v":false},{"$f":"AND(H156=TRUE,PARTITA!AN156=2)","v":false},{"$f":"IF(PARTITA!AN156=1,K155+1,0)","v":0},{"$f":"IF(PARTITA!AN156=2,L155+1,0)","v":0},{"$f":"PARTITA!A156","v":""},{"$f":"COUNTIFS(PARTITA!AN147:AN156, \"=1\")","v":0},{"$f":"COUNTIFS(PARTITA!AN147:AN156, \"=2\")","v":0},{"$f":"PARTITA!BA156","v":""}]
[{"$f":"AND(PARTITA!K157=2, COUNTIF(Tables!L$1:L$4, PARTITA!F157))","v":false},{"$f":"AND(PARTITA!K157=1, COUNTIF(Tables!L$1:L$4, PARTITA!F157))","v":false},{"$f":"AND(A157, PARTITA!AO157=0)","v":false},{"$f":"AND(B157, PARTITA!AO157=0)","v":false},{"$f":"isNetPoint(PARTITA!AC157)","v":"0"},{"$f":"OR(PARTITA!S157=1, PARTITA!T157=1)","v":false},{"$f":"IF(PARTITA!K157=1,OR(E157=\"1\",E157=\"3\",F157=TRUE),OR(E157=\"2\",E157=\"3\"))","v":false},{"$f":"IF(PARTITA!K157=2,OR(E157=\"1\",E157=\"3\",F157=TRUE),OR(E157=\"2\",E157=\"3\"))","v":false},{"$f":"AND(G157=TRUE,PARTITA!AN157=1)","v":false},{"$f":"AND(H157=TRUE,PARTITA!AN157=2)","v":false},{"$f":"IF(PARTITA!AN157=1,K156+1,0)","v":0},{"$f":"IF(PARTITA!AN157=2,L156+1,0)","v":0},{"$f":"PARTITA!A157","v":""},{"$f":"COUNTIFS(PARTITA!AN148:AN157, \"=1\")","v":0},{"$f":"COUNTIFS(PARTITA!AN148:AN157, \"=2\")","v":0},{"$f":"PARTITA!BA157","v":""}]
[{"$f":"AND(PARTITA!K158=2, COUNTIF(Tables!L$1:L$4, PARTITA!F158))","v":false},{"$f":"AND(PARTITA!K158=1, COUNTIF(Tables!L$1:L$4, PARTITA!F158))","v":false},{"$f":"AND(A158, PARTITA!AO158=0)","v":false},{"$f":"AND(B158, PARTITA!AO158=0)","v":false},{"$f":"isNetPoint(PARTITA!AC158)","v":"0"},{"$f":"OR(PARTITA!S158=1, PARTITA!T158=1)","v":false},{"$f":"IF(PARTITA!K158=1,OR(E158=\"1\",E158=\"3\",F158=TRUE),OR(E158=\"2\",E158=\"3\"))","v":false},{"$f":"IF(PARTITA!K158=2,OR(E158=\"1\",E158=\"3\",F158=TRUE),OR(E158=\"2\",E158=\"3\"))","v":false},{"$f":"AND(G158=TRUE,PARTITA!AN158=1)","v":false},{"$f":"AND(H158=TRUE,PARTITA!AN158=2)","v":false},{"$f":"IF(PARTITA!AN158=1,K157+1,0)","v":0},{"$f":"IF(PARTITA!AN158=2,L157+1,0)","v":0},{"$f":"PARTITA!A158","v":""},{"$f":"COUNTIFS(PARTITA!AN149:AN158, \"=1\")","v":0},{"$f":"COUNTIFS(PARTITA!AN149:AN158, \"=2\")","v":0},{"$f":"PARTITA!BA158","v":""}]
[{"$f":"AND(PARTITA!K159=2, COUNTIF(Tables!L$1:L$4, PARTITA!F159))","v":false},{"$f":"AND(PARTITA!K159=1, COUNTIF(Tables!L$1:L$4, PARTITA!F159))","v":false},{"$f":"AND(A159, PARTITA!AO159=0)","v":false},{"$f":"AND(B159, PARTITA!AO159=0)","v":false},{"$f":"isNetPoint(PARTITA!AC159)","v":"0"},{"$f":"OR(PARTITA!S159=1, PARTITA!T159=1)","v":false},{"$f":"IF(PARTITA!K159=1,OR(E159=\"1\",E159=\"3\",F159=TRUE),OR(E159=\"2\",E159=\"3\"))","v":false},{"$f":"IF(PARTITA!K159=2,OR(E159=\"1\",E159=\"3\",F159=TRUE),OR(E159=\"2\",E159=\"3\"))","v":false},{"$f":"AND(G159=TRUE,PARTITA!AN159=1)","v":false},{"$f":"AND(H159=TRUE,PARTITA!AN159=2)","v":false},{"$f":"IF(PARTITA!AN159=1,K158+1,0)","v":0},{"$f":"IF(PARTITA!AN159=2,L158+1,0)","v":0},{"$f":"PARTITA!A159","v":""},{"$f":"COUNTIFS(PARTITA!AN150:AN159, \"=1\")","v":0},{"$f":"COUNTIFS(PARTITA!AN150:AN159, \"=2\")","v":0},{"$f":"PARTITA!BA159","v":""}]
[{"$f":"AND(PARTITA!K160=2, COUNTIF(Tables!L$1:L$4, PARTITA!F160))","v":false},{"$f":"AND(PARTITA!K160=1, COUNTIF(Tables!L$1:L$4, PARTITA!F160))","v":false},{"$f":"AND(A160, PARTITA!AO160=0)","v":false},{"$f":"AND(B160, PARTITA!AO160=0)","v":false},{"$f":"isNetPoint(PARTITA!AC160)","v":"0"},{"$f":"OR(PARTITA!S160=1, PARTITA!T160=1)","v":false},{"$f":"IF(PARTITA!K160=1,OR(E160=\"1\",E160=\"3\",F160=TRUE),OR(E160=\"2\",E160=\"3\"))","v":false},{"$f":"IF(PARTITA!K160=2,OR(E160=\"1\",E160=\"3\",F160=TRUE),OR(E160=\"2\",E160=\"3\"))","v":false},{"$f":"AND(G160=TRUE,PARTITA!AN160=1)","v":false},{"$f":"AND(H160=TRUE,PARTITA!AN160=2)","v":false},{"$f":"IF(PARTITA!AN160=1,K159+1,0)","v":0},{"$f":"IF(PARTITA!AN160=2,L159+1,0)","v":0},{"$f":"PARTITA!A160","v":""},{"$f":"COUNTIFS(PARTITA!AN151:AN160, \"=1\")","v":0},{"$f":"COUNTIFS(PARTITA!AN151:AN160, \"=2\")","v":0},{"$f":"PARTITA!BA160","v":""}]
[{"$f":"AND(PARTITA!K161=2, COUNTIF(Tables!L$1:L$4, PARTITA!F161))","v":false},{"$f":"AND(PARTITA!K161=1, COUNTIF(Tables!L$1:L$4, PARTITA!F161))","v":false},{"$f":"AND(A161, PARTITA!AO161=0)","v":false},{"$f":"AND(B161, PARTITA!AO161=0)","v":false},{"$f":"isNetPoint(PARTITA!AC161)","v":"0"},{"$f":"OR(PARTITA!S161=1, PARTITA!T161=1)","v":false},{"$f":"IF(PARTITA!K161=1,OR(E161=\"1\",E161=\"3\",F161=TRUE),OR(E161=\"2\",E161=\"3\"))","v":false},{"$f":"IF(PARTITA!K161=2,OR(E161=\"1\",E161=\"3\",F161=TRUE),OR(E161=\"2\",E161=\"3\"))","v":false},{"$f":"AND(G161=TRUE,PARTITA!AN161=1)","v":false},{"$f":"AND(H161=TRUE,PARTITA!AN161=2)","v":false},{"$f":"IF(PARTITA!AN161=1,K160+1,0)","v":0},{"$f":"IF(PARTITA!AN161=2,L160+1,0)","v":0},{"$f":"PARTITA!A161","v":""},{"$f":"COUNTIFS(PARTITA!AN152:AN161, \"=1\")","v":0},{"$f":"COUNTIFS(PARTITA!AN152:AN161, \"=2\")","v":0},{"$f":"PARTITA!BA161","v":""}]
[{"$f":"AND(PARTITA!K162=2, COUNTIF(Tables!L$1:L$4, PARTITA!F162))","v":false},{"$f":"AND(PARTITA!K162=1, COUNTIF(Tables!L$1:L$4, PARTITA!F162))","v":false},{"$f":"AND(A162, PARTITA!AO162=0)","v":false},{"$f":"AND(B162, PARTITA!AO162=0)","v":false},{"$f":"isNetPoint(PARTITA!AC162)","v":"0"},{"$f":"OR(PARTITA!S162=1, PARTITA!T162=1)","v":false},{"$f":"IF(PARTITA!K162=1,OR(E162=\"1\",E162=\"3\",F162=TRUE),OR(E162=\"2\",E162=\"3\"))","v":false},{"$f":"IF(PARTITA!K162=2,OR(E162=\"1\",E162=\"3\",F162=TRUE),OR(E162=\"2\",E162=\"3\"))","v":false},{"$f":"AND(G162=TRUE,PARTITA!AN162=1)","v":false},{"$f":"AND(H162=TRUE,PARTITA!AN162=2)","v":false},{"$f":"IF(PARTITA!AN162=1,K161+1,0)","v":0},{"$f":"IF(PARTITA!AN162=2,L161+1,0)","v":0},{"$f":"PARTITA!A162","v":""},{"$f":"COUNTIFS(PARTITA!AN153:AN162, \"=1\")","v":0},{"$f":"COUNTIFS(PARTITA!AN153:AN162, \"=2\")","v":0},{"$f":"PARTITA!BA162","v":""}]
[{"$f":"AND(PARTITA!K163=2, COUNTIF(Tables!L$1:L$4, PARTITA!F163))","v":false},{"$f":"AND(PARTITA!K163=1, COUNTIF(Tables!L$1:L$4, PARTITA!F163))","v":false},{"$f":"AND(A163, PARTITA!AO163=0)","v":false},{"$f":"AND(B163, PARTITA!AO163=0)","v":false},{"$f":"isNetPoint(PARTITA!AC163)","v":"0"},{"$f":"OR(PARTITA!S163=1, PARTITA!T163=1)","v":false},{"$f":"IF(PARTITA!K163=1,OR(E163=\"1\",E163=\"3\",F163=TRUE),OR(E163=\"2\",E163=\"3\"))","v":false},{"$f":"IF(PARTITA!K163=2,OR(E163=\"1\",E163=\"3\",F163=TRUE),OR(E163=\"2\",E163=\"3\"))","v":false},{"$f":"AND(G163=TRUE,PARTITA!AN163=1)","v":false},{"$f":"AND(H163=TRUE,PARTITA!AN163=2)","v":false},{"$f":"IF(PARTITA!AN163=1,K162+1,0)","v":0},{"$f":"IF(PARTITA!AN163=2,L162+1,0)","v":0},{"$f":"PARTITA!A163","v":""},{"$f":"COUNTIFS(PARTITA!AN154:AN163, \"=1\")","v":0},{"$f":"COUNTIFS(PARTITA!AN154:AN163, \"=2\")","v":0},{"$f":"PARTITA!BA163","v":""}]
[{"$f":"AND(PARTITA!K164=2, COUNTIF(Tables!L$1:L$4, PARTITA!F164))","v":false},{"$f":"AND(PARTITA!K164=1, COUNTIF(Tables!L$1:L$4, PARTITA!F164))","v":false},{"$f":"AND(A164, PARTITA!AO164=0)","v":false},{"$f":"AND(B164, PARTITA!AO164=0)","v":false},{"$f":"isNetPoint(PARTITA!AC164)","v":"0"},{"$f":"OR(PARTITA!S164=1, PARTITA!T164=1)","v":false},{"$f":"IF(PARTITA!K164=1,OR(E164=\"1\",E164=\"3\",F164=TRUE),OR(E164=\"2\",E164=\"3\"))","v":false},{"$f":"IF(PARTITA!K164=2,OR(E164=\"1\",E164=\"3\",F164=TRUE),OR(E164=\"2\",E164=\"3\"))","v":false},{"$f":"AND(G164=TRUE,PARTITA!AN164=1)","v":false},{"$f":"AND(H164=TRUE,PARTITA!AN164=2)","v":false},{"$f":"IF(PARTITA!AN164=1,K163+1,0)","v":0},{"$f":"IF(PARTITA!AN164=2,L163+1,0)","v":0},{"$f":"PARTITA!A164","v":""},{"$f":"COUNTIFS(PARTITA!AN155:AN164, \"=1\")","v":0},{"$f":"COUNTIFS(PARTITA!AN155:AN164, \"=2\")","v":0},{"$f":"PARTITA!BA164","v":""}]
[{"$f":"AND(PARTITA!K165=2, COUNTIF(Tables!L$1:L$4, PARTITA!F165))","v":false},{"$f":"AND(PARTITA!K165=1, COUNTIF(Tables!L$1:L$4, PARTITA!F165))","v":false},{"$f":"AND(A165, PARTITA!AO165=0)","v":false},{"$f":"AND(B165, PARTITA!AO165=0)","v":false},{"$f":"isNetPoint(PARTITA!AC165)","v":"0"},{"$f":"OR(PARTITA!S165=1, PARTITA!T165=1)","v":false},{"$f":"IF(PARTITA!K165=1,OR(E165=\"1\",E165=\"3\",F165=TRUE),OR(E165=\"2\",E165=\"3\"))","v":false},{"$f":"IF(PARTITA!K165=2,OR(E165=\"1\",E165=\"3\",F165=TRUE),OR(E165=\"2\",E165=\"3\"))","v":false},{"$f":"AND(G165=TRUE,PARTITA!AN165=1)","v":false},{"$f":"AND(H165=TRUE,PARTITA!AN165=2)","v":false},{"$f":"IF(PARTITA!AN165=1,K164+1,0)","v":0},{"$f":"IF(PARTITA!AN165=2,L164+1,0)","v":0},{"$f":"PARTITA!A165","v":""},{"$f":"COUNTIFS(PARTITA!AN156:AN165, \"=1\")","v":0},{"$f":"COUNTIFS(PARTITA!AN156:AN165, \"=2\")","v":0},{"$f":"PARTITA!BA165","v":""}]
[{"$f":"AND(PARTITA!K166=2, COUNTIF(Tables!L$1:L$4, PARTITA!F166))","v":false},{"$f":"AND(PARTITA!K166=1, COUNTIF(Tables!L$1:L$4, PARTITA!F166))","v":false},{"$f":"AND(A166, PARTITA!AO166=0)","v":false},{"$f":"AND(B166, PARTITA!AO166=0)","v":false},{"$f":"isNetPoint(PARTITA!AC166)","v":"0"},{"$f":"OR(PARTITA!S166=1, PARTITA!T166=1)","v":false},{"$f":"IF(PARTITA!K166=1,OR(E166=\"1\",E166=\"3\",F166=TRUE),OR(E166=\"2\",E166=\"3\"))","v":false},{"$f":"IF(PARTITA!K166=2,OR(E166=\"1\",E166=\"3\",F166=TRUE),OR(E166=\"2\",E166=\"3\"))","v":false},{"$f":"AND(G166=TRUE,PARTITA!AN166=1)","v":false},{"$f":"AND(H166=TRUE,PARTITA!AN166=2)","v":false},{"$f":"IF(PARTITA!AN166=1,K165+1,0)","v":0},{"$f":"IF(PARTITA!AN166=2,L165+1,0)","v":0},{"$f":"PARTITA!A166","v":""},{"$f":"COUNTIFS(PARTITA!AN157:AN166, \"=1\")","v":0},{"$f":"COUNTIFS(PARTITA!AN157:AN166, \"=2\")","v":0},{"$f":"PARTITA!BA166","v":""}]
[{"$f":"AND(PARTITA!K167=2, COUNTIF(Tables!L$1:L$4, PARTITA!F167))","v":false},{"$f":"AND(PARTITA!K167=1, COUNTIF(Tables!L$1:L$4, PARTITA!F167))","v":false},{"$f":"AND(A167, PARTITA!AO167=0)","v":false},{"$f":"AND(B167, PARTITA!AO167=0)","v":false},{"$f":"isNetPoint(PARTITA!AC167)","v":"0"},{"$f":"OR(PARTITA!S167=1, PARTITA!T167=1)","v":false},{"$f":"IF(PARTITA!K167=1,OR(E167=\"1\",E167=\"3\",F167=TRUE),OR(E167=\"2\",E167=\"3\"))","v":false},{"$f":"IF(PARTITA!K167=2,OR(E167=\"1\",E167=\"3\",F167=TRUE),OR(E167=\"2\",E167=\"3\"))","v":false},{"$f":"AND(G167=TRUE,PARTITA!AN167=1)","v":false},{"$f":"AND(H167=TRUE,PARTITA!AN167=2)","v":false},{"$f":"IF(PARTITA!AN167=1,K166+1,0)","v":0},{"$f":"IF(PARTITA!AN167=2,L166+1,0)","v":0},{"$f":"PARTITA!A167","v":""},{"$f":"COUNTIFS(PARTITA!AN158:AN167, \"=1\")","v":0},{"$f":"COUNTIFS(PARTITA!AN158:AN167, \"=2\")","v":0},{"$f":"PARTITA!BA167","v":""}]
[{"$f":"AND(PARTITA!K168=2, COUNTIF(Tables!L$1:L$4, PARTITA!F168))","v":false},{"$f":"AND(PARTITA!K168=1, COUNTIF(Tables!L$1:L$4, PARTITA!F168))","v":false},{"$f":"AND(A168, PARTITA!AO168=0)","v":false},{"$f":"AND(B168, PARTITA!AO168=0)","v":false},{"$f":"isNetPoint(PARTITA!AC168)","v":"0"},{"$f":"OR(PARTITA!S168=1, PARTITA!T168=1)","v":false},{"$f":"IF(PARTITA!K168=1,OR(E168=\"1\",E168=\"3\",F168=TRUE),OR(E168=\"2\",E168=\"3\"))","v":false},{"$f":"IF(PARTITA!K168=2,OR(E168=\"1\",E168=\"3\",F168=TRUE),OR(E168=\"2\",E168=\"3\"))","v":false},{"$f":"AND(G168=TRUE,PARTITA!AN168=1)","v":false},{"$f":"AND(H168=TRUE,PARTITA!AN168=2)","v":false},{"$f":"IF(PARTITA!AN168=1,K167+1,0)","v":0},{"$f":"IF(PARTITA!AN168=2,L167+1,0)","v":0},{"$f":"PARTITA!A168","v":""},{"$f":"COUNTIFS(PARTITA!AN159:AN168, \"=1\")","v":0},{"$f":"COUNTIFS(PARTITA!AN159:AN168, \"=2\")","v":0},{"$f":"PARTITA!BA168","v":""}]
[{"$f":"AND(PARTITA!K169=2, COUNTIF(Tables!L$1:L$4, PARTITA!F169))","v":false},{"$f":"AND(PARTITA!K169=1, COUNTIF(Tables!L$1:L$4, PARTITA!F169))","v":false},{"$f":"AND(A169, PARTITA!AO169=0)","v":false},{"$f":"AND(B169, PARTITA!AO169=0)","v":false},{"$f":"isNetPoint(PARTITA!AC169)","v":"0"},{"$f":"OR(PARTITA!S169=1, PARTITA!T169=1)","v":false},{"$f":"IF(PARTITA!K169=1,OR(E169=\"1\",E169=\"3\",F169=TRUE),OR(E169=\"2\",E169=\"3\"))","v":false},{"$f":"IF(PARTITA!K169=2,OR(E169=\"1\",E169=\"3\",F169=TRUE),OR(E169=\"2\",E169=\"3\"))","v":false},{"$f":"AND(G169=TRUE,PARTITA!AN169=1)","v":false},{"$f":"AND(H169=TRUE,PARTITA!AN169=2)","v":false},{"$f":"IF(PARTITA!AN169=1,K168+1,0)","v":0},{"$f":"IF(PARTITA!AN169=2,L168+1,0)","v":0},{"$f":"PARTITA!A169","v":""},{"$f":"COUNTIFS(PARTITA!AN160:AN169, \"=1\")","v":0},{"$f":"COUNTIFS(PARTITA!AN160:AN169, \"=2\")","v":0},{"$f":"PARTITA!BA169","v":""}]
[{"$f":"AND(PARTITA!K170=2, COUNTIF(Tables!L$1:L$4, PARTITA!F170))","v":false},{"$f":"AND(PARTITA!K170=1, COUNTIF(Tables!L$1:L$4, PARTITA!F170))","v":false},{"$f":"AND(A170, PARTITA!AO170=0)","v":false},{"$f":"AND(B170, PARTITA!AO170=0)","v":false},{"$f":"isNetPoint(PARTITA!AC170)","v":"0"},{"$f":"OR(PARTITA!S170=1, PARTITA!T170=1)","v":false},{"$f":"IF(PARTITA!K170=1,OR(E170=\"1\",E170=\"3\",F170=TRUE),OR(E170=\"2\",E170=\"3\"))","v":false},{"$f":"IF(PARTITA!K170=2,OR(E170=\"1\",E170=\"3\",F170=TRUE),OR(E170=\"2\",E170=\"3\"))","v":false},{"$f":"AND(G170=TRUE,PARTITA!AN170=1)","v":false},{"$f":"AND(H170=TRUE,PARTITA!AN170=2)","v":false},{"$f":"IF(PARTITA!AN170=1,K169+1,0)","v":0},{"$f":"IF(PARTITA!AN170=2,L169+1,0)","v":0},{"$f":"PARTITA!A170","v":""},{"$f":"COUNTIFS(PARTITA!AN161:AN170, \"=1\")","v":0},{"$f":"COUNTIFS(PARTITA!AN161:AN170, \"=2\")","v":0},{"$f":"PARTITA!BA170","v":""}]
[{"$f":"AND(PARTITA!K171=2, COUNTIF(Tables!L$1:L$4, PARTITA!F171))","v":false},{"$f":"AND(PARTITA!K171=1, COUNTIF(Tables!L$1:L$4, PARTITA!F171))","v":false},{"$f":"AND(A171, PARTITA!AO171=0)","v":false},{"$f":"AND(B171, PARTITA!AO171=0)","v":false},{"$f":"isNetPoint(PARTITA!AC171)","v":"0"},{"$f":"OR(PARTITA!S171=1, PARTITA!T171=1)","v":false},{"$f":"IF(PARTITA!K171=1,OR(E171=\"1\",E171=\"3\",F171=TRUE),OR(E171=\"2\",E171=\"3\"))","v":false},{"$f":"IF(PARTITA!K171=2,OR(E171=\"1\",E171=\"3\",F171=TRUE),OR(E171=\"2\",E171=\"3\"))","v":false},{"$f":"AND(G171=TRUE,PARTITA!AN171=1)","v":false},{"$f":"AND(H171=TRUE,PARTITA!AN171=2)","v":false},{"$f":"IF(PARTITA!AN171=1,K170+1,0)","v":0},{"$f":"IF(PARTITA!AN171=2,L170+1,0)","v":0},{"$f":"PARTITA!A171","v":""},{"$f":"COUNTIFS(PARTITA!AN162:AN171, \"=1\")","v":0},{"$f":"COUNTIFS(PARTITA!AN162:AN171, \"=2\")","v":0},{"$f":"PARTITA!BA171","v":""}]
[{"$f":"AND(PARTITA!K172=2, COUNTIF(Tables!L$1:L$4, PARTITA!F172))","v":false},{"$f":"AND(PARTITA!K172=1, COUNTIF(Tables!L$1:L$4, PARTITA!F172))","v":false},{"$f":"AND(A172, PARTITA!AO172=0)","v":false},{"$f":"AND(B172, PARTITA!AO172=0)","v":false},{"$f":"isNetPoint(PARTITA!AC172)","v":"0"},{"$f":"OR(PARTITA!S172=1, PARTITA!T172=1)","v":false},{"$f":"IF(PARTITA!K172=1,OR(E172=\"1\",E172=\"3\",F172=TRUE),OR(E172=\"2\",E172=\"3\"))","v":false},{"$f":"IF(PARTITA!K172=2,OR(E172=\"1\",E172=\"3\",F172=TRUE),OR(E172=\"2\",E172=\"3\"))","v":false},{"$f":"AND(G172=TRUE,PARTITA!AN172=1)","v":false},{"$f":"AND(H172=TRUE,PARTITA!AN172=2)","v":false},{"$f":"IF(PARTITA!AN172=1,K171+1,0)","v":0},{"$f":"IF(PARTITA!AN172=2,L171+1,0)","v":0},{"$f":"PARTITA!A172","v":""},{"$f":"COUNTIFS(PARTITA!AN163:AN172, \"=1\")","v":0},{"$f":"COUNTIFS(PARTITA!AN163:AN172, \"=2\")","v":0},{"$f":"PARTITA!BA172","v":""}]
[{"$f":"AND(PARTITA!K173=2, COUNTIF(Tables!L$1:L$4, PARTITA!F173))","v":false},{"$f":"AND(PARTITA!K173=1, COUNTIF(Tables!L$1:L$4, PARTITA!F173))","v":false},{"$f":"AND(A173, PARTITA!AO173=0)","v":false},{"$f":"AND(B173, PARTITA!AO173=0)","v":false},{"$f":"isNetPoint(PARTITA!AC173)","v":"0"},{"$f":"OR(PARTITA!S173=1, PARTITA!T173=1)","v":false},{"$f":"IF(PARTITA!K173=1,OR(E173=\"1\",E173=\"3\",F173=TRUE),OR(E173=\"2\",E173=\"3\"))","v":false},{"$f":"IF(PARTITA!K173=2,OR(E173=\"1\",E173=\"3\",F173=TRUE),OR(E173=\"2\",E173=\"3\"))","v":false},{"$f":"AND(G173=TRUE,PARTITA!AN173=1)","v":false},{"$f":"AND(H173=TRUE,PARTITA!AN173=2)","v":false},{"$f":"IF(PARTITA!AN173=1,K172+1,0)","v":0},{"$f":"IF(PARTITA!AN173=2,L172+1,0)","v":0},{"$f":"PARTITA!A173","v":""},{"$f":"COUNTIFS(PARTITA!AN164:AN173, \"=1\")","v":0},{"$f":"COUNTIFS(PARTITA!AN164:AN173, \"=2\")","v":0},{"$f":"PARTITA!BA173","v":""}]
[{"$f":"AND(PARTITA!K174=2, COUNTIF(Tables!L$1:L$4, PARTITA!F174))","v":false},{"$f":"AND(PARTITA!K174=1, COUNTIF(Tables!L$1:L$4, PARTITA!F174))","v":false},{"$f":"AND(A174, PARTITA!AO174=0)","v":false},{"$f":"AND(B174, PARTITA!AO174=0)","v":false},{"$f":"isNetPoint(PARTITA!AC174)","v":"0"},{"$f":"OR(PARTITA!S174=1, PARTITA!T174=1)","v":false},{"$f":"IF(PARTITA!K174=1,OR(E174=\"1\",E174=\"3\",F174=TRUE),OR(E174=\"2\",E174=\"3\"))","v":false},{"$f":"IF(PARTITA!K174=2,OR(E174=\"1\",E174=\"3\",F174=TRUE),OR(E174=\"2\",E174=\"3\"))","v":false},{"$f":"AND(G174=TRUE,PARTITA!AN174=1)","v":false},{"$f":"AND(H174=TRUE,PARTITA!AN174=2)","v":false},{"$f":"IF(PARTITA!AN174=1,K173+1,0)","v":0},{"$f":"IF(PARTITA!AN174=2,L173+1,0)","v":0},{"$f":"PARTITA!A174","v":""},{"$f":"COUNTIFS(PARTITA!AN165:AN174, \"=1\")","v":0},{"$f":"COUNTIFS(PARTITA!AN165:AN174, \"=2\")","v":0},{"$f":"PARTITA!BA174","v":""}]
[{"$f":"AND(PARTITA!K175=2, COUNTIF(Tables!L$1:L$4, PARTITA!F175))","v":false},{"$f":"AND(PARTITA!K175=1, COUNTIF(Tables!L$1:L$4, PARTITA!F175))","v":false},{"$f":"AND(A175, PARTITA!AO175=0)","v":false},{"$f":"AND(B175, PARTITA!AO175=0)","v":false},{"$f":"isNetPoint(PARTITA!AC175)","v":"0"},{"$f":"OR(PARTITA!S175=1, PARTITA!T175=1)","v":false},{"$f":"IF(PARTITA!K175=1,OR(E175=\"1\",E175=\"3\",F175=TRUE),OR(E175=\"2\",E175=\"3\"))","v":false},{"$f":"IF(PARTITA!K175=2,OR(E175=\"1\",E175=\"3\",F175=TRUE),OR(E175=\"2\",E175=\"3\"))","v":false},{"$f":"AND(G175=TRUE,PARTITA!AN175=1)","v":false},{"$f":"AND(H175=TRUE,PARTITA!AN175=2)","v":false},{"$f":"IF(PARTITA!AN175=1,K174+1,0)","v":0},{"$f":"IF(PARTITA!AN175=2,L174+1,0)","v":0},{"$f":"PARTITA!A175","v":""},{"$f":"COUNTIFS(PARTITA!AN166:AN175, \"=1\")","v":0},{"$f":"COUNTIFS(PARTITA!AN166:AN175, \"=2\")","v":0},{"$f":"PARTITA!BA175","v":""}]
[{"$f":"AND(PARTITA!K176=2, COUNTIF(Tables!L$1:L$4, PARTITA!F176))","v":false},{"$f":"AND(PARTITA!K176=1, COUNTIF(Tables!L$1:L$4, PARTITA!F176))","v":false},{"$f":"AND(A176, PARTITA!AO176=0)","v":false},{"$f":"AND(B176, PARTITA!AO176=0)","v":false},{"$f":"isNetPoint(PARTITA!AC176)","v":"0"},{"$f":"OR(PARTITA!S176=1, PARTITA!T176=1)","v":false},{"$f":"IF(PARTITA!K176=1,OR(E176=\"1\",E176=\"3\",F176=TRUE),OR(E176=\"2\",E176=\"3\"))","v":false},{"$f":"IF(PARTITA!K176=2,OR(E176=\"1\",E176=\"3\",F176=TRUE),OR(E176=\"2\",E176=\"3\"))","v":false},{"$f":"AND(G176=TRUE,PARTITA!AN176=1)","v":false},{"$f":"AND(H176=TRUE,PARTITA!AN176=2)","v":false},{"$f":"IF(PARTITA!AN176=1,K175+1,0)","v":0},{"$f":"IF(PARTITA!AN176=2,L175+1,0)","v":0},{"$f":"PARTITA!A176","v":""},{"$f":"COUNTIFS(PARTITA!AN167:AN176, \"=1\")","v":0},{"$f":"COUNTIFS(PARTITA!AN167:AN176, \"=2\")","v":0},{"$f":"PARTITA!BA176","v":""}]
[{"$f":"AND(PARTITA!K177=2, COUNTIF(Tables!L$1:L$4, PARTITA!F177))","v":false},{"$f":"AND(PARTITA!K177=1, COUNTIF(Tables!L$1:L$4, PARTITA!F177))","v":false},{"$f":"AND(A177, PARTITA!AO177=0)","v":false},{"$f":"AND(B177, PARTITA!AO177=0)","v":false},{"$f":"isNetPoint(PARTITA!AC177)","v":"0"},{"$f":"OR(PARTITA!S177=1, PARTITA!T177=1)","v":false},{"$f":"IF(PARTITA!K177=1,OR(E177=\"1\",E177=\"3\",F177=TRUE),OR(E177=\"2\",E177=\"3\"))","v":false},{"$f":"IF(PARTITA!K177=2,OR(E177=\"1\",E177=\"3\",F177=TRUE),OR(E177=\"2\",E177=\"3\"))","v":false},{"$f":"AND(G177=TRUE,PARTITA!AN177=1)","v":false},{"$f":"AND(H177=TRUE,PARTITA!AN177=2)","v":false},{"$f":"IF(PARTITA!AN177=1,K176+1,0)","v":0},{"$f":"IF(PARTITA!AN177=2,L176+1,0)","v":0},{"$f":"PARTITA!A177","v":""},{"$f":"COUNTIFS(PARTITA!AN168:AN177, \"=1\")","v":0},{"$f":"COUNTIFS(PARTITA!AN168:AN177, \"=2\")","v":0},{"$f":"PARTITA!BA177","v":""}]
[{"$f":"AND(PARTITA!K178=2, COUNTIF(Tables!L$1:L$4, PARTITA!F178))","v":false},{"$f":"AND(PARTITA!K178=1, COUNTIF(Tables!L$1:L$4, PARTITA!F178))","v":false},{"$f":"AND(A178, PARTITA!AO178=0)","v":false},{"$f":"AND(B178, PARTITA!AO178=0)","v":false},{"$f":"isNetPoint(PARTITA!AC178)","v":"0"},{"$f":"OR(PARTITA!S178=1, PARTITA!T178=1)","v":false},{"$f":"IF(PARTITA!K178=1,OR(E178=\"1\",E178=\"3\",F178=TRUE),OR(E178=\"2\",E178=\"3\"))","v":false},{"$f":"IF(PARTITA!K178=2,OR(E178=\"1\",E178=\"3\",F178=TRUE),OR(E178=\"2\",E178=\"3\"))","v":false},{"$f":"AND(G178=TRUE,PARTITA!AN178=1)","v":false},{"$f":"AND(H178=TRUE,PARTITA!AN178=2)","v":false},{"$f":"IF(PARTITA!AN178=1,K177+1,0)","v":0},{"$f":"IF(PARTITA!AN178=2,L177+1,0)","v":0},{"$f":"PARTITA!A178","v":""},{"$f":"COUNTIFS(PARTITA!AN169:AN178, \"=1\")","v":0},{"$f":"COUNTIFS(PARTITA!AN169:AN178, \"=2\")","v":0},{"$f":"PARTITA!BA178","v":""}]
[{"$f":"AND(PARTITA!K179=2, COUNTIF(Tables!L$1:L$4, PARTITA!F179))","v":false},{"$f":"AND(PARTITA!K179=1, COUNTIF(Tables!L$1:L$4, PARTITA!F179))","v":false},{"$f":"AND(A179, PARTITA!AO179=0)","v":false},{"$f":"AND(B179, PARTITA!AO179=0)","v":false},{"$f":"isNetPoint(PARTITA!AC179)","v":"0"},{"$f":"OR(PARTITA!S179=1, PARTITA!T179=1)","v":false},{"$f":"IF(PARTITA!K179=1,OR(E179=\"1\",E179=\"3\",F179=TRUE),OR(E179=\"2\",E179=\"3\"))","v":false},{"$f":"IF(PARTITA!K179=2,OR(E179=\"1\",E179=\"3\",F179=TRUE),OR(E179=\"2\",E179=\"3\"))","v":false},{"$f":"AND(G179=TRUE,PARTITA!AN179=1)","v":false},{"$f":"AND(H179=TRUE,PARTITA!AN179=2)","v":false},{"$f":"IF(PARTITA!AN179=1,K178+1,0)","v":0},{"$f":"IF(PARTITA!AN179=2,L178+1,0)","v":0},{"$f":"PARTITA!A179","v":""},{"$f":"COUNTIFS(PARTITA!AN170:AN179, \"=1\")","v":0},{"$f":"COUNTIFS(PARTITA!AN170:AN179, \"=2\")","v":0},{"$f":"PARTITA!BA179","v":""}]
[{"$f":"AND(PARTITA!K180=2, COUNTIF(Tables!L$1:L$4, PARTITA!F180))","v":false},{"$f":"AND(PARTITA!K180=1, COUNTIF(Tables!L$1:L$4, PARTITA!F180))","v":false},{"$f":"AND(A180, PARTITA!AO180=0)","v":false},{"$f":"AND(B180, PARTITA!AO180=0)","v":false},{"$f":"isNetPoint(PARTITA!AC180)","v":"0"},{"$f":"OR(PARTITA!S180=1, PARTITA!T180=1)","v":false},{"$f":"IF(PARTITA!K180=1,OR(E180=\"1\",E180=\"3\",F180=TRUE),OR(E180=\"2\",E180=\"3\"))","v":false},{"$f":"IF(PARTITA!K180=2,OR(E180=\"1\",E180=\"3\",F180=TRUE),OR(E180=\"2\",E180=\"3\"))","v":false},{"$f":"AND(G180=TRUE,PARTITA!AN180=1)","v":false},{"$f":"AND(H180=TRUE,PARTITA!AN180=2)","v":false},{"$f":"IF(PARTITA!AN180=1,K179+1,0)","v":0},{"$f":"IF(PARTITA!AN180=2,L179+1,0)","v":0},{"$f":"PARTITA!A180","v":""},{"$f":"COUNTIFS(PARTITA!AN171:AN180, \"=1\")","v":0},{"$f":"COUNTIFS(PARTITA!AN171:AN180, \"=2\")","v":0},{"$f":"PARTITA!BA180","v":""}]
[{"$f":"AND(PARTITA!K181=2, COUNTIF(Tables!L$1:L$4, PARTITA!F181))","v":false},{"$f":"AND(PARTITA!K181=1, COUNTIF(Tables!L$1:L$4, PARTITA!F181))","v":false},{"$f":"AND(A181, PARTITA!AO181=0)","v":false},{"$f":"AND(B181, PARTITA!AO181=0)","v":false},{"$f":"isNetPoint(PARTITA!AC181)","v":"0"},{"$f":"OR(PARTITA!S181=1, PARTITA!T181=1)","v":false},{"$f":"IF(PARTITA!K181=1,OR(E181=\"1\",E181=\"3\",F181=TRUE),OR(E181=\"2\",E181=\"3\"))","v":false},{"$f":"IF(PARTITA!K181=2,OR(E181=\"1\",E181=\"3\",F181=TRUE),OR(E181=\"2\",E181=\"3\"))","v":false},{"$f":"AND(G181=TRUE,PARTITA!AN181=1)","v":false},{"$f":"AND(H181=TRUE,PARTITA!AN181=2)","v":false},{"$f":"IF(PARTITA!AN181=1,K180+1,0)","v":0},{"$f":"IF(PARTITA!AN181=2,L180+1,0)","v":0},{"$f":"PARTITA!A181","v":""},{"$f":"COUNTIFS(PARTITA!AN172:AN181, \"=1\")","v":0},{"$f":"COUNTIFS(PARTITA!AN172:AN181, \"=2\")","v":0},{"$f":"PARTITA!BA181","v":""}]
[{"$f":"AND(PARTITA!K182=2, COUNTIF(Tables!L$1:L$4, PARTITA!F182))","v":false},{"$f":"AND(PARTITA!K182=1, COUNTIF(Tables!L$1:L$4, PARTITA!F182))","v":false},{"$f":"AND(A182, PARTITA!AO182=0)","v":false},{"$f":"AND(B182, PARTITA!AO182=0)","v":false},{"$f":"isNetPoint(PARTITA!AC182)","v":"0"},{"$f":"OR(PARTITA!S182=1, PARTITA!T182=1)","v":false},{"$f":"IF(PARTITA!K182=1,OR(E182=\"1\",E182=\"3\",F182=TRUE),OR(E182=\"2\",E182=\"3\"))","v":false},{"$f":"IF(PARTITA!K182=2,OR(E182=\"1\",E182=\"3\",F182=TRUE),OR(E182=\"2\",E182=\"3\"))","v":false},{"$f":"AND(G182=TRUE,PARTITA!AN182=1)","v":false},{"$f":"AND(H182=TRUE,PARTITA!AN182=2)","v":false},{"$f":"IF(PARTITA!AN182=1,K181+1,0)","v":0},{"$f":"IF(PARTITA!AN182=2,L181+1,0)","v":0},{"$f":"PARTITA!A182","v":""},{"$f":"COUNTIFS(PARTITA!AN173:AN182, \"=1\")","v":0},{"$f":"COUNTIFS(PARTITA!AN173:AN182, \"=2\")","v":0},{"$f":"PARTITA!BA182","v":""}]
[{"$f":"AND(PARTITA!K183=2, COUNTIF(Tables!L$1:L$4, PARTITA!F183))","v":false},{"$f":"AND(PARTITA!K183=1, COUNTIF(Tables!L$1:L$4, PARTITA!F183))","v":false},{"$f":"AND(A183, PARTITA!AO183=0)","v":false},{"$f":"AND(B183, PARTITA!AO183=0)","v":false},{"$f":"isNetPoint(PARTITA!AC183)","v":"0"},{"$f":"OR(PARTITA!S183=1, PARTITA!T183=1)","v":false},{"$f":"IF(PARTITA!K183=1,OR(E183=\"1\",E183=\"3\",F183=TRUE),OR(E183=\"2\",E183=\"3\"))","v":false},{"$f":"IF(PARTITA!K183=2,OR(E183=\"1\",E183=\"3\",F183=TRUE),OR(E183=\"2\",E183=\"3\"))","v":false},{"$f":"AND(G183=TRUE,PARTITA!AN183=1)","v":false},{"$f":"AND(H183=TRUE,PARTITA!AN183=2)","v":false},{"$f":"IF(PARTITA!AN183=1,K182+1,0)","v":0},{"$f":"IF(PARTITA!AN183=2,L182+1,0)","v":0},{"$f":"PARTITA!A183","v":""},{"$f":"COUNTIFS(PARTITA!AN174:AN183, \"=1\")","v":0},{"$f":"COUNTIFS(PARTITA!AN174:AN183, \"=2\")","v":0},{"$f":"PARTITA!BA183","v":""}]
[{"$f":"AND(PARTITA!K184=2, COUNTIF(Tables!L$1:L$4, PARTITA!F184))","v":false},{"$f":"AND(PARTITA!K184=1, COUNTIF(Tables!L$1:L$4, PARTITA!F184))","v":false},{"$f":"AND(A184, PARTITA!AO184=0)","v":false},{"$f":"AND(B184, PARTITA!AO184=0)","v":false},{"$f":"isNetPoint(PARTITA!AC184)","v":"0"},{"$f":"OR(PARTITA!S184=1, PARTITA!T184=1)","v":false},{"$f":"IF(PARTITA!K184=1,OR(E184=\"1\",E184=\"3\",F184=TRUE),OR(E184=\"2\",E184=\"3\"))","v":false},{"$f":"IF(PARTITA!K184=2,OR(E184=\"1\",E184=\"3\",F184=TRUE),OR(E184=\"2\",E184=\"3\"))","v":false},{"$f":"AND(G184=TRUE,PARTITA!AN184=1)","v":false},{"$f":"AND(H184=TRUE,PARTITA!AN184=2)","v":false},{"$f":"IF(PARTITA!AN184=1,K183+1,0)","v":0},{"$f":"IF(PARTITA!AN184=2,L183+1,0)","v":0},{"$f":"PARTITA!A184","v":""},{"$f":"COUNTIFS(PARTITA!AN175:AN184, \"=1\")","v":0},{"$f":"COUNTIFS(PARTITA!AN175:AN184, \"=2\")","v":0},{"$f":"PARTITA!BA184","v":""}]
[{"$f":"AND(PARTITA!K185=2, COUNTIF(Tables!L$1:L$4, PARTITA!F185))","v":false},{"$f":"AND(PARTITA!K185=1, COUNTIF(Tables!L$1:L$4, PARTITA!F185))","v":false},{"$f":"AND(A185, PARTITA!AO185=0)","v":false},{"$f":"AND(B185, PARTITA!AO185=0)","v":false},{"$f":"isNetPoint(PARTITA!AC185)","v":"0"},{"$f":"OR(PARTITA!S185=1, PARTITA!T185=1)","v":false},{"$f":"IF(PARTITA!K185=1,OR(E185=\"1\",E185=\"3\",F185=TRUE),OR(E185=\"2\",E185=\"3\"))","v":false},{"$f":"IF(PARTITA!K185=2,OR(E185=\"1\",E185=\"3\",F185=TRUE),OR(E185=\"2\",E185=\"3\"))","v":false},{"$f":"AND(G185=TRUE,PARTITA!AN185=1)","v":false},{"$f":"AND(H185=TRUE,PARTITA!AN185=2)","v":false},{"$f":"IF(PARTITA!AN185=1,K184+1,0)","v":0},{"$f":"IF(PARTITA!AN185=2,L184+1,0)","v":0},{"$f":"PARTITA!A185","v":""},{"$f":"COUNTIFS(PARTITA!AN176:AN185, \"=1\")","v":0},{"$f":"COUNTIFS(PARTITA!AN176:AN185, \"=2\")","v":0},{"$f":"PARTITA!BA185","v":""}]
[{"$f":"AND(PARTITA!K186=2, COUNTIF(Tables!L$1:L$4, PARTITA!F186))","v":false},{"$f":"AND(PARTITA!K186=1, COUNTIF(Tables!L$1:L$4, PARTITA!F186))","v":false},{"$f":"AND(A186, PARTITA!AO186=0)","v":false},{"$f":"AND(B186, PARTITA!AO186=0)","v":false},{"$f":"isNetPoint(PARTITA!AC186)","v":"0"},{"$f":"OR(PARTITA!S186=1, PARTITA!T186=1)","v":false},{"$f":"IF(PARTITA!K186=1,OR(E186=\"1\",E186=\"3\",F186=TRUE),OR(E186=\"2\",E186=\"3\"))","v":false},{"$f":"IF(PARTITA!K186=2,OR(E186=\"1\",E186=\"3\",F186=TRUE),OR(E186=\"2\",E186=\"3\"))","v":false},{"$f":"AND(G186=TRUE,PARTITA!AN186=1)","v":false},{"$f":"AND(H186=TRUE,PARTITA!AN186=2)","v":false},{"$f":"IF(PARTITA!AN186=1,K185+1,0)","v":0},{"$f":"IF(PARTITA!AN186=2,L185+1,0)","v":0},{"$f":"PARTITA!A186","v":""},{"$f":"COUNTIFS(PARTITA!AN177:AN186, \"=1\")","v":0},{"$f":"COUNTIFS(PARTITA!AN177:AN186, \"=2\")","v":0},{"$f":"PARTITA!BA186","v":""}]
[{"$f":"AND(PARTITA!K187=2, COUNTIF(Tables!L$1:L$4, PARTITA!F187))","v":false},{"$f":"AND(PARTITA!K187=1, COUNTIF(Tables!L$1:L$4, PARTITA!F187))","v":false},{"$f":"AND(A187, PARTITA!AO187=0)","v":false},{"$f":"AND(B187, PARTITA!AO187=0)","v":false},{"$f":"isNetPoint(PARTITA!AC187)","v":"0"},{"$f":"OR(PARTITA!S187=1, PARTITA!T187=1)","v":false},{"$f":"IF(PARTITA!K187=1,OR(E187=\"1\",E187=\"3\",F187=TRUE),OR(E187=\"2\",E187=\"3\"))","v":false},{"$f":"IF(PARTITA!K187=2,OR(E187=\"1\",E187=\"3\",F187=TRUE),OR(E187=\"2\",E187=\"3\"))","v":false},{"$f":"AND(G187=TRUE,PARTITA!AN187=1)","v":false},{"$f":"AND(H187=TRUE,PARTITA!AN187=2)","v":false},{"$f":"IF(PARTITA!AN187=1,K186+1,0)","v":0},{"$f":"IF(PARTITA!AN187=2,L186+1,0)","v":0},{"$f":"PARTITA!A187","v":""},{"$f":"COUNTIFS(PARTITA!AN178:AN187, \"=1\")","v":0},{"$f":"COUNTIFS(PARTITA!AN178:AN187, \"=2\")","v":0},{"$f":"PARTITA!BA187","v":""}]
[{"$f":"AND(PARTITA!K188=2, COUNTIF(Tables!L$1:L$4, PARTITA!F188))","v":false},{"$f":"AND(PARTITA!K188=1, COUNTIF(Tables!L$1:L$4, PARTITA!F188))","v":false},{"$f":"AND(A188, PARTITA!AO188=0)","v":false},{"$f":"AND(B188, PARTITA!AO188=0)","v":false},{"$f":"isNetPoint(PARTITA!AC188)","v":"0"},{"$f":"OR(PARTITA!S188=1, PARTITA!T188=1)","v":false},{"$f":"IF(PARTITA!K188=1,OR(E188=\"1\",E188=\"3\",F188=TRUE),OR(E188=\"2\",E188=\"3\"))","v":false},{"$f":"IF(PARTITA!K188=2,OR(E188=\"1\",E188=\"3\",F188=TRUE),OR(E188=\"2\",E188=\"3\"))","v":false},{"$f":"AND(G188=TRUE,PARTITA!AN188=1)","v":false},{"$f":"AND(H188=TRUE,PARTITA!AN188=2)","v":false},{"$f":"IF(PARTITA!AN188=1,K187+1,0)","v":0},{"$f":"IF(PARTITA!AN188=2,L187+1,0)","v":0},{"$f":"PARTITA!A188","v":""},{"$f":"COUNTIFS(PARTITA!AN179:AN188, \"=1\")","v":0},{"$f":"COUNTIFS(PARTITA!AN179:AN188, \"=2\")","v":0},{"$f":"PARTITA!BA188","v":""}]
[{"$f":"AND(PARTITA!K189=2, COUNTIF(Tables!L$1:L$4, PARTITA!F189))","v":false},{"$f":"AND(PARTITA!K189=1, COUNTIF(Tables!L$1:L$4, PARTITA!F189))","v":false},{"$f":"AND(A189, PARTITA!AO189=0)","v":false},{"$f":"AND(B189, PARTITA!AO189=0)","v":false},{"$f":"isNetPoint(PARTITA!AC189)","v":"0"},{"$f":"OR(PARTITA!S189=1, PARTITA!T189=1)","v":false},{"$f":"IF(PARTITA!K189=1,OR(E189=\"1\",E189=\"3\",F189=TRUE),OR(E189=\"2\",E189=\"3\"))","v":false},{"$f":"IF(PARTITA!K189=2,OR(E189=\"1\",E189=\"3\",F189=TRUE),OR(E189=\"2\",E189=\"3\"))","v":false},{"$f":"AND(G189=TRUE,PARTITA!AN189=1)","v":false},{"$f":"AND(H189=TRUE,PARTITA!AN189=2)","v":false},{"$f":"IF(PARTITA!AN189=1,K188+1,0)","v":0},{"$f":"IF(PARTITA!AN189=2,L188+1,0)","v":0},{"$f":"PARTITA!A189","v":""},{"$f":"COUNTIFS(PARTITA!AN180:AN189, \"=1\")","v":0},{"$f":"COUNTIFS(PARTITA!AN180:AN189, \"=2\")","v":0},{"$f":"PARTITA!BA189","v":""}]
[{"$f":"AND(PARTITA!K190=2, COUNTIF(Tables!L$1:L$4, PARTITA!F190))","v":false},{"$f":"AND(PARTITA!K190=1, COUNTIF(Tables!L$1:L$4, PARTITA!F190))","v":false},{"$f":"AND(A190, PARTITA!AO190=0)","v":false},{"$f":"AND(B190, PARTITA!AO190=0)","v":false},{"$f":"isNetPoint(PARTITA!AC190)","v":"0"},{"$f":"OR(PARTITA!S190=1, PARTITA!T190=1)","v":false},{"$f":"IF(PARTITA!K190=1,OR(E190=\"1\",E190=\"3\",F190=TRUE),OR(E190=\"2\",E190=\"3\"))","v":false},{"$f":"IF(PARTITA!K190=2,OR(E190=\"1\",E190=\"3\",F190=TRUE),OR(E190=\"2\",E190=\"3\"))","v":false},{"$f":"AND(G190=TRUE,PARTITA!AN190=1)","v":false},{"$f":"AND(H190=TRUE,PARTITA!AN190=2)","v":false},{"$f":"IF(PARTITA!AN190=1,K189+1,0)","v":0},{"$f":"IF(PARTITA!AN190=2,L189+1,0)","v":0},{"$f":"PARTITA!A190","v":""},{"$f":"COUNTIFS(PARTITA!AN181:AN190, \"=1\")","v":0},{"$f":"COUNTIFS(PARTITA!AN181:AN190, \"=2\")","v":0},{"$f":"PARTITA!BA190","v":""}]
[{"$f":"AND(PARTITA!K191=2, COUNTIF(Tables!L$1:L$4, PARTITA!F191))","v":false},{"$f":"AND(PARTITA!K191=1, COUNTIF(Tables!L$1:L$4, PARTITA!F191))","v":false},{"$f":"AND(A191, PARTITA!AO191=0)","v":false},{"$f":"AND(B191, PARTITA!AO191=0)","v":false},{"$f":"isNetPoint(PARTITA!AC191)","v":"0"},{"$f":"OR(PARTITA!S191=1, PARTITA!T191=1)","v":false},{"$f":"IF(PARTITA!K191=1,OR(E191=\"1\",E191=\"3\",F191=TRUE),OR(E191=\"2\",E191=\"3\"))","v":false},{"$f":"IF(PARTITA!K191=2,OR(E191=\"1\",E191=\"3\",F191=TRUE),OR(E191=\"2\",E191=\"3\"))","v":false},{"$f":"AND(G191=TRUE,PARTITA!AN191=1)","v":false},{"$f":"AND(H191=TRUE,PARTITA!AN191=2)","v":false},{"$f":"IF(PARTITA!AN191=1,K190+1,0)","v":0},{"$f":"IF(PARTITA!AN191=2,L190+1,0)","v":0},{"$f":"PARTITA!A191","v":""},{"$f":"COUNTIFS(PARTITA!AN182:AN191, \"=1\")","v":0},{"$f":"COUNTIFS(PARTITA!AN182:AN191, \"=2\")","v":0},{"$f":"PARTITA!BA191","v":""}]
[{"$f":"AND(PARTITA!K192=2, COUNTIF(Tables!L$1:L$4, PARTITA!F192))","v":false},{"$f":"AND(PARTITA!K192=1, COUNTIF(Tables!L$1:L$4, PARTITA!F192))","v":false},{"$f":"AND(A192, PARTITA!AO192=0)","v":false},{"$f":"AND(B192, PARTITA!AO192=0)","v":false},{"$f":"isNetPoint(PARTITA!AC192)","v":"0"},{"$f":"OR(PARTITA!S192=1, PARTITA!T192=1)","v":false},{"$f":"IF(PARTITA!K192=1,OR(E192=\"1\",E192=\"3\",F192=TRUE),OR(E192=\"2\",E192=\"3\"))","v":false},{"$f":"IF(PARTITA!K192=2,OR(E192=\"1\",E192=\"3\",F192=TRUE),OR(E192=\"2\",E192=\"3\"))","v":false},{"$f":"AND(G192=TRUE,PARTITA!AN192=1)","v":false},{"$f":"AND(H192=TRUE,PARTITA!AN192=2)","v":false},{"$f":"IF(PARTITA!AN192=1,K191+1,0)","v":0},{"$f":"IF(PARTITA!AN192=2,L191+1,0)","v":0},{"$f":"PARTITA!A192","v":""},{"$f":"COUNTIFS(PARTITA!AN183:AN192, \"=1\")","v":0},{"$f":"COUNTIFS(PARTITA!AN183:AN192, \"=2\")","v":0},{"$f":"PARTITA!BA192","v":""}]
[{"$f":"AND(PARTITA!K193=2, COUNTIF(Tables!L$1:L$4, PARTITA!F193))","v":false},{"$f":"AND(PARTITA!K193=1, COUNTIF(Tables!L$1:L$4, PARTITA!F193))","v":false},{"$f":"AND(A193, PARTITA!AO193=0)","v":false},{"$f":"AND(B193, PARTITA!AO193=0)","v":false},{"$f":"isNetPoint(PARTITA!AC193)","v":"0"},{"$f":"OR(PARTITA!S193=1, PARTITA!T193=1)","v":false},{"$f":"IF(PARTITA!K193=1,OR(E193=\"1\",E193=\"3\",F193=TRUE),OR(E193=\"2\",E193=\"3\"))","v":false},{"$f":"IF(PARTITA!K193=2,OR(E193=\"1\",E193=\"3\",F193=TRUE),OR(E193=\"2\",E193=\"3\"))","v":false},{"$f":"AND(G193=TRUE,PARTITA!AN193=1)","v":false},{"$f":"AND(H193=TRUE,PARTITA!AN193=2)","v":false},{"$f":"IF(PARTITA!AN193=1,K192+1,0)","v":0},{"$f":"IF(PARTITA!AN193=2,L192+1,0)","v":0},{"$f":"PARTITA!A193","v":""},{"$f":"COUNTIFS(PARTITA!AN184:AN193, \"=1\")","v":0},{"$f":"COUNTIFS(PARTITA!AN184:AN193, \"=2\")","v":0},{"$f":"PARTITA!BA193","v":""}]
[{"$f":"AND(PARTITA!K194=2, COUNTIF(Tables!L$1:L$4, PARTITA!F194))","v":false},{"$f":"AND(PARTITA!K194=1, COUNTIF(Tables!L$1:L$4, PARTITA!F194))","v":false},{"$f":"AND(A194, PARTITA!AO194=0)","v":false},{"$f":"AND(B194, PARTITA!AO194=0)","v":false},{"$f":"isNetPoint(PARTITA!AC194)","v":"0"},{"$f":"OR(PARTITA!S194=1, PARTITA!T194=1)","v":false},{"$f":"IF(PARTITA!K194=1,OR(E194=\"1\",E194=\"3\",F194=TRUE),OR(E194=\"2\",E194=\"3\"))","v":false},{"$f":"IF(PARTITA!K194=2,OR(E194=\"1\",E194=\"3\",F194=TRUE),OR(E194=\"2\",E194=\"3\"))","v":false},{"$f":"AND(G194=TRUE,PARTITA!AN194=1)","v":false},{"$f":"AND(H194=TRUE,PARTITA!AN194=2)","v":false},{"$f":"IF(PARTITA!AN194=1,K193+1,0)","v":0},{"$f":"IF(PARTITA!AN194=2,L193+1,0)","v":0},{"$f":"PARTITA!A194","v":""},{"$f":"COUNTIFS(PARTITA!AN185:AN194, \"=1\")","v":0},{"$f":"COUNTIFS(PARTITA!AN185:AN194, \"=2\")","v":0},{"$f":"PARTITA!BA194","v":""}]
[{"$f":"AND(PARTITA!K195=2, COUNTIF(Tables!L$1:L$4, PARTITA!F195))","v":false},{"$f":"AND(PARTITA!K195=1, COUNTIF(Tables!L$1:L$4, PARTITA!F195))","v":false},{"$f":"AND(A195, PARTITA!AO195=0)","v":false},{"$f":"AND(B195, PARTITA!AO195=0)","v":false},{"$f":"isNetPoint(PARTITA!AC195)","v":"0"},{"$f":"OR(PARTITA!S195=1, PARTITA!T195=1)","v":false},{"$f":"IF(PARTITA!K195=1,OR(E195=\"1\",E195=\"3\",F195=TRUE),OR(E195=\"2\",E195=\"3\"))","v":false},{"$f":"IF(PARTITA!K195=2,OR(E195=\"1\",E195=\"3\",F195=TRUE),OR(E195=\"2\",E195=\"3\"))","v":false},{"$f":"AND(G195=TRUE,PARTITA!AN195=1)","v":false},{"$f":"AND(H195=TRUE,PARTITA!AN195=2)","v":false},{"$f":"IF(PARTITA!AN195=1,K194+1,0)","v":0},{"$f":"IF(PARTITA!AN195=2,L194+1,0)","v":0},{"$f":"PARTITA!A195","v":""},{"$f":"COUNTIFS(PARTITA!AN186:AN195, \"=1\")","v":0},{"$f":"COUNTIFS(PARTITA!AN186:AN195, \"=2\")","v":0},{"$f":"PARTITA!BA195","v":""}]
[{"$f":"AND(PARTITA!K196=2, COUNTIF(Tables!L$1:L$4, PARTITA!F196))","v":false},{"$f":"AND(PARTITA!K196=1, COUNTIF(Tables!L$1:L$4, PARTITA!F196))","v":false},{"$f":"AND(A196, PARTITA!AO196=0)","v":false},{"$f":"AND(B196, PARTITA!AO196=0)","v":false},{"$f":"isNetPoint(PARTITA!AC196)","v":"0"},{"$f":"OR(PARTITA!S196=1, PARTITA!T196=1)","v":false},{"$f":"IF(PARTITA!K196=1,OR(E196=\"1\",E196=\"3\",F196=TRUE),OR(E196=\"2\",E196=\"3\"))","v":false},{"$f":"IF(PARTITA!K196=2,OR(E196=\"1\",E196=\"3\",F196=TRUE),OR(E196=\"2\",E196=\"3\"))","v":false},{"$f":"AND(G196=TRUE,PARTITA!AN196=1)","v":false},{"$f":"AND(H196=TRUE,PARTITA!AN196=2)","v":false},{"$f":"IF(PARTITA!AN196=1,K195+1,0)","v":0},{"$f":"IF(PARTITA!AN196=2,L195+1,0)","v":0},{"$f":"PARTITA!A196","v":""},{"$f":"COUNTIFS(PARTITA!AN187:AN196, \"=1\")","v":0},{"$f":"COUNTIFS(PARTITA!AN187:AN196, \"=2\")","v":0},{"$f":"PARTITA!BA196","v":""}]
[{"$f":"AND(PARTITA!K197=2, COUNTIF(Tables!L$1:L$4, PARTITA!F197))","v":false},{"$f":"AND(PARTITA!K197=1, COUNTIF(Tables!L$1:L$4, PARTITA!F197))","v":false},{"$f":"AND(A197, PARTITA!AO197=0)","v":false},{"$f":"AND(B197, PARTITA!AO197=0)","v":false},{"$f":"isNetPoint(PARTITA!AC197)","v":"0"},{"$f":"OR(PARTITA!S197=1, PARTITA!T197=1)","v":false},{"$f":"IF(PARTITA!K197=1,OR(E197=\"1\",E197=\"3\",F197=TRUE),OR(E197=\"2\",E197=\"3\"))","v":false},{"$f":"IF(PARTITA!K197=2,OR(E197=\"1\",E197=\"3\",F197=TRUE),OR(E197=\"2\",E197=\"3\"))","v":false},{"$f":"AND(G197=TRUE,PARTITA!AN197=1)","v":false},{"$f":"AND(H197=TRUE,PARTITA!AN197=2)","v":false},{"$f":"IF(PARTITA!AN197=1,K196+1,0)","v":0},{"$f":"IF(PARTITA!AN197=2,L196+1,0)","v":0},{"$f":"PARTITA!A197","v":""},{"$f":"COUNTIFS(PARTITA!AN188:AN197, \"=1\")","v":0},{"$f":"COUNTIFS(PARTITA!AN188:AN197, \"=2\")","v":0},{"$f":"PARTITA!BA197","v":""}]
[{"$f":"AND(PARTITA!K198=2, COUNTIF(Tables!L$1:L$4, PARTITA!F198))","v":false},{"$f":"AND(PARTITA!K198=1, COUNTIF(Tables!L$1:L$4, PARTITA!F198))","v":false},{"$f":"AND(A198, PARTITA!AO198=0)","v":false},{"$f":"AND(B198, PARTITA!AO198=0)","v":false},{"$f":"isNetPoint(PARTITA!AC198)","v":"0"},{"$f":"OR(PARTITA!S198=1, PARTITA!T198=1)","v":false},{"$f":"IF(PARTITA!K198=1,OR(E198=\"1\",E198=\"3\",F198=TRUE),OR(E198=\"2\",E198=\"3\"))","v":false},{"$f":"IF(PARTITA!K198=2,OR(E198=\"1\",E198=\"3\",F198=TRUE),OR(E198=\"2\",E198=\"3\"))","v":false},{"$f":"AND(G198=TRUE,PARTITA!AN198=1)","v":false},{"$f":"AND(H198=TRUE,PARTITA!AN198=2)","v":false},{"$f":"IF(PARTITA!AN198=1,K197+1,0)","v":0},{"$f":"IF(PARTITA!AN198=2,L197+1,0)","v":0},{"$f":"PARTITA!A198","v":""},{"$f":"COUNTIFS(PARTITA!AN189:AN198, \"=1\")","v":0},{"$f":"COUNTIFS(PARTITA!AN189:AN198, \"=2\")","v":0},{"$f":"PARTITA!BA198","v":""}]
[{"$f":"AND(PARTITA!K199=2, COUNTIF(Tables!L$1:L$4, PARTITA!F199))","v":false},{"$f":"AND(PARTITA!K199=1, COUNTIF(Tables!L$1:L$4, PARTITA!F199))","v":false},{"$f":"AND(A199, PARTITA!AO199=0)","v":false},{"$f":"AND(B199, PARTITA!AO199=0)","v":false},{"$f":"isNetPoint(PARTITA!AC199)","v":"0"},{"$f":"OR(PARTITA!S199=1, PARTITA!T199=1)","v":false},{"$f":"IF(PARTITA!K199=1,OR(E199=\"1\",E199=\"3\",F199=TRUE),OR(E199=\"2\",E199=\"3\"))","v":false},{"$f":"IF(PARTITA!K199=2,OR(E199=\"1\",E199=\"3\",F199=TRUE),OR(E199=\"2\",E199=\"3\"))","v":false},{"$f":"AND(G199=TRUE,PARTITA!AN199=1)","v":false},{"$f":"AND(H199=TRUE,PARTITA!AN199=2)","v":false},{"$f":"IF(PARTITA!AN199=1,K198+1,0)","v":0},{"$f":"IF(PARTITA!AN199=2,L198+1,0)","v":0},{"$f":"PARTITA!A199","v":""},{"$f":"COUNTIFS(PARTITA!AN190:AN199, \"=1\")","v":0},{"$f":"COUNTIFS(PARTITA!AN190:AN199, \"=2\")","v":0},{"$f":"PARTITA!BA199","v":""}]
[{"$f":"AND(PARTITA!K200=2, COUNTIF(Tables!L$1:L$4, PARTITA!F200))","v":false},{"$f":"AND(PARTITA!K200=1, COUNTIF(Tables!L$1:L$4, PARTITA!F200))","v":false},{"$f":"AND(A200, PARTITA!AO200=0)","v":false},{"$f":"AND(B200, PARTITA!AO200=0)","v":false},{"$f":"isNetPoint(PARTITA!AC200)","v":"0"},{"$f":"OR(PARTITA!S200=1, PARTITA!T200=1)","v":false},{"$f":"IF(PARTITA!K200=1,OR(E200=\"1\",E200=\"3\",F200=TRUE),OR(E200=\"2\",E200=\"3\"))","v":false},{"$f":"IF(PARTITA!K200=2,OR(E200=\"1\",E200=\"3\",F200=TRUE),OR(E200=\"2\",E200=\"3\"))","v":false},{"$f":"AND(G200=TRUE,PARTITA!AN200=1)","v":false},{"$f":"AND(H200=TRUE,PARTITA!AN200=2)","v":false},{"$f":"IF(PARTITA!AN200=1,K199+1,0)","v":0},{"$f":"IF(PARTITA!AN200=2,L199+1,0)","v":0},{"$f":"PARTITA!A200","v":""},{"$f":"COUNTIFS(PARTITA!AN191:AN200, \"=1\")","v":0},{"$f":"COUNTIFS(PARTITA!AN191:AN200, \"=2\")","v":0},{"$f":"PARTITA!BA200","v":""}]
[{"$f":"AND(PARTITA!K201=2, COUNTIF(Tables!L$1:L$4, PARTITA!F201))","v":false},{"$f":"AND(PARTITA!K201=1, COUNTIF(Tables!L$1:L$4, PARTITA!F201))","v":false},{"$f":"AND(A201, PARTITA!AO201=0)","v":false},{"$f":"AND(B201, PARTITA!AO201=0)","v":false},{"$f":"isNetPoint(PARTITA!AC201)","v":"0"},{"$f":"OR(PARTITA!S201=1, PARTITA!T201=1)","v":false},{"$f":"IF(PARTITA!K201=1,OR(E201=\"1\",E201=\"3\",F201=TRUE),OR(E201=\"2\",E201=\"3\"))","v":false},{"$f":"IF(PARTITA!K201=2,OR(E201=\"1\",E201=\"3\",F201=TRUE),OR(E201=\"2\",E201=\"3\"))","v":false},{"$f":"AND(G201=TRUE,PARTITA!AN201=1)","v":false},{"$f":"AND(H201=TRUE,PARTITA!AN201=2)","v":false},{"$f":"IF(PARTITA!AN201=1,K200+1,0)","v":0},{"$f":"IF(PARTITA!AN201=2,L200+1,0)","v":0},{"$f":"PARTITA!A201","v":""},{"$f":"COUNTIFS(PARTITA!AN192:AN201, \"=1\")","v":0},{"$f":"COUNTIFS(PARTITA!AN192:AN201, \"=2\")","v":0},{"$f":"PARTITA!BA201","v":""}]
[{"$f":"AND(PARTITA!K202=2, COUNTIF(Tables!L$1:L$4, PARTITA!F202))","v":false},{"$f":"AND(PARTITA!K202=1, COUNTIF(Tables!L$1:L$4, PARTITA!F202))","v":false},{"$f":"AND(A202, PARTITA!AO202=0)","v":false},{"$f":"AND(B202, PARTITA!AO202=0)","v":false},{"$f":"isNetPoint(PARTITA!AC202)","v":"0"},{"$f":"OR(PARTITA!S202=1, PARTITA!T202=1)","v":false},{"$f":"IF(PARTITA!K202=1,OR(E202=\"1\",E202=\"3\",F202=TRUE),OR(E202=\"2\",E202=\"3\"))","v":false},{"$f":"IF(PARTITA!K202=2,OR(E202=\"1\",E202=\"3\",F202=TRUE),OR(E202=\"2\",E202=\"3\"))","v":false},{"$f":"AND(G202=TRUE,PARTITA!AN202=1)","v":false},{"$f":"AND(H202=TRUE,PARTITA!AN202=2)","v":false},{"$f":"IF(PARTITA!AN202=1,K201+1,0)","v":0},{"$f":"IF(PARTITA!AN202=2,L201+1,0)","v":0},{"$f":"PARTITA!A202","v":""},{"$f":"COUNTIFS(PARTITA!AN193:AN202, \"=1\")","v":0},{"$f":"COUNTIFS(PARTITA!AN193:AN202, \"=2\")","v":0},{"$f":"PARTITA!BA202","v":""}]
[{"$f":"AND(PARTITA!K203=2, COUNTIF(Tables!L$1:L$4, PARTITA!F203))","v":false},{"$f":"AND(PARTITA!K203=1, COUNTIF(Tables!L$1:L$4, PARTITA!F203))","v":false},{"$f":"AND(A203, PARTITA!AO203=0)","v":false},{"$f":"AND(B203, PARTITA!AO203=0)","v":false},{"$f":"isNetPoint(PARTITA!AC203)","v":"0"},{"$f":"OR(PARTITA!S203=1, PARTITA!T203=1)","v":false},{"$f":"IF(PARTITA!K203=1,OR(E203=\"1\",E203=\"3\",F203=TRUE),OR(E203=\"2\",E203=\"3\"))","v":false},{"$f":"IF(PARTITA!K203=2,OR(E203=\"1\",E203=\"3\",F203=TRUE),OR(E203=\"2\",E203=\"3\"))","v":false},{"$f":"AND(G203=TRUE,PARTITA!AN203=1)","v":false},{"$f":"AND(H203=TRUE,PARTITA!AN203=2)","v":false},{"$f":"IF(PARTITA!AN203=1,K202+1,0)","v":0},{"$f":"IF(PARTITA!AN203=2,L202+1,0)","v":0},{"$f":"PARTITA!A203","v":""},{"$f":"COUNTIFS(PARTITA!AN194:AN203, \"=1\")","v":0},{"$f":"COUNTIFS(PARTITA!AN194:AN203, \"=2\")","v":0},{"$f":"PARTITA!BA203","v":""}]
[{"$f":"AND(PARTITA!K204=2, COUNTIF(Tables!L$1:L$4, PARTITA!F204))","v":false},{"$f":"AND(PARTITA!K204=1, COUNTIF(Tables!L$1:L$4, PARTITA!F204))","v":false},{"$f":"AND(A204, PARTITA!AO204=0)","v":false},{"$f":"AND(B204, PARTITA!AO204=0)","v":false},{"$f":"isNetPoint(PARTITA!AC204)","v":"0"},{"$f":"OR(PARTITA!S204=1, PARTITA!T204=1)","v":false},{"$f":"IF(PARTITA!K204=1,OR(E204=\"1\",E204=\"3\",F204=TRUE),OR(E204=\"2\",E204=\"3\"))","v":false},{"$f":"IF(PARTITA!K204=2,OR(E204=\"1\",E204=\"3\",F204=TRUE),OR(E204=\"2\",E204=\"3\"))","v":false},{"$f":"AND(G204=TRUE,PARTITA!AN204=1)","v":false},{"$f":"AND(H204=TRUE,PARTITA!AN204=2)","v":false},{"$f":"IF(PARTITA!AN204=1,K203+1,0)","v":0},{"$f":"IF(PARTITA!AN204=2,L203+1,0)","v":0},{"$f":"PARTITA!A204","v":""},{"$f":"COUNTIFS(PARTITA!AN195:AN204, \"=1\")","v":0},{"$f":"COUNTIFS(PARTITA!AN195:AN204, \"=2\")","v":0},{"$f":"PARTITA!BA204","v":""}]
[{"$f":"AND(PARTITA!K205=2, COUNTIF(Tables!L$1:L$4, PARTITA!F205))","v":false},{"$f":"AND(PARTITA!K205=1, COUNTIF(Tables!L$1:L$4, PARTITA!F205))","v":false},{"$f":"AND(A205, PARTITA!AO205=0)","v":false},{"$f":"AND(B205, PARTITA!AO205=0)","v":false},{"$f":"isNetPoint(PARTITA!AC205)","v":"0"},{"$f":"OR(PARTITA!S205=1, PARTITA!T205=1)","v":false},{"$f":"IF(PARTITA!K205=1,OR(E205=\"1\",E205=\"3\",F205=TRUE),OR(E205=\"2\",E205=\"3\"))","v":false},{"$f":"IF(PARTITA!K205=2,OR(E205=\"1\",E205=\"3\",F205=TRUE),OR(E205=\"2\",E205=\"3\"))","v":false},{"$f":"AND(G205=TRUE,PARTITA!AN205=1)","v":false},{"$f":"AND(H205=TRUE,PARTITA!AN205=2)","v":false},{"$f":"IF(PARTITA!AN205=1,K204+1,0)","v":0},{"$f":"IF(PARTITA!AN205=2,L204+1,0)","v":0},{"$f":"PARTITA!A205","v":""},{"$f":"COUNTIFS(PARTITA!AN196:AN205, \"=1\")","v":0},{"$f":"COUNTIFS(PARTITA!AN196:AN205, \"=2\")","v":0},{"$f":"PARTITA!BA205","v":""}]
[{"$f":"AND(PARTITA!K206=2, COUNTIF(Tables!L$1:L$4, PARTITA!F206))","v":false},{"$f":"AND(PARTITA!K206=1, COUNTIF(Tables!L$1:L$4, PARTITA!F206))","v":false},{"$f":"AND(A206, PARTITA!AO206=0)","v":false},{"$f":"AND(B206, PARTITA!AO206=0)","v":false},{"$f":"isNetPoint(PARTITA!AC206)","v":"0"},{"$f":"OR(PARTITA!S206=1, PARTITA!T206=1)","v":false},{"$f":"IF(PARTITA!K206=1,OR(E206=\"1\",E206=\"3\",F206=TRUE),OR(E206=\"2\",E206=\"3\"))","v":false},{"$f":"IF(PARTITA!K206=2,OR(E206=\"1\",E206=\"3\",F206=TRUE),OR(E206=\"2\",E206=\"3\"))","v":false},{"$f":"AND(G206=TRUE,PARTITA!AN206=1)","v":false},{"$f":"AND(H206=TRUE,PARTITA!AN206=2)","v":false},{"$f":"IF(PARTITA!AN206=1,K205+1,0)","v":0},{"$f":"IF(PARTITA!AN206=2,L205+1,0)","v":0},{"$f":"PARTITA!A206","v":""},{"$f":"COUNTIFS(PARTITA!AN197:AN206, \"=1\")","v":0},{"$f":"COUNTIFS(PARTITA!AN197:AN206, \"=2\")","v":0},{"$f":"PARTITA!BA206","v":""}]
[{"$f":"AND(PARTITA!K207=2, COUNTIF(Tables!L$1:L$4, PARTITA!F207))","v":false},{"$f":"AND(PARTITA!K207=1, COUNTIF(Tables!L$1:L$4, PARTITA!F207))","v":false},{"$f":"AND(A207, PARTITA!AO207=0)","v":false},{"$f":"AND(B207, PARTITA!AO207=0)","v":false},{"$f":"isNetPoint(PARTITA!AC207)","v":"0"},{"$f":"OR(PARTITA!S207=1, PARTITA!T207=1)","v":false},{"$f":"IF(PARTITA!K207=1,OR(E207=\"1\",E207=\"3\",F207=TRUE),OR(E207=\"2\",E207=\"3\"))","v":false},{"$f":"IF(PARTITA!K207=2,OR(E207=\"1\",E207=\"3\",F207=TRUE),OR(E207=\"2\",E207=\"3\"))","v":false},{"$f":"AND(G207=TRUE,PARTITA!AN207=1)","v":false},{"$f":"AND(H207=TRUE,PARTITA!AN207=2)","v":false},{"$f":"IF(PARTITA!AN207=1,K206+1,0)","v":0},{"$f":"IF(PARTITA!AN207=2,L206+1,0)","v":0},{"$f":"PARTITA!A207","v":""},{"$f":"COUNTIFS(PARTITA!AN198:AN207, \"=1\")","v":0},{"$f":"COUNTIFS(PARTITA!AN198:AN207, \"=2\")","v":0},{"$f":"PARTITA!BA207","v":""}]
[{"$f":"AND(PARTITA!K208=2, COUNTIF(Tables!L$1:L$4, PARTITA!F208))","v":false},{"$f":"AND(PARTITA!K208=1, COUNTIF(Tables!L$1:L$4, PARTITA!F208))","v":false},{"$f":"AND(A208, PARTITA!AO208=0)","v":false},{"$f":"AND(B208, PARTITA!AO208=0)","v":false},{"$f":"isNetPoint(PARTITA!AC208)","v":"0"},{"$f":"OR(PARTITA!S208=1, PARTITA!T208=1)","v":false},{"$f":"IF(PARTITA!K208=1,OR(E208=\"1\",E208=\"3\",F208=TRUE),OR(E208=\"2\",E208=\"3\"))","v":false},{"$f":"IF(PARTITA!K208=2,OR(E208=\"1\",E208=\"3\",F208=TRUE),OR(E208=\"2\",E208=\"3\"))","v":false},{"$f":"AND(G208=TRUE,PARTITA!AN208=1)","v":false},{"$f":"AND(H208=TRUE,PARTITA!AN208=2)","v":false},{"$f":"IF(PARTITA!AN208=1,K207+1,0)","v":0},{"$f":"IF(PARTITA!AN208=2,L207+1,0)","v":0},{"$f":"PARTITA!A208","v":""},{"$f":"COUNTIFS(PARTITA!AN199:AN208, \"=1\")","v":0},{"$f":"COUNTIFS(PARTITA!AN199:AN208, \"=2\")","v":0},{"$f":"PARTITA!BA208","v":""}]
[{"$f":"AND(PARTITA!K209=2, COUNTIF(Tables!L$1:L$4, PARTITA!F209))","v":false},{"$f":"AND(PARTITA!K209=1, COUNTIF(Tables!L$1:L$4, PARTITA!F209))","v":false},{"$f":"AND(A209, PARTITA!AO209=0)","v":false},{"$f":"AND(B209, PARTITA!AO209=0)","v":false},{"$f":"isNetPoint(PARTITA!AC209)","v":"0"},{"$f":"OR(PARTITA!S209=1, PARTITA!T209=1)","v":false},{"$f":"IF(PARTITA!K209=1,OR(E209=\"1\",E209=\"3\",F209=TRUE),OR(E209=\"2\",E209=\"3\"))","v":false},{"$f":"IF(PARTITA!K209=2,OR(E209=\"1\",E209=\"3\",F209=TRUE),OR(E209=\"2\",E209=\"3\"))","v":false},{"$f":"AND(G209=TRUE,PARTITA!AN209=1)","v":false},{"$f":"AND(H209=TRUE,PARTITA!AN209=2)","v":false},{"$f":"IF(PARTITA!AN209=1,K208+1,0)","v":0},{"$f":"IF(PARTITA!AN209=2,L208+1,0)","v":0},{"$f":"PARTITA!A209","v":""},{"$f":"COUNTIFS(PARTITA!AN200:AN209, \"=1\")","v":0},{"$f":"COUNTIFS(PARTITA!AN200:AN209, \"=2\")","v":0},{"$f":"PARTITA!BA209","v":""}]
[{"$f":"AND(PARTITA!K210=2, COUNTIF(Tables!L$1:L$4, PARTITA!F210))","v":false},{"$f":"AND(PARTITA!K210=1, COUNTIF(Tables!L$1:L$4, PARTITA!F210))","v":false},{"$f":"AND(A210, PARTITA!AO210=0)","v":false},{"$f":"AND(B210, PARTITA!AO210=0)","v":false},{"$f":"isNetPoint(PARTITA!AC210)","v":"0"},{"$f":"OR(PARTITA!S210=1, PARTITA!T210=1)","v":false},{"$f":"IF(PARTITA!K210=1,OR(E210=\"1\",E210=\"3\",F210=TRUE),OR(E210=\"2\",E210=\"3\"))","v":false},{"$f":"IF(PARTITA!K210=2,OR(E210=\"1\",E210=\"3\",F210=TRUE),OR(E210=\"2\",E210=\"3\"))","v":false},{"$f":"AND(G210=TRUE,PARTITA!AN210=1)","v":false},{"$f":"AND(H210=TRUE,PARTITA!AN210=2)","v":false},{"$f":"IF(PARTITA!AN210=1,K209+1,0)","v":0},{"$f":"IF(PARTITA!AN210=2,L209+1,0)","v":0},{"$f":"PARTITA!A210","v":""},{"$f":"COUNTIFS(PARTITA!AN201:AN210, \"=1\")","v":0},{"$f":"COUNTIFS(PARTITA!AN201:AN210, \"=2\")","v":0},{"$f":"PARTITA!BA210","v":""}]
[{"$f":"AND(PARTITA!K211=2, COUNTIF(Tables!L$1:L$4, PARTITA!F211))","v":false},{"$f":"AND(PARTITA!K211=1, COUNTIF(Tables!L$1:L$4, PARTITA!F211))","v":false},{"$f":"AND(A211, PARTITA!AO211=0)","v":false},{"$f":"AND(B211, PARTITA!AO211=0)","v":false},{"$f":"isNetPoint(PARTITA!AC211)","v":"0"},{"$f":"OR(PARTITA!S211=1, PARTITA!T211=1)","v":false},{"$f":"IF(PARTITA!K211=1,OR(E211=\"1\",E211=\"3\",F211=TRUE),OR(E211=\"2\",E211=\"3\"))","v":false},{"$f":"IF(PARTITA!K211=2,OR(E211=\"1\",E211=\"3\",F211=TRUE),OR(E211=\"2\",E211=\"3\"))","v":false},{"$f":"AND(G211=TRUE,PARTITA!AN211=1)","v":false},{"$f":"AND(H211=TRUE,PARTITA!AN211=2)","v":false},{"$f":"IF(PARTITA!AN211=1,K210+1,0)","v":0},{"$f":"IF(PARTITA!AN211=2,L210+1,0)","v":0},{"$f":"PARTITA!A211","v":""},{"$f":"COUNTIFS(PARTITA!AN202:AN211, \"=1\")","v":0},{"$f":"COUNTIFS(PARTITA!AN202:AN211, \"=2\")","v":0},{"$f":"PARTITA!BA211","v":""}]
[{"$f":"AND(PARTITA!K212=2, COUNTIF(Tables!L$1:L$4, PARTITA!F212))","v":false},{"$f":"AND(PARTITA!K212=1, COUNTIF(Tables!L$1:L$4, PARTITA!F212))","v":false},{"$f":"AND(A212, PARTITA!AO212=0)","v":false},{"$f":"AND(B212, PARTITA!AO212=0)","v":false},{"$f":"isNetPoint(PARTITA!AC212)","v":"0"},{"$f":"OR(PARTITA!S212=1, PARTITA!T212=1)","v":false},{"$f":"IF(PARTITA!K212=1,OR(E212=\"1\",E212=\"3\",F212=TRUE),OR(E212=\"2\",E212=\"3\"))","v":false},{"$f":"IF(PARTITA!K212=2,OR(E212=\"1\",E212=\"3\",F212=TRUE),OR(E212=\"2\",E212=\"3\"))","v":false},{"$f":"AND(G212=TRUE,PARTITA!AN212=1)","v":false},{"$f":"AND(H212=TRUE,PARTITA!AN212=2)","v":false},{"$f":"IF(PARTITA!AN212=1,K211+1,0)","v":0},{"$f":"IF(PARTITA!AN212=2,L211+1,0)","v":0},{"$f":"PARTITA!A212","v":""},{"$f":"COUNTIFS(PARTITA!AN203:AN212, \"=1\")","v":0},{"$f":"COUNTIFS(PARTITA!AN203:AN212, \"=2\")","v":0},{"$f":"PARTITA!BA212","v":""}]
[{"$f":"AND(PARTITA!K213=2, COUNTIF(Tables!L$1:L$4, PARTITA!F213))","v":false},{"$f":"AND(PARTITA!K213=1, COUNTIF(Tables!L$1:L$4, PARTITA!F213))","v":false},{"$f":"AND(A213, PARTITA!AO213=0)","v":false},{"$f":"AND(B213, PARTITA!AO213=0)","v":false},{"$f":"isNetPoint(PARTITA!AC213)","v":"0"},{"$f":"OR(PARTITA!S213=1, PARTITA!T213=1)","v":false},{"$f":"IF(PARTITA!K213=1,OR(E213=\"1\",E213=\"3\",F213=TRUE),OR(E213=\"2\",E213=\"3\"))","v":false},{"$f":"IF(PARTITA!K213=2,OR(E213=\"1\",E213=\"3\",F213=TRUE),OR(E213=\"2\",E213=\"3\"))","v":false},{"$f":"AND(G213=TRUE,PARTITA!AN213=1)","v":false},{"$f":"AND(H213=TRUE,PARTITA!AN213=2)","v":false},{"$f":"IF(PARTITA!AN213=1,K212+1,0)","v":0},{"$f":"IF(PARTITA!AN213=2,L212+1,0)","v":0},{"$f":"PARTITA!A213","v":""},{"$f":"COUNTIFS(PARTITA!AN204:AN213, \"=1\")","v":0},{"$f":"COUNTIFS(PARTITA!AN204:AN213, \"=2\")","v":0},{"$f":"PARTITA!BA213","v":""}]
[{"$f":"AND(PARTITA!K214=2, COUNTIF(Tables!L$1:L$4, PARTITA!F214))","v":false},{"$f":"AND(PARTITA!K214=1, COUNTIF(Tables!L$1:L$4, PARTITA!F214))","v":false},{"$f":"AND(A214, PARTITA!AO214=0)","v":false},{"$f":"AND(B214, PARTITA!AO214=0)","v":false},{"$f":"isNetPoint(PARTITA!AC214)","v":"0"},{"$f":"OR(PARTITA!S214=1, PARTITA!T214=1)","v":false},{"$f":"IF(PARTITA!K214=1,OR(E214=\"1\",E214=\"3\",F214=TRUE),OR(E214=\"2\",E214=\"3\"))","v":false},{"$f":"IF(PARTITA!K214=2,OR(E214=\"1\",E214=\"3\",F214=TRUE),OR(E214=\"2\",E214=\"3\"))","v":false},{"$f":"AND(G214=TRUE,PARTITA!AN214=1)","v":false},{"$f":"AND(H214=TRUE,PARTITA!AN214=2)","v":false},{"$f":"IF(PARTITA!AN214=1,K213+1,0)","v":0},{"$f":"IF(PARTITA!AN214=2,L213+1,0)","v":0},{"$f":"PARTITA!A214","v":""},{"$f":"COUNTIFS(PARTITA!AN205:AN214, \"=1\")","v":0},{"$f":"COUNTIFS(PARTITA!AN205:AN214, \"=2\")","v":0},{"$f":"PARTITA!BA214","v":""}]
[{"$f":"AND(PARTITA!K215=2, COUNTIF(Tables!L$1:L$4, PARTITA!F215))","v":false},{"$f":"AND(PARTITA!K215=1, COUNTIF(Tables!L$1:L$4, PARTITA!F215))","v":false},{"$f":"AND(A215, PARTITA!AO215=0)","v":false},{"$f":"AND(B215, PARTITA!AO215=0)","v":false},{"$f":"isNetPoint(PARTITA!AC215)","v":"0"},{"$f":"OR(PARTITA!S215=1, PARTITA!T215=1)","v":false},{"$f":"IF(PARTITA!K215=1,OR(E215=\"1\",E215=\"3\",F215=TRUE),OR(E215=\"2\",E215=\"3\"))","v":false},{"$f":"IF(PARTITA!K215=2,OR(E215=\"1\",E215=\"3\",F215=TRUE),OR(E215=\"2\",E215=\"3\"))","v":false},{"$f":"AND(G215=TRUE,PARTITA!AN215=1)","v":false},{"$f":"AND(H215=TRUE,PARTITA!AN215=2)","v":false},{"$f":"IF(PARTITA!AN215=1,K214+1,0)","v":0},{"$f":"IF(PARTITA!AN215=2,L214+1,0)","v":0},{"$f":"PARTITA!A215","v":""},{"$f":"COUNTIFS(PARTITA!AN206:AN215, \"=1\")","v":0},{"$f":"COUNTIFS(PARTITA!AN206:AN215, \"=2\")","v":0},{"$f":"PARTITA!BA215","v":""}]
[{"$f":"AND(PARTITA!K216=2, COUNTIF(Tables!L$1:L$4, PARTITA!F216))","v":false},{"$f":"AND(PARTITA!K216=1, COUNTIF(Tables!L$1:L$4, PARTITA!F216))","v":false},{"$f":"AND(A216, PARTITA!AO216=0)","v":false},{"$f":"AND(B216, PARTITA!AO216=0)","v":false},{"$f":"isNetPoint(PARTITA!AC216)","v":"0"},{"$f":"OR(PARTITA!S216=1, PARTITA!T216=1)","v":false},{"$f":"IF(PARTITA!K216=1,OR(E216=\"1\",E216=\"3\",F216=TRUE),OR(E216=\"2\",E216=\"3\"))","v":false},{"$f":"IF(PARTITA!K216=2,OR(E216=\"1\",E216=\"3\",F216=TRUE),OR(E216=\"2\",E216=\"3\"))","v":false},{"$f":"AND(G216=TRUE,PARTITA!AN216=1)","v":false},{"$f":"AND(H216=TRUE,PARTITA!AN216=2)","v":false},{"$f":"IF(PARTITA!AN216=1,K215+1,0)","v":0},{"$f":"IF(PARTITA!AN216=2,L215+1,0)","v":0},{"$f":"PARTITA!A216","v":""},{"$f":"COUNTIFS(PARTITA!AN207:AN216, \"=1\")","v":0},{"$f":"COUNTIFS(PARTITA!AN207:AN216, \"=2\")","v":0},{"$f":"PARTITA!BA216","v":""}]
[{"$f":"AND(PARTITA!K217=2, COUNTIF(Tables!L$1:L$4, PARTITA!F217))","v":false},{"$f":"AND(PARTITA!K217=1, COUNTIF(Tables!L$1:L$4, PARTITA!F217))","v":false},{"$f":"AND(A217, PARTITA!AO217=0)","v":false},{"$f":"AND(B217, PARTITA!AO217=0)","v":false},{"$f":"isNetPoint(PARTITA!AC217)","v":"0"},{"$f":"OR(PARTITA!S217=1, PARTITA!T217=1)","v":false},{"$f":"IF(PARTITA!K217=1,OR(E217=\"1\",E217=\"3\",F217=TRUE),OR(E217=\"2\",E217=\"3\"))","v":false},{"$f":"IF(PARTITA!K217=2,OR(E217=\"1\",E217=\"3\",F217=TRUE),OR(E217=\"2\",E217=\"3\"))","v":false},{"$f":"AND(G217=TRUE,PARTITA!AN217=1)","v":false},{"$f":"AND(H217=TRUE,PARTITA!AN217=2)","v":false},{"$f":"IF(PARTITA!AN217=1,K216+1,0)","v":0},{"$f":"IF(PARTITA!AN217=2,L216+1,0)","v":0},{"$f":"PARTITA!A217","v":""},{"$f":"COUNTIFS(PARTITA!AN208:AN217, \"=1\")","v":0},{"$f":"COUNTIFS(PARTITA!AN208:AN217, \"=2\")","v":0},{"$f":"PARTITA!BA217","v":""}]
[{"$f":"AND(PARTITA!K218=2, COUNTIF(Tables!L$1:L$4, PARTITA!F218))","v":false},{"$f":"AND(PARTITA!K218=1, COUNTIF(Tables!L$1:L$4, PARTITA!F218))","v":false},{"$f":"AND(A218, PARTITA!AO218=0)","v":false},{"$f":"AND(B218, PARTITA!AO218=0)","v":false},{"$f":"isNetPoint(PARTITA!AC218)","v":"0"},{"$f":"OR(PARTITA!S218=1, PARTITA!T218=1)","v":false},{"$f":"IF(PARTITA!K218=1,OR(E218=\"1\",E218=\"3\",F218=TRUE),OR(E218=\"2\",E218=\"3\"))","v":false},{"$f":"IF(PARTITA!K218=2,OR(E218=\"1\",E218=\"3\",F218=TRUE),OR(E218=\"2\",E218=\"3\"))","v":false},{"$f":"AND(G218=TRUE,PARTITA!AN218=1)","v":false},{"$f":"AND(H218=TRUE,PARTITA!AN218=2)","v":false},{"$f":"IF(PARTITA!AN218=1,K217+1,0)","v":0},{"$f":"IF(PARTITA!AN218=2,L217+1,0)","v":0},{"$f":"PARTITA!A218","v":""},{"$f":"COUNTIFS(PARTITA!AN209:AN218, \"=1\")","v":0},{"$f":"COUNTIFS(PARTITA!AN209:AN218, \"=2\")","v":0},{"$f":"PARTITA!BA218","v":""}]
[{"$f":"AND(PARTITA!K219=2, COUNTIF(Tables!L$1:L$4, PARTITA!F219))","v":false},{"$f":"AND(PARTITA!K219=1, COUNTIF(Tables!L$1:L$4, PARTITA!F219))","v":false},{"$f":"AND(A219, PARTITA!AO219=0)","v":false},{"$f":"AND(B219, PARTITA!AO219=0)","v":false},{"$f":"isNetPoint(PARTITA!AC219)","v":"0"},{"$f":"OR(PARTITA!S219=1, PARTITA!T219=1)","v":false},{"$f":"IF(PARTITA!K219=1,OR(E219=\"1\",E219=\"3\",F219=TRUE),OR(E219=\"2\",E219=\"3\"))","v":false},{"$f":"IF(PARTITA!K219=2,OR(E219=\"1\",E219=\"3\",F219=TRUE),OR(E219=\"2\",E219=\"3\"))","v":false},{"$f":"AND(G219=TRUE,PARTITA!AN219=1)","v":false},{"$f":"AND(H219=TRUE,PARTITA!AN219=2)","v":false},{"$f":"IF(PARTITA!AN219=1,K218+1,0)","v":0},{"$f":"IF(PARTITA!AN219=2,L218+1,0)","v":0},{"$f":"PARTITA!A219","v":""},{"$f":"COUNTIFS(PARTITA!AN210:AN219, \"=1\")","v":0},{"$f":"COUNTIFS(PARTITA!AN210:AN219, \"=2\")","v":0},{"$f":"PARTITA!BA219","v":""}]
[{"$f":"AND(PARTITA!K220=2, COUNTIF(Tables!L$1:L$4, PARTITA!F220))","v":false},{"$f":"AND(PARTITA!K220=1, COUNTIF(Tables!L$1:L$4, PARTITA!F220))","v":false},{"$f":"AND(A220, PARTITA!AO220=0)","v":false},{"$f":"AND(B220, PARTITA!AO220=0)","v":false},{"$f":"isNetPoint(PARTITA!AC220)","v":"0"},{"$f":"OR(PARTITA!S220=1, PARTITA!T220=1)","v":false},{"$f":"IF(PARTITA!K220=1,OR(E220=\"1\",E220=\"3\",F220=TRUE),OR(E220=\"2\",E220=\"3\"))","v":false},{"$f":"IF(PARTITA!K220=2,OR(E220=\"1\",E220=\"3\",F220=TRUE),OR(E220=\"2\",E220=\"3\"))","v":false},{"$f":"AND(G220=TRUE,PARTITA!AN220=1)","v":false},{"$f":"AND(H220=TRUE,PARTITA!AN220=2)","v":false},{"$f":"IF(PARTITA!AN220=1,K219+1,0)","v":0},{"$f":"IF(PARTITA!AN220=2,L219+1,0)","v":0},{"$f":"PARTITA!A220","v":""},{"$f":"COUNTIFS(PARTITA!AN211:AN220, \"=1\")","v":0},{"$f":"COUNTIFS(PARTITA!AN211:AN220, \"=2\")","v":0},{"$f":"PARTITA!BA220","v":""}]
[{"$f":"AND(PARTITA!K221=2, COUNTIF(Tables!L$1:L$4, PARTITA!F221))","v":false},{"$f":"AND(PARTITA!K221=1, COUNTIF(Tables!L$1:L$4, PARTITA!F221))","v":false},{"$f":"AND(A221, PARTITA!AO221=0)","v":false},{"$f":"AND(B221, PARTITA!AO221=0)","v":false},{"$f":"isNetPoint(PARTITA!AC221)","v":"0"},{"$f":"OR(PARTITA!S221=1, PARTITA!T221=1)","v":false},{"$f":"IF(PARTITA!K221=1,OR(E221=\"1\",E221=\"3\",F221=TRUE),OR(E221=\"2\",E221=\"3\"))","v":false},{"$f":"IF(PARTITA!K221=2,OR(E221=\"1\",E221=\"3\",F221=TRUE),OR(E221=\"2\",E221=\"3\"))","v":false},{"$f":"AND(G221=TRUE,PARTITA!AN221=1)","v":false},{"$f":"AND(H221=TRUE,PARTITA!AN221=2)","v":false},{"$f":"IF(PARTITA!AN221=1,K220+1,0)","v":0},{"$f":"IF(PARTITA!AN221=2,L220+1,0)","v":0},{"$f":"PARTITA!A221","v":""},{"$f":"COUNTIFS(PARTITA!AN212:AN221, \"=1\")","v":0},{"$f":"COUNTIFS(PARTITA!AN212:AN221, \"=2\")","v":0},{"$f":"PARTITA!BA221","v":""}]
[{"$f":"AND(PARTITA!K222=2, COUNTIF(Tables!L$1:L$4, PARTITA!F222))","v":false},{"$f":"AND(PARTITA!K222=1, COUNTIF(Tables!L$1:L$4, PARTITA!F222))","v":false},{"$f":"AND(A222, PARTITA!AO222=0)","v":false},{"$f":"AND(B222, PARTITA!AO222=0)","v":false},{"$f":"isNetPoint(PARTITA!AC222)","v":"0"},{"$f":"OR(PARTITA!S222=1, PARTITA!T222=1)","v":false},{"$f":"IF(PARTITA!K222=1,OR(E222=\"1\",E222=\"3\",F222=TRUE),OR(E222=\"2\",E222=\"3\"))","v":false},{"$f":"IF(PARTITA!K222=2,OR(E222=\"1\",E222=\"3\",F222=TRUE),OR(E222=\"2\",E222=\"3\"))","v":false},{"$f":"AND(G222=TRUE,PARTITA!AN222=1)","v":false},{"$f":"AND(H222=TRUE,PARTITA!AN222=2)","v":false},{"$f":"IF(PARTITA!AN222=1,K221+1,0)","v":0},{"$f":"IF(PARTITA!AN222=2,L221+1,0)","v":0},{"$f":"PARTITA!A222","v":""},{"$f":"COUNTIFS(PARTITA!AN213:AN222, \"=1\")","v":0},{"$f":"COUNTIFS(PARTITA!AN213:AN222, \"=2\")","v":0},{"$f":"PARTITA!BA222","v":""}]
[{"$f":"AND(PARTITA!K223=2, COUNTIF(Tables!L$1:L$4, PARTITA!F223))","v":false},{"$f":"AND(PARTITA!K223=1, COUNTIF(Tables!L$1:L$4, PARTITA!F223))","v":false},{"$f":"AND(A223, PARTITA!AO223=0)","v":false},{"$f":"AND(B223, PARTITA!AO223=0)","v":false},{"$f":"isNetPoint(PARTITA!AC223)","v":"0"},{"$f":"OR(PARTITA!S223=1, PARTITA!T223=1)","v":false},{"$f":"IF(PARTITA!K223=1,OR(E223=\"1\",E223=\"3\",F223=TRUE),OR(E223=\"2\",E223=\"3\"))","v":false},{"$f":"IF(PARTITA!K223=2,OR(E223=\"1\",E223=\"3\",F223=TRUE),OR(E223=\"2\",E223=\"3\"))","v":false},{"$f":"AND(G223=TRUE,PARTITA!AN223=1)","v":false},{"$f":"AND(H223=TRUE,PARTITA!AN223=2)","v":false},{"$f":"IF(PARTITA!AN223=1,K222+1,0)","v":0},{"$f":"IF(PARTITA!AN223=2,L222+1,0)","v":0},{"$f":"PARTITA!A223","v":""},{"$f":"COUNTIFS(PARTITA!AN214:AN223, \"=1\")","v":0},{"$f":"COUNTIFS(PARTITA!AN214:AN223, \"=2\")","v":0},{"$f":"PARTITA!BA223","v":""}]
[{"$f":"AND(PARTITA!K224=2, COUNTIF(Tables!L$1:L$4, PARTITA!F224))","v":false},{"$f":"AND(PARTITA!K224=1, COUNTIF(Tables!L$1:L$4, PARTITA!F224))","v":false},{"$f":"AND(A224, PARTITA!AO224=0)","v":false},{"$f":"AND(B224, PARTITA!AO224=0)","v":false},{"$f":"isNetPoint(PARTITA!AC224)","v":"0"},{"$f":"OR(PARTITA!S224=1, PARTITA!T224=1)","v":false},{"$f":"IF(PARTITA!K224=1,OR(E224=\"1\",E224=\"3\",F224=TRUE),OR(E224=\"2\",E224=\"3\"))","v":false},{"$f":"IF(PARTITA!K224=2,OR(E224=\"1\",E224=\"3\",F224=TRUE),OR(E224=\"2\",E224=\"3\"))","v":false},{"$f":"AND(G224=TRUE,PARTITA!AN224=1)","v":false},{"$f":"AND(H224=TRUE,PARTITA!AN224=2)","v":false},{"$f":"IF(PARTITA!AN224=1,K223+1,0)","v":0},{"$f":"IF(PARTITA!AN224=2,L223+1,0)","v":0},{"$f":"PARTITA!A224","v":""},{"$f":"COUNTIFS(PARTITA!AN215:AN224, \"=1\")","v":0},{"$f":"COUNTIFS(PARTITA!AN215:AN224, \"=2\")","v":0},{"$f":"PARTITA!BA224","v":""}]
[{"$f":"AND(PARTITA!K225=2, COUNTIF(Tables!L$1:L$4, PARTITA!F225))","v":false},{"$f":"AND(PARTITA!K225=1, COUNTIF(Tables!L$1:L$4, PARTITA!F225))","v":false},{"$f":"AND(A225, PARTITA!AO225=0)","v":false},{"$f":"AND(B225, PARTITA!AO225=0)","v":false},{"$f":"isNetPoint(PARTITA!AC225)","v":"0"},{"$f":"OR(PARTITA!S225=1, PARTITA!T225=1)","v":false},{"$f":"IF(PARTITA!K225=1,OR(E225=\"1\",E225=\"3\",F225=TRUE),OR(E225=\"2\",E225=\"3\"))","v":false},{"$f":"IF(PARTITA!K225=2,OR(E225=\"1\",E225=\"3\",F225=TRUE),OR(E225=\"2\",E225=\"3\"))","v":false},{"$f":"AND(G225=TRUE,PARTITA!AN225=1)","v":false},{"$f":"AND(H225=TRUE,PARTITA!AN225=2)","v":false},{"$f":"IF(PARTITA!AN225=1,K224+1,0)","v":0},{"$f":"IF(PARTITA!AN225=2,L224+1,0)","v":0},{"$f":"PARTITA!A225","v":""},{"$f":"COUNTIFS(PARTITA!AN216:AN225, \"=1\")","v":0},{"$f":"COUNTIFS(PARTITA!AN216:AN225, \"=2\")","v":0},{"$f":"PARTITA!BA225","v":""}]
[{"$f":"AND(PARTITA!K226=2, COUNTIF(Tables!L$1:L$4, PARTITA!F226))","v":false},{"$f":"AND(PARTITA!K226=1, COUNTIF(Tables!L$1:L$4, PARTITA!F226))","v":false},{"$f":"AND(A226, PARTITA!AO226=0)","v":false},{"$f":"AND(B226, PARTITA!AO226=0)","v":false},{"$f":"isNetPoint(PARTITA!AC226)","v":"0"},{"$f":"OR(PARTITA!S226=1, PARTITA!T226=1)","v":false},{"$f":"IF(PARTITA!K226=1,OR(E226=\"1\",E226=\"3\",F226=TRUE),OR(E226=\"2\",E226=\"3\"))","v":false},{"$f":"IF(PARTITA!K226=2,OR(E226=\"1\",E226=\"3\",F226=TRUE),OR(E226=\"2\",E226=\"3\"))","v":false},{"$f":"AND(G226=TRUE,PARTITA!AN226=1)","v":false},{"$f":"AND(H226=TRUE,PARTITA!AN226=2)","v":false},{"$f":"IF(PARTITA!AN226=1,K225+1,0)","v":0},{"$f":"IF(PARTITA!AN226=2,L225+1,0)","v":0},{"$f":"PARTITA!A226","v":""},{"$f":"COUNTIFS(PARTITA!AN217:AN226, \"=1\")","v":0},{"$f":"COUNTIFS(PARTITA!AN217:AN226, \"=2\")","v":0},{"$f":"PARTITA!BA226","v":""}]
[{"$f":"AND(PARTITA!K227=2, COUNTIF(Tables!L$1:L$4, PARTITA!F227))","v":false},{"$f":"AND(PARTITA!K227=1, COUNTIF(Tables!L$1:L$4, PARTITA!F227))","v":false},{"$f":"AND(A227, PARTITA!AO227=0)","v":false},{"$f":"AND(B227, PARTITA!AO227=0)","v":false},{"$f":"isNetPoint(PARTITA!AC227)","v":"0"},{"$f":"OR(PARTITA!S227=1, PARTITA!T227=1)","v":false},{"$f":"IF(PARTITA!K227=1,OR(E227=\"1\",E227=\"3\",F227=TRUE),OR(E227=\"2\",E227=\"3\"))","v":false},{"$f":"IF(PARTITA!K227=2,OR(E227=\"1\",E227=\"3\",F227=TRUE),OR(E227=\"2\",E227=\"3\"))","v":false},{"$f":"AND(G227=TRUE,PARTITA!AN227=1)","v":false},{"$f":"AND(H227=TRUE,PARTITA!AN227=2)","v":false},{"$f":"IF(PARTITA!AN227=1,K226+1,0)","v":0},{"$f":"IF(PARTITA!AN227=2,L226+1,0)","v":0},{"$f":"PARTITA!A227","v":""},{"$f":"COUNTIFS(PARTITA!AN218:AN227, \"=1\")","v":0},{"$f":"COUNTIFS(PARTITA!AN218:AN227, \"=2\")","v":0},{"$f":"PARTITA!BA227","v":""}]
[{"$f":"AND(PARTITA!K228=2, COUNTIF(Tables!L$1:L$4, PARTITA!F228))","v":false},{"$f":"AND(PARTITA!K228=1, COUNTIF(Tables!L$1:L$4, PARTITA!F228))","v":false},{"$f":"AND(A228, PARTITA!AO228=0)","v":false},{"$f":"AND(B228, PARTITA!AO228=0)","v":false},{"$f":"isNetPoint(PARTITA!AC228)","v":"0"},{"$f":"OR(PARTITA!S228=1, PARTITA!T228=1)","v":false},{"$f":"IF(PARTITA!K228=1,OR(E228=\"1\",E228=\"3\",F228=TRUE),OR(E228=\"2\",E228=\"3\"))","v":false},{"$f":"IF(PARTITA!K228=2,OR(E228=\"1\",E228=\"3\",F228=TRUE),OR(E228=\"2\",E228=\"3\"))","v":false},{"$f":"AND(G228=TRUE,PARTITA!AN228=1)","v":false},{"$f":"AND(H228=TRUE,PARTITA!AN228=2)","v":false},{"$f":"IF(PARTITA!AN228=1,K227+1,0)","v":0},{"$f":"IF(PARTITA!AN228=2,L227+1,0)","v":0},{"$f":"PARTITA!A228","v":""},{"$f":"COUNTIFS(PARTITA!AN219:AN228, \"=1\")","v":0},{"$f":"COUNTIFS(PARTITA!AN219:AN228, \"=2\")","v":0},{"$f":"PARTITA!BA228","v":""}]
[{"$f":"AND(PARTITA!K229=2, COUNTIF(Tables!L$1:L$4, PARTITA!F229))","v":false},{"$f":"AND(PARTITA!K229=1, COUNTIF(Tables!L$1:L$4, PARTITA!F229))","v":false},{"$f":"AND(A229, PARTITA!AO229=0)","v":false},{"$f":"AND(B229, PARTITA!AO229=0)","v":false},{"$f":"isNetPoint(PARTITA!AC229)","v":"0"},{"$f":"OR(PARTITA!S229=1, PARTITA!T229=1)","v":false},{"$f":"IF(PARTITA!K229=1,OR(E229=\"1\",E229=\"3\",F229=TRUE),OR(E229=\"2\",E229=\"3\"))","v":false},{"$f":"IF(PARTITA!K229=2,OR(E229=\"1\",E229=\"3\",F229=TRUE),OR(E229=\"2\",E229=\"3\"))","v":false},{"$f":"AND(G229=TRUE,PARTITA!AN229=1)","v":false},{"$f":"AND(H229=TRUE,PARTITA!AN229=2)","v":false},{"$f":"IF(PARTITA!AN229=1,K228+1,0)","v":0},{"$f":"IF(PARTITA!AN229=2,L228+1,0)","v":0},{"$f":"PARTITA!A229","v":""},{"$f":"COUNTIFS(PARTITA!AN220:AN229, \"=1\")","v":0},{"$f":"COUNTIFS(PARTITA!AN220:AN229, \"=2\")","v":0},{"$f":"PARTITA!BA229","v":""}]
[{"$f":"AND(PARTITA!K230=2, COUNTIF(Tables!L$1:L$4, PARTITA!F230))","v":false},{"$f":"AND(PARTITA!K230=1, COUNTIF(Tables!L$1:L$4, PARTITA!F230))","v":false},{"$f":"AND(A230, PARTITA!AO230=0)","v":false},{"$f":"AND(B230, PARTITA!AO230=0)","v":false},{"$f":"isNetPoint(PARTITA!AC230)","v":"0"},{"$f":"OR(PARTITA!S230=1, PARTITA!T230=1)","v":false},{"$f":"IF(PARTITA!K230=1,OR(E230=\"1\",E230=\"3\",F230=TRUE),OR(E230=\"2\",E230=\"3\"))","v":false},{"$f":"IF(PARTITA!K230=2,OR(E230=\"1\",E230=\"3\",F230=TRUE),OR(E230=\"2\",E230=\"3\"))","v":false},{"$f":"AND(G230=TRUE,PARTITA!AN230=1)","v":false},{"$f":"AND(H230=TRUE,PARTITA!AN230=2)","v":false},{"$f":"IF(PARTITA!AN230=1,K229+1,0)","v":0},{"$f":"IF(PARTITA!AN230=2,L229+1,0)","v":0},{"$f":"PARTITA!A230","v":""},{"$f":"COUNTIFS(PARTITA!AN221:AN230, \"=1\")","v":0},{"$f":"COUNTIFS(PARTITA!AN221:AN230, \"=2\")","v":0},{"$f":"PARTITA!BA230","v":""}]
[{"$f":"AND(PARTITA!K231=2, COUNTIF(Tables!L$1:L$4, PARTITA!F231))","v":false},{"$f":"AND(PARTITA!K231=1, COUNTIF(Tables!L$1:L$4, PARTITA!F231))","v":false},{"$f":"AND(A231, PARTITA!AO231=0)","v":false},{"$f":"AND(B231, PARTITA!AO231=0)","v":false},{"$f":"isNetPoint(PARTITA!AC231)","v":"0"},{"$f":"OR(PARTITA!S231=1, PARTITA!T231=1)","v":false},{"$f":"IF(PARTITA!K231=1,OR(E231=\"1\",E231=\"3\",F231=TRUE),OR(E231=\"2\",E231=\"3\"))","v":false},{"$f":"IF(PARTITA!K231=2,OR(E231=\"1\",E231=\"3\",F231=TRUE),OR(E231=\"2\",E231=\"3\"))","v":false},{"$f":"AND(G231=TRUE,PARTITA!AN231=1)","v":false},{"$f":"AND(H231=TRUE,PARTITA!AN231=2)","v":false},{"$f":"IF(PARTITA!AN231=1,K230+1,0)","v":0},{"$f":"IF(PARTITA!AN231=2,L230+1,0)","v":0},{"$f":"PARTITA!A231","v":""},{"$f":"COUNTIFS(PARTITA!AN222:AN231, \"=1\")","v":0},{"$f":"COUNTIFS(PARTITA!AN222:AN231, \"=2\")","v":0},{"$f":"PARTITA!BA231","v":""}]
[{"$f":"AND(PARTITA!K232=2, COUNTIF(Tables!L$1:L$4, PARTITA!F232))","v":false},{"$f":"AND(PARTITA!K232=1, COUNTIF(Tables!L$1:L$4, PARTITA!F232))","v":false},{"$f":"AND(A232, PARTITA!AO232=0)","v":false},{"$f":"AND(B232, PARTITA!AO232=0)","v":false},{"$f":"isNetPoint(PARTITA!AC232)","v":"0"},{"$f":"OR(PARTITA!S232=1, PARTITA!T232=1)","v":false},{"$f":"IF(PARTITA!K232=1,OR(E232=\"1\",E232=\"3\",F232=TRUE),OR(E232=\"2\",E232=\"3\"))","v":false},{"$f":"IF(PARTITA!K232=2,OR(E232=\"1\",E232=\"3\",F232=TRUE),OR(E232=\"2\",E232=\"3\"))","v":false},{"$f":"AND(G232=TRUE,PARTITA!AN232=1)","v":false},{"$f":"AND(H232=TRUE,PARTITA!AN232=2)","v":false},{"$f":"IF(PARTITA!AN232=1,K231+1,0)","v":0},{"$f":"IF(PARTITA!AN232=2,L231+1,0)","v":0},{"$f":"PARTITA!A232","v":""},{"$f":"COUNTIFS(PARTITA!AN223:AN232, \"=1\")","v":0},{"$f":"COUNTIFS(PARTITA!AN223:AN232, \"=2\")","v":0},{"$f":"PARTITA!BA232","v":""}]
[{"$f":"AND(PARTITA!K233=2, COUNTIF(Tables!L$1:L$4, PARTITA!F233))","v":false},{"$f":"AND(PARTITA!K233=1, COUNTIF(Tables!L$1:L$4, PARTITA!F233))","v":false},{"$f":"AND(A233, PARTITA!AO233=0)","v":false},{"$f":"AND(B233, PARTITA!AO233=0)","v":false},{"$f":"isNetPoint(PARTITA!AC233)","v":"0"},{"$f":"OR(PARTITA!S233=1, PARTITA!T233=1)","v":false},{"$f":"IF(PARTITA!K233=1,OR(E233=\"1\",E233=\"3\",F233=TRUE),OR(E233=\"2\",E233=\"3\"))","v":false},{"$f":"IF(PARTITA!K233=2,OR(E233=\"1\",E233=\"3\",F233=TRUE),OR(E233=\"2\",E233=\"3\"))","v":false},{"$f":"AND(G233=TRUE,PARTITA!AN233=1)","v":false},{"$f":"AND(H233=TRUE,PARTITA!AN233=2)","v":false},{"$f":"IF(PARTITA!AN233=1,K232+1,0)","v":0},{"$f":"IF(PARTITA!AN233=2,L232+1,0)","v":0},{"$f":"PARTITA!A233","v":""},{"$f":"COUNTIFS(PARTITA!AN224:AN233, \"=1\")","v":0},{"$f":"COUNTIFS(PARTITA!AN224:AN233, \"=2\")","v":0},{"$f":"PARTITA!BA233","v":""}]
[{"$f":"AND(PARTITA!K234=2, COUNTIF(Tables!L$1:L$4, PARTITA!F234))","v":false},{"$f":"AND(PARTITA!K234=1, COUNTIF(Tables!L$1:L$4, PARTITA!F234))","v":false},{"$f":"AND(A234, PARTITA!AO234=0)","v":false},{"$f":"AND(B234, PARTITA!AO234=0)","v":false},{"$f":"isNetPoint(PARTITA!AC234)","v":"0"},{"$f":"OR(PARTITA!S234=1, PARTITA!T234=1)","v":false},{"$f":"IF(PARTITA!K234=1,OR(E234=\"1\",E234=\"3\",F234=TRUE),OR(E234=\"2\",E234=\"3\"))","v":false},{"$f":"IF(PARTITA!K234=2,OR(E234=\"1\",E234=\"3\",F234=TRUE),OR(E234=\"2\",E234=\"3\"))","v":false},{"$f":"AND(G234=TRUE,PARTITA!AN234=1)","v":false},{"$f":"AND(H234=TRUE,PARTITA!AN234=2)","v":false},{"$f":"IF(PARTITA!AN234=1,K233+1,0)","v":0},{"$f":"IF(PARTITA!AN234=2,L233+1,0)","v":0},{"$f":"PARTITA!A234","v":""},{"$f":"COUNTIFS(PARTITA!AN225:AN234, \"=1\")","v":0},{"$f":"COUNTIFS(PARTITA!AN225:AN234, \"=2\")","v":0},{"$f":"PARTITA!BA234","v":""}]
[{"$f":"AND(PARTITA!K235=2, COUNTIF(Tables!L$1:L$4, PARTITA!F235))","v":false},{"$f":"AND(PARTITA!K235=1, COUNTIF(Tables!L$1:L$4, PARTITA!F235))","v":false},{"$f":"AND(A235, PARTITA!AO235=0)","v":false},{"$f":"AND(B235, PARTITA!AO235=0)","v":false},{"$f":"isNetPoint(PARTITA!AC235)","v":"0"},{"$f":"OR(PARTITA!S235=1, PARTITA!T235=1)","v":false},{"$f":"IF(PARTITA!K235=1,OR(E235=\"1\",E235=\"3\",F235=TRUE),OR(E235=\"2\",E235=\"3\"))","v":false},{"$f":"IF(PARTITA!K235=2,OR(E235=\"1\",E235=\"3\",F235=TRUE),OR(E235=\"2\",E235=\"3\"))","v":false},{"$f":"AND(G235=TRUE,PARTITA!AN235=1)","v":false},{"$f":"AND(H235=TRUE,PARTITA!AN235=2)","v":false},{"$f":"IF(PARTITA!AN235=1,K234+1,0)","v":0},{"$f":"IF(PARTITA!AN235=2,L234+1,0)","v":0},{"$f":"PARTITA!A235","v":""},{"$f":"COUNTIFS(PARTITA!AN226:AN235, \"=1\")","v":0},{"$f":"COUNTIFS(PARTITA!AN226:AN235, \"=2\")","v":0},{"$f":"PARTITA!BA235","v":""}]
[{"$f":"AND(PARTITA!K236=2, COUNTIF(Tables!L$1:L$4, PARTITA!F236))","v":false},{"$f":"AND(PARTITA!K236=1, COUNTIF(Tables!L$1:L$4, PARTITA!F236))","v":false},{"$f":"AND(A236, PARTITA!AO236=0)","v":false},{"$f":"AND(B236, PARTITA!AO236=0)","v":false},{"$f":"isNetPoint(PARTITA!AC236)","v":"0"},{"$f":"OR(PARTITA!S236=1, PARTITA!T236=1)","v":false},{"$f":"IF(PARTITA!K236=1,OR(E236=\"1\",E236=\"3\",F236=TRUE),OR(E236=\"2\",E236=\"3\"))","v":false},{"$f":"IF(PARTITA!K236=2,OR(E236=\"1\",E236=\"3\",F236=TRUE),OR(E236=\"2\",E236=\"3\"))","v":false},{"$f":"AND(G236=TRUE,PARTITA!AN236=1)","v":false},{"$f":"AND(H236=TRUE,PARTITA!AN236=2)","v":false},{"$f":"IF(PARTITA!AN236=1,K235+1,0)","v":0},{"$f":"IF(PARTITA!AN236=2,L235+1,0)","v":0},{"$f":"PARTITA!A236","v":""},{"$f":"COUNTIFS(PARTITA!AN227:AN236, \"=1\")","v":0},{"$f":"COUNTIFS(PARTITA!AN227:AN236, \"=2\")","v":0},{"$f":"PARTITA!BA236","v":""}]
[{"$f":"AND(PARTITA!K237=2, COUNTIF(Tables!L$1:L$4, PARTITA!F237))","v":false},{"$f":"AND(PARTITA!K237=1, COUNTIF(Tables!L$1:L$4, PARTITA!F237))","v":false},{"$f":"AND(A237, PARTITA!AO237=0)","v":false},{"$f":"AND(B237, PARTITA!AO237=0)","v":false},{"$f":"isNetPoint(PARTITA!AC237)","v":"0"},{"$f":"OR(PARTITA!S237=1, PARTITA!T237=1)","v":false},{"$f":"IF(PARTITA!K237=1,OR(E237=\"1\",E237=\"3\",F237=TRUE),OR(E237=\"2\",E237=\"3\"))","v":false},{"$f":"IF(PARTITA!K237=2,OR(E237=\"1\",E237=\"3\",F237=TRUE),OR(E237=\"2\",E237=\"3\"))","v":false},{"$f":"AND(G237=TRUE,PARTITA!AN237=1)","v":false},{"$f":"AND(H237=TRUE,PARTITA!AN237=2)","v":false},{"$f":"IF(PARTITA!AN237=1,K236+1,0)","v":0},{"$f":"IF(PARTITA!AN237=2,L236+1,0)","v":0},{"$f":"PARTITA!A237","v":""},{"$f":"COUNTIFS(PARTITA!AN228:AN237, \"=1\")","v":0},{"$f":"COUNTIFS(PARTITA!AN228:AN237, \"=2\")","v":0},{"$f":"PARTITA!BA237","v":""}]
[{"$f":"AND(PARTITA!K238=2, COUNTIF(Tables!L$1:L$4, PARTITA!F238))","v":false},{"$f":"AND(PARTITA!K238=1, COUNTIF(Tables!L$1:L$4, PARTITA!F238))","v":false},{"$f":"AND(A238, PARTITA!AO238=0)","v":false},{"$f":"AND(B238, PARTITA!AO238=0)","v":false},{"$f":"isNetPoint(PARTITA!AC238)","v":"0"},{"$f":"OR(PARTITA!S238=1, PARTITA!T238=1)","v":false},{"$f":"IF(PARTITA!K238=1,OR(E238=\"1\",E238=\"3\",F238=TRUE),OR(E238=\"2\",E238=\"3\"))","v":false},{"$f":"IF(PARTITA!K238=2,OR(E238=\"1\",E238=\"3\",F238=TRUE),OR(E238=\"2\",E238=\"3\"))","v":false},{"$f":"AND(G238=TRUE,PARTITA!AN238=1)","v":false},{"$f":"AND(H238=TRUE,PARTITA!AN238=2)","v":false},{"$f":"IF(PARTITA!AN238=1,K237+1,0)","v":0},{"$f":"IF(PARTITA!AN238=2,L237+1,0)","v":0},{"$f":"PARTITA!A238","v":""},{"$f":"COUNTIFS(PARTITA!AN229:AN238, \"=1\")","v":0},{"$f":"COUNTIFS(PARTITA!AN229:AN238, \"=2\")","v":0},{"$f":"PARTITA!BA238","v":""}]
[{"$f":"AND(PARTITA!K239=2, COUNTIF(Tables!L$1:L$4, PARTITA!F239))","v":false},{"$f":"AND(PARTITA!K239=1, COUNTIF(Tables!L$1:L$4, PARTITA!F239))","v":false},{"$f":"AND(A239, PARTITA!AO239=0)","v":false},{"$f":"AND(B239, PARTITA!AO239=0)","v":false},{"$f":"isNetPoint(PARTITA!AC239)","v":"0"},{"$f":"OR(PARTITA!S239=1, PARTITA!T239=1)","v":false},{"$f":"IF(PARTITA!K239=1,OR(E239=\"1\",E239=\"3\",F239=TRUE),OR(E239=\"2\",E239=\"3\"))","v":false},{"$f":"IF(PARTITA!K239=2,OR(E239=\"1\",E239=\"3\",F239=TRUE),OR(E239=\"2\",E239=\"3\"))","v":false},{"$f":"AND(G239=TRUE,PARTITA!AN239=1)","v":false},{"$f":"AND(H239=TRUE,PARTITA!AN239=2)","v":false},{"$f":"IF(PARTITA!AN239=1,K238+1,0)","v":0},{"$f":"IF(PARTITA!AN239=2,L238+1,0)","v":0},{"$f":"PARTITA!A239","v":""},{"$f":"COUNTIFS(PARTITA!AN230:AN239, \"=1\")","v":0},{"$f":"COUNTIFS(PARTITA!AN230:AN239, \"=2\")","v":0},{"$f":"PARTITA!BA239","v":""}]
[{"$f":"AND(PARTITA!K240=2, COUNTIF(Tables!L$1:L$4, PARTITA!F240))","v":false},{"$f":"AND(PARTITA!K240=1, COUNTIF(Tables!L$1:L$4, PARTITA!F240))","v":false},{"$f":"AND(A240, PARTITA!AO240=0)","v":false},{"$f":"AND(B240, PARTITA!AO240=0)","v":false},{"$f":"isNetPoint(PARTITA!AC240)","v":"0"},{"$f":"OR(PARTITA!S240=1, PARTITA!T240=1)","v":false},{"$f":"IF(PARTITA!K240=1,OR(E240=\"1\",E240=\"3\",F240=TRUE),OR(E240=\"2\",E240=\"3\"))","v":false},{"$f":"IF(PARTITA!K240=2,OR(E240=\"1\",E240=\"3\",F240=TRUE),OR(E240=\"2\",E240=\"3\"))","v":false},{"$f":"AND(G240=TRUE,PARTITA!AN240=1)","v":false},{"$f":"AND(H240=TRUE,PARTITA!AN240=2)","v":false},{"$f":"IF(PARTITA!AN240=1,K239+1,0)","v":0},{"$f":"IF(PARTITA!AN240=2,L239+1,0)","v":0},{"$f":"PARTITA!A240","v":""},{"$f":"COUNTIFS(PARTITA!AN231:AN240, \"=1\")","v":0},{"$f":"COUNTIFS(PARTITA!AN231:AN240, \"=2\")","v":0},{"$f":"PARTITA!BA240","v":""}]
[{"$f":"AND(PARTITA!K241=2, COUNTIF(Tables!L$1:L$4, PARTITA!F241))","v":false},{"$f":"AND(PARTITA!K241=1, COUNTIF(Tables!L$1:L$4, PARTITA!F241))","v":false},{"$f":"AND(A241, PARTITA!AO241=0)","v":false},{"$f":"AND(B241, PARTITA!AO241=0)","v":false},{"$f":"isNetPoint(PARTITA!AC241)","v":"0"},{"$f":"OR(PARTITA!S241=1, PARTITA!T241=1)","v":false},{"$f":"IF(PARTITA!K241=1,OR(E241=\"1\",E241=\"3\",F241=TRUE),OR(E241=\"2\",E241=\"3\"))","v":false},{"$f":"IF(PARTITA!K241=2,OR(E241=\"1\",E241=\"3\",F241=TRUE),OR(E241=\"2\",E241=\"3\"))","v":false},{"$f":"AND(G241=TRUE,PARTITA!AN241=1)","v":false},{"$f":"AND(H241=TRUE,PARTITA!AN241=2)","v":false},{"$f":"IF(PARTITA!AN241=1,K240+1,0)","v":0},{"$f":"IF(PARTITA!AN241=2,L240+1,0)","v":0},{"$f":"PARTITA!A241","v":""},{"$f":"COUNTIFS(PARTITA!AN232:AN241, \"=1\")","v":0},{"$f":"COUNTIFS(PARTITA!AN232:AN241, \"=2\")","v":0},{"$f":"PARTITA!BA241","v":""}]
[{"$f":"AND(PARTITA!K242=2, COUNTIF(Tables!L$1:L$4, PARTITA!F242))","v":false},{"$f":"AND(PARTITA!K242=1, COUNTIF(Tables!L$1:L$4, PARTITA!F242))","v":false},{"$f":"AND(A242, PARTITA!AO242=0)","v":false},{"$f":"AND(B242, PARTITA!AO242=0)","v":false},{"$f":"isNetPoint(PARTITA!AC242)","v":"0"},{"$f":"OR(PARTITA!S242=1, PARTITA!T242=1)","v":false},{"$f":"IF(PARTITA!K242=1,OR(E242=\"1\",E242=\"3\",F242=TRUE),OR(E242=\"2\",E242=\"3\"))","v":false},{"$f":"IF(PARTITA!K242=2,OR(E242=\"1\",E242=\"3\",F242=TRUE),OR(E242=\"2\",E242=\"3\"))","v":false},{"$f":"AND(G242=TRUE,PARTITA!AN242=1)","v":false},{"$f":"AND(H242=TRUE,PARTITA!AN242=2)","v":false},{"$f":"IF(PARTITA!AN242=1,K241+1,0)","v":0},{"$f":"IF(PARTITA!AN242=2,L241+1,0)","v":0},{"$f":"PARTITA!A242","v":""},{"$f":"COUNTIFS(PARTITA!AN233:AN242, \"=1\")","v":0},{"$f":"COUNTIFS(PARTITA!AN233:AN242, \"=2\")","v":0},{"$f":"PARTITA!BA242","v":""}]
[{"$f":"AND(PARTITA!K243=2, COUNTIF(Tables!L$1:L$4, PARTITA!F243))","v":false},{"$f":"AND(PARTITA!K243=1, COUNTIF(Tables!L$1:L$4, PARTITA!F243))","v":false},{"$f":"AND(A243, PARTITA!AO243=0)","v":false},{"$f":"AND(B243, PARTITA!AO243=0)","v":false},{"$f":"isNetPoint(PARTITA!AC243)","v":"0"},{"$f":"OR(PARTITA!S243=1, PARTITA!T243=1)","v":false},{"$f":"IF(PARTITA!K243=1,OR(E243=\"1\",E243=\"3\",F243=TRUE),OR(E243=\"2\",E243=\"3\"))","v":false},{"$f":"IF(PARTITA!K243=2,OR(E243=\"1\",E243=\"3\",F243=TRUE),OR(E243=\"2\",E243=\"3\"))","v":false},{"$f":"AND(G243=TRUE,PARTITA!AN243=1)","v":false},{"$f":"AND(H243=TRUE,PARTITA!AN243=2)","v":false},{"$f":"IF(PARTITA!AN243=1,K242+1,0)","v":0},{"$f":"IF(PARTITA!AN243=2,L242+1,0)","v":0},{"$f":"PARTITA!A243","v":""},{"$f":"COUNTIFS(PARTITA!AN234:AN243, \"=1\")","v":0},{"$f":"COUNTIFS(PARTITA!AN234:AN243, \"=2\")","v":0},{"$f":"PARTITA!BA243","v":""}]
[{"$f":"AND(PARTITA!K244=2, COUNTIF(Tables!L$1:L$4, PARTITA!F244))","v":false},{"$f":"AND(PARTITA!K244=1, COUNTIF(Tables!L$1:L$4, PARTITA!F244))","v":false},{"$f":"AND(A244, PARTITA!AO244=0)","v":false},{"$f":"AND(B244, PARTITA!AO244=0)","v":false},{"$f":"isNetPoint(PARTITA!AC244)","v":"0"},{"$f":"OR(PARTITA!S244=1, PARTITA!T244=1)","v":false},{"$f":"IF(PARTITA!K244=1,OR(E244=\"1\",E244=\"3\",F244=TRUE),OR(E244=\"2\",E244=\"3\"))","v":false},{"$f":"IF(PARTITA!K244=2,OR(E244=\"1\",E244=\"3\",F244=TRUE),OR(E244=\"2\",E244=\"3\"))","v":false},{"$f":"AND(G244=TRUE,PARTITA!AN244=1)","v":false},{"$f":"AND(H244=TRUE,PARTITA!AN244=2)","v":false},{"$f":"IF(PARTITA!AN244=1,K243+1,0)","v":0},{"$f":"IF(PARTITA!AN244=2,L243+1,0)","v":0},{"$f":"PARTITA!A244","v":""},{"$f":"COUNTIFS(PARTITA!AN235:AN244, \"=1\")","v":0},{"$f":"COUNTIFS(PARTITA!AN235:AN244, \"=2\")","v":0},{"$f":"PARTITA!BA244","v":""}]
[{"$f":"AND(PARTITA!K245=2, COUNTIF(Tables!L$1:L$4, PARTITA!F245))","v":false},{"$f":"AND(PARTITA!K245=1, COUNTIF(Tables!L$1:L$4, PARTITA!F245))","v":false},{"$f":"AND(A245, PARTITA!AO245=0)","v":false},{"$f":"AND(B245, PARTITA!AO245=0)","v":false},{"$f":"isNetPoint(PARTITA!AC245)","v":"0"},{"$f":"OR(PARTITA!S245=1, PARTITA!T245=1)","v":false},{"$f":"IF(PARTITA!K245=1,OR(E245=\"1\",E245=\"3\",F245=TRUE),OR(E245=\"2\",E245=\"3\"))","v":false},{"$f":"IF(PARTITA!K245=2,OR(E245=\"1\",E245=\"3\",F245=TRUE),OR(E245=\"2\",E245=\"3\"))","v":false},{"$f":"AND(G245=TRUE,PARTITA!AN245=1)","v":false},{"$f":"AND(H245=TRUE,PARTITA!AN245=2)","v":false},{"$f":"IF(PARTITA!AN245=1,K244+1,0)","v":0},{"$f":"IF(PARTITA!AN245=2,L244+1,0)","v":0},{"$f":"PARTITA!A245","v":""},{"$f":"COUNTIFS(PARTITA!AN236:AN245, \"=1\")","v":0},{"$f":"COUNTIFS(PARTITA!AN236:AN245, \"=2\")","v":0},{"$f":"PARTITA!BA245","v":""}]
[{"$f":"AND(PARTITA!K246=2, COUNTIF(Tables!L$1:L$4, PARTITA!F246))","v":false},{"$f":"AND(PARTITA!K246=1, COUNTIF(Tables!L$1:L$4, PARTITA!F246))","v":false},{"$f":"AND(A246, PARTITA!AO246=0)","v":false},{"$f":"AND(B246, PARTITA!AO246=0)","v":false},{"$f":"isNetPoint(PARTITA!AC246)","v":"0"},{"$f":"OR(PARTITA!S246=1, PARTITA!T246=1)","v":false},{"$f":"IF(PARTITA!K246=1,OR(E246=\"1\",E246=\"3\",F246=TRUE),OR(E246=\"2\",E246=\"3\"))","v":false},{"$f":"IF(PARTITA!K246=2,OR(E246=\"1\",E246=\"3\",F246=TRUE),OR(E246=\"2\",E246=\"3\"))","v":false},{"$f":"AND(G246=TRUE,PARTITA!AN246=1)","v":false},{"$f":"AND(H246=TRUE,PARTITA!AN246=2)","v":false},{"$f":"IF(PARTITA!AN246=1,K245+1,0)","v":0},{"$f":"IF(PARTITA!AN246=2,L245+1,0)","v":0},{"$f":"PARTITA!A246","v":""},{"$f":"COUNTIFS(PARTITA!AN237:AN246, \"=1\")","v":0},{"$f":"COUNTIFS(PARTITA!AN237:AN246, \"=2\")","v":0},{"$f":"PARTITA!BA246","v":""}]
[{"$f":"AND(PARTITA!K247=2, COUNTIF(Tables!L$1:L$4, PARTITA!F247))","v":false},{"$f":"AND(PARTITA!K247=1, COUNTIF(Tables!L$1:L$4, PARTITA!F247))","v":false},{"$f":"AND(A247, PARTITA!AO247=0)","v":false},{"$f":"AND(B247, PARTITA!AO247=0)","v":false},{"$f":"isNetPoint(PARTITA!AC247)","v":"0"},{"$f":"OR(PARTITA!S247=1, PARTITA!T247=1)","v":false},{"$f":"IF(PARTITA!K247=1,OR(E247=\"1\",E247=\"3\",F247=TRUE),OR(E247=\"2\",E247=\"3\"))","v":false},{"$f":"IF(PARTITA!K247=2,OR(E247=\"1\",E247=\"3\",F247=TRUE),OR(E247=\"2\",E247=\"3\"))","v":false},{"$f":"AND(G247=TRUE,PARTITA!AN247=1)","v":false},{"$f":"AND(H247=TRUE,PARTITA!AN247=2)","v":false},{"$f":"IF(PARTITA!AN247=1,K246+1,0)","v":0},{"$f":"IF(PARTITA!AN247=2,L246+1,0)","v":0},{"$f":"PARTITA!A247","v":""},{"$f":"COUNTIFS(PARTITA!AN238:AN247, \"=1\")","v":0},{"$f":"COUNTIFS(PARTITA!AN238:AN247, \"=2\")","v":0},{"$f":"PARTITA!BA247","v":""}]
[{"$f":"AND(PARTITA!K248=2, COUNTIF(Tables!L$1:L$4, PARTITA!F248))","v":false},{"$f":"AND(PARTITA!K248=1, COUNTIF(Tables!L$1:L$4, PARTITA!F248))","v":false},{"$f":"AND(A248, PARTITA!AO248=0)","v":false},{"$f":"AND(B248, PARTITA!AO248=0)","v":false},{"$f":"isNetPoint(PARTITA!AC248)","v":"0"},{"$f":"OR(PARTITA!S248=1, PARTITA!T248=1)","v":false},{"$f":"IF(PARTITA!K248=1,OR(E248=\"1\",E248=\"3\",F248=TRUE),OR(E248=\"2\",E248=\"3\"))","v":false},{"$f":"IF(PARTITA!K248=2,OR(E248=\"1\",E248=\"3\",F248=TRUE),OR(E248=\"2\",E248=\"3\"))","v":false},{"$f":"AND(G248=TRUE,PARTITA!AN248=1)","v":false},{"$f":"AND(H248=TRUE,PARTITA!AN248=2)","v":false},{"$f":"IF(PARTITA!AN248=1,K247+1,0)","v":0},{"$f":"IF(PARTITA!AN248=2,L247+1,0)","v":0},{"$f":"PARTITA!A248","v":""},{"$f":"COUNTIFS(PARTITA!AN239:AN248, \"=1\")","v":0},{"$f":"COUNTIFS(PARTITA!AN239:AN248, \"=2\")","v":0},{"$f":"PARTITA!BA248","v":""}]
[{"$f":"AND(PARTITA!K249=2, COUNTIF(Tables!L$1:L$4, PARTITA!F249))","v":false},{"$f":"AND(PARTITA!K249=1, COUNTIF(Tables!L$1:L$4, PARTITA!F249))","v":false},{"$f":"AND(A249, PARTITA!AO249=0)","v":false},{"$f":"AND(B249, PARTITA!AO249=0)","v":false},{"$f":"isNetPoint(PARTITA!AC249)","v":"0"},{"$f":"OR(PARTITA!S249=1, PARTITA!T249=1)","v":false},{"$f":"IF(PARTITA!K249=1,OR(E249=\"1\",E249=\"3\",F249=TRUE),OR(E249=\"2\",E249=\"3\"))","v":false},{"$f":"IF(PARTITA!K249=2,OR(E249=\"1\",E249=\"3\",F249=TRUE),OR(E249=\"2\",E249=\"3\"))","v":false},{"$f":"AND(G249=TRUE,PARTITA!AN249=1)","v":false},{"$f":"AND(H249=TRUE,PARTITA!AN249=2)","v":false},{"$f":"IF(PARTITA!AN249=1,K248+1,0)","v":0},{"$f":"IF(PARTITA!AN249=2,L248+1,0)","v":0},{"$f":"PARTITA!A249","v":""},{"$f":"COUNTIFS(PARTITA!AN240:AN249, \"=1\")","v":0},{"$f":"COUNTIFS(PARTITA!AN240:AN249, \"=2\")","v":0},{"$f":"PARTITA!BA249","v":""}]
[{"$f":"AND(PARTITA!K250=2, COUNTIF(Tables!L$1:L$4, PARTITA!F250))","v":false},{"$f":"AND(PARTITA!K250=1, COUNTIF(Tables!L$1:L$4, PARTITA!F250))","v":false},{"$f":"AND(A250, PARTITA!AO250=0)","v":false},{"$f":"AND(B250, PARTITA!AO250=0)","v":false},{"$f":"isNetPoint(PARTITA!AC250)","v":"0"},{"$f":"OR(PARTITA!S250=1, PARTITA!T250=1)","v":false},{"$f":"IF(PARTITA!K250=1,OR(E250=\"1\",E250=\"3\",F250=TRUE),OR(E250=\"2\",E250=\"3\"))","v":false},{"$f":"IF(PARTITA!K250=2,OR(E250=\"1\",E250=\"3\",F250=TRUE),OR(E250=\"2\",E250=\"3\"))","v":false},{"$f":"AND(G250=TRUE,PARTITA!AN250=1)","v":false},{"$f":"AND(H250=TRUE,PARTITA!AN250=2)","v":false},{"$f":"IF(PARTITA!AN250=1,K249+1,0)","v":0},{"$f":"IF(PARTITA!AN250=2,L249+1,0)","v":0},{"$f":"PARTITA!A250","v":""},{"$f":"COUNTIFS(PARTITA!AN241:AN250, \"=1\")","v":0},{"$f":"COUNTIFS(PARTITA!AN241:AN250, \"=2\")","v":0},{"$f":"PARTITA!BA250","v":""}]
[{"$f":"AND(PARTITA!K251=2, COUNTIF(Tables!L$1:L$4, PARTITA!F251))","v":false},{"$f":"AND(PARTITA!K251=1, COUNTIF(Tables!L$1:L$4, PARTITA!F251))","v":false},{"$f":"AND(A251, PARTITA!AO251=0)","v":false},{"$f":"AND(B251, PARTITA!AO251=0)","v":false},{"$f":"isNetPoint(PARTITA!AC251)","v":"0"},{"$f":"OR(PARTITA!S251=1, PARTITA!T251=1)","v":false},{"$f":"IF(PARTITA!K251=1,OR(E251=\"1\",E251=\"3\",F251=TRUE),OR(E251=\"2\",E251=\"3\"))","v":false},{"$f":"IF(PARTITA!K251=2,OR(E251=\"1\",E251=\"3\",F251=TRUE),OR(E251=\"2\",E251=\"3\"))","v":false},{"$f":"AND(G251=TRUE,PARTITA!AN251=1)","v":false},{"$f":"AND(H251=TRUE,PARTITA!AN251=2)","v":false},{"$f":"IF(PARTITA!AN251=1,K250+1,0)","v":0},{"$f":"IF(PARTITA!AN251=2,L250+1,0)","v":0},{"$f":"PARTITA!A251","v":""},{"$f":"COUNTIFS(PARTITA!AN242:AN251, \"=1\")","v":0},{"$f":"COUNTIFS(PARTITA!AN242:AN251, \"=2\")","v":0},{"$f":"PARTITA!BA251","v":""}]
[{"$f":"AND(PARTITA!K252=2, COUNTIF(Tables!L$1:L$4, PARTITA!F252))","v":false},{"$f":"AND(PARTITA!K252=1, COUNTIF(Tables!L$1:L$4, PARTITA!F252))","v":false},{"$f":"AND(A252, PARTITA!AO252=0)","v":false},{"$f":"AND(B252, PARTITA!AO252=0)","v":false},{"$f":"isNetPoint(PARTITA!AC252)","v":"0"},{"$f":"OR(PARTITA!S252=1, PARTITA!T252=1)","v":false},{"$f":"IF(PARTITA!K252=1,OR(E252=\"1\",E252=\"3\",F252=TRUE),OR(E252=\"2\",E252=\"3\"))","v":false},{"$f":"IF(PARTITA!K252=2,OR(E252=\"1\",E252=\"3\",F252=TRUE),OR(E252=\"2\",E252=\"3\"))","v":false},{"$f":"AND(G252=TRUE,PARTITA!AN252=1)","v":false},{"$f":"AND(H252=TRUE,PARTITA!AN252=2)","v":false},{"$f":"IF(PARTITA!AN252=1,K251+1,0)","v":0},{"$f":"IF(PARTITA!AN252=2,L251+1,0)","v":0},{"$f":"PARTITA!A252","v":""},{"$f":"COUNTIFS(PARTITA!AN243:AN252, \"=1\")","v":0},{"$f":"COUNTIFS(PARTITA!AN243:AN252, \"=2\")","v":0},{"$f":"PARTITA!BA252","v":""}]
[{"$f":"AND(PARTITA!K253=2, COUNTIF(Tables!L$1:L$4, PARTITA!F253))","v":false},{"$f":"AND(PARTITA!K253=1, COUNTIF(Tables!L$1:L$4, PARTITA!F253))","v":false},{"$f":"AND(A253, PARTITA!AO253=0)","v":false},{"$f":"AND(B253, PARTITA!AO253=0)","v":false},{"$f":"isNetPoint(PARTITA!AC253)","v":"0"},{"$f":"OR(PARTITA!S253=1, PARTITA!T253=1)","v":false},{"$f":"IF(PARTITA!K253=1,OR(E253=\"1\",E253=\"3\",F253=TRUE),OR(E253=\"2\",E253=\"3\"))","v":false},{"$f":"IF(PARTITA!K253=2,OR(E253=\"1\",E253=\"3\",F253=TRUE),OR(E253=\"2\",E253=\"3\"))","v":false},{"$f":"AND(G253=TRUE,PARTITA!AN253=1)","v":false},{"$f":"AND(H253=TRUE,PARTITA!AN253=2)","v":false},{"$f":"IF(PARTITA!AN253=1,K252+1,0)","v":0},{"$f":"IF(PARTITA!AN253=2,L252+1,0)","v":0},{"$f":"PARTITA!A253","v":""},{"$f":"COUNTIFS(PARTITA!AN244:AN253, \"=1\")","v":0},{"$f":"COUNTIFS(PARTITA!AN244:AN253, \"=2\")","v":0},{"$f":"PARTITA!BA253","v":""}]
[{"$f":"AND(PARTITA!K254=2, COUNTIF(Tables!L$1:L$4, PARTITA!F254))","v":false},{"$f":"AND(PARTITA!K254=1, COUNTIF(Tables!L$1:L$4, PARTITA!F254))","v":false},{"$f":"AND(A254, PARTITA!AO254=0)","v":false},{"$f":"AND(B254, PARTITA!AO254=0)","v":false},{"$f":"isNetPoint(PARTITA!AC254)","v":"0"},{"$f":"OR(PARTITA!S254=1, PARTITA!T254=1)","v":false},{"$f":"IF(PARTITA!K254=1,OR(E254=\"1\",E254=\"3\",F254=TRUE),OR(E254=\"2\",E254=\"3\"))","v":false},{"$f":"IF(PARTITA!K254=2,OR(E254=\"1\",E254=\"3\",F254=TRUE),OR(E254=\"2\",E254=\"3\"))","v":false},{"$f":"AND(G254=TRUE,PARTITA!AN254=1)","v":false},{"$f":"AND(H254=TRUE,PARTITA!AN254=2)","v":false},{"$f":"IF(PARTITA!AN254=1,K253+1,0)","v":0},{"$f":"IF(PARTITA!AN254=2,L253+1,0)","v":0},{"$f":"PARTITA!A254","v":""},{"$f":"COUNTIFS(PARTITA!AN245:AN254, \"=1\")","v":0},{"$f":"COUNTIFS(PARTITA!AN245:AN254, \"=2\")","v":0},{"$f":"PARTITA!BA254","v":""}]
[{"$f":"AND(PARTITA!K255=2, COUNTIF(Tables!L$1:L$4, PARTITA!F255))","v":false},{"$f":"AND(PARTITA!K255=1, COUNTIF(Tables!L$1:L$4, PARTITA!F255))","v":false},{"$f":"AND(A255, PARTITA!AO255=0)","v":false},{"$f":"AND(B255, PARTITA!AO255=0)","v":false},{"$f":"isNetPoint(PARTITA!AC255)","v":"0"},{"$f":"OR(PARTITA!S255=1, PARTITA!T255=1)","v":false},{"$f":"IF(PARTITA!K255=1,OR(E255=\"1\",E255=\"3\",F255=TRUE),OR(E255=\"2\",E255=\"3\"))","v":false},{"$f":"IF(PARTITA!K255=2,OR(E255=\"1\",E255=\"3\",F255=TRUE),OR(E255=\"2\",E255=\"3\"))","v":false},{"$f":"AND(G255=TRUE,PARTITA!AN255=1)","v":false},{"$f":"AND(H255=TRUE,PARTITA!AN255=2)","v":false},{"$f":"IF(PARTITA!AN255=1,K254+1,0)","v":0},{"$f":"IF(PARTITA!AN255=2,L254+1,0)","v":0},{"$f":"PARTITA!A255","v":""},{"$f":"COUNTIFS(PARTITA!AN246:AN255, \"=1\")","v":0},{"$f":"COUNTIFS(PARTITA!AN246:AN255, \"=2\")","v":0},{"$f":"PARTITA!BA255","v":""}]
[{"$f":"AND(PARTITA!K256=2, COUNTIF(Tables!L$1:L$4, PARTITA!F256))","v":false},{"$f":"AND(PARTITA!K256=1, COUNTIF(Tables!L$1:L$4, PARTITA!F256))","v":false},{"$f":"AND(A256, PARTITA!AO256=0)","v":false},{"$f":"AND(B256, PARTITA!AO256=0)","v":false},{"$f":"isNetPoint(PARTITA!AC256)","v":"0"},{"$f":"OR(PARTITA!S256=1, PARTITA!T256=1)","v":false},{"$f":"IF(PARTITA!K256=1,OR(E256=\"1\",E256=\"3\",F256=TRUE),OR(E256=\"2\",E256=\"3\"))","v":false},{"$f":"IF(PARTITA!K256=2,OR(E256=\"1\",E256=\"3\",F256=TRUE),OR(E256=\"2\",E256=\"3\"))","v":false},{"$f":"AND(G256=TRUE,PARTITA!AN256=1)","v":false},{"$f":"AND(H256=TRUE,PARTITA!AN256=2)","v":false},{"$f":"IF(PARTITA!AN256=1,K255+1,0)","v":0},{"$f":"IF(PARTITA!AN256=2,L255+1,0)","v":0},{"$f":"PARTITA!A256","v":""},{"$f":"COUNTIFS(PARTITA!AN247:AN256, \"=1\")","v":0},{"$f":"COUNTIFS(PARTITA!AN247:AN256, \"=2\")","v":0},{"$f":"PARTITA!BA256","v":""}]
[{"$f":"AND(PARTITA!K257=2, COUNTIF(Tables!L$1:L$4, PARTITA!F257))","v":false},{"$f":"AND(PARTITA!K257=1, COUNTIF(Tables!L$1:L$4, PARTITA!F257))","v":false},{"$f":"AND(A257, PARTITA!AO257=0)","v":false},{"$f":"AND(B257, PARTITA!AO257=0)","v":false},{"$f":"isNetPoint(PARTITA!AC257)","v":"0"},{"$f":"OR(PARTITA!S257=1, PARTITA!T257=1)","v":false},{"$f":"IF(PARTITA!K257=1,OR(E257=\"1\",E257=\"3\",F257=TRUE),OR(E257=\"2\",E257=\"3\"))","v":false},{"$f":"IF(PARTITA!K257=2,OR(E257=\"1\",E257=\"3\",F257=TRUE),OR(E257=\"2\",E257=\"3\"))","v":false},{"$f":"AND(G257=TRUE,PARTITA!AN257=1)","v":false},{"$f":"AND(H257=TRUE,PARTITA!AN257=2)","v":false},{"$f":"IF(PARTITA!AN257=1,K256+1,0)","v":0},{"$f":"IF(PARTITA!AN257=2,L256+1,0)","v":0},{"$f":"PARTITA!A257","v":""},{"$f":"COUNTIFS(PARTITA!AN248:AN257, \"=1\")","v":0},{"$f":"COUNTIFS(PARTITA!AN248:AN257, \"=2\")","v":0},{"$f":"PARTITA!BA257","v":""}]
[{"$f":"AND(PARTITA!K258=2, COUNTIF(Tables!L$1:L$4, PARTITA!F258))","v":false},{"$f":"AND(PARTITA!K258=1, COUNTIF(Tables!L$1:L$4, PARTITA!F258))","v":false},{"$f":"AND(A258, PARTITA!AO258=0)","v":false},{"$f":"AND(B258, PARTITA!AO258=0)","v":false},{"$f":"isNetPoint(PARTITA!AC258)","v":"0"},{"$f":"OR(PARTITA!S258=1, PARTITA!T258=1)","v":false},{"$f":"IF(PARTITA!K258=1,OR(E258=\"1\",E258=\"3\",F258=TRUE),OR(E258=\"2\",E258=\"3\"))","v":false},{"$f":"IF(PARTITA!K258=2,OR(E258=\"1\",E258=\"3\",F258=TRUE),OR(E258=\"2\",E258=\"3\"))","v":false},{"$f":"AND(G258=TRUE,PARTITA!AN258=1)","v":false},{"$f":"AND(H258=TRUE,PARTITA!AN258=2)","v":false},{"$f":"IF(PARTITA!AN258=1,K257+1,0)","v":0},{"$f":"IF(PARTITA!AN258=2,L257+1,0)","v":0},{"$f":"PARTITA!A258","v":""},{"$f":"COUNTIFS(PARTITA!AN249:AN258, \"=1\")","v":0},{"$f":"COUNTIFS(PARTITA!AN249:AN258, \"=2\")","v":0},{"$f":"PARTITA!BA258","v":""}]
[{"$f":"AND(PARTITA!K259=2, COUNTIF(Tables!L$1:L$4, PARTITA!F259))","v":false},{"$f":"AND(PARTITA!K259=1, COUNTIF(Tables!L$1:L$4, PARTITA!F259))","v":false},{"$f":"AND(A259, PARTITA!AO259=0)","v":false},{"$f":"AND(B259, PARTITA!AO259=0)","v":false},{"$f":"isNetPoint(PARTITA!AC259)","v":"0"},{"$f":"OR(PARTITA!S259=1, PARTITA!T259=1)","v":false},{"$f":"IF(PARTITA!K259=1,OR(E259=\"1\",E259=\"3\",F259=TRUE),OR(E259=\"2\",E259=\"3\"))","v":false},{"$f":"IF(PARTITA!K259=2,OR(E259=\"1\",E259=\"3\",F259=TRUE),OR(E259=\"2\",E259=\"3\"))","v":false},{"$f":"AND(G259=TRUE,PARTITA!AN259=1)","v":false},{"$f":"AND(H259=TRUE,PARTITA!AN259=2)","v":false},{"$f":"IF(PARTITA!AN259=1,K258+1,0)","v":0},{"$f":"IF(PARTITA!AN259=2,L258+1,0)","v":0},{"$f":"PARTITA!A259","v":""},{"$f":"COUNTIFS(PARTITA!AN250:AN259, \"=1\")","v":0},{"$f":"COUNTIFS(PARTITA!AN250:AN259, \"=2\")","v":0},{"$f":"PARTITA!BA259","v":""}]
[{"$f":"AND(PARTITA!K260=2, COUNTIF(Tables!L$1:L$4, PARTITA!F260))","v":false},{"$f":"AND(PARTITA!K260=1, COUNTIF(Tables!L$1:L$4, PARTITA!F260))","v":false},{"$f":"AND(A260, PARTITA!AO260=0)","v":false},{"$f":"AND(B260, PARTITA!AO260=0)","v":false},{"$f":"isNetPoint(PARTITA!AC260)","v":"0"},{"$f":"OR(PARTITA!S260=1, PARTITA!T260=1)","v":false},{"$f":"IF(PARTITA!K260=1,OR(E260=\"1\",E260=\"3\",F260=TRUE),OR(E260=\"2\",E260=\"3\"))","v":false},{"$f":"IF(PARTITA!K260=2,OR(E260=\"1\",E260=\"3\",F260=TRUE),OR(E260=\"2\",E260=\"3\"))","v":false},{"$f":"AND(G260=TRUE,PARTITA!AN260=1)","v":false},{"$f":"AND(H260=TRUE,PARTITA!AN260=2)","v":false},{"$f":"IF(PARTITA!AN260=1,K259+1,0)","v":0},{"$f":"IF(PARTITA!AN260=2,L259+1,0)","v":0},{"$f":"PARTITA!A260","v":""},{"$f":"COUNTIFS(PARTITA!AN251:AN260, \"=1\")","v":0},{"$f":"COUNTIFS(PARTITA!AN251:AN260, \"=2\")","v":0},{"$f":"PARTITA!BA260","v":""}]
[{"$f":"AND(PARTITA!K261=2, COUNTIF(Tables!L$1:L$4, PARTITA!F261))","v":false},{"$f":"AND(PARTITA!K261=1, COUNTIF(Tables!L$1:L$4, PARTITA!F261))","v":false},{"$f":"AND(A261, PARTITA!AO261=0)","v":false},{"$f":"AND(B261, PARTITA!AO261=0)","v":false},{"$f":"isNetPoint(PARTITA!AC261)","v":"0"},{"$f":"OR(PARTITA!S261=1, PARTITA!T261=1)","v":false},{"$f":"IF(PARTITA!K261=1,OR(E261=\"1\",E261=\"3\",F261=TRUE),OR(E261=\"2\",E261=\"3\"))","v":false},{"$f":"IF(PARTITA!K261=2,OR(E261=\"1\",E261=\"3\",F261=TRUE),OR(E261=\"2\",E261=\"3\"))","v":false},{"$f":"AND(G261=TRUE,PARTITA!AN261=1)","v":false},{"$f":"AND(H261=TRUE,PARTITA!AN261=2)","v":false},{"$f":"IF(PARTITA!AN261=1,K260+1,0)","v":0},{"$f":"IF(PARTITA!AN261=2,L260+1,0)","v":0},{"$f":"PARTITA!A261","v":""},{"$f":"COUNTIFS(PARTITA!AN252:AN261, \"=1\")","v":0},{"$f":"COUNTIFS(PARTITA!AN252:AN261, \"=2\")","v":0},{"$f":"PARTITA!BA261","v":""}]
[{"$f":"AND(PARTITA!K262=2, COUNTIF(Tables!L$1:L$4, PARTITA!F262))","v":false},{"$f":"AND(PARTITA!K262=1, COUNTIF(Tables!L$1:L$4, PARTITA!F262))","v":false},{"$f":"AND(A262, PARTITA!AO262=0)","v":false},{"$f":"AND(B262, PARTITA!AO262=0)","v":false},{"$f":"isNetPoint(PARTITA!AC262)","v":"0"},{"$f":"OR(PARTITA!S262=1, PARTITA!T262=1)","v":false},{"$f":"IF(PARTITA!K262=1,OR(E262=\"1\",E262=\"3\",F262=TRUE),OR(E262=\"2\",E262=\"3\"))","v":false},{"$f":"IF(PARTITA!K262=2,OR(E262=\"1\",E262=\"3\",F262=TRUE),OR(E262=\"2\",E262=\"3\"))","v":false},{"$f":"AND(G262=TRUE,PARTITA!AN262=1)","v":false},{"$f":"AND(H262=TRUE,PARTITA!AN262=2)","v":false},{"$f":"IF(PARTITA!AN262=1,K261+1,0)","v":0},{"$f":"IF(PARTITA!AN262=2,L261+1,0)","v":0},{"$f":"PARTITA!A262","v":""},{"$f":"COUNTIFS(PARTITA!AN253:AN262, \"=1\")","v":0},{"$f":"COUNTIFS(PARTITA!AN253:AN262, \"=2\")","v":0},{"$f":"PARTITA!BA262","v":""}]
[{"$f":"AND(PARTITA!K263=2, COUNTIF(Tables!L$1:L$4, PARTITA!F263))","v":false},{"$f":"AND(PARTITA!K263=1, COUNTIF(Tables!L$1:L$4, PARTITA!F263))","v":false},{"$f":"AND(A263, PARTITA!AO263=0)","v":false},{"$f":"AND(B263, PARTITA!AO263=0)","v":false},{"$f":"isNetPoint(PARTITA!AC263)","v":"0"},{"$f":"OR(PARTITA!S263=1, PARTITA!T263=1)","v":false},{"$f":"IF(PARTITA!K263=1,OR(E263=\"1\",E263=\"3\",F263=TRUE),OR(E263=\"2\",E263=\"3\"))","v":false},{"$f":"IF(PARTITA!K263=2,OR(E263=\"1\",E263=\"3\",F263=TRUE),OR(E263=\"2\",E263=\"3\"))","v":false},{"$f":"AND(G263=TRUE,PARTITA!AN263=1)","v":false},{"$f":"AND(H263=TRUE,PARTITA!AN263=2)","v":false},{"$f":"IF(PARTITA!AN263=1,K262+1,0)","v":0},{"$f":"IF(PARTITA!AN263=2,L262+1,0)","v":0},{"$f":"PARTITA!A263","v":""},{"$f":"COUNTIFS(PARTITA!AN254:AN263, \"=1\")","v":0},{"$f":"COUNTIFS(PARTITA!AN254:AN263, \"=2\")","v":0},{"$f":"PARTITA!BA263","v":""}]
[{"$f":"AND(PARTITA!K264=2, COUNTIF(Tables!L$1:L$4, PARTITA!F264))","v":false},{"$f":"AND(PARTITA!K264=1, COUNTIF(Tables!L$1:L$4, PARTITA!F264))","v":false},{"$f":"AND(A264, PARTITA!AO264=0)","v":false},{"$f":"AND(B264, PARTITA!AO264=0)","v":false},{"$f":"isNetPoint(PARTITA!AC264)","v":"0"},{"$f":"OR(PARTITA!S264=1, PARTITA!T264=1)","v":false},{"$f":"IF(PARTITA!K264=1,OR(E264=\"1\",E264=\"3\",F264=TRUE),OR(E264=\"2\",E264=\"3\"))","v":false},{"$f":"IF(PARTITA!K264=2,OR(E264=\"1\",E264=\"3\",F264=TRUE),OR(E264=\"2\",E264=\"3\"))","v":false},{"$f":"AND(G264=TRUE,PARTITA!AN264=1)","v":false},{"$f":"AND(H264=TRUE,PARTITA!AN264=2)","v":false},{"$f":"IF(PARTITA!AN264=1,K263+1,0)","v":0},{"$f":"IF(PARTITA!AN264=2,L263+1,0)","v":0},{"$f":"PARTITA!A264","v":""},{"$f":"COUNTIFS(PARTITA!AN255:AN264, \"=1\")","v":0},{"$f":"COUNTIFS(PARTITA!AN255:AN264, \"=2\")","v":0},{"$f":"PARTITA!BA264","v":""}]
[{"$f":"AND(PARTITA!K265=2, COUNTIF(Tables!L$1:L$4, PARTITA!F265))","v":false},{"$f":"AND(PARTITA!K265=1, COUNTIF(Tables!L$1:L$4, PARTITA!F265))","v":false},{"$f":"AND(A265, PARTITA!AO265=0)","v":false},{"$f":"AND(B265, PARTITA!AO265=0)","v":false},{"$f":"isNetPoint(PARTITA!AC265)","v":"0"},{"$f":"OR(PARTITA!S265=1, PARTITA!T265=1)","v":false},{"$f":"IF(PARTITA!K265=1,OR(E265=\"1\",E265=\"3\",F265=TRUE),OR(E265=\"2\",E265=\"3\"))","v":false},{"$f":"IF(PARTITA!K265=2,OR(E265=\"1\",E265=\"3\",F265=TRUE),OR(E265=\"2\",E265=\"3\"))","v":false},{"$f":"AND(G265=TRUE,PARTITA!AN265=1)","v":false},{"$f":"AND(H265=TRUE,PARTITA!AN265=2)","v":false},{"$f":"IF(PARTITA!AN265=1,K264+1,0)","v":0},{"$f":"IF(PARTITA!AN265=2,L264+1,0)","v":0},{"$f":"PARTITA!A265","v":""},{"$f":"COUNTIFS(PARTITA!AN256:AN265, \"=1\")","v":0},{"$f":"COUNTIFS(PARTITA!AN256:AN265, \"=2\")","v":0},{"$f":"PARTITA!BA265","v":""}]
[{"$f":"AND(PARTITA!K266=2, COUNTIF(Tables!L$1:L$4, PARTITA!F266))","v":false},{"$f":"AND(PARTITA!K266=1, COUNTIF(Tables!L$1:L$4, PARTITA!F266))","v":false},{"$f":"AND(A266, PARTITA!AO266=0)","v":false},{"$f":"AND(B266, PARTITA!AO266=0)","v":false},{"$f":"isNetPoint(PARTITA!AC266)","v":"0"},{"$f":"OR(PARTITA!S266=1, PARTITA!T266=1)","v":false},{"$f":"IF(PARTITA!K266=1,OR(E266=\"1\",E266=\"3\",F266=TRUE),OR(E266=\"2\",E266=\"3\"))","v":false},{"$f":"IF(PARTITA!K266=2,OR(E266=\"1\",E266=\"3\",F266=TRUE),OR(E266=\"2\",E266=\"3\"))","v":false},{"$f":"AND(G266=TRUE,PARTITA!AN266=1)","v":false},{"$f":"AND(H266=TRUE,PARTITA!AN266=2)","v":false},{"$f":"IF(PARTITA!AN266=1,K265+1,0)","v":0},{"$f":"IF(PARTITA!AN266=2,L265+1,0)","v":0},{"$f":"PARTITA!A266","v":""},{"$f":"COUNTIFS(PARTITA!AN257:AN266, \"=1\")","v":0},{"$f":"COUNTIFS(PARTITA!AN257:AN266, \"=2\")","v":0},{"$f":"PARTITA!BA266","v":""}]
[{"$f":"AND(PARTITA!K267=2, COUNTIF(Tables!L$1:L$4, PARTITA!F267))","v":false},{"$f":"AND(PARTITA!K267=1, COUNTIF(Tables!L$1:L$4, PARTITA!F267))","v":false},{"$f":"AND(A267, PARTITA!AO267=0)","v":false},{"$f":"AND(B267, PARTITA!AO267=0)","v":false},{"$f":"isNetPoint(PARTITA!AC267)","v":"0"},{"$f":"OR(PARTITA!S267=1, PARTITA!T267=1)","v":false},{"$f":"IF(PARTITA!K267=1,OR(E267=\"1\",E267=\"3\",F267=TRUE),OR(E267=\"2\",E267=\"3\"))","v":false},{"$f":"IF(PARTITA!K267=2,OR(E267=\"1\",E267=\"3\",F267=TRUE),OR(E267=\"2\",E267=\"3\"))","v":false},{"$f":"AND(G267=TRUE,PARTITA!AN267=1)","v":false},{"$f":"AND(H267=TRUE,PARTITA!AN267=2)","v":false},{"$f":"IF(PARTITA!AN267=1,K266+1,0)","v":0},{"$f":"IF(PARTITA!AN267=2,L266+1,0)","v":0},{"$f":"PARTITA!A267","v":""},{"$f":"COUNTIFS(PARTITA!AN258:AN267, \"=1\")","v":0},{"$f":"COUNTIFS(PARTITA!AN258:AN267, \"=2\")","v":0},{"$f":"PARTITA!BA267","v":""}]
[{"$f":"AND(PARTITA!K268=2, COUNTIF(Tables!L$1:L$4, PARTITA!F268))","v":false},{"$f":"AND(PARTITA!K268=1, COUNTIF(Tables!L$1:L$4, PARTITA!F268))","v":false},{"$f":"AND(A268, PARTITA!AO268=0)","v":false},{"$f":"AND(B268, PARTITA!AO268=0)","v":false},{"$f":"isNetPoint(PARTITA!AC268)","v":"0"},{"$f":"OR(PARTITA!S268=1, PARTITA!T268=1)","v":false},{"$f":"IF(PARTITA!K268=1,OR(E268=\"1\",E268=\"3\",F268=TRUE),OR(E268=\"2\",E268=\"3\"))","v":false},{"$f":"IF(PARTITA!K268=2,OR(E268=\"1\",E268=\"3\",F268=TRUE),OR(E268=\"2\",E268=\"3\"))","v":false},{"$f":"AND(G268=TRUE,PARTITA!AN268=1)","v":false},{"$f":"AND(H268=TRUE,PARTITA!AN268=2)","v":false},{"$f":"IF(PARTITA!AN268=1,K267+1,0)","v":0},{"$f":"IF(PARTITA!AN268=2,L267+1,0)","v":0},{"$f":"PARTITA!A268","v":""},{"$f":"COUNTIFS(PARTITA!AN259:AN268, \"=1\")","v":0},{"$f":"COUNTIFS(PARTITA!AN259:AN268, \"=2\")","v":0},{"$f":"PARTITA!BA268","v":""}]
[{"$f":"AND(PARTITA!K269=2, COUNTIF(Tables!L$1:L$4, PARTITA!F269))","v":false},{"$f":"AND(PARTITA!K269=1, COUNTIF(Tables!L$1:L$4, PARTITA!F269))","v":false},{"$f":"AND(A269, PARTITA!AO269=0)","v":false},{"$f":"AND(B269, PARTITA!AO269=0)","v":false},{"$f":"isNetPoint(PARTITA!AC269)","v":"0"},{"$f":"OR(PARTITA!S269=1, PARTITA!T269=1)","v":false},{"$f":"IF(PARTITA!K269=1,OR(E269=\"1\",E269=\"3\",F269=TRUE),OR(E269=\"2\",E269=\"3\"))","v":false},{"$f":"IF(PARTITA!K269=2,OR(E269=\"1\",E269=\"3\",F269=TRUE),OR(E269=\"2\",E269=\"3\"))","v":false},{"$f":"AND(G269=TRUE,PARTITA!AN269=1)","v":false},{"$f":"AND(H269=TRUE,PARTITA!AN269=2)","v":false},{"$f":"IF(PARTITA!AN269=1,K268+1,0)","v":0},{"$f":"IF(PARTITA!AN269=2,L268+1,0)","v":0},{"$f":"PARTITA!A269","v":""},{"$f":"COUNTIFS(PARTITA!AN260:AN269, \"=1\")","v":0},{"$f":"COUNTIFS(PARTITA!AN260:AN269, \"=2\")","v":0},{"$f":"PARTITA!BA269","v":""}]
[{"$f":"AND(PARTITA!K270=2, COUNTIF(Tables!L$1:L$4, PARTITA!F270))","v":false},{"$f":"AND(PARTITA!K270=1, COUNTIF(Tables!L$1:L$4, PARTITA!F270))","v":false},{"$f":"AND(A270, PARTITA!AO270=0)","v":false},{"$f":"AND(B270, PARTITA!AO270=0)","v":false},{"$f":"isNetPoint(PARTITA!AC270)","v":"0"},{"$f":"OR(PARTITA!S270=1, PARTITA!T270=1)","v":false},{"$f":"IF(PARTITA!K270=1,OR(E270=\"1\",E270=\"3\",F270=TRUE),OR(E270=\"2\",E270=\"3\"))","v":false},{"$f":"IF(PARTITA!K270=2,OR(E270=\"1\",E270=\"3\",F270=TRUE),OR(E270=\"2\",E270=\"3\"))","v":false},{"$f":"AND(G270=TRUE,PARTITA!AN270=1)","v":false},{"$f":"AND(H270=TRUE,PARTITA!AN270=2)","v":false},{"$f":"IF(PARTITA!AN270=1,K269+1,0)","v":0},{"$f":"IF(PARTITA!AN270=2,L269+1,0)","v":0},{"$f":"PARTITA!A270","v":""},{"$f":"COUNTIFS(PARTITA!AN261:AN270, \"=1\")","v":0},{"$f":"COUNTIFS(PARTITA!AN261:AN270, \"=2\")","v":0},{"$f":"PARTITA!BA270","v":""}]
[{"$f":"AND(PARTITA!K271=2, COUNTIF(Tables!L$1:L$4, PARTITA!F271))","v":false},{"$f":"AND(PARTITA!K271=1, COUNTIF(Tables!L$1:L$4, PARTITA!F271))","v":false},{"$f":"AND(A271, PARTITA!AO271=0)","v":false},{"$f":"AND(B271, PARTITA!AO271=0)","v":false},{"$f":"isNetPoint(PARTITA!AC271)","v":"0"},{"$f":"OR(PARTITA!S271=1, PARTITA!T271=1)","v":false},{"$f":"IF(PARTITA!K271=1,OR(E271=\"1\",E271=\"3\",F271=TRUE),OR(E271=\"2\",E271=\"3\"))","v":false},{"$f":"IF(PARTITA!K271=2,OR(E271=\"1\",E271=\"3\",F271=TRUE),OR(E271=\"2\",E271=\"3\"))","v":false},{"$f":"AND(G271=TRUE,PARTITA!AN271=1)","v":false},{"$f":"AND(H271=TRUE,PARTITA!AN271=2)","v":false},{"$f":"IF(PARTITA!AN271=1,K270+1,0)","v":0},{"$f":"IF(PARTITA!AN271=2,L270+1,0)","v":0},{"$f":"PARTITA!A271","v":""},{"$f":"COUNTIFS(PARTITA!AN262:AN271, \"=1\")","v":0},{"$f":"COUNTIFS(PARTITA!AN262:AN271, \"=2\")","v":0},{"$f":"PARTITA!BA271","v":""}]
[{"$f":"AND(PARTITA!K272=2, COUNTIF(Tables!L$1:L$4, PARTITA!F272))","v":false},{"$f":"AND(PARTITA!K272=1, COUNTIF(Tables!L$1:L$4, PARTITA!F272))","v":false},{"$f":"AND(A272, PARTITA!AO272=0)","v":false},{"$f":"AND(B272, PARTITA!AO272=0)","v":false},{"$f":"isNetPoint(PARTITA!AC272)","v":"0"},{"$f":"OR(PARTITA!S272=1, PARTITA!T272=1)","v":false},{"$f":"IF(PARTITA!K272=1,OR(E272=\"1\",E272=\"3\",F272=TRUE),OR(E272=\"2\",E272=\"3\"))","v":false},{"$f":"IF(PARTITA!K272=2,OR(E272=\"1\",E272=\"3\",F272=TRUE),OR(E272=\"2\",E272=\"3\"))","v":false},{"$f":"AND(G272=TRUE,PARTITA!AN272=1)","v":false},{"$f":"AND(H272=TRUE,PARTITA!AN272=2)","v":false},{"$f":"IF(PARTITA!AN272=1,K271+1,0)","v":0},{"$f":"IF(PARTITA!AN272=2,L271+1,0)","v":0},{"$f":"PARTITA!A272","v":""},{"$f":"COUNTIFS(PARTITA!AN263:AN272, \"=1\")","v":0},{"$f":"COUNTIFS(PARTITA!AN263:AN272, \"=2\")","v":0},{"$f":"PARTITA!BA272","v":""}]
[{"$f":"AND(PARTITA!K273=2, COUNTIF(Tables!L$1:L$4, PARTITA!F273))","v":false},{"$f":"AND(PARTITA!K273=1, COUNTIF(Tables!L$1:L$4, PARTITA!F273))","v":false},{"$f":"AND(A273, PARTITA!AO273=0)","v":false},{"$f":"AND(B273, PARTITA!AO273=0)","v":false},{"$f":"isNetPoint(PARTITA!AC273)","v":"0"},{"$f":"OR(PARTITA!S273=1, PARTITA!T273=1)","v":false},{"$f":"IF(PARTITA!K273=1,OR(E273=\"1\",E273=\"3\",F273=TRUE),OR(E273=\"2\",E273=\"3\"))","v":false},{"$f":"IF(PARTITA!K273=2,OR(E273=\"1\",E273=\"3\",F273=TRUE),OR(E273=\"2\",E273=\"3\"))","v":false},{"$f":"AND(G273=TRUE,PARTITA!AN273=1)","v":false},{"$f":"AND(H273=TRUE,PARTITA!AN273=2)","v":false},{"$f":"IF(PARTITA!AN273=1,K272+1,0)","v":0},{"$f":"IF(PARTITA!AN273=2,L272+1,0)","v":0},{"$f":"PARTITA!A273","v":""},{"$f":"COUNTIFS(PARTITA!AN264:AN273, \"=1\")","v":0},{"$f":"COUNTIFS(PARTITA!AN264:AN273, \"=2\")","v":0},{"$f":"PARTITA!BA273","v":""}]
[{"$f":"AND(PARTITA!K274=2, COUNTIF(Tables!L$1:L$4, PARTITA!F274))","v":false},{"$f":"AND(PARTITA!K274=1, COUNTIF(Tables!L$1:L$4, PARTITA!F274))","v":false},{"$f":"AND(A274, PARTITA!AO274=0)","v":false},{"$f":"AND(B274, PARTITA!AO274=0)","v":false},{"$f":"isNetPoint(PARTITA!AC274)","v":"0"},{"$f":"OR(PARTITA!S274=1, PARTITA!T274=1)","v":false},{"$f":"IF(PARTITA!K274=1,OR(E274=\"1\",E274=\"3\",F274=TRUE),OR(E274=\"2\",E274=\"3\"))","v":false},{"$f":"IF(PARTITA!K274=2,OR(E274=\"1\",E274=\"3\",F274=TRUE),OR(E274=\"2\",E274=\"3\"))","v":false},{"$f":"AND(G274=TRUE,PARTITA!AN274=1)","v":false},{"$f":"AND(H274=TRUE,PARTITA!AN274=2)","v":false},{"$f":"IF(PARTITA!AN274=1,K273+1,0)","v":0},{"$f":"IF(PARTITA!AN274=2,L273+1,0)","v":0},{"$f":"PARTITA!A274","v":""},{"$f":"COUNTIFS(PARTITA!AN265:AN274, \"=1\")","v":0},{"$f":"COUNTIFS(PARTITA!AN265:AN274, \"=2\")","v":0},{"$f":"PARTITA!BA274","v":""}]
[{"$f":"AND(PARTITA!K275=2, COUNTIF(Tables!L$1:L$4, PARTITA!F275))","v":false},{"$f":"AND(PARTITA!K275=1, COUNTIF(Tables!L$1:L$4, PARTITA!F275))","v":false},{"$f":"AND(A275, PARTITA!AO275=0)","v":false},{"$f":"AND(B275, PARTITA!AO275=0)","v":false},{"$f":"isNetPoint(PARTITA!AC275)","v":"0"},{"$f":"OR(PARTITA!S275=1, PARTITA!T275=1)","v":false},{"$f":"IF(PARTITA!K275=1,OR(E275=\"1\",E275=\"3\",F275=TRUE),OR(E275=\"2\",E275=\"3\"))","v":false},{"$f":"IF(PARTITA!K275=2,OR(E275=\"1\",E275=\"3\",F275=TRUE),OR(E275=\"2\",E275=\"3\"))","v":false},{"$f":"AND(G275=TRUE,PARTITA!AN275=1)","v":false},{"$f":"AND(H275=TRUE,PARTITA!AN275=2)","v":false},{"$f":"IF(PARTITA!AN275=1,K274+1,0)","v":0},{"$f":"IF(PARTITA!AN275=2,L274+1,0)","v":0},{"$f":"PARTITA!A275","v":""},{"$f":"COUNTIFS(PARTITA!AN266:AN275, \"=1\")","v":0},{"$f":"COUNTIFS(PARTITA!AN266:AN275, \"=2\")","v":0},{"$f":"PARTITA!BA275","v":""}]
[{"$f":"AND(PARTITA!K276=2, COUNTIF(Tables!L$1:L$4, PARTITA!F276))","v":false},{"$f":"AND(PARTITA!K276=1, COUNTIF(Tables!L$1:L$4, PARTITA!F276))","v":false},{"$f":"AND(A276, PARTITA!AO276=0)","v":false},{"$f":"AND(B276, PARTITA!AO276=0)","v":false},{"$f":"isNetPoint(PARTITA!AC276)","v":"0"},{"$f":"OR(PARTITA!S276=1, PARTITA!T276=1)","v":false},{"$f":"IF(PARTITA!K276=1,OR(E276=\"1\",E276=\"3\",F276=TRUE),OR(E276=\"2\",E276=\"3\"))","v":false},{"$f":"IF(PARTITA!K276=2,OR(E276=\"1\",E276=\"3\",F276=TRUE),OR(E276=\"2\",E276=\"3\"))","v":false},{"$f":"AND(G276=TRUE,PARTITA!AN276=1)","v":false},{"$f":"AND(H276=TRUE,PARTITA!AN276=2)","v":false},{"$f":"IF(PARTITA!AN276=1,K275+1,0)","v":0},{"$f":"IF(PARTITA!AN276=2,L275+1,0)","v":0},{"$f":"PARTITA!A276","v":""},{"$f":"COUNTIFS(PARTITA!AN267:AN276, \"=1\")","v":0},{"$f":"COUNTIFS(PARTITA!AN267:AN276, \"=2\")","v":0},{"$f":"PARTITA!BA276","v":""}]
[{"$f":"AND(PARTITA!K277=2, COUNTIF(Tables!L$1:L$4, PARTITA!F277))","v":false},{"$f":"AND(PARTITA!K277=1, COUNTIF(Tables!L$1:L$4, PARTITA!F277))","v":false},{"$f":"AND(A277, PARTITA!AO277=0)","v":false},{"$f":"AND(B277, PARTITA!AO277=0)","v":false},{"$f":"isNetPoint(PARTITA!AC277)","v":"0"},{"$f":"OR(PARTITA!S277=1, PARTITA!T277=1)","v":false},{"$f":"IF(PARTITA!K277=1,OR(E277=\"1\",E277=\"3\",F277=TRUE),OR(E277=\"2\",E277=\"3\"))","v":false},{"$f":"IF(PARTITA!K277=2,OR(E277=\"1\",E277=\"3\",F277=TRUE),OR(E277=\"2\",E277=\"3\"))","v":false},{"$f":"AND(G277=TRUE,PARTITA!AN277=1)","v":false},{"$f":"AND(H277=TRUE,PARTITA!AN277=2)","v":false},{"$f":"IF(PARTITA!AN277=1,K276+1,0)","v":0},{"$f":"IF(PARTITA!AN277=2,L276+1,0)","v":0},{"$f":"PARTITA!A277","v":""},{"$f":"COUNTIFS(PARTITA!AN268:AN277, \"=1\")","v":0},{"$f":"COUNTIFS(PARTITA!AN268:AN277, \"=2\")","v":0},{"$f":"PARTITA!BA277","v":""}]
[{"$f":"AND(PARTITA!K278=2, COUNTIF(Tables!L$1:L$4, PARTITA!F278))","v":false},{"$f":"AND(PARTITA!K278=1, COUNTIF(Tables!L$1:L$4, PARTITA!F278))","v":false},{"$f":"AND(A278, PARTITA!AO278=0)","v":false},{"$f":"AND(B278, PARTITA!AO278=0)","v":false},{"$f":"isNetPoint(PARTITA!AC278)","v":"0"},{"$f":"OR(PARTITA!S278=1, PARTITA!T278=1)","v":false},{"$f":"IF(PARTITA!K278=1,OR(E278=\"1\",E278=\"3\",F278=TRUE),OR(E278=\"2\",E278=\"3\"))","v":false},{"$f":"IF(PARTITA!K278=2,OR(E278=\"1\",E278=\"3\",F278=TRUE),OR(E278=\"2\",E278=\"3\"))","v":false},{"$f":"AND(G278=TRUE,PARTITA!AN278=1)","v":false},{"$f":"AND(H278=TRUE,PARTITA!AN278=2)","v":false},{"$f":"IF(PARTITA!AN278=1,K277+1,0)","v":0},{"$f":"IF(PARTITA!AN278=2,L277+1,0)","v":0},{"$f":"PARTITA!A278","v":""},{"$f":"COUNTIFS(PARTITA!AN269:AN278, \"=1\")","v":0},{"$f":"COUNTIFS(PARTITA!AN269:AN278, \"=2\")","v":0},{"$f":"PARTITA!BA278","v":""}]
[{"$f":"AND(PARTITA!K279=2, COUNTIF(Tables!L$1:L$4, PARTITA!F279))","v":false},{"$f":"AND(PARTITA!K279=1, COUNTIF(Tables!L$1:L$4, PARTITA!F279))","v":false},{"$f":"AND(A279, PARTITA!AO279=0)","v":false},{"$f":"AND(B279, PARTITA!AO279=0)","v":false},{"$f":"isNetPoint(PARTITA!AC279)","v":"0"},{"$f":"OR(PARTITA!S279=1, PARTITA!T279=1)","v":false},{"$f":"IF(PARTITA!K279=1,OR(E279=\"1\",E279=\"3\",F279=TRUE),OR(E279=\"2\",E279=\"3\"))","v":false},{"$f":"IF(PARTITA!K279=2,OR(E279=\"1\",E279=\"3\",F279=TRUE),OR(E279=\"2\",E279=\"3\"))","v":false},{"$f":"AND(G279=TRUE,PARTITA!AN279=1)","v":false},{"$f":"AND(H279=TRUE,PARTITA!AN279=2)","v":false},{"$f":"IF(PARTITA!AN279=1,K278+1,0)","v":0},{"$f":"IF(PARTITA!AN279=2,L278+1,0)","v":0},{"$f":"PARTITA!A279","v":""},{"$f":"COUNTIFS(PARTITA!AN270:AN279, \"=1\")","v":0},{"$f":"COUNTIFS(PARTITA!AN270:AN279, \"=2\")","v":0},{"$f":"PARTITA!BA279","v":""}]
[{"$f":"AND(PARTITA!K280=2, COUNTIF(Tables!L$1:L$4, PARTITA!F280))","v":false},{"$f":"AND(PARTITA!K280=1, COUNTIF(Tables!L$1:L$4, PARTITA!F280))","v":false},{"$f":"AND(A280, PARTITA!AO280=0)","v":false},{"$f":"AND(B280, PARTITA!AO280=0)","v":false},{"$f":"isNetPoint(PARTITA!AC280)","v":"0"},{"$f":"OR(PARTITA!S280=1, PARTITA!T280=1)","v":false},{"$f":"IF(PARTITA!K280=1,OR(E280=\"1\",E280=\"3\",F280=TRUE),OR(E280=\"2\",E280=\"3\"))","v":false},{"$f":"IF(PARTITA!K280=2,OR(E280=\"1\",E280=\"3\",F280=TRUE),OR(E280=\"2\",E280=\"3\"))","v":false},{"$f":"AND(G280=TRUE,PARTITA!AN280=1)","v":false},{"$f":"AND(H280=TRUE,PARTITA!AN280=2)","v":false},{"$f":"IF(PARTITA!AN280=1,K279+1,0)","v":0},{"$f":"IF(PARTITA!AN280=2,L279+1,0)","v":0},{"$f":"PARTITA!A280","v":""},{"$f":"COUNTIFS(PARTITA!AN271:AN280, \"=1\")","v":0},{"$f":"COUNTIFS(PARTITA!AN271:AN280, \"=2\")","v":0},{"$f":"PARTITA!BA280","v":""}]
[{"$f":"AND(PARTITA!K281=2, COUNTIF(Tables!L$1:L$4, PARTITA!F281))","v":false},{"$f":"AND(PARTITA!K281=1, COUNTIF(Tables!L$1:L$4, PARTITA!F281))","v":false},{"$f":"AND(A281, PARTITA!AO281=0)","v":false},{"$f":"AND(B281, PARTITA!AO281=0)","v":false},{"$f":"isNetPoint(PARTITA!AC281)","v":"0"},{"$f":"OR(PARTITA!S281=1, PARTITA!T281=1)","v":false},{"$f":"IF(PARTITA!K281=1,OR(E281=\"1\",E281=\"3\",F281=TRUE),OR(E281=\"2\",E281=\"3\"))","v":false},{"$f":"IF(PARTITA!K281=2,OR(E281=\"1\",E281=\"3\",F281=TRUE),OR(E281=\"2\",E281=\"3\"))","v":false},{"$f":"AND(G281=TRUE,PARTITA!AN281=1)","v":false},{"$f":"AND(H281=TRUE,PARTITA!AN281=2)","v":false},{"$f":"IF(PARTITA!AN281=1,K280+1,0)","v":0},{"$f":"IF(PARTITA!AN281=2,L280+1,0)","v":0},{"$f":"PARTITA!A281","v":""},{"$f":"COUNTIFS(PARTITA!AN272:AN281, \"=1\")","v":0},{"$f":"COUNTIFS(PARTITA!AN272:AN281, \"=2\")","v":0},{"$f":"PARTITA!BA281","v":""}]
[{"$f":"AND(PARTITA!K282=2, COUNTIF(Tables!L$1:L$4, PARTITA!F282))","v":false},{"$f":"AND(PARTITA!K282=1, COUNTIF(Tables!L$1:L$4, PARTITA!F282))","v":false},{"$f":"AND(A282, PARTITA!AO282=0)","v":false},{"$f":"AND(B282, PARTITA!AO282=0)","v":false},{"$f":"isNetPoint(PARTITA!AC282)","v":"0"},{"$f":"OR(PARTITA!S282=1, PARTITA!T282=1)","v":false},{"$f":"IF(PARTITA!K282=1,OR(E282=\"1\",E282=\"3\",F282=TRUE),OR(E282=\"2\",E282=\"3\"))","v":false},{"$f":"IF(PARTITA!K282=2,OR(E282=\"1\",E282=\"3\",F282=TRUE),OR(E282=\"2\",E282=\"3\"))","v":false},{"$f":"AND(G282=TRUE,PARTITA!AN282=1)","v":false},{"$f":"AND(H282=TRUE,PARTITA!AN282=2)","v":false},{"$f":"IF(PARTITA!AN282=1,K281+1,0)","v":0},{"$f":"IF(PARTITA!AN282=2,L281+1,0)","v":0},{"$f":"PARTITA!A282","v":""},{"$f":"COUNTIFS(PARTITA!AN273:AN282, \"=1\")","v":0},{"$f":"COUNTIFS(PARTITA!AN273:AN282, \"=2\")","v":0},{"$f":"PARTITA!BA282","v":""}]
[{"$f":"AND(PARTITA!K283=2, COUNTIF(Tables!L$1:L$4, PARTITA!F283))","v":false},{"$f":"AND(PARTITA!K283=1, COUNTIF(Tables!L$1:L$4, PARTITA!F283))","v":false},{"$f":"AND(A283, PARTITA!AO283=0)","v":false},{"$f":"AND(B283, PARTITA!AO283=0)","v":false},{"$f":"isNetPoint(PARTITA!AC283)","v":"0"},{"$f":"OR(PARTITA!S283=1, PARTITA!T283=1)","v":false},{"$f":"IF(PARTITA!K283=1,OR(E283=\"1\",E283=\"3\",F283=TRUE),OR(E283=\"2\",E283=\"3\"))","v":false},{"$f":"IF(PARTITA!K283=2,OR(E283=\"1\",E283=\"3\",F283=TRUE),OR(E283=\"2\",E283=\"3\"))","v":false},{"$f":"AND(G283=TRUE,PARTITA!AN283=1)","v":false},{"$f":"AND(H283=TRUE,PARTITA!AN283=2)","v":false},{"$f":"IF(PARTITA!AN283=1,K282+1,0)","v":0},{"$f":"IF(PARTITA!AN283=2,L282+1,0)","v":0},{"$f":"PARTITA!A283","v":""},{"$f":"COUNTIFS(PARTITA!AN274:AN283, \"=1\")","v":0},{"$f":"COUNTIFS(PARTITA!AN274:AN283, \"=2\")","v":0},{"$f":"PARTITA!BA283","v":""}]
[{"$f":"AND(PARTITA!K284=2, COUNTIF(Tables!L$1:L$4, PARTITA!F284))","v":false},{"$f":"AND(PARTITA!K284=1, COUNTIF(Tables!L$1:L$4, PARTITA!F284))","v":false},{"$f":"AND(A284, PARTITA!AO284=0)","v":false},{"$f":"AND(B284, PARTITA!AO284=0)","v":false},{"$f":"isNetPoint(PARTITA!AC284)","v":"0"},{"$f":"OR(PARTITA!S284=1, PARTITA!T284=1)","v":false},{"$f":"IF(PARTITA!K284=1,OR(E284=\"1\",E284=\"3\",F284=TRUE),OR(E284=\"2\",E284=\"3\"))","v":false},{"$f":"IF(PARTITA!K284=2,OR(E284=\"1\",E284=\"3\",F284=TRUE),OR(E284=\"2\",E284=\"3\"))","v":false},{"$f":"AND(G284=TRUE,PARTITA!AN284=1)","v":false},{"$f":"AND(H284=TRUE,PARTITA!AN284=2)","v":false},{"$f":"IF(PARTITA!AN284=1,K283+1,0)","v":0},{"$f":"IF(PARTITA!AN284=2,L283+1,0)","v":0},{"$f":"PARTITA!A284","v":""},{"$f":"COUNTIFS(PARTITA!AN275:AN284, \"=1\")","v":0},{"$f":"COUNTIFS(PARTITA!AN275:AN284, \"=2\")","v":0},{"$f":"PARTITA!BA284","v":""}]
[{"$f":"AND(PARTITA!K285=2, COUNTIF(Tables!L$1:L$4, PARTITA!F285))","v":false},{"$f":"AND(PARTITA!K285=1, COUNTIF(Tables!L$1:L$4, PARTITA!F285))","v":false},{"$f":"AND(A285, PARTITA!AO285=0)","v":false},{"$f":"AND(B285, PARTITA!AO285=0)","v":false},{"$f":"isNetPoint(PARTITA!AC285)","v":"0"},{"$f":"OR(PARTITA!S285=1, PARTITA!T285=1)","v":false},{"$f":"IF(PARTITA!K285=1,OR(E285=\"1\",E285=\"3\",F285=TRUE),OR(E285=\"2\",E285=\"3\"))","v":false},{"$f":"IF(PARTITA!K285=2,OR(E285=\"1\",E285=\"3\",F285=TRUE),OR(E285=\"2\",E285=\"3\"))","v":false},{"$f":"AND(G285=TRUE,PARTITA!AN285=1)","v":false},{"$f":"AND(H285=TRUE,PARTITA!AN285=2)","v":false},{"$f":"IF(PARTITA!AN285=1,K284+1,0)","v":0},{"$f":"IF(PARTITA!AN285=2,L284+1,0)","v":0},{"$f":"PARTITA!A285","v":""},{"$f":"COUNTIFS(PARTITA!AN276:AN285, \"=1\")","v":0},{"$f":"COUNTIFS(PARTITA!AN276:AN285, \"=2\")","v":0},{"$f":"PARTITA!BA285","v":""}]
[{"$f":"AND(PARTITA!K286=2, COUNTIF(Tables!L$1:L$4, PARTITA!F286))","v":false},{"$f":"AND(PARTITA!K286=1, COUNTIF(Tables!L$1:L$4, PARTITA!F286))","v":false},{"$f":"AND(A286, PARTITA!AO286=0)","v":false},{"$f":"AND(B286, PARTITA!AO286=0)","v":false},{"$f":"isNetPoint(PARTITA!AC286)","v":"0"},{"$f":"OR(PARTITA!S286=1, PARTITA!T286=1)","v":false},{"$f":"IF(PARTITA!K286=1,OR(E286=\"1\",E286=\"3\",F286=TRUE),OR(E286=\"2\",E286=\"3\"))","v":false},{"$f":"IF(PARTITA!K286=2,OR(E286=\"1\",E286=\"3\",F286=TRUE),OR(E286=\"2\",E286=\"3\"))","v":false},{"$f":"AND(G286=TRUE,PARTITA!AN286=1)","v":false},{"$f":"AND(H286=TRUE,PARTITA!AN286=2)","v":false},{"$f":"IF(PARTITA!AN286=1,K285+1,0)","v":0},{"$f":"IF(PARTITA!AN286=2,L285+1,0)","v":0},{"$f":"PARTITA!A286","v":""},{"$f":"COUNTIFS(PARTITA!AN277:AN286, \"=1\")","v":0},{"$f":"COUNTIFS(PARTITA!AN277:AN286, \"=2\")","v":0},{"$f":"PARTITA!BA286","v":""}]
[{"$f":"AND(PARTITA!K287=2, COUNTIF(Tables!L$1:L$4, PARTITA!F287))","v":false},{"$f":"AND(PARTITA!K287=1, COUNTIF(Tables!L$1:L$4, PARTITA!F287))","v":false},{"$f":"AND(A287, PARTITA!AO287=0)","v":false},{"$f":"AND(B287, PARTITA!AO287=0)","v":false},{"$f":"isNetPoint(PARTITA!AC287)","v":"0"},{"$f":"OR(PARTITA!S287=1, PARTITA!T287=1)","v":false},{"$f":"IF(PARTITA!K287=1,OR(E287=\"1\",E287=\"3\",F287=TRUE),OR(E287=\"2\",E287=\"3\"))","v":false},{"$f":"IF(PARTITA!K287=2,OR(E287=\"1\",E287=\"3\",F287=TRUE),OR(E287=\"2\",E287=\"3\"))","v":false},{"$f":"AND(G287=TRUE,PARTITA!AN287=1)","v":false},{"$f":"AND(H287=TRUE,PARTITA!AN287=2)","v":false},{"$f":"IF(PARTITA!AN287=1,K286+1,0)","v":0},{"$f":"IF(PARTITA!AN287=2,L286+1,0)","v":0},{"$f":"PARTITA!A287","v":""},{"$f":"COUNTIFS(PARTITA!AN278:AN287, \"=1\")","v":0},{"$f":"COUNTIFS(PARTITA!AN278:AN287, \"=2\")","v":0},{"$f":"PARTITA!BA287","v":""}]
[{"$f":"AND(PARTITA!K288=2, COUNTIF(Tables!L$1:L$4, PARTITA!F288))","v":false},{"$f":"AND(PARTITA!K288=1, COUNTIF(Tables!L$1:L$4, PARTITA!F288))","v":false},{"$f":"AND(A288, PARTITA!AO288=0)","v":false},{"$f":"AND(B288, PARTITA!AO288=0)","v":false},{"$f":"isNetPoint(PARTITA!AC288)","v":"0"},{"$f":"OR(PARTITA!S288=1, PARTITA!T288=1)","v":false},{"$f":"IF(PARTITA!K288=1,OR(E288=\"1\",E288=\"3\",F288=TRUE),OR(E288=\"2\",E288=\"3\"))","v":false},{"$f":"IF(PARTITA!K288=2,OR(E288=\"1\",E288=\"3\",F288=TRUE),OR(E288=\"2\",E288=\"3\"))","v":false},{"$f":"AND(G288=TRUE,PARTITA!AN288=1)","v":false},{"$f":"AND(H288=TRUE,PARTITA!AN288=2)","v":false},{"$f":"IF(PARTITA!AN288=1,K287+1,0)","v":0},{"$f":"IF(PARTITA!AN288=2,L287+1,0)","v":0},{"$f":"PARTITA!A288","v":""},{"$f":"COUNTIFS(PARTITA!AN279:AN288, \"=1\")","v":0},{"$f":"COUNTIFS(PARTITA!AN279:AN288, \"=2\")","v":0},{"$f":"PARTITA!BA288","v":""}]
[{"$f":"AND(PARTITA!K289=2, COUNTIF(Tables!L$1:L$4, PARTITA!F289))","v":false},{"$f":"AND(PARTITA!K289=1, COUNTIF(Tables!L$1:L$4, PARTITA!F289))","v":false},{"$f":"AND(A289, PARTITA!AO289=0)","v":false},{"$f":"AND(B289, PARTITA!AO289=0)","v":false},{"$f":"isNetPoint(PARTITA!AC289)","v":"0"},{"$f":"OR(PARTITA!S289=1, PARTITA!T289=1)","v":false},{"$f":"IF(PARTITA!K289=1,OR(E289=\"1\",E289=\"3\",F289=TRUE),OR(E289=\"2\",E289=\"3\"))","v":false},{"$f":"IF(PARTITA!K289=2,OR(E289=\"1\",E289=\"3\",F289=TRUE),OR(E289=\"2\",E289=\"3\"))","v":false},{"$f":"AND(G289=TRUE,PARTITA!AN289=1)","v":false},{"$f":"AND(H289=TRUE,PARTITA!AN289=2)","v":false},{"$f":"IF(PARTITA!AN289=1,K288+1,0)","v":0},{"$f":"IF(PARTITA!AN289=2,L288+1,0)","v":0},{"$f":"PARTITA!A289","v":""},{"$f":"COUNTIFS(PARTITA!AN280:AN289, \"=1\")","v":0},{"$f":"COUNTIFS(PARTITA!AN280:AN289, \"=2\")","v":0},{"$f":"PARTITA!BA289","v":""}]
[{"$f":"AND(PARTITA!K290=2, COUNTIF(Tables!L$1:L$4, PARTITA!F290))","v":false},{"$f":"AND(PARTITA!K290=1, COUNTIF(Tables!L$1:L$4, PARTITA!F290))","v":false},{"$f":"AND(A290, PARTITA!AO290=0)","v":false},{"$f":"AND(B290, PARTITA!AO290=0)","v":false},{"$f":"isNetPoint(PARTITA!AC290)","v":"0"},{"$f":"OR(PARTITA!S290=1, PARTITA!T290=1)","v":false},{"$f":"IF(PARTITA!K290=1,OR(E290=\"1\",E290=\"3\",F290=TRUE),OR(E290=\"2\",E290=\"3\"))","v":false},{"$f":"IF(PARTITA!K290=2,OR(E290=\"1\",E290=\"3\",F290=TRUE),OR(E290=\"2\",E290=\"3\"))","v":false},{"$f":"AND(G290=TRUE,PARTITA!AN290=1)","v":false},{"$f":"AND(H290=TRUE,PARTITA!AN290=2)","v":false},{"$f":"IF(PARTITA!AN290=1,K289+1,0)","v":0},{"$f":"IF(PARTITA!AN290=2,L289+1,0)","v":0},{"$f":"PARTITA!A290","v":""},{"$f":"COUNTIFS(PARTITA!AN281:AN290, \"=1\")","v":0},{"$f":"COUNTIFS(PARTITA!AN281:AN290, \"=2\")","v":0},{"$f":"PARTITA!BA290","v":""}]
[{"$f":"AND(PARTITA!K291=2, COUNTIF(Tables!L$1:L$4, PARTITA!F291))","v":false},{"$f":"AND(PARTITA!K291=1, COUNTIF(Tables!L$1:L$4, PARTITA!F291))","v":false},{"$f":"AND(A291, PARTITA!AO291=0)","v":false},{"$f":"AND(B291, PARTITA!AO291=0)","v":false},{"$f":"isNetPoint(PARTITA!AC291)","v":"0"},{"$f":"OR(PARTITA!S291=1, PARTITA!T291=1)","v":false},{"$f":"IF(PARTITA!K291=1,OR(E291=\"1\",E291=\"3\",F291=TRUE),OR(E291=\"2\",E291=\"3\"))","v":false},{"$f":"IF(PARTITA!K291=2,OR(E291=\"1\",E291=\"3\",F291=TRUE),OR(E291=\"2\",E291=\"3\"))","v":false},{"$f":"AND(G291=TRUE,PARTITA!AN291=1)","v":false},{"$f":"AND(H291=TRUE,PARTITA!AN291=2)","v":false},{"$f":"IF(PARTITA!AN291=1,K290+1,0)","v":0},{"$f":"IF(PARTITA!AN291=2,L290+1,0)","v":0},{"$f":"PARTITA!A291","v":""},{"$f":"COUNTIFS(PARTITA!AN282:AN291, \"=1\")","v":0},{"$f":"COUNTIFS(PARTITA!AN282:AN291, \"=2\")","v":0},{"$f":"PARTITA!BA291","v":""}]
[{"$f":"AND(PARTITA!K292=2, COUNTIF(Tables!L$1:L$4, PARTITA!F292))","v":false},{"$f":"AND(PARTITA!K292=1, COUNTIF(Tables!L$1:L$4, PARTITA!F292))","v":false},{"$f":"AND(A292, PARTITA!AO292=0)","v":false},{"$f":"AND(B292, PARTITA!AO292=0)","v":false},{"$f":"isNetPoint(PARTITA!AC292)","v":"0"},{"$f":"OR(PARTITA!S292=1, PARTITA!T292=1)","v":false},{"$f":"IF(PARTITA!K292=1,OR(E292=\"1\",E292=\"3\",F292=TRUE),OR(E292=\"2\",E292=\"3\"))","v":false},{"$f":"IF(PARTITA!K292=2,OR(E292=\"1\",E292=\"3\",F292=TRUE),OR(E292=\"2\",E292=\"3\"))","v":false},{"$f":"AND(G292=TRUE,PARTITA!AN292=1)","v":false},{"$f":"AND(H292=TRUE,PARTITA!AN292=2)","v":false},{"$f":"IF(PARTITA!AN292=1,K291+1,0)","v":0},{"$f":"IF(PARTITA!AN292=2,L291+1,0)","v":0},{"$f":"PARTITA!A292","v":""},{"$f":"COUNTIFS(PARTITA!AN283:AN292, \"=1\")","v":0},{"$f":"COUNTIFS(PARTITA!AN283:AN292, \"=2\")","v":0},{"$f":"PARTITA!BA292","v":""}]
[{"$f":"AND(PARTITA!K293=2, COUNTIF(Tables!L$1:L$4, PARTITA!F293))","v":false},{"$f":"AND(PARTITA!K293=1, COUNTIF(Tables!L$1:L$4, PARTITA!F293))","v":false},{"$f":"AND(A293, PARTITA!AO293=0)","v":false},{"$f":"AND(B293, PARTITA!AO293=0)","v":false},{"$f":"isNetPoint(PARTITA!AC293)","v":"0"},{"$f":"OR(PARTITA!S293=1, PARTITA!T293=1)","v":false},{"$f":"IF(PARTITA!K293=1,OR(E293=\"1\",E293=\"3\",F293=TRUE),OR(E293=\"2\",E293=\"3\"))","v":false},{"$f":"IF(PARTITA!K293=2,OR(E293=\"1\",E293=\"3\",F293=TRUE),OR(E293=\"2\",E293=\"3\"))","v":false},{"$f":"AND(G293=TRUE,PARTITA!AN293=1)","v":false},{"$f":"AND(H293=TRUE,PARTITA!AN293=2)","v":false},{"$f":"IF(PARTITA!AN293=1,K292+1,0)","v":0},{"$f":"IF(PARTITA!AN293=2,L292+1,0)","v":0},{"$f":"PARTITA!A293","v":""},{"$f":"COUNTIFS(PARTITA!AN284:AN293, \"=1\")","v":0},{"$f":"COUNTIFS(PARTITA!AN284:AN293, \"=2\")","v":0},{"$f":"PARTITA!BA293","v":""}]
[{"$f":"AND(PARTITA!K294=2, COUNTIF(Tables!L$1:L$4, PARTITA!F294))","v":false},{"$f":"AND(PARTITA!K294=1, COUNTIF(Tables!L$1:L$4, PARTITA!F294))","v":false},{"$f":"AND(A294, PARTITA!AO294=0)","v":false},{"$f":"AND(B294, PARTITA!AO294=0)","v":false},{"$f":"isNetPoint(PARTITA!AC294)","v":"0"},{"$f":"OR(PARTITA!S294=1, PARTITA!T294=1)","v":false},{"$f":"IF(PARTITA!K294=1,OR(E294=\"1\",E294=\"3\",F294=TRUE),OR(E294=\"2\",E294=\"3\"))","v":false},{"$f":"IF(PARTITA!K294=2,OR(E294=\"1\",E294=\"3\",F294=TRUE),OR(E294=\"2\",E294=\"3\"))","v":false},{"$f":"AND(G294=TRUE,PARTITA!AN294=1)","v":false},{"$f":"AND(H294=TRUE,PARTITA!AN294=2)","v":false},{"$f":"IF(PARTITA!AN294=1,K293+1,0)","v":0},{"$f":"IF(PARTITA!AN294=2,L293+1,0)","v":0},{"$f":"PARTITA!A294","v":""},{"$f":"COUNTIFS(PARTITA!AN285:AN294, \"=1\")","v":0},{"$f":"COUNTIFS(PARTITA!AN285:AN294, \"=2\")","v":0},{"$f":"PARTITA!BA294","v":""}]
[{"$f":"AND(PARTITA!K295=2, COUNTIF(Tables!L$1:L$4, PARTITA!F295))","v":false},{"$f":"AND(PARTITA!K295=1, COUNTIF(Tables!L$1:L$4, PARTITA!F295))","v":false},{"$f":"AND(A295, PARTITA!AO295=0)","v":false},{"$f":"AND(B295, PARTITA!AO295=0)","v":false},{"$f":"isNetPoint(PARTITA!AC295)","v":"0"},{"$f":"OR(PARTITA!S295=1, PARTITA!T295=1)","v":false},{"$f":"IF(PARTITA!K295=1,OR(E295=\"1\",E295=\"3\",F295=TRUE),OR(E295=\"2\",E295=\"3\"))","v":false},{"$f":"IF(PARTITA!K295=2,OR(E295=\"1\",E295=\"3\",F295=TRUE),OR(E295=\"2\",E295=\"3\"))","v":false},{"$f":"AND(G295=TRUE,PARTITA!AN295=1)","v":false},{"$f":"AND(H295=TRUE,PARTITA!AN295=2)","v":false},{"$f":"IF(PARTITA!AN295=1,K294+1,0)","v":0},{"$f":"IF(PARTITA!AN295=2,L294+1,0)","v":0},{"$f":"PARTITA!A295","v":""},{"$f":"COUNTIFS(PARTITA!AN286:AN295, \"=1\")","v":0},{"$f":"COUNTIFS(PARTITA!AN286:AN295, \"=2\")","v":0},{"$f":"PARTITA!BA295","v":""}]
[{"$f":"AND(PARTITA!K296=2, COUNTIF(Tables!L$1:L$4, PARTITA!F296))","v":false},{"$f":"AND(PARTITA!K296=1, COUNTIF(Tables!L$1:L$4, PARTITA!F296))","v":false},{"$f":"AND(A296, PARTITA!AO296=0)","v":false},{"$f":"AND(B296, PARTITA!AO296=0)","v":false},{"$f":"isNetPoint(PARTITA!AC296)","v":"0"},{"$f":"OR(PARTITA!S296=1, PARTITA!T296=1)","v":false},{"$f":"IF(PARTITA!K296=1,OR(E296=\"1\",E296=\"3\",F296=TRUE),OR(E296=\"2\",E296=\"3\"))","v":false},{"$f":"IF(PARTITA!K296=2,OR(E296=\"1\",E296=\"3\",F296=TRUE),OR(E296=\"2\",E296=\"3\"))","v":false},{"$f":"AND(G296=TRUE,PARTITA!AN296=1)","v":false},{"$f":"AND(H296=TRUE,PARTITA!AN296=2)","v":false},{"$f":"IF(PARTITA!AN296=1,K295+1,0)","v":0},{"$f":"IF(PARTITA!AN296=2,L295+1,0)","v":0},{"$f":"PARTITA!A296","v":""},{"$f":"COUNTIFS(PARTITA!AN287:AN296, \"=1\")","v":0},{"$f":"COUNTIFS(PARTITA!AN287:AN296, \"=2\")","v":0},{"$f":"PARTITA!BA296","v":""}]
[{"$f":"AND(PARTITA!K297=2, COUNTIF(Tables!L$1:L$4, PARTITA!F297))","v":false},{"$f":"AND(PARTITA!K297=1, COUNTIF(Tables!L$1:L$4, PARTITA!F297))","v":false},{"$f":"AND(A297, PARTITA!AO297=0)","v":false},{"$f":"AND(B297, PARTITA!AO297=0)","v":false},{"$f":"isNetPoint(PARTITA!AC297)","v":"0"},{"$f":"OR(PARTITA!S297=1, PARTITA!T297=1)","v":false},{"$f":"IF(PARTITA!K297=1,OR(E297=\"1\",E297=\"3\",F297=TRUE),OR(E297=\"2\",E297=\"3\"))","v":false},{"$f":"IF(PARTITA!K297=2,OR(E297=\"1\",E297=\"3\",F297=TRUE),OR(E297=\"2\",E297=\"3\"))","v":false},{"$f":"AND(G297=TRUE,PARTITA!AN297=1)","v":false},{"$f":"AND(H297=TRUE,PARTITA!AN297=2)","v":false},{"$f":"IF(PARTITA!AN297=1,K296+1,0)","v":0},{"$f":"IF(PARTITA!AN297=2,L296+1,0)","v":0},{"$f":"PARTITA!A297","v":""},{"$f":"COUNTIFS(PARTITA!AN288:AN297, \"=1\")","v":0},{"$f":"COUNTIFS(PARTITA!AN288:AN297, \"=2\")","v":0},{"$f":"PARTITA!BA297","v":""}]
[{"$f":"AND(PARTITA!K298=2, COUNTIF(Tables!L$1:L$4, PARTITA!F298))","v":false},{"$f":"AND(PARTITA!K298=1, COUNTIF(Tables!L$1:L$4, PARTITA!F298))","v":false},{"$f":"AND(A298, PARTITA!AO298=0)","v":false},{"$f":"AND(B298, PARTITA!AO298=0)","v":false},{"$f":"isNetPoint(PARTITA!AC298)","v":"0"},{"$f":"OR(PARTITA!S298=1, PARTITA!T298=1)","v":false},{"$f":"IF(PARTITA!K298=1,OR(E298=\"1\",E298=\"3\",F298=TRUE),OR(E298=\"2\",E298=\"3\"))","v":false},{"$f":"IF(PARTITA!K298=2,OR(E298=\"1\",E298=\"3\",F298=TRUE),OR(E298=\"2\",E298=\"3\"))","v":false},{"$f":"AND(G298=TRUE,PARTITA!AN298=1)","v":false},{"$f":"AND(H298=TRUE,PARTITA!AN298=2)","v":false},{"$f":"IF(PARTITA!AN298=1,K297+1,0)","v":0},{"$f":"IF(PARTITA!AN298=2,L297+1,0)","v":0},{"$f":"PARTITA!A298","v":""},{"$f":"COUNTIFS(PARTITA!AN289:AN298, \"=1\")","v":0},{"$f":"COUNTIFS(PARTITA!AN289:AN298, \"=2\")","v":0},{"$f":"PARTITA!BA298","v":""}]
[{"$f":"AND(PARTITA!K299=2, COUNTIF(Tables!L$1:L$4, PARTITA!F299))","v":false},{"$f":"AND(PARTITA!K299=1, COUNTIF(Tables!L$1:L$4, PARTITA!F299))","v":false},{"$f":"AND(A299, PARTITA!AO299=0)","v":false},{"$f":"AND(B299, PARTITA!AO299=0)","v":false},{"$f":"isNetPoint(PARTITA!AC299)","v":"0"},{"$f":"OR(PARTITA!S299=1, PARTITA!T299=1)","v":false},{"$f":"IF(PARTITA!K299=1,OR(E299=\"1\",E299=\"3\",F299=TRUE),OR(E299=\"2\",E299=\"3\"))","v":false},{"$f":"IF(PARTITA!K299=2,OR(E299=\"1\",E299=\"3\",F299=TRUE),OR(E299=\"2\",E299=\"3\"))","v":false},{"$f":"AND(G299=TRUE,PARTITA!AN299=1)","v":false},{"$f":"AND(H299=TRUE,PARTITA!AN299=2)","v":false},{"$f":"IF(PARTITA!AN299=1,K298+1,0)","v":0},{"$f":"IF(PARTITA!AN299=2,L298+1,0)","v":0},{"$f":"PARTITA!A299","v":""},{"$f":"COUNTIFS(PARTITA!AN290:AN299, \"=1\")","v":0},{"$f":"COUNTIFS(PARTITA!AN290:AN299, \"=2\")","v":0},{"$f":"PARTITA!BA299","v":""}]
[{"$f":"AND(PARTITA!K300=2, COUNTIF(Tables!L$1:L$4, PARTITA!F300))","v":false},{"$f":"AND(PARTITA!K300=1, COUNTIF(Tables!L$1:L$4, PARTITA!F300))","v":false},{"$f":"AND(A300, PARTITA!AO300=0)","v":false},{"$f":"AND(B300, PARTITA!AO300=0)","v":false},{"$f":"isNetPoint(PARTITA!AC300)","v":"0"},{"$f":"OR(PARTITA!S300=1, PARTITA!T300=1)","v":false},{"$f":"IF(PARTITA!K300=1,OR(E300=\"1\",E300=\"3\",F300=TRUE),OR(E300=\"2\",E300=\"3\"))","v":false},{"$f":"IF(PARTITA!K300=2,OR(E300=\"1\",E300=\"3\",F300=TRUE),OR(E300=\"2\",E300=\"3\"))","v":false},{"$f":"AND(G300=TRUE,PARTITA!AN300=1)","v":false},{"$f":"AND(H300=TRUE,PARTITA!AN300=2)","v":false},{"$f":"IF(PARTITA!AN300=1,K299+1,0)","v":0},{"$f":"IF(PARTITA!AN300=2,L299+1,0)","v":0},{"$f":"PARTITA!A300","v":""},{"$f":"COUNTIFS(PARTITA!AN291:AN300, \"=1\")","v":0},{"$f":"COUNTIFS(PARTITA!AN291:AN300, \"=2\")","v":0},{"$f":"PARTITA!BA300","v":""}]
[{"$f":"AND(PARTITA!K301=2, COUNTIF(Tables!L$1:L$4, PARTITA!F301))","v":false},{"$f":"AND(PARTITA!K301=1, COUNTIF(Tables!L$1:L$4, PARTITA!F301))","v":false},{"$f":"AND(A301, PARTITA!AO301=0)","v":false},{"$f":"AND(B301, PARTITA!AO301=0)","v":false},{"$f":"isNetPoint(PARTITA!AC301)","v":"0"},{"$f":"OR(PARTITA!S301=1, PARTITA!T301=1)","v":false},{"$f":"IF(PARTITA!K301=1,OR(E301=\"1\",E301=\"3\",F301=TRUE),OR(E301=\"2\",E301=\"3\"))","v":false},{"$f":"IF(PARTITA!K301=2,OR(E301=\"1\",E301=\"3\",F301=TRUE),OR(E301=\"2\",E301=\"3\"))","v":false},{"$f":"AND(G301=TRUE,PARTITA!AN301=1)","v":false},{"$f":"AND(H301=TRUE,PARTITA!AN301=2)","v":false},{"$f":"IF(PARTITA!AN301=1,K300+1,0)","v":0},{"$f":"IF(PARTITA!AN301=2,L300+1,0)","v":0},{"$f":"PARTITA!A301","v":""},{"$f":"COUNTIFS(PARTITA!AN292:AN301, \"=1\")","v":0},{"$f":"COUNTIFS(PARTITA!AN292:AN301, \"=2\")","v":0},{"$f":"PARTITA!BA301","v":""}]
[{"$f":"AND(PARTITA!K302=2, COUNTIF(Tables!L$1:L$4, PARTITA!F302))","v":false},{"$f":"AND(PARTITA!K302=1, COUNTIF(Tables!L$1:L$4, PARTITA!F302))","v":false},{"$f":"AND(A302, PARTITA!AO302=0)","v":false},{"$f":"AND(B302, PARTITA!AO302=0)","v":false},{"$f":"isNetPoint(PARTITA!AC302)","v":"0"},{"$f":"OR(PARTITA!S302=1, PARTITA!T302=1)","v":false},{"$f":"IF(PARTITA!K302=1,OR(E302=\"1\",E302=\"3\",F302=TRUE),OR(E302=\"2\",E302=\"3\"))","v":false},{"$f":"IF(PARTITA!K302=2,OR(E302=\"1\",E302=\"3\",F302=TRUE),OR(E302=\"2\",E302=\"3\"))","v":false},{"$f":"AND(G302=TRUE,PARTITA!AN302=1)","v":false},{"$f":"AND(H302=TRUE,PARTITA!AN302=2)","v":false},{"$f":"IF(PARTITA!AN302=1,K301+1,0)","v":0},{"$f":"IF(PARTITA!AN302=2,L301+1,0)","v":0},{"$f":"PARTITA!A302","v":""},{"$f":"COUNTIFS(PARTITA!AN293:AN302, \"=1\")","v":0},{"$f":"COUNTIFS(PARTITA!AN293:AN302, \"=2\")","v":0},{"$f":"PARTITA!BA302","v":""}]
[{"$f":"AND(PARTITA!K303=2, COUNTIF(Tables!L$1:L$4, PARTITA!F303))","v":false},{"$f":"AND(PARTITA!K303=1, COUNTIF(Tables!L$1:L$4, PARTITA!F303))","v":false},{"$f":"AND(A303, PARTITA!AO303=0)","v":false},{"$f":"AND(B303, PARTITA!AO303=0)","v":false},{"$f":"isNetPoint(PARTITA!AC303)","v":"0"},{"$f":"OR(PARTITA!S303=1, PARTITA!T303=1)","v":false},{"$f":"IF(PARTITA!K303=1,OR(E303=\"1\",E303=\"3\",F303=TRUE),OR(E303=\"2\",E303=\"3\"))","v":false},{"$f":"IF(PARTITA!K303=2,OR(E303=\"1\",E303=\"3\",F303=TRUE),OR(E303=\"2\",E303=\"3\"))","v":false},{"$f":"AND(G303=TRUE,PARTITA!AN303=1)","v":false},{"$f":"AND(H303=TRUE,PARTITA!AN303=2)","v":false},{"$f":"IF(PARTITA!AN303=1,K302+1,0)","v":0},{"$f":"IF(PARTITA!AN303=2,L302+1,0)","v":0},{"$f":"PARTITA!A303","v":""},{"$f":"COUNTIFS(PARTITA!AN294:AN303, \"=1\")","v":0},{"$f":"COUNTIFS(PARTITA!AN294:AN303, \"=2\")","v":0},{"$f":"PARTITA!BA303","v":""}]
[{"$f":"AND(PARTITA!K304=2, COUNTIF(Tables!L$1:L$4, PARTITA!F304))","v":false},{"$f":"AND(PARTITA!K304=1, COUNTIF(Tables!L$1:L$4, PARTITA!F304))","v":false},{"$f":"AND(A304, PARTITA!AO304=0)","v":false},{"$f":"AND(B304, PARTITA!AO304=0)","v":false},{"$f":"isNetPoint(PARTITA!AC304)","v":"0"},{"$f":"OR(PARTITA!S304=1, PARTITA!T304=1)","v":false},{"$f":"IF(PARTITA!K304=1,OR(E304=\"1\",E304=\"3\",F304=TRUE),OR(E304=\"2\",E304=\"3\"))","v":false},{"$f":"IF(PARTITA!K304=2,OR(E304=\"1\",E304=\"3\",F304=TRUE),OR(E304=\"2\",E304=\"3\"))","v":false},{"$f":"AND(G304=TRUE,PARTITA!AN304=1)","v":false},{"$f":"AND(H304=TRUE,PARTITA!AN304=2)","v":false},{"$f":"IF(PARTITA!AN304=1,K303+1,0)","v":0},{"$f":"IF(PARTITA!AN304=2,L303+1,0)","v":0},{"$f":"PARTITA!A304","v":""},{"$f":"COUNTIFS(PARTITA!AN295:AN304, \"=1\")","v":0},{"$f":"COUNTIFS(PARTITA!AN295:AN304, \"=2\")","v":0},{"$f":"PARTITA!BA304","v":""}]
[{"$f":"AND(PARTITA!K305=2, COUNTIF(Tables!L$1:L$4, PARTITA!F305))","v":false},{"$f":"AND(PARTITA!K305=1, COUNTIF(Tables!L$1:L$4, PARTITA!F305))","v":false},{"$f":"AND(A305, PARTITA!AO305=0)","v":false},{"$f":"AND(B305, PARTITA!AO305=0)","v":false},{"$f":"isNetPoint(PARTITA!AC305)","v":"0"},{"$f":"OR(PARTITA!S305=1, PARTITA!T305=1)","v":false},{"$f":"IF(PARTITA!K305=1,OR(E305=\"1\",E305=\"3\",F305=TRUE),OR(E305=\"2\",E305=\"3\"))","v":false},{"$f":"IF(PARTITA!K305=2,OR(E305=\"1\",E305=\"3\",F305=TRUE),OR(E305=\"2\",E305=\"3\"))","v":false},{"$f":"AND(G305=TRUE,PARTITA!AN305=1)","v":false},{"$f":"AND(H305=TRUE,PARTITA!AN305=2)","v":false},{"$f":"IF(PARTITA!AN305=1,K304+1,0)","v":0},{"$f":"IF(PARTITA!AN305=2,L304+1,0)","v":0},{"$f":"PARTITA!A305","v":""},{"$f":"COUNTIFS(PARTITA!AN296:AN305, \"=1\")","v":0},{"$f":"COUNTIFS(PARTITA!AN296:AN305, \"=2\")","v":0},{"$f":"PARTITA!BA305","v":""}]
[{"$f":"AND(PARTITA!K306=2, COUNTIF(Tables!L$1:L$4, PARTITA!F306))","v":false},{"$f":"AND(PARTITA!K306=1, COUNTIF(Tables!L$1:L$4, PARTITA!F306))","v":false},{"$f":"AND(A306, PARTITA!AO306=0)","v":false},{"$f":"AND(B306, PARTITA!AO306=0)","v":false},{"$f":"isNetPoint(PARTITA!AC306)","v":"0"},{"$f":"OR(PARTITA!S306=1, PARTITA!T306=1)","v":false},{"$f":"IF(PARTITA!K306=1,OR(E306=\"1\",E306=\"3\",F306=TRUE),OR(E306=\"2\",E306=\"3\"))","v":false},{"$f":"IF(PARTITA!K306=2,OR(E306=\"1\",E306=\"3\",F306=TRUE),OR(E306=\"2\",E306=\"3\"))","v":false},{"$f":"AND(G306=TRUE,PARTITA!AN306=1)","v":false},{"$f":"AND(H306=TRUE,PARTITA!AN306=2)","v":false},{"$f":"IF(PARTITA!AN306=1,K305+1,0)","v":0},{"$f":"IF(PARTITA!AN306=2,L305+1,0)","v":0},{"$f":"PARTITA!A306","v":""},{"$f":"COUNTIFS(PARTITA!AN297:AN306, \"=1\")","v":0},{"$f":"COUNTIFS(PARTITA!AN297:AN306, \"=2\")","v":0},{"$f":"PARTITA!BA306","v":""}]
[{"$f":"AND(PARTITA!K307=2, COUNTIF(Tables!L$1:L$4, PARTITA!F307))","v":false},{"$f":"AND(PARTITA!K307=1, COUNTIF(Tables!L$1:L$4, PARTITA!F307))","v":false},{"$f":"AND(A307, PARTITA!AO307=0)","v":false},{"$f":"AND(B307, PARTITA!AO307=0)","v":false},{"$f":"isNetPoint(PARTITA!AC307)","v":"0"},{"$f":"OR(PARTITA!S307=1, PARTITA!T307=1)","v":false},{"$f":"IF(PARTITA!K307=1,OR(E307=\"1\",E307=\"3\",F307=TRUE),OR(E307=\"2\",E307=\"3\"))","v":false},{"$f":"IF(PARTITA!K307=2,OR(E307=\"1\",E307=\"3\",F307=TRUE),OR(E307=\"2\",E307=\"3\"))","v":false},{"$f":"AND(G307=TRUE,PARTITA!AN307=1)","v":false},{"$f":"AND(H307=TRUE,PARTITA!AN307=2)","v":false},{"$f":"IF(PARTITA!AN307=1,K306+1,0)","v":0},{"$f":"IF(PARTITA!AN307=2,L306+1,0)","v":0},{"$f":"PARTITA!A307","v":""},{"$f":"COUNTIFS(PARTITA!AN298:AN307, \"=1\")","v":0},{"$f":"COUNTIFS(PARTITA!AN298:AN307, \"=2\")","v":0},{"$f":"PARTITA!BA307","v":""}]
[{"$f":"AND(PARTITA!K308=2, COUNTIF(Tables!L$1:L$4, PARTITA!F308))","v":false},{"$f":"AND(PARTITA!K308=1, COUNTIF(Tables!L$1:L$4, PARTITA!F308))","v":false},{"$f":"AND(A308, PARTITA!AO308=0)","v":false},{"$f":"AND(B308, PARTITA!AO308=0)","v":false},{"$f":"isNetPoint(PARTITA!AC308)","v":"0"},{"$f":"OR(PARTITA!S308=1, PARTITA!T308=1)","v":false},{"$f":"IF(PARTITA!K308=1,OR(E308=\"1\",E308=\"3\",F308=TRUE),OR(E308=\"2\",E308=\"3\"))","v":false},{"$f":"IF(PARTITA!K308=2,OR(E308=\"1\",E308=\"3\",F308=TRUE),OR(E308=\"2\",E308=\"3\"))","v":false},{"$f":"AND(G308=TRUE,PARTITA!AN308=1)","v":false},{"$f":"AND(H308=TRUE,PARTITA!AN308=2)","v":false},{"$f":"IF(PARTITA!AN308=1,K307+1,0)","v":0},{"$f":"IF(PARTITA!AN308=2,L307+1,0)","v":0},{"$f":"PARTITA!A308","v":""},{"$f":"COUNTIFS(PARTITA!AN299:AN308, \"=1\")","v":0},{"$f":"COUNTIFS(PARTITA!AN299:AN308, \"=2\")","v":0},{"$f":"PARTITA!BA308","v":""}]
[{"$f":"AND(PARTITA!K309=2, COUNTIF(Tables!L$1:L$4, PARTITA!F309))","v":false},{"$f":"AND(PARTITA!K309=1, COUNTIF(Tables!L$1:L$4, PARTITA!F309))","v":false},{"$f":"AND(A309, PARTITA!AO309=0)","v":false},{"$f":"AND(B309, PARTITA!AO309=0)","v":false},{"$f":"isNetPoint(PARTITA!AC309)","v":"0"},{"$f":"OR(PARTITA!S309=1, PARTITA!T309=1)","v":false},{"$f":"IF(PARTITA!K309=1,OR(E309=\"1\",E309=\"3\",F309=TRUE),OR(E309=\"2\",E309=\"3\"))","v":false},{"$f":"IF(PARTITA!K309=2,OR(E309=\"1\",E309=\"3\",F309=TRUE),OR(E309=\"2\",E309=\"3\"))","v":false},{"$f":"AND(G309=TRUE,PARTITA!AN309=1)","v":false},{"$f":"AND(H309=TRUE,PARTITA!AN309=2)","v":false},{"$f":"IF(PARTITA!AN309=1,K308+1,0)","v":0},{"$f":"IF(PARTITA!AN309=2,L308+1,0)","v":0},{"$f":"PARTITA!A309","v":""},{"$f":"COUNTIFS(PARTITA!AN300:AN309, \"=1\")","v":0},{"$f":"COUNTIFS(PARTITA!AN300:AN309, \"=2\")","v":0},{"$f":"PARTITA!BA309","v":""}]
[{"$f":"AND(PARTITA!K310=2, COUNTIF(Tables!L$1:L$4, PARTITA!F310))","v":false},{"$f":"AND(PARTITA!K310=1, COUNTIF(Tables!L$1:L$4, PARTITA!F310))","v":false},{"$f":"AND(A310, PARTITA!AO310=0)","v":false},{"$f":"AND(B310, PARTITA!AO310=0)","v":false},{"$f":"isNetPoint(PARTITA!AC310)","v":"0"},{"$f":"OR(PARTITA!S310=1, PARTITA!T310=1)","v":false},{"$f":"IF(PARTITA!K310=1,OR(E310=\"1\",E310=\"3\",F310=TRUE),OR(E310=\"2\",E310=\"3\"))","v":false},{"$f":"IF(PARTITA!K310=2,OR(E310=\"1\",E310=\"3\",F310=TRUE),OR(E310=\"2\",E310=\"3\"))","v":false},{"$f":"AND(G310=TRUE,PARTITA!AN310=1)","v":false},{"$f":"AND(H310=TRUE,PARTITA!AN310=2)","v":false},{"$f":"IF(PARTITA!AN310=1,K309+1,0)","v":0},{"$f":"IF(PARTITA!AN310=2,L309+1,0)","v":0},{"$f":"PARTITA!A310","v":""},{"$f":"COUNTIFS(PARTITA!AN301:AN310, \"=1\")","v":0},{"$f":"COUNTIFS(PARTITA!AN301:AN310, \"=2\")","v":0},{"$f":"PARTITA!BA310","v":""}]
[{"$f":"AND(PARTITA!K311=2, COUNTIF(Tables!L$1:L$4, PARTITA!F311))","v":false},{"$f":"AND(PARTITA!K311=1, COUNTIF(Tables!L$1:L$4, PARTITA!F311))","v":false},{"$f":"AND(A311, PARTITA!AO311=0)","v":false},{"$f":"AND(B311, PARTITA!AO311=0)","v":false},{"$f":"isNetPoint(PARTITA!AC311)","v":"0"},{"$f":"OR(PARTITA!S311=1, PARTITA!T311=1)","v":false},{"$f":"IF(PARTITA!K311=1,OR(E311=\"1\",E311=\"3\",F311=TRUE),OR(E311=\"2\",E311=\"3\"))","v":false},{"$f":"IF(PARTITA!K311=2,OR(E311=\"1\",E311=\"3\",F311=TRUE),OR(E311=\"2\",E311=\"3\"))","v":false},{"$f":"AND(G311=TRUE,PARTITA!AN311=1)","v":false},{"$f":"AND(H311=TRUE,PARTITA!AN311=2)","v":false},{"$f":"IF(PARTITA!AN311=1,K310+1,0)","v":0},{"$f":"IF(PARTITA!AN311=2,L310+1,0)","v":0},{"$f":"PARTITA!A311","v":""},{"$f":"COUNTIFS(PARTITA!AN302:AN311, \"=1\")","v":0},{"$f":"COUNTIFS(PARTITA!AN302:AN311, \"=2\")","v":0},{"$f":"PARTITA!BA311","v":""}]
[{"$f":"AND(PARTITA!K312=2, COUNTIF(Tables!L$1:L$4, PARTITA!F312))","v":false},{"$f":"AND(PARTITA!K312=1, COUNTIF(Tables!L$1:L$4, PARTITA!F312))","v":false},{"$f":"AND(A312, PARTITA!AO312=0)","v":false},{"$f":"AND(B312, PARTITA!AO312=0)","v":false},{"$f":"isNetPoint(PARTITA!AC312)","v":"0"},{"$f":"OR(PARTITA!S312=1, PARTITA!T312=1)","v":false},{"$f":"IF(PARTITA!K312=1,OR(E312=\"1\",E312=\"3\",F312=TRUE),OR(E312=\"2\",E312=\"3\"))","v":false},{"$f":"IF(PARTITA!K312=2,OR(E312=\"1\",E312=\"3\",F312=TRUE),OR(E312=\"2\",E312=\"3\"))","v":false},{"$f":"AND(G312=TRUE,PARTITA!AN312=1)","v":false},{"$f":"AND(H312=TRUE,PARTITA!AN312=2)","v":false},{"$f":"IF(PARTITA!AN312=1,K311+1,0)","v":0},{"$f":"IF(PARTITA!AN312=2,L311+1,0)","v":0},{"$f":"PARTITA!A312","v":""},{"$f":"COUNTIFS(PARTITA!AN303:AN312, \"=1\")","v":0},{"$f":"COUNTIFS(PARTITA!AN303:AN312, \"=2\")","v":0},{"$f":"PARTITA!BA312","v":""}]
[{"$f":"AND(PARTITA!K313=2, COUNTIF(Tables!L$1:L$4, PARTITA!F313))","v":false},{"$f":"AND(PARTITA!K313=1, COUNTIF(Tables!L$1:L$4, PARTITA!F313))","v":false},{"$f":"AND(A313, PARTITA!AO313=0)","v":false},{"$f":"AND(B313, PARTITA!AO313=0)","v":false},{"$f":"isNetPoint(PARTITA!AC313)","v":"0"},{"$f":"OR(PARTITA!S313=1, PARTITA!T313=1)","v":false},{"$f":"IF(PARTITA!K313=1,OR(E313=\"1\",E313=\"3\",F313=TRUE),OR(E313=\"2\",E313=\"3\"))","v":false},{"$f":"IF(PARTITA!K313=2,OR(E313=\"1\",E313=\"3\",F313=TRUE),OR(E313=\"2\",E313=\"3\"))","v":false},{"$f":"AND(G313=TRUE,PARTITA!AN313=1)","v":false},{"$f":"AND(H313=TRUE,PARTITA!AN313=2)","v":false},{"$f":"IF(PARTITA!AN313=1,K312+1,0)","v":0},{"$f":"IF(PARTITA!AN313=2,L312+1,0)","v":0},{"$f":"PARTITA!A313","v":""},{"$f":"COUNTIFS(PARTITA!AN304:AN313, \"=1\")","v":0},{"$f":"COUNTIFS(PARTITA!AN304:AN313, \"=2\")","v":0},{"$f":"PARTITA!BA313","v":""}]
[{"$f":"AND(PARTITA!K314=2, COUNTIF(Tables!L$1:L$4, PARTITA!F314))","v":false},{"$f":"AND(PARTITA!K314=1, COUNTIF(Tables!L$1:L$4, PARTITA!F314))","v":false},{"$f":"AND(A314, PARTITA!AO314=0)","v":false},{"$f":"AND(B314, PARTITA!AO314=0)","v":false},{"$f":"isNetPoint(PARTITA!AC314)","v":"0"},{"$f":"OR(PARTITA!S314=1, PARTITA!T314=1)","v":false},{"$f":"IF(PARTITA!K314=1,OR(E314=\"1\",E314=\"3\",F314=TRUE),OR(E314=\"2\",E314=\"3\"))","v":false},{"$f":"IF(PARTITA!K314=2,OR(E314=\"1\",E314=\"3\",F314=TRUE),OR(E314=\"2\",E314=\"3\"))","v":false},{"$f":"AND(G314=TRUE,PARTITA!AN314=1)","v":false},{"$f":"AND(H314=TRUE,PARTITA!AN314=2)","v":false},{"$f":"IF(PARTITA!AN314=1,K313+1,0)","v":0},{"$f":"IF(PARTITA!AN314=2,L313+1,0)","v":0},{"$f":"PARTITA!A314","v":""},{"$f":"COUNTIFS(PARTITA!AN305:AN314, \"=1\")","v":0},{"$f":"COUNTIFS(PARTITA!AN305:AN314, \"=2\")","v":0},{"$f":"PARTITA!BA314","v":""}]
[{"$f":"AND(PARTITA!K315=2, COUNTIF(Tables!L$1:L$4, PARTITA!F315))","v":false},{"$f":"AND(PARTITA!K315=1, COUNTIF(Tables!L$1:L$4, PARTITA!F315))","v":false},{"$f":"AND(A315, PARTITA!AO315=0)","v":false},{"$f":"AND(B315, PARTITA!AO315=0)","v":false},{"$f":"isNetPoint(PARTITA!AC315)","v":"0"},{"$f":"OR(PARTITA!S315=1, PARTITA!T315=1)","v":false},{"$f":"IF(PARTITA!K315=1,OR(E315=\"1\",E315=\"3\",F315=TRUE),OR(E315=\"2\",E315=\"3\"))","v":false},{"$f":"IF(PARTITA!K315=2,OR(E315=\"1\",E315=\"3\",F315=TRUE),OR(E315=\"2\",E315=\"3\"))","v":false},{"$f":"AND(G315=TRUE,PARTITA!AN315=1)","v":false},{"$f":"AND(H315=TRUE,PARTITA!AN315=2)","v":false},{"$f":"IF(PARTITA!AN315=1,K314+1,0)","v":0},{"$f":"IF(PARTITA!AN315=2,L314+1,0)","v":0},{"$f":"PARTITA!A315","v":""},{"$f":"COUNTIFS(PARTITA!AN306:AN315, \"=1\")","v":0},{"$f":"COUNTIFS(PARTITA!AN306:AN315, \"=2\")","v":0},{"$f":"PARTITA!BA315","v":""}]
[{"$f":"AND(PARTITA!K316=2, COUNTIF(Tables!L$1:L$4, PARTITA!F316))","v":false},{"$f":"AND(PARTITA!K316=1, COUNTIF(Tables!L$1:L$4, PARTITA!F316))","v":false},{"$f":"AND(A316, PARTITA!AO316=0)","v":false},{"$f":"AND(B316, PARTITA!AO316=0)","v":false},{"$f":"isNetPoint(PARTITA!AC316)","v":"0"},{"$f":"OR(PARTITA!S316=1, PARTITA!T316=1)","v":false},{"$f":"IF(PARTITA!K316=1,OR(E316=\"1\",E316=\"3\",F316=TRUE),OR(E316=\"2\",E316=\"3\"))","v":false},{"$f":"IF(PARTITA!K316=2,OR(E316=\"1\",E316=\"3\",F316=TRUE),OR(E316=\"2\",E316=\"3\"))","v":false},{"$f":"AND(G316=TRUE,PARTITA!AN316=1)","v":false},{"$f":"AND(H316=TRUE,PARTITA!AN316=2)","v":false},{"$f":"IF(PARTITA!AN316=1,K315+1,0)","v":0},{"$f":"IF(PARTITA!AN316=2,L315+1,0)","v":0},{"$f":"PARTITA!A316","v":""},{"$f":"COUNTIFS(PARTITA!AN307:AN316, \"=1\")","v":0},{"$f":"COUNTIFS(PARTITA!AN307:AN316, \"=2\")","v":0},{"$f":"PARTITA!BA316","v":""}]
[{"$f":"AND(PARTITA!K317=2, COUNTIF(Tables!L$1:L$4, PARTITA!F317))","v":false},{"$f":"AND(PARTITA!K317=1, COUNTIF(Tables!L$1:L$4, PARTITA!F317))","v":false},{"$f":"AND(A317, PARTITA!AO317=0)","v":false},{"$f":"AND(B317, PARTITA!AO317=0)","v":false},{"$f":"isNetPoint(PARTITA!AC317)","v":"0"},{"$f":"OR(PARTITA!S317=1, PARTITA!T317=1)","v":false},{"$f":"IF(PARTITA!K317=1,OR(E317=\"1\",E317=\"3\",F317=TRUE),OR(E317=\"2\",E317=\"3\"))","v":false},{"$f":"IF(PARTITA!K317=2,OR(E317=\"1\",E317=\"3\",F317=TRUE),OR(E317=\"2\",E317=\"3\"))","v":false},{"$f":"AND(G317=TRUE,PARTITA!AN317=1)","v":false},{"$f":"AND(H317=TRUE,PARTITA!AN317=2)","v":false},{"$f":"IF(PARTITA!AN317=1,K316+1,0)","v":0},{"$f":"IF(PARTITA!AN317=2,L316+1,0)","v":0},{"$f":"PARTITA!A317","v":""},{"$f":"COUNTIFS(PARTITA!AN308:AN317, \"=1\")","v":0},{"$f":"COUNTIFS(PARTITA!AN308:AN317, \"=2\")","v":0},{"$f":"PARTITA!BA317","v":""}]
[{"$f":"AND(PARTITA!K318=2, COUNTIF(Tables!L$1:L$4, PARTITA!F318))","v":false},{"$f":"AND(PARTITA!K318=1, COUNTIF(Tables!L$1:L$4, PARTITA!F318))","v":false},{"$f":"AND(A318, PARTITA!AO318=0)","v":false},{"$f":"AND(B318, PARTITA!AO318=0)","v":false},{"$f":"isNetPoint(PARTITA!AC318)","v":"0"},{"$f":"OR(PARTITA!S318=1, PARTITA!T318=1)","v":false},{"$f":"IF(PARTITA!K318=1,OR(E318=\"1\",E318=\"3\",F318=TRUE),OR(E318=\"2\",E318=\"3\"))","v":false},{"$f":"IF(PARTITA!K318=2,OR(E318=\"1\",E318=\"3\",F318=TRUE),OR(E318=\"2\",E318=\"3\"))","v":false},{"$f":"AND(G318=TRUE,PARTITA!AN318=1)","v":false},{"$f":"AND(H318=TRUE,PARTITA!AN318=2)","v":false},{"$f":"IF(PARTITA!AN318=1,K317+1,0)","v":0},{"$f":"IF(PARTITA!AN318=2,L317+1,0)","v":0},{"$f":"PARTITA!A318","v":""},{"$f":"COUNTIFS(PARTITA!AN309:AN318, \"=1\")","v":0},{"$f":"COUNTIFS(PARTITA!AN309:AN318, \"=2\")","v":0},{"$f":"PARTITA!BA318","v":""}]
[{"$f":"AND(PARTITA!K319=2, COUNTIF(Tables!L$1:L$4, PARTITA!F319))","v":false},{"$f":"AND(PARTITA!K319=1, COUNTIF(Tables!L$1:L$4, PARTITA!F319))","v":false},{"$f":"AND(A319, PARTITA!AO319=0)","v":false},{"$f":"AND(B319, PARTITA!AO319=0)","v":false},{"$f":"isNetPoint(PARTITA!AC319)","v":"0"},{"$f":"OR(PARTITA!S319=1, PARTITA!T319=1)","v":false},{"$f":"IF(PARTITA!K319=1,OR(E319=\"1\",E319=\"3\",F319=TRUE),OR(E319=\"2\",E319=\"3\"))","v":false},{"$f":"IF(PARTITA!K319=2,OR(E319=\"1\",E319=\"3\",F319=TRUE),OR(E319=\"2\",E319=\"3\"))","v":false},{"$f":"AND(G319=TRUE,PARTITA!AN319=1)","v":false},{"$f":"AND(H319=TRUE,PARTITA!AN319=2)","v":false},{"$f":"IF(PARTITA!AN319=1,K318+1,0)","v":0},{"$f":"IF(PARTITA!AN319=2,L318+1,0)","v":0},{"$f":"PARTITA!A319","v":""},{"$f":"COUNTIFS(PARTITA!AN310:AN319, \"=1\")","v":0},{"$f":"COUNTIFS(PARTITA!AN310:AN319, \"=2\")","v":0},{"$f":"PARTITA!BA319","v":""}]
[{"$f":"AND(PARTITA!K320=2, COUNTIF(Tables!L$1:L$4, PARTITA!F320))","v":false},{"$f":"AND(PARTITA!K320=1, COUNTIF(Tables!L$1:L$4, PARTITA!F320))","v":false},{"$f":"AND(A320, PARTITA!AO320=0)","v":false},{"$f":"AND(B320, PARTITA!AO320=0)","v":false},{"$f":"isNetPoint(PARTITA!AC320)","v":"0"},{"$f":"OR(PARTITA!S320=1, PARTITA!T320=1)","v":false},{"$f":"IF(PARTITA!K320=1,OR(E320=\"1\",E320=\"3\",F320=TRUE),OR(E320=\"2\",E320=\"3\"))","v":false},{"$f":"IF(PARTITA!K320=2,OR(E320=\"1\",E320=\"3\",F320=TRUE),OR(E320=\"2\",E320=\"3\"))","v":false},{"$f":"AND(G320=TRUE,PARTITA!AN320=1)","v":false},{"$f":"AND(H320=TRUE,PARTITA!AN320=2)","v":false},{"$f":"IF(PARTITA!AN320=1,K319+1,0)","v":0},{"$f":"IF(PARTITA!AN320=2,L319+1,0)","v":0},{"$f":"PARTITA!A320","v":""},{"$f":"COUNTIFS(PARTITA!AN311:AN320, \"=1\")","v":0},{"$f":"COUNTIFS(PARTITA!AN311:AN320, \"=2\")","v":0},{"$f":"PARTITA!BA320","v":""}]
[{"$f":"AND(PARTITA!K321=2, COUNTIF(Tables!L$1:L$4, PARTITA!F321))","v":false},{"$f":"AND(PARTITA!K321=1, COUNTIF(Tables!L$1:L$4, PARTITA!F321))","v":false},{"$f":"AND(A321, PARTITA!AO321=0)","v":false},{"$f":"AND(B321, PARTITA!AO321=0)","v":false},{"$f":"isNetPoint(PARTITA!AC321)","v":"0"},{"$f":"OR(PARTITA!S321=1, PARTITA!T321=1)","v":false},{"$f":"IF(PARTITA!K321=1,OR(E321=\"1\",E321=\"3\",F321=TRUE),OR(E321=\"2\",E321=\"3\"))","v":false},{"$f":"IF(PARTITA!K321=2,OR(E321=\"1\",E321=\"3\",F321=TRUE),OR(E321=\"2\",E321=\"3\"))","v":false},{"$f":"AND(G321=TRUE,PARTITA!AN321=1)","v":false},{"$f":"AND(H321=TRUE,PARTITA!AN321=2)","v":false},{"$f":"IF(PARTITA!AN321=1,K320+1,0)","v":0},{"$f":"IF(PARTITA!AN321=2,L320+1,0)","v":0},{"$f":"PARTITA!A321","v":""},{"$f":"COUNTIFS(PARTITA!AN312:AN321, \"=1\")","v":0},{"$f":"COUNTIFS(PARTITA!AN312:AN321, \"=2\")","v":0},{"$f":"PARTITA!BA321","v":""}]
[{"$f":"AND(PARTITA!K322=2, COUNTIF(Tables!L$1:L$4, PARTITA!F322))","v":false},{"$f":"AND(PARTITA!K322=1, COUNTIF(Tables!L$1:L$4, PARTITA!F322))","v":false},{"$f":"AND(A322, PARTITA!AO322=0)","v":false},{"$f":"AND(B322, PARTITA!AO322=0)","v":false},{"$f":"isNetPoint(PARTITA!AC322)","v":"0"},{"$f":"OR(PARTITA!S322=1, PARTITA!T322=1)","v":false},{"$f":"IF(PARTITA!K322=1,OR(E322=\"1\",E322=\"3\",F322=TRUE),OR(E322=\"2\",E322=\"3\"))","v":false},{"$f":"IF(PARTITA!K322=2,OR(E322=\"1\",E322=\"3\",F322=TRUE),OR(E322=\"2\",E322=\"3\"))","v":false},{"$f":"AND(G322=TRUE,PARTITA!AN322=1)","v":false},{"$f":"AND(H322=TRUE,PARTITA!AN322=2)","v":false},{"$f":"IF(PARTITA!AN322=1,K321+1,0)","v":0},{"$f":"IF(PARTITA!AN322=2,L321+1,0)","v":0},{"$f":"PARTITA!A322","v":""},{"$f":"COUNTIFS(PARTITA!AN313:AN322, \"=1\")","v":0},{"$f":"COUNTIFS(PARTITA!AN313:AN322, \"=2\")","v":0},{"$f":"PARTITA!BA322","v":""}]
[{"$f":"AND(PARTITA!K323=2, COUNTIF(Tables!L$1:L$4, PARTITA!F323))","v":false},{"$f":"AND(PARTITA!K323=1, COUNTIF(Tables!L$1:L$4, PARTITA!F323))","v":false},{"$f":"AND(A323, PARTITA!AO323=0)","v":false},{"$f":"AND(B323, PARTITA!AO323=0)","v":false},{"$f":"isNetPoint(PARTITA!AC323)","v":"0"},{"$f":"OR(PARTITA!S323=1, PARTITA!T323=1)","v":false},{"$f":"IF(PARTITA!K323=1,OR(E323=\"1\",E323=\"3\",F323=TRUE),OR(E323=\"2\",E323=\"3\"))","v":false},{"$f":"IF(PARTITA!K323=2,OR(E323=\"1\",E323=\"3\",F323=TRUE),OR(E323=\"2\",E323=\"3\"))","v":false},{"$f":"AND(G323=TRUE,PARTITA!AN323=1)","v":false},{"$f":"AND(H323=TRUE,PARTITA!AN323=2)","v":false},{"$f":"IF(PARTITA!AN323=1,K322+1,0)","v":0},{"$f":"IF(PARTITA!AN323=2,L322+1,0)","v":0},{"$f":"PARTITA!A323","v":""},{"$f":"COUNTIFS(PARTITA!AN314:AN323, \"=1\")","v":0},{"$f":"COUNTIFS(PARTITA!AN314:AN323, \"=2\")","v":0},{"$f":"PARTITA!BA323","v":""}]
[{"$f":"AND(PARTITA!K324=2, COUNTIF(Tables!L$1:L$4, PARTITA!F324))","v":false},{"$f":"AND(PARTITA!K324=1, COUNTIF(Tables!L$1:L$4, PARTITA!F324))","v":false},{"$f":"AND(A324, PARTITA!AO324=0)","v":false},{"$f":"AND(B324, PARTITA!AO324=0)","v":false},{"$f":"isNetPoint(PARTITA!AC324)","v":"0"},{"$f":"OR(PARTITA!S324=1, PARTITA!T324=1)","v":false},{"$f":"IF(PARTITA!K324=1,OR(E324=\"1\",E324=\"3\",F324=TRUE),OR(E324=\"2\",E324=\"3\"))","v":false},{"$f":"IF(PARTITA!K324=2,OR(E324=\"1\",E324=\"3\",F324=TRUE),OR(E324=\"2\",E324=\"3\"))","v":false},{"$f":"AND(G324=TRUE,PARTITA!AN324=1)","v":false},{"$f":"AND(H324=TRUE,PARTITA!AN324=2)","v":false},{"$f":"IF(PARTITA!AN324=1,K323+1,0)","v":0},{"$f":"IF(PARTITA!AN324=2,L323+1,0)","v":0},{"$f":"PARTITA!A324","v":""},{"$f":"COUNTIFS(PARTITA!AN315:AN324, \"=1\")","v":0},{"$f":"COUNTIFS(PARTITA!AN315:AN324, \"=2\")","v":0},{"$f":"PARTITA!BA324","v":""}]
[{"$f":"AND(PARTITA!K325=2, COUNTIF(Tables!L$1:L$4, PARTITA!F325))","v":false},{"$f":"AND(PARTITA!K325=1, COUNTIF(Tables!L$1:L$4, PARTITA!F325))","v":false},{"$f":"AND(A325, PARTITA!AO325=0)","v":false},{"$f":"AND(B325, PARTITA!AO325=0)","v":false},{"$f":"isNetPoint(PARTITA!AC325)","v":"0"},{"$f":"OR(PARTITA!S325=1, PARTITA!T325=1)","v":false},{"$f":"IF(PARTITA!K325=1,OR(E325=\"1\",E325=\"3\",F325=TRUE),OR(E325=\"2\",E325=\"3\"))","v":false},{"$f":"IF(PARTITA!K325=2,OR(E325=\"1\",E325=\"3\",F325=TRUE),OR(E325=\"2\",E325=\"3\"))","v":false},{"$f":"AND(G325=TRUE,PARTITA!AN325=1)","v":false},{"$f":"AND(H325=TRUE,PARTITA!AN325=2)","v":false},{"$f":"IF(PARTITA!AN325=1,K324+1,0)","v":0},{"$f":"IF(PARTITA!AN325=2,L324+1,0)","v":0},{"$f":"PARTITA!A325","v":""},{"$f":"COUNTIFS(PARTITA!AN316:AN325, \"=1\")","v":0},{"$f":"COUNTIFS(PARTITA!AN316:AN325, \"=2\")","v":0},{"$f":"PARTITA!BA325","v":""}]
[{"$f":"AND(PARTITA!K326=2, COUNTIF(Tables!L$1:L$4, PARTITA!F326))","v":false},{"$f":"AND(PARTITA!K326=1, COUNTIF(Tables!L$1:L$4, PARTITA!F326))","v":false},{"$f":"AND(A326, PARTITA!AO326=0)","v":false},{"$f":"AND(B326, PARTITA!AO326=0)","v":false},{"$f":"isNetPoint(PARTITA!AC326)","v":"0"},{"$f":"OR(PARTITA!S326=1, PARTITA!T326=1)","v":false},{"$f":"IF(PARTITA!K326=1,OR(E326=\"1\",E326=\"3\",F326=TRUE),OR(E326=\"2\",E326=\"3\"))","v":false},{"$f":"IF(PARTITA!K326=2,OR(E326=\"1\",E326=\"3\",F326=TRUE),OR(E326=\"2\",E326=\"3\"))","v":false},{"$f":"AND(G326=TRUE,PARTITA!AN326=1)","v":false},{"$f":"AND(H326=TRUE,PARTITA!AN326=2)","v":false},{"$f":"IF(PARTITA!AN326=1,K325+1,0)","v":0},{"$f":"IF(PARTITA!AN326=2,L325+1,0)","v":0},{"$f":"PARTITA!A326","v":""},{"$f":"COUNTIFS(PARTITA!AN317:AN326, \"=1\")","v":0},{"$f":"COUNTIFS(PARTITA!AN317:AN326, \"=2\")","v":0},{"$f":"PARTITA!BA326","v":""}]
[{"$f":"AND(PARTITA!K327=2, COUNTIF(Tables!L$1:L$4, PARTITA!F327))","v":false},{"$f":"AND(PARTITA!K327=1, COUNTIF(Tables!L$1:L$4, PARTITA!F327))","v":false},{"$f":"AND(A327, PARTITA!AO327=0)","v":false},{"$f":"AND(B327, PARTITA!AO327=0)","v":false},{"$f":"isNetPoint(PARTITA!AC327)","v":"0"},{"$f":"OR(PARTITA!S327=1, PARTITA!T327=1)","v":false},{"$f":"IF(PARTITA!K327=1,OR(E327=\"1\",E327=\"3\",F327=TRUE),OR(E327=\"2\",E327=\"3\"))","v":false},{"$f":"IF(PARTITA!K327=2,OR(E327=\"1\",E327=\"3\",F327=TRUE),OR(E327=\"2\",E327=\"3\"))","v":false},{"$f":"AND(G327=TRUE,PARTITA!AN327=1)","v":false},{"$f":"AND(H327=TRUE,PARTITA!AN327=2)","v":false},{"$f":"IF(PARTITA!AN327=1,K326+1,0)","v":0},{"$f":"IF(PARTITA!AN327=2,L326+1,0)","v":0},{"$f":"PARTITA!A327","v":""},{"$f":"COUNTIFS(PARTITA!AN318:AN327, \"=1\")","v":0},{"$f":"COUNTIFS(PARTITA!AN318:AN327, \"=2\")","v":0},{"$f":"PARTITA!BA327","v":""}]
[{"$f":"AND(PARTITA!K328=2, COUNTIF(Tables!L$1:L$4, PARTITA!F328))","v":false},{"$f":"AND(PARTITA!K328=1, COUNTIF(Tables!L$1:L$4, PARTITA!F328))","v":false},{"$f":"AND(A328, PARTITA!AO328=0)","v":false},{"$f":"AND(B328, PARTITA!AO328=0)","v":false},{"$f":"isNetPoint(PARTITA!AC328)","v":"0"},{"$f":"OR(PARTITA!S328=1, PARTITA!T328=1)","v":false},{"$f":"IF(PARTITA!K328=1,OR(E328=\"1\",E328=\"3\",F328=TRUE),OR(E328=\"2\",E328=\"3\"))","v":false},{"$f":"IF(PARTITA!K328=2,OR(E328=\"1\",E328=\"3\",F328=TRUE),OR(E328=\"2\",E328=\"3\"))","v":false},{"$f":"AND(G328=TRUE,PARTITA!AN328=1)","v":false},{"$f":"AND(H328=TRUE,PARTITA!AN328=2)","v":false},{"$f":"IF(PARTITA!AN328=1,K327+1,0)","v":0},{"$f":"IF(PARTITA!AN328=2,L327+1,0)","v":0},{"$f":"PARTITA!A328","v":""},{"$f":"COUNTIFS(PARTITA!AN319:AN328, \"=1\")","v":0},{"$f":"COUNTIFS(PARTITA!AN319:AN328, \"=2\")","v":0},{"$f":"PARTITA!BA328","v":""}]
[{"$f":"AND(PARTITA!K329=2, COUNTIF(Tables!L$1:L$4, PARTITA!F329))","v":false},{"$f":"AND(PARTITA!K329=1, COUNTIF(Tables!L$1:L$4, PARTITA!F329))","v":false},{"$f":"AND(A329, PARTITA!AO329=0)","v":false},{"$f":"AND(B329, PARTITA!AO329=0)","v":false},{"$f":"isNetPoint(PARTITA!AC329)","v":"0"},{"$f":"OR(PARTITA!S329=1, PARTITA!T329=1)","v":false},{"$f":"IF(PARTITA!K329=1,OR(E329=\"1\",E329=\"3\",F329=TRUE),OR(E329=\"2\",E329=\"3\"))","v":false},{"$f":"IF(PARTITA!K329=2,OR(E329=\"1\",E329=\"3\",F329=TRUE),OR(E329=\"2\",E329=\"3\"))","v":false},{"$f":"AND(G329=TRUE,PARTITA!AN329=1)","v":false},{"$f":"AND(H329=TRUE,PARTITA!AN329=2)","v":false},{"$f":"IF(PARTITA!AN329=1,K328+1,0)","v":0},{"$f":"IF(PARTITA!AN329=2,L328+1,0)","v":0},{"$f":"PARTITA!A329","v":""},{"$f":"COUNTIFS(PARTITA!AN320:AN329, \"=1\")","v":0},{"$f":"COUNTIFS(PARTITA!AN320:AN329, \"=2\")","v":0},{"$f":"PARTITA!BA329","v":""}]
[{"$f":"AND(PARTITA!K330=2, COUNTIF(Tables!L$1:L$4, PARTITA!F330))","v":false},{"$f":"AND(PARTITA!K330=1, COUNTIF(Tables!L$1:L$4, PARTITA!F330))","v":false},{"$f":"AND(A330, PARTITA!AO330=0)","v":false},{"$f":"AND(B330, PARTITA!AO330=0)","v":false},{"$f":"isNetPoint(PARTITA!AC330)","v":"0"},{"$f":"OR(PARTITA!S330=1, PARTITA!T330=1)","v":false},{"$f":"IF(PARTITA!K330=1,OR(E330=\"1\",E330=\"3\",F330=TRUE),OR(E330=\"2\",E330=\"3\"))","v":false},{"$f":"IF(PARTITA!K330=2,OR(E330=\"1\",E330=\"3\",F330=TRUE),OR(E330=\"2\",E330=\"3\"))","v":false},{"$f":"AND(G330=TRUE,PARTITA!AN330=1)","v":false},{"$f":"AND(H330=TRUE,PARTITA!AN330=2)","v":false},{"$f":"IF(PARTITA!AN330=1,K329+1,0)","v":0},{"$f":"IF(PARTITA!AN330=2,L329+1,0)","v":0},{"$f":"PARTITA!A330","v":""},{"$f":"COUNTIFS(PARTITA!AN321:AN330, \"=1\")","v":0},{"$f":"COUNTIFS(PARTITA!AN321:AN330, \"=2\")","v":0},{"$f":"PARTITA!BA330","v":""}]
[{"$f":"AND(PARTITA!K331=2, COUNTIF(Tables!L$1:L$4, PARTITA!F331))","v":false},{"$f":"AND(PARTITA!K331=1, COUNTIF(Tables!L$1:L$4, PARTITA!F331))","v":false},{"$f":"AND(A331, PARTITA!AO331=0)","v":false},{"$f":"AND(B331, PARTITA!AO331=0)","v":false},{"$f":"isNetPoint(PARTITA!AC331)","v":"0"},{"$f":"OR(PARTITA!S331=1, PARTITA!T331=1)","v":false},{"$f":"IF(PARTITA!K331=1,OR(E331=\"1\",E331=\"3\",F331=TRUE),OR(E331=\"2\",E331=\"3\"))","v":false},{"$f":"IF(PARTITA!K331=2,OR(E331=\"1\",E331=\"3\",F331=TRUE),OR(E331=\"2\",E331=\"3\"))","v":false},{"$f":"AND(G331=TRUE,PARTITA!AN331=1)","v":false},{"$f":"AND(H331=TRUE,PARTITA!AN331=2)","v":false},{"$f":"IF(PARTITA!AN331=1,K330+1,0)","v":0},{"$f":"IF(PARTITA!AN331=2,L330+1,0)","v":0},{"$f":"PARTITA!A331","v":""},{"$f":"COUNTIFS(PARTITA!AN322:AN331, \"=1\")","v":0},{"$f":"COUNTIFS(PARTITA!AN322:AN331, \"=2\")","v":0},{"$f":"PARTITA!BA331","v":""}]
[{"$f":"AND(PARTITA!K332=2, COUNTIF(Tables!L$1:L$4, PARTITA!F332))","v":false},{"$f":"AND(PARTITA!K332=1, COUNTIF(Tables!L$1:L$4, PARTITA!F332))","v":false},{"$f":"AND(A332, PARTITA!AO332=0)","v":false},{"$f":"AND(B332, PARTITA!AO332=0)","v":false},{"$f":"isNetPoint(PARTITA!AC332)","v":"0"},{"$f":"OR(PARTITA!S332=1, PARTITA!T332=1)","v":false},{"$f":"IF(PARTITA!K332=1,OR(E332=\"1\",E332=\"3\",F332=TRUE),OR(E332=\"2\",E332=\"3\"))","v":false},{"$f":"IF(PARTITA!K332=2,OR(E332=\"1\",E332=\"3\",F332=TRUE),OR(E332=\"2\",E332=\"3\"))","v":false},{"$f":"AND(G332=TRUE,PARTITA!AN332=1)","v":false},{"$f":"AND(H332=TRUE,PARTITA!AN332=2)","v":false},{"$f":"IF(PARTITA!AN332=1,K331+1,0)","v":0},{"$f":"IF(PARTITA!AN332=2,L331+1,0)","v":0},{"$f":"PARTITA!A332","v":""},{"$f":"COUNTIFS(PARTITA!AN323:AN332, \"=1\")","v":0},{"$f":"COUNTIFS(PARTITA!AN323:AN332, \"=2\")","v":0},{"$f":"PARTITA!BA332","v":""}]
[{"$f":"AND(PARTITA!K333=2, COUNTIF(Tables!L$1:L$4, PARTITA!F333))","v":false},{"$f":"AND(PARTITA!K333=1, COUNTIF(Tables!L$1:L$4, PARTITA!F333))","v":false},{"$f":"AND(A333, PARTITA!AO333=0)","v":false},{"$f":"AND(B333, PARTITA!AO333=0)","v":false},{"$f":"isNetPoint(PARTITA!AC333)","v":"0"},{"$f":"OR(PARTITA!S333=1, PARTITA!T333=1)","v":false},{"$f":"IF(PARTITA!K333=1,OR(E333=\"1\",E333=\"3\",F333=TRUE),OR(E333=\"2\",E333=\"3\"))","v":false},{"$f":"IF(PARTITA!K333=2,OR(E333=\"1\",E333=\"3\",F333=TRUE),OR(E333=\"2\",E333=\"3\"))","v":false},{"$f":"AND(G333=TRUE,PARTITA!AN333=1)","v":false},{"$f":"AND(H333=TRUE,PARTITA!AN333=2)","v":false},{"$f":"IF(PARTITA!AN333=1,K332+1,0)","v":0},{"$f":"IF(PARTITA!AN333=2,L332+1,0)","v":0},{"$f":"PARTITA!A333","v":""},{"$f":"COUNTIFS(PARTITA!AN324:AN333, \"=1\")","v":0},{"$f":"COUNTIFS(PARTITA!AN324:AN333, \"=2\")","v":0},{"$f":"PARTITA!BA333","v":""}]
[{"$f":"AND(PARTITA!K334=2, COUNTIF(Tables!L$1:L$4, PARTITA!F334))","v":false},{"$f":"AND(PARTITA!K334=1, COUNTIF(Tables!L$1:L$4, PARTITA!F334))","v":false},{"$f":"AND(A334, PARTITA!AO334=0)","v":false},{"$f":"AND(B334, PARTITA!AO334=0)","v":false},{"$f":"isNetPoint(PARTITA!AC334)","v":"0"},{"$f":"OR(PARTITA!S334=1, PARTITA!T334=1)","v":false},{"$f":"IF(PARTITA!K334=1,OR(E334=\"1\",E334=\"3\",F334=TRUE),OR(E334=\"2\",E334=\"3\"))","v":false},{"$f":"IF(PARTITA!K334=2,OR(E334=\"1\",E334=\"3\",F334=TRUE),OR(E334=\"2\",E334=\"3\"))","v":false},{"$f":"AND(G334=TRUE,PARTITA!AN334=1)","v":false},{"$f":"AND(H334=TRUE,PARTITA!AN334=2)","v":false},{"$f":"IF(PARTITA!AN334=1,K333+1,0)","v":0},{"$f":"IF(PARTITA!AN334=2,L333+1,0)","v":0},{"$f":"PARTITA!A334","v":""},{"$f":"COUNTIFS(PARTITA!AN325:AN334, \"=1\")","v":0},{"$f":"COUNTIFS(PARTITA!AN325:AN334, \"=2\")","v":0},{"$f":"PARTITA!BA334","v":""}]
[{"$f":"AND(PARTITA!K335=2, COUNTIF(Tables!L$1:L$4, PARTITA!F335))","v":false},{"$f":"AND(PARTITA!K335=1, COUNTIF(Tables!L$1:L$4, PARTITA!F335))","v":false},{"$f":"AND(A335, PARTITA!AO335=0)","v":false},{"$f":"AND(B335, PARTITA!AO335=0)","v":false},{"$f":"isNetPoint(PARTITA!AC335)","v":"0"},{"$f":"OR(PARTITA!S335=1, PARTITA!T335=1)","v":false},{"$f":"IF(PARTITA!K335=1,OR(E335=\"1\",E335=\"3\",F335=TRUE),OR(E335=\"2\",E335=\"3\"))","v":false},{"$f":"IF(PARTITA!K335=2,OR(E335=\"1\",E335=\"3\",F335=TRUE),OR(E335=\"2\",E335=\"3\"))","v":false},{"$f":"AND(G335=TRUE,PARTITA!AN335=1)","v":false},{"$f":"AND(H335=TRUE,PARTITA!AN335=2)","v":false},{"$f":"IF(PARTITA!AN335=1,K334+1,0)","v":0},{"$f":"IF(PARTITA!AN335=2,L334+1,0)","v":0},{"$f":"PARTITA!A335","v":""},{"$f":"COUNTIFS(PARTITA!AN326:AN335, \"=1\")","v":0},{"$f":"COUNTIFS(PARTITA!AN326:AN335, \"=2\")","v":0},{"$f":"PARTITA!BA335","v":""}]
[{"$f":"AND(PARTITA!K336=2, COUNTIF(Tables!L$1:L$4, PARTITA!F336))","v":false},{"$f":"AND(PARTITA!K336=1, COUNTIF(Tables!L$1:L$4, PARTITA!F336))","v":false},{"$f":"AND(A336, PARTITA!AO336=0)","v":false},{"$f":"AND(B336, PARTITA!AO336=0)","v":false},{"$f":"isNetPoint(PARTITA!AC336)","v":"0"},{"$f":"OR(PARTITA!S336=1, PARTITA!T336=1)","v":false},{"$f":"IF(PARTITA!K336=1,OR(E336=\"1\",E336=\"3\",F336=TRUE),OR(E336=\"2\",E336=\"3\"))","v":false},{"$f":"IF(PARTITA!K336=2,OR(E336=\"1\",E336=\"3\",F336=TRUE),OR(E336=\"2\",E336=\"3\"))","v":false},{"$f":"AND(G336=TRUE,PARTITA!AN336=1)","v":false},{"$f":"AND(H336=TRUE,PARTITA!AN336=2)","v":false},{"$f":"IF(PARTITA!AN336=1,K335+1,0)","v":0},{"$f":"IF(PARTITA!AN336=2,L335+1,0)","v":0},{"$f":"PARTITA!A336","v":""},{"$f":"COUNTIFS(PARTITA!AN327:AN336, \"=1\")","v":0},{"$f":"COUNTIFS(PARTITA!AN327:AN336, \"=2\")","v":0},{"$f":"PARTITA!BA336","v":""}]
[{"$f":"AND(PARTITA!K337=2, COUNTIF(Tables!L$1:L$4, PARTITA!F337))","v":false},{"$f":"AND(PARTITA!K337=1, COUNTIF(Tables!L$1:L$4, PARTITA!F337))","v":false},{"$f":"AND(A337, PARTITA!AO337=0)","v":false},{"$f":"AND(B337, PARTITA!AO337=0)","v":false},{"$f":"isNetPoint(PARTITA!AC337)","v":"0"},{"$f":"OR(PARTITA!S337=1, PARTITA!T337=1)","v":false},{"$f":"IF(PARTITA!K337=1,OR(E337=\"1\",E337=\"3\",F337=TRUE),OR(E337=\"2\",E337=\"3\"))","v":false},{"$f":"IF(PARTITA!K337=2,OR(E337=\"1\",E337=\"3\",F337=TRUE),OR(E337=\"2\",E337=\"3\"))","v":false},{"$f":"AND(G337=TRUE,PARTITA!AN337=1)","v":false},{"$f":"AND(H337=TRUE,PARTITA!AN337=2)","v":false},{"$f":"IF(PARTITA!AN337=1,K336+1,0)","v":0},{"$f":"IF(PARTITA!AN337=2,L336+1,0)","v":0},{"$f":"PARTITA!A337","v":""},{"$f":"COUNTIFS(PARTITA!AN328:AN337, \"=1\")","v":0},{"$f":"COUNTIFS(PARTITA!AN328:AN337, \"=2\")","v":0},{"$f":"PARTITA!BA337","v":""}]
[{"$f":"AND(PARTITA!K338=2, COUNTIF(Tables!L$1:L$4, PARTITA!F338))","v":false},{"$f":"AND(PARTITA!K338=1, COUNTIF(Tables!L$1:L$4, PARTITA!F338))","v":false},{"$f":"AND(A338, PARTITA!AO338=0)","v":false},{"$f":"AND(B338, PARTITA!AO338=0)","v":false},{"$f":"isNetPoint(PARTITA!AC338)","v":"0"},{"$f":"OR(PARTITA!S338=1, PARTITA!T338=1)","v":false},{"$f":"IF(PARTITA!K338=1,OR(E338=\"1\",E338=\"3\",F338=TRUE),OR(E338=\"2\",E338=\"3\"))","v":false},{"$f":"IF(PARTITA!K338=2,OR(E338=\"1\",E338=\"3\",F338=TRUE),OR(E338=\"2\",E338=\"3\"))","v":false},{"$f":"AND(G338=TRUE,PARTITA!AN338=1)","v":false},{"$f":"AND(H338=TRUE,PARTITA!AN338=2)","v":false},{"$f":"IF(PARTITA!AN338=1,K337+1,0)","v":0},{"$f":"IF(PARTITA!AN338=2,L337+1,0)","v":0},{"$f":"PARTITA!A338","v":""},{"$f":"COUNTIFS(PARTITA!AN329:AN338, \"=1\")","v":0},{"$f":"COUNTIFS(PARTITA!AN329:AN338, \"=2\")","v":0},{"$f":"PARTITA!BA338","v":""}]
[{"$f":"AND(PARTITA!K339=2, COUNTIF(Tables!L$1:L$4, PARTITA!F339))","v":false},{"$f":"AND(PARTITA!K339=1, COUNTIF(Tables!L$1:L$4, PARTITA!F339))","v":false},{"$f":"AND(A339, PARTITA!AO339=0)","v":false},{"$f":"AND(B339, PARTITA!AO339=0)","v":false},{"$f":"isNetPoint(PARTITA!AC339)","v":"0"},{"$f":"OR(PARTITA!S339=1, PARTITA!T339=1)","v":false},{"$f":"IF(PARTITA!K339=1,OR(E339=\"1\",E339=\"3\",F339=TRUE),OR(E339=\"2\",E339=\"3\"))","v":false},{"$f":"IF(PARTITA!K339=2,OR(E339=\"1\",E339=\"3\",F339=TRUE),OR(E339=\"2\",E339=\"3\"))","v":false},{"$f":"AND(G339=TRUE,PARTITA!AN339=1)","v":false},{"$f":"AND(H339=TRUE,PARTITA!AN339=2)","v":false},{"$f":"IF(PARTITA!AN339=1,K338+1,0)","v":0},{"$f":"IF(PARTITA!AN339=2,L338+1,0)","v":0},{"$f":"PARTITA!A339","v":""},{"$f":"COUNTIFS(PARTITA!AN330:AN339, \"=1\")","v":0},{"$f":"COUNTIFS(PARTITA!AN330:AN339, \"=2\")","v":0},{"$f":"PARTITA!BA339","v":""}]
[{"$f":"AND(PARTITA!K340=2, COUNTIF(Tables!L$1:L$4, PARTITA!F340))","v":false},{"$f":"AND(PARTITA!K340=1, COUNTIF(Tables!L$1:L$4, PARTITA!F340))","v":false},{"$f":"AND(A340, PARTITA!AO340=0)","v":false},{"$f":"AND(B340, PARTITA!AO340=0)","v":false},{"$f":"isNetPoint(PARTITA!AC340)","v":"0"},{"$f":"OR(PARTITA!S340=1, PARTITA!T340=1)","v":false},{"$f":"IF(PARTITA!K340=1,OR(E340=\"1\",E340=\"3\",F340=TRUE),OR(E340=\"2\",E340=\"3\"))","v":false},{"$f":"IF(PARTITA!K340=2,OR(E340=\"1\",E340=\"3\",F340=TRUE),OR(E340=\"2\",E340=\"3\"))","v":false},{"$f":"AND(G340=TRUE,PARTITA!AN340=1)","v":false},{"$f":"AND(H340=TRUE,PARTITA!AN340=2)","v":false},{"$f":"IF(PARTITA!AN340=1,K339+1,0)","v":0},{"$f":"IF(PARTITA!AN340=2,L339+1,0)","v":0},{"$f":"PARTITA!A340","v":""},{"$f":"COUNTIFS(PARTITA!AN331:AN340, \"=1\")","v":0},{"$f":"COUNTIFS(PARTITA!AN331:AN340, \"=2\")","v":0},{"$f":"PARTITA!BA340","v":""}]
[{"$f":"AND(PARTITA!K341=2, COUNTIF(Tables!L$1:L$4, PARTITA!F341))","v":false},{"$f":"AND(PARTITA!K341=1, COUNTIF(Tables!L$1:L$4, PARTITA!F341))","v":false},{"$f":"AND(A341, PARTITA!AO341=0)","v":false},{"$f":"AND(B341, PARTITA!AO341=0)","v":false},{"$f":"isNetPoint(PARTITA!AC341)","v":"0"},{"$f":"OR(PARTITA!S341=1, PARTITA!T341=1)","v":false},{"$f":"IF(PARTITA!K341=1,OR(E341=\"1\",E341=\"3\",F341=TRUE),OR(E341=\"2\",E341=\"3\"))","v":false},{"$f":"IF(PARTITA!K341=2,OR(E341=\"1\",E341=\"3\",F341=TRUE),OR(E341=\"2\",E341=\"3\"))","v":false},{"$f":"AND(G341=TRUE,PARTITA!AN341=1)","v":false},{"$f":"AND(H341=TRUE,PARTITA!AN341=2)","v":false},{"$f":"IF(PARTITA!AN341=1,K340+1,0)","v":0},{"$f":"IF(PARTITA!AN341=2,L340+1,0)","v":0},{"$f":"PARTITA!A341","v":""},{"$f":"COUNTIFS(PARTITA!AN332:AN341, \"=1\")","v":0},{"$f":"COUNTIFS(PARTITA!AN332:AN341, \"=2\")","v":0},{"$f":"PARTITA!BA341","v":""}]
[{"$f":"AND(PARTITA!K342=2, COUNTIF(Tables!L$1:L$4, PARTITA!F342))","v":false},{"$f":"AND(PARTITA!K342=1, COUNTIF(Tables!L$1:L$4, PARTITA!F342))","v":false},{"$f":"AND(A342, PARTITA!AO342=0)","v":false},{"$f":"AND(B342, PARTITA!AO342=0)","v":false},{"$f":"isNetPoint(PARTITA!AC342)","v":"0"},{"$f":"OR(PARTITA!S342=1, PARTITA!T342=1)","v":false},{"$f":"IF(PARTITA!K342=1,OR(E342=\"1\",E342=\"3\",F342=TRUE),OR(E342=\"2\",E342=\"3\"))","v":false},{"$f":"IF(PARTITA!K342=2,OR(E342=\"1\",E342=\"3\",F342=TRUE),OR(E342=\"2\",E342=\"3\"))","v":false},{"$f":"AND(G342=TRUE,PARTITA!AN342=1)","v":false},{"$f":"AND(H342=TRUE,PARTITA!AN342=2)","v":false},{"$f":"IF(PARTITA!AN342=1,K341+1,0)","v":0},{"$f":"IF(PARTITA!AN342=2,L341+1,0)","v":0},{"$f":"PARTITA!A342","v":""},{"$f":"COUNTIFS(PARTITA!AN333:AN342, \"=1\")","v":0},{"$f":"COUNTIFS(PARTITA!AN333:AN342, \"=2\")","v":0},{"$f":"PARTITA!BA342","v":""}]
[{"$f":"AND(PARTITA!K343=2, COUNTIF(Tables!L$1:L$4, PARTITA!F343))","v":false},{"$f":"AND(PARTITA!K343=1, COUNTIF(Tables!L$1:L$4, PARTITA!F343))","v":false},{"$f":"AND(A343, PARTITA!AO343=0)","v":false},{"$f":"AND(B343, PARTITA!AO343=0)","v":false},{"$f":"isNetPoint(PARTITA!AC343)","v":"0"},{"$f":"OR(PARTITA!S343=1, PARTITA!T343=1)","v":false},{"$f":"IF(PARTITA!K343=1,OR(E343=\"1\",E343=\"3\",F343=TRUE),OR(E343=\"2\",E343=\"3\"))","v":false},{"$f":"IF(PARTITA!K343=2,OR(E343=\"1\",E343=\"3\",F343=TRUE),OR(E343=\"2\",E343=\"3\"))","v":false},{"$f":"AND(G343=TRUE,PARTITA!AN343=1)","v":false},{"$f":"AND(H343=TRUE,PARTITA!AN343=2)","v":false},{"$f":"IF(PARTITA!AN343=1,K342+1,0)","v":0},{"$f":"IF(PARTITA!AN343=2,L342+1,0)","v":0},{"$f":"PARTITA!A343","v":""},{"$f":"COUNTIFS(PARTITA!AN334:AN343, \"=1\")","v":0},{"$f":"COUNTIFS(PARTITA!AN334:AN343, \"=2\")","v":0},{"$f":"PARTITA!BA343","v":""}]
[{"$f":"AND(PARTITA!K344=2, COUNTIF(Tables!L$1:L$4, PARTITA!F344))","v":false},{"$f":"AND(PARTITA!K344=1, COUNTIF(Tables!L$1:L$4, PARTITA!F344))","v":false},{"$f":"AND(A344, PARTITA!AO344=0)","v":false},{"$f":"AND(B344, PARTITA!AO344=0)","v":false},{"$f":"isNetPoint(PARTITA!AC344)","v":"0"},{"$f":"OR(PARTITA!S344=1, PARTITA!T344=1)","v":false},{"$f":"IF(PARTITA!K344=1,OR(E344=\"1\",E344=\"3\",F344=TRUE),OR(E344=\"2\",E344=\"3\"))","v":false},{"$f":"IF(PARTITA!K344=2,OR(E344=\"1\",E344=\"3\",F344=TRUE),OR(E344=\"2\",E344=\"3\"))","v":false},{"$f":"AND(G344=TRUE,PARTITA!AN344=1)","v":false},{"$f":"AND(H344=TRUE,PARTITA!AN344=2)","v":false},{"$f":"IF(PARTITA!AN344=1,K343+1,0)","v":0},{"$f":"IF(PARTITA!AN344=2,L343+1,0)","v":0},{"$f":"PARTITA!A344","v":""},{"$f":"COUNTIFS(PARTITA!AN335:AN344, \"=1\")","v":0},{"$f":"COUNTIFS(PARTITA!AN335:AN344, \"=2\")","v":0},{"$f":"PARTITA!BA344","v":""}]
[{"$f":"AND(PARTITA!K345=2, COUNTIF(Tables!L$1:L$4, PARTITA!F345))","v":false},{"$f":"AND(PARTITA!K345=1, COUNTIF(Tables!L$1:L$4, PARTITA!F345))","v":false},{"$f":"AND(A345, PARTITA!AO345=0)","v":false},{"$f":"AND(B345, PARTITA!AO345=0)","v":false},{"$f":"isNetPoint(PARTITA!AC345)","v":"0"},{"$f":"OR(PARTITA!S345=1, PARTITA!T345=1)","v":false},{"$f":"IF(PARTITA!K345=1,OR(E345=\"1\",E345=\"3\",F345=TRUE),OR(E345=\"2\",E345=\"3\"))","v":false},{"$f":"IF(PARTITA!K345=2,OR(E345=\"1\",E345=\"3\",F345=TRUE),OR(E345=\"2\",E345=\"3\"))","v":false},{"$f":"AND(G345=TRUE,PARTITA!AN345=1)","v":false},{"$f":"AND(H345=TRUE,PARTITA!AN345=2)","v":false},{"$f":"IF(PARTITA!AN345=1,K344+1,0)","v":0},{"$f":"IF(PARTITA!AN345=2,L344+1,0)","v":0},{"$f":"PARTITA!A345","v":""},{"$f":"COUNTIFS(PARTITA!AN336:AN345, \"=1\")","v":0},{"$f":"COUNTIFS(PARTITA!AN336:AN345, \"=2\")","v":0},{"$f":"PARTITA!BA345","v":""}]
[{"$f":"AND(PARTITA!K346=2, COUNTIF(Tables!L$1:L$4, PARTITA!F346))","v":false},{"$f":"AND(PARTITA!K346=1, COUNTIF(Tables!L$1:L$4, PARTITA!F346))","v":false},{"$f":"AND(A346, PARTITA!AO346=0)","v":false},{"$f":"AND(B346, PARTITA!AO346=0)","v":false},{"$f":"isNetPoint(PARTITA!AC346)","v":"0"},{"$f":"OR(PARTITA!S346=1, PARTITA!T346=1)","v":false},{"$f":"IF(PARTITA!K346=1,OR(E346=\"1\",E346=\"3\",F346=TRUE),OR(E346=\"2\",E346=\"3\"))","v":false},{"$f":"IF(PARTITA!K346=2,OR(E346=\"1\",E346=\"3\",F346=TRUE),OR(E346=\"2\",E346=\"3\"))","v":false},{"$f":"AND(G346=TRUE,PARTITA!AN346=1)","v":false},{"$f":"AND(H346=TRUE,PARTITA!AN346=2)","v":false},{"$f":"IF(PARTITA!AN346=1,K345+1,0)","v":0},{"$f":"IF(PARTITA!AN346=2,L345+1,0)","v":0},{"$f":"PARTITA!A346","v":""},{"$f":"COUNTIFS(PARTITA!AN337:AN346, \"=1\")","v":0},{"$f":"COUNTIFS(PARTITA!AN337:AN346, \"=2\")","v":0},{"$f":"PARTITA!BA346","v":""}]
[{"$f":"AND(PARTITA!K347=2, COUNTIF(Tables!L$1:L$4, PARTITA!F347))","v":false},{"$f":"AND(PARTITA!K347=1, COUNTIF(Tables!L$1:L$4, PARTITA!F347))","v":false},{"$f":"AND(A347, PARTITA!AO347=0)","v":false},{"$f":"AND(B347, PARTITA!AO347=0)","v":false},{"$f":"isNetPoint(PARTITA!AC347)","v":"0"},{"$f":"OR(PARTITA!S347=1, PARTITA!T347=1)","v":false},{"$f":"IF(PARTITA!K347=1,OR(E347=\"1\",E347=\"3\",F347=TRUE),OR(E347=\"2\",E347=\"3\"))","v":false},{"$f":"IF(PARTITA!K347=2,OR(E347=\"1\",E347=\"3\",F347=TRUE),OR(E347=\"2\",E347=\"3\"))","v":false},{"$f":"AND(G347=TRUE,PARTITA!AN347=1)","v":false},{"$f":"AND(H347=TRUE,PARTITA!AN347=2)","v":false},{"$f":"IF(PARTITA!AN347=1,K346+1,0)","v":0},{"$f":"IF(PARTITA!AN347=2,L346+1,0)","v":0},{"$f":"PARTITA!A347","v":""},{"$f":"COUNTIFS(PARTITA!AN338:AN347, \"=1\")","v":0},{"$f":"COUNTIFS(PARTITA!AN338:AN347, \"=2\")","v":0},{"$f":"PARTITA!BA347","v":""}]
[{"$f":"AND(PARTITA!K348=2, COUNTIF(Tables!L$1:L$4, PARTITA!F348))","v":false},{"$f":"AND(PARTITA!K348=1, COUNTIF(Tables!L$1:L$4, PARTITA!F348))","v":false},{"$f":"AND(A348, PARTITA!AO348=0)","v":false},{"$f":"AND(B348, PARTITA!AO348=0)","v":false},{"$f":"isNetPoint(PARTITA!AC348)","v":"0"},{"$f":"OR(PARTITA!S348=1, PARTITA!T348=1)","v":false},{"$f":"IF(PARTITA!K348=1,OR(E348=\"1\",E348=\"3\",F348=TRUE),OR(E348=\"2\",E348=\"3\"))","v":false},{"$f":"IF(PARTITA!K348=2,OR(E348=\"1\",E348=\"3\",F348=TRUE),OR(E348=\"2\",E348=\"3\"))","v":false},{"$f":"AND(G348=TRUE,PARTITA!AN348=1)","v":false},{"$f":"AND(H348=TRUE,PARTITA!AN348=2)","v":false},{"$f":"IF(PARTITA!AN348=1,K347+1,0)","v":0},{"$f":"IF(PARTITA!AN348=2,L347+1,0)","v":0},{"$f":"PARTITA!A348","v":""},{"$f":"COUNTIFS(PARTITA!AN339:AN348, \"=1\")","v":0},{"$f":"COUNTIFS(PARTITA!AN339:AN348, \"=2\")","v":0},{"$f":"PARTITA!BA348","v":""}]
[{"$f":"AND(PARTITA!K349=2, COUNTIF(Tables!L$1:L$4, PARTITA!F349))","v":false},{"$f":"AND(PARTITA!K349=1, COUNTIF(Tables!L$1:L$4, PARTITA!F349))","v":false},{"$f":"AND(A349, PARTITA!AO349=0)","v":false},{"$f":"AND(B349, PARTITA!AO349=0)","v":false},{"$f":"isNetPoint(PARTITA!AC349)","v":"0"},{"$f":"OR(PARTITA!S349=1, PARTITA!T349=1)","v":false},{"$f":"IF(PARTITA!K349=1,OR(E349=\"1\",E349=\"3\",F349=TRUE),OR(E349=\"2\",E349=\"3\"))","v":false},{"$f":"IF(PARTITA!K349=2,OR(E349=\"1\",E349=\"3\",F349=TRUE),OR(E349=\"2\",E349=\"3\"))","v":false},{"$f":"AND(G349=TRUE,PARTITA!AN349=1)","v":false},{"$f":"AND(H349=TRUE,PARTITA!AN349=2)","v":false},{"$f":"IF(PARTITA!AN349=1,K348+1,0)","v":0},{"$f":"IF(PARTITA!AN349=2,L348+1,0)","v":0},{"$f":"PARTITA!A349","v":""},{"$f":"COUNTIFS(PARTITA!AN340:AN349, \"=1\")","v":0},{"$f":"COUNTIFS(PARTITA!AN340:AN349, \"=2\")","v":0},{"$f":"PARTITA!BA349","v":""}]
[{"$f":"AND(PARTITA!K350=2, COUNTIF(Tables!L$1:L$4, PARTITA!F350))","v":false},{"$f":"AND(PARTITA!K350=1, COUNTIF(Tables!L$1:L$4, PARTITA!F350))","v":false},{"$f":"AND(A350, PARTITA!AO350=0)","v":false},{"$f":"AND(B350, PARTITA!AO350=0)","v":false},{"$f":"isNetPoint(PARTITA!AC350)","v":"0"},{"$f":"OR(PARTITA!S350=1, PARTITA!T350=1)","v":false},{"$f":"IF(PARTITA!K350=1,OR(E350=\"1\",E350=\"3\",F350=TRUE),OR(E350=\"2\",E350=\"3\"))","v":false},{"$f":"IF(PARTITA!K350=2,OR(E350=\"1\",E350=\"3\",F350=TRUE),OR(E350=\"2\",E350=\"3\"))","v":false},{"$f":"AND(G350=TRUE,PARTITA!AN350=1)","v":false},{"$f":"AND(H350=TRUE,PARTITA!AN350=2)","v":false},{"$f":"IF(PARTITA!AN350=1,K349+1,0)","v":0},{"$f":"IF(PARTITA!AN350=2,L349+1,0)","v":0},{"$f":"PARTITA!A350","v":""},{"$f":"COUNTIFS(PARTITA!AN341:AN350, \"=1\")","v":0},{"$f":"COUNTIFS(PARTITA!AN341:AN350, \"=2\")","v":0},{"$f":"PARTITA!BA350","v":""}]
[{"$f":"AND(PARTITA!K351=2, COUNTIF(Tables!L$1:L$4, PARTITA!F351))","v":false},{"$f":"AND(PARTITA!K351=1, COUNTIF(Tables!L$1:L$4, PARTITA!F351))","v":false},{"$f":"AND(A351, PARTITA!AO351=0)","v":false},{"$f":"AND(B351, PARTITA!AO351=0)","v":false},{"$f":"isNetPoint(PARTITA!AC351)","v":"0"},{"$f":"OR(PARTITA!S351=1, PARTITA!T351=1)","v":false},{"$f":"IF(PARTITA!K351=1,OR(E351=\"1\",E351=\"3\",F351=TRUE),OR(E351=\"2\",E351=\"3\"))","v":false},{"$f":"IF(PARTITA!K351=2,OR(E351=\"1\",E351=\"3\",F351=TRUE),OR(E351=\"2\",E351=\"3\"))","v":false},{"$f":"AND(G351=TRUE,PARTITA!AN351=1)","v":false},{"$f":"AND(H351=TRUE,PARTITA!AN351=2)","v":false},{"$f":"IF(PARTITA!AN351=1,K350+1,0)","v":0},{"$f":"IF(PARTITA!AN351=2,L350+1,0)","v":0},{"$f":"PARTITA!A351","v":""},{"$f":"COUNTIFS(PARTITA!AN342:AN351, \"=1\")","v":0},{"$f":"COUNTIFS(PARTITA!AN342:AN351, \"=2\")","v":0},{"$f":"PARTITA!BA351","v":""}]
[{"$f":"AND(PARTITA!K352=2, COUNTIF(Tables!L$1:L$4, PARTITA!F352))","v":false},{"$f":"AND(PARTITA!K352=1, COUNTIF(Tables!L$1:L$4, PARTITA!F352))","v":false},{"$f":"AND(A352, PARTITA!AO352=0)","v":false},{"$f":"AND(B352, PARTITA!AO352=0)","v":false},{"$f":"isNetPoint(PARTITA!AC352)","v":"0"},{"$f":"OR(PARTITA!S352=1, PARTITA!T352=1)","v":false},{"$f":"IF(PARTITA!K352=1,OR(E352=\"1\",E352=\"3\",F352=TRUE),OR(E352=\"2\",E352=\"3\"))","v":false},{"$f":"IF(PARTITA!K352=2,OR(E352=\"1\",E352=\"3\",F352=TRUE),OR(E352=\"2\",E352=\"3\"))","v":false},{"$f":"AND(G352=TRUE,PARTITA!AN352=1)","v":false},{"$f":"AND(H352=TRUE,PARTITA!AN352=2)","v":false},{"$f":"IF(PARTITA!AN352=1,K351+1,0)","v":0},{"$f":"IF(PARTITA!AN352=2,L351+1,0)","v":0},{"$f":"PARTITA!A352","v":""},{"$f":"COUNTIFS(PARTITA!AN343:AN352, \"=1\")","v":0},{"$f":"COUNTIFS(PARTITA!AN343:AN352, \"=2\")","v":0},{"$f":"PARTITA!BA352","v":""}]
[{"$f":"AND(PARTITA!K353=2, COUNTIF(Tables!L$1:L$4, PARTITA!F353))","v":false},{"$f":"AND(PARTITA!K353=1, COUNTIF(Tables!L$1:L$4, PARTITA!F353))","v":false},{"$f":"AND(A353, PARTITA!AO353=0)","v":false},{"$f":"AND(B353, PARTITA!AO353=0)","v":false},{"$f":"isNetPoint(PARTITA!AC353)","v":"0"},{"$f":"OR(PARTITA!S353=1, PARTITA!T353=1)","v":false},{"$f":"IF(PARTITA!K353=1,OR(E353=\"1\",E353=\"3\",F353=TRUE),OR(E353=\"2\",E353=\"3\"))","v":false},{"$f":"IF(PARTITA!K353=2,OR(E353=\"1\",E353=\"3\",F353=TRUE),OR(E353=\"2\",E353=\"3\"))","v":false},{"$f":"AND(G353=TRUE,PARTITA!AN353=1)","v":false},{"$f":"AND(H353=TRUE,PARTITA!AN353=2)","v":false},{"$f":"IF(PARTITA!AN353=1,K352+1,0)","v":0},{"$f":"IF(PARTITA!AN353=2,L352+1,0)","v":0},{"$f":"PARTITA!A353","v":""},{"$f":"COUNTIFS(PARTITA!AN344:AN353, \"=1\")","v":0},{"$f":"COUNTIFS(PARTITA!AN344:AN353, \"=2\")","v":0},{"$f":"PARTITA!BA353","v":""}]
[{"$f":"AND(PARTITA!K354=2, COUNTIF(Tables!L$1:L$4, PARTITA!F354))","v":false},{"$f":"AND(PARTITA!K354=1, COUNTIF(Tables!L$1:L$4, PARTITA!F354))","v":false},{"$f":"AND(A354, PARTITA!AO354=0)","v":false},{"$f":"AND(B354, PARTITA!AO354=0)","v":false},{"$f":"isNetPoint(PARTITA!AC354)","v":"0"},{"$f":"OR(PARTITA!S354=1, PARTITA!T354=1)","v":false},{"$f":"IF(PARTITA!K354=1,OR(E354=\"1\",E354=\"3\",F354=TRUE),OR(E354=\"2\",E354=\"3\"))","v":false},{"$f":"IF(PARTITA!K354=2,OR(E354=\"1\",E354=\"3\",F354=TRUE),OR(E354=\"2\",E354=\"3\"))","v":false},{"$f":"AND(G354=TRUE,PARTITA!AN354=1)","v":false},{"$f":"AND(H354=TRUE,PARTITA!AN354=2)","v":false},{"$f":"IF(PARTITA!AN354=1,K353+1,0)","v":0},{"$f":"IF(PARTITA!AN354=2,L353+1,0)","v":0},{"$f":"PARTITA!A354","v":""},{"$f":"COUNTIFS(PARTITA!AN345:AN354, \"=1\")","v":0},{"$f":"COUNTIFS(PARTITA!AN345:AN354, \"=2\")","v":0},{"$f":"PARTITA!BA354","v":""}]
[{"$f":"AND(PARTITA!K355=2, COUNTIF(Tables!L$1:L$4, PARTITA!F355))","v":false},{"$f":"AND(PARTITA!K355=1, COUNTIF(Tables!L$1:L$4, PARTITA!F355))","v":false},{"$f":"AND(A355, PARTITA!AO355=0)","v":false},{"$f":"AND(B355, PARTITA!AO355=0)","v":false},{"$f":"isNetPoint(PARTITA!AC355)","v":"0"},{"$f":"OR(PARTITA!S355=1, PARTITA!T355=1)","v":false},{"$f":"IF(PARTITA!K355=1,OR(E355=\"1\",E355=\"3\",F355=TRUE),OR(E355=\"2\",E355=\"3\"))","v":false},{"$f":"IF(PARTITA!K355=2,OR(E355=\"1\",E355=\"3\",F355=TRUE),OR(E355=\"2\",E355=\"3\"))","v":false},{"$f":"AND(G355=TRUE,PARTITA!AN355=1)","v":false},{"$f":"AND(H355=TRUE,PARTITA!AN355=2)","v":false},{"$f":"IF(PARTITA!AN355=1,K354+1,0)","v":0},{"$f":"IF(PARTITA!AN355=2,L354+1,0)","v":0},{"$f":"PARTITA!A355","v":""},{"$f":"COUNTIFS(PARTITA!AN346:AN355, \"=1\")","v":0},{"$f":"COUNTIFS(PARTITA!AN346:AN355, \"=2\")","v":0},{"$f":"PARTITA!BA355","v":""}]
[{"$f":"AND(PARTITA!K356=2, COUNTIF(Tables!L$1:L$4, PARTITA!F356))","v":false},{"$f":"AND(PARTITA!K356=1, COUNTIF(Tables!L$1:L$4, PARTITA!F356))","v":false},{"$f":"AND(A356, PARTITA!AO356=0)","v":false},{"$f":"AND(B356, PARTITA!AO356=0)","v":false},{"$f":"isNetPoint(PARTITA!AC356)","v":"0"},{"$f":"OR(PARTITA!S356=1, PARTITA!T356=1)","v":false},{"$f":"IF(PARTITA!K356=1,OR(E356=\"1\",E356=\"3\",F356=TRUE),OR(E356=\"2\",E356=\"3\"))","v":false},{"$f":"IF(PARTITA!K356=2,OR(E356=\"1\",E356=\"3\",F356=TRUE),OR(E356=\"2\",E356=\"3\"))","v":false},{"$f":"AND(G356=TRUE,PARTITA!AN356=1)","v":false},{"$f":"AND(H356=TRUE,PARTITA!AN356=2)","v":false},{"$f":"IF(PARTITA!AN356=1,K355+1,0)","v":0},{"$f":"IF(PARTITA!AN356=2,L355+1,0)","v":0},{"$f":"PARTITA!A356","v":""},{"$f":"COUNTIFS(PARTITA!AN347:AN356, \"=1\")","v":0},{"$f":"COUNTIFS(PARTITA!AN347:AN356, \"=2\")","v":0},{"$f":"PARTITA!BA356","v":""}]
[{"$f":"AND(PARTITA!K357=2, COUNTIF(Tables!L$1:L$4, PARTITA!F357))","v":false},{"$f":"AND(PARTITA!K357=1, COUNTIF(Tables!L$1:L$4, PARTITA!F357))","v":false},{"$f":"AND(A357, PARTITA!AO357=0)","v":false},{"$f":"AND(B357, PARTITA!AO357=0)","v":false},{"$f":"isNetPoint(PARTITA!AC357)","v":"0"},{"$f":"OR(PARTITA!S357=1, PARTITA!T357=1)","v":false},{"$f":"IF(PARTITA!K357=1,OR(E357=\"1\",E357=\"3\",F357=TRUE),OR(E357=\"2\",E357=\"3\"))","v":false},{"$f":"IF(PARTITA!K357=2,OR(E357=\"1\",E357=\"3\",F357=TRUE),OR(E357=\"2\",E357=\"3\"))","v":false},{"$f":"AND(G357=TRUE,PARTITA!AN357=1)","v":false},{"$f":"AND(H357=TRUE,PARTITA!AN357=2)","v":false},{"$f":"IF(PARTITA!AN357=1,K356+1,0)","v":0},{"$f":"IF(PARTITA!AN357=2,L356+1,0)","v":0},{"$f":"PARTITA!A357","v":""},{"$f":"COUNTIFS(PARTITA!AN348:AN357, \"=1\")","v":0},{"$f":"COUNTIFS(PARTITA!AN348:AN357, \"=2\")","v":0},{"$f":"PARTITA!BA357","v":""}]
[{"$f":"AND(PARTITA!K358=2, COUNTIF(Tables!L$1:L$4, PARTITA!F358))","v":false},{"$f":"AND(PARTITA!K358=1, COUNTIF(Tables!L$1:L$4, PARTITA!F358))","v":false},{"$f":"AND(A358, PARTITA!AO358=0)","v":false},{"$f":"AND(B358, PARTITA!AO358=0)","v":false},{"$f":"isNetPoint(PARTITA!AC358)","v":"0"},{"$f":"OR(PARTITA!S358=1, PARTITA!T358=1)","v":false},{"$f":"IF(PARTITA!K358=1,OR(E358=\"1\",E358=\"3\",F358=TRUE),OR(E358=\"2\",E358=\"3\"))","v":false},{"$f":"IF(PARTITA!K358=2,OR(E358=\"1\",E358=\"3\",F358=TRUE),OR(E358=\"2\",E358=\"3\"))","v":false},{"$f":"AND(G358=TRUE,PARTITA!AN358=1)","v":false},{"$f":"AND(H358=TRUE,PARTITA!AN358=2)","v":false},{"$f":"IF(PARTITA!AN358=1,K357+1,0)","v":0},{"$f":"IF(PARTITA!AN358=2,L357+1,0)","v":0},{"$f":"PARTITA!A358","v":""},{"$f":"COUNTIFS(PARTITA!AN349:AN358, \"=1\")","v":0},{"$f":"COUNTIFS(PARTITA!AN349:AN358, \"=2\")","v":0},{"$f":"PARTITA!BA358","v":""}]
[{"$f":"AND(PARTITA!K359=2, COUNTIF(Tables!L$1:L$4, PARTITA!F359))","v":false},{"$f":"AND(PARTITA!K359=1, COUNTIF(Tables!L$1:L$4, PARTITA!F359))","v":false},{"$f":"AND(A359, PARTITA!AO359=0)","v":false},{"$f":"AND(B359, PARTITA!AO359=0)","v":false},{"$f":"isNetPoint(PARTITA!AC359)","v":"0"},{"$f":"OR(PARTITA!S359=1, PARTITA!T359=1)","v":false},{"$f":"IF(PARTITA!K359=1,OR(E359=\"1\",E359=\"3\",F359=TRUE),OR(E359=\"2\",E359=\"3\"))","v":false},{"$f":"IF(PARTITA!K359=2,OR(E359=\"1\",E359=\"3\",F359=TRUE),OR(E359=\"2\",E359=\"3\"))","v":false},{"$f":"AND(G359=TRUE,PARTITA!AN359=1)","v":false},{"$f":"AND(H359=TRUE,PARTITA!AN359=2)","v":false},{"$f":"IF(PARTITA!AN359=1,K358+1,0)","v":0},{"$f":"IF(PARTITA!AN359=2,L358+1,0)","v":0},{"$f":"PARTITA!A359","v":""},{"$f":"COUNTIFS(PARTITA!AN350:AN359, \"=1\")","v":0},{"$f":"COUNTIFS(PARTITA!AN350:AN359, \"=2\")","v":0},{"$f":"PARTITA!BA359","v":""}]
[{"$f":"AND(PARTITA!K360=2, COUNTIF(Tables!L$1:L$4, PARTITA!F360))","v":false},{"$f":"AND(PARTITA!K360=1, COUNTIF(Tables!L$1:L$4, PARTITA!F360))","v":false},{"$f":"AND(A360, PARTITA!AO360=0)","v":false},{"$f":"AND(B360, PARTITA!AO360=0)","v":false},{"$f":"isNetPoint(PARTITA!AC360)","v":"0"},{"$f":"OR(PARTITA!S360=1, PARTITA!T360=1)","v":false},{"$f":"IF(PARTITA!K360=1,OR(E360=\"1\",E360=\"3\",F360=TRUE),OR(E360=\"2\",E360=\"3\"))","v":false},{"$f":"IF(PARTITA!K360=2,OR(E360=\"1\",E360=\"3\",F360=TRUE),OR(E360=\"2\",E360=\"3\"))","v":false},{"$f":"AND(G360=TRUE,PARTITA!AN360=1)","v":false},{"$f":"AND(H360=TRUE,PARTITA!AN360=2)","v":false},{"$f":"IF(PARTITA!AN360=1,K359+1,0)","v":0},{"$f":"IF(PARTITA!AN360=2,L359+1,0)","v":0},{"$f":"PARTITA!A360","v":""},{"$f":"COUNTIFS(PARTITA!AN351:AN360, \"=1\")","v":0},{"$f":"COUNTIFS(PARTITA!AN351:AN360, \"=2\")","v":0},{"$f":"PARTITA!BA360","v":""}]
[{"$f":"AND(PARTITA!K361=2, COUNTIF(Tables!L$1:L$4, PARTITA!F361))","v":false},{"$f":"AND(PARTITA!K361=1, COUNTIF(Tables!L$1:L$4, PARTITA!F361))","v":false},{"$f":"AND(A361, PARTITA!AO361=0)","v":false},{"$f":"AND(B361, PARTITA!AO361=0)","v":false},{"$f":"isNetPoint(PARTITA!AC361)","v":"0"},{"$f":"OR(PARTITA!S361=1, PARTITA!T361=1)","v":false},{"$f":"IF(PARTITA!K361=1,OR(E361=\"1\",E361=\"3\",F361=TRUE),OR(E361=\"2\",E361=\"3\"))","v":false},{"$f":"IF(PARTITA!K361=2,OR(E361=\"1\",E361=\"3\",F361=TRUE),OR(E361=\"2\",E361=\"3\"))","v":false},{"$f":"AND(G361=TRUE,PARTITA!AN361=1)","v":false},{"$f":"AND(H361=TRUE,PARTITA!AN361=2)","v":false},{"$f":"IF(PARTITA!AN361=1,K360+1,0)","v":0},{"$f":"IF(PARTITA!AN361=2,L360+1,0)","v":0},{"$f":"PARTITA!A361","v":""},{"$f":"COUNTIFS(PARTITA!AN352:AN361, \"=1\")","v":0},{"$f":"COUNTIFS(PARTITA!AN352:AN361, \"=2\")","v":0},{"$f":"PARTITA!BA361","v":""}]
[{"$f":"AND(PARTITA!K362=2, COUNTIF(Tables!L$1:L$4, PARTITA!F362))","v":false},{"$f":"AND(PARTITA!K362=1, COUNTIF(Tables!L$1:L$4, PARTITA!F362))","v":false},{"$f":"AND(A362, PARTITA!AO362=0)","v":false},{"$f":"AND(B362, PARTITA!AO362=0)","v":false},{"$f":"isNetPoint(PARTITA!AC362)","v":"0"},{"$f":"OR(PARTITA!S362=1, PARTITA!T362=1)","v":false},{"$f":"IF(PARTITA!K362=1,OR(E362=\"1\",E362=\"3\",F362=TRUE),OR(E362=\"2\",E362=\"3\"))","v":false},{"$f":"IF(PARTITA!K362=2,OR(E362=\"1\",E362=\"3\",F362=TRUE),OR(E362=\"2\",E362=\"3\"))","v":false},{"$f":"AND(G362=TRUE,PARTITA!AN362=1)","v":false},{"$f":"AND(H362=TRUE,PARTITA!AN362=2)","v":false},{"$f":"IF(PARTITA!AN362=1,K361+1,0)","v":0},{"$f":"IF(PARTITA!AN362=2,L361+1,0)","v":0},{"$f":"PARTITA!A362","v":""},{"$f":"COUNTIFS(PARTITA!AN353:AN362, \"=1\")","v":0},{"$f":"COUNTIFS(PARTITA!AN353:AN362, \"=2\")","v":0},{"$f":"PARTITA!BA362","v":""}]
[{"$f":"AND(PARTITA!K363=2, COUNTIF(Tables!L$1:L$4, PARTITA!F363))","v":false},{"$f":"AND(PARTITA!K363=1, COUNTIF(Tables!L$1:L$4, PARTITA!F363))","v":false},{"$f":"AND(A363, PARTITA!AO363=0)","v":false},{"$f":"AND(B363, PARTITA!AO363=0)","v":false},{"$f":"isNetPoint(PARTITA!AC363)","v":"0"},{"$f":"OR(PARTITA!S363=1, PARTITA!T363=1)","v":false},{"$f":"IF(PARTITA!K363=1,OR(E363=\"1\",E363=\"3\",F363=TRUE),OR(E363=\"2\",E363=\"3\"))","v":false},{"$f":"IF(PARTITA!K363=2,OR(E363=\"1\",E363=\"3\",F363=TRUE),OR(E363=\"2\",E363=\"3\"))","v":false},{"$f":"AND(G363=TRUE,PARTITA!AN363=1)","v":false},{"$f":"AND(H363=TRUE,PARTITA!AN363=2)","v":false},{"$f":"IF(PARTITA!AN363=1,K362+1,0)","v":0},{"$f":"IF(PARTITA!AN363=2,L362+1,0)","v":0},{"$f":"PARTITA!A363","v":""},{"$f":"COUNTIFS(PARTITA!AN354:AN363, \"=1\")","v":0},{"$f":"COUNTIFS(PARTITA!AN354:AN363, \"=2\")","v":0},{"$f":"PARTITA!BA363","v":""}]
[{"$f":"AND(PARTITA!K364=2, COUNTIF(Tables!L$1:L$4, PARTITA!F364))","v":false},{"$f":"AND(PARTITA!K364=1, COUNTIF(Tables!L$1:L$4, PARTITA!F364))","v":false},{"$f":"AND(A364, PARTITA!AO364=0)","v":false},{"$f":"AND(B364, PARTITA!AO364=0)","v":false},{"$f":"isNetPoint(PARTITA!AC364)","v":"0"},{"$f":"OR(PARTITA!S364=1, PARTITA!T364=1)","v":false},{"$f":"IF(PARTITA!K364=1,OR(E364=\"1\",E364=\"3\",F364=TRUE),OR(E364=\"2\",E364=\"3\"))","v":false},{"$f":"IF(PARTITA!K364=2,OR(E364=\"1\",E364=\"3\",F364=TRUE),OR(E364=\"2\",E364=\"3\"))","v":false},{"$f":"AND(G364=TRUE,PARTITA!AN364=1)","v":false},{"$f":"AND(H364=TRUE,PARTITA!AN364=2)","v":false},{"$f":"IF(PARTITA!AN364=1,K363+1,0)","v":0},{"$f":"IF(PARTITA!AN364=2,L363+1,0)","v":0},{"$f":"PARTITA!A364","v":""},{"$f":"COUNTIFS(PARTITA!AN355:AN364, \"=1\")","v":0},{"$f":"COUNTIFS(PARTITA!AN355:AN364, \"=2\")","v":0},{"$f":"PARTITA!BA364","v":""}]
[{"$f":"AND(PARTITA!K365=2, COUNTIF(Tables!L$1:L$4, PARTITA!F365))","v":false},{"$f":"AND(PARTITA!K365=1, COUNTIF(Tables!L$1:L$4, PARTITA!F365))","v":false},{"$f":"AND(A365, PARTITA!AO365=0)","v":false},{"$f":"AND(B365, PARTITA!AO365=0)","v":false},{"$f":"isNetPoint(PARTITA!AC365)","v":"0"},{"$f":"OR(PARTITA!S365=1, PARTITA!T365=1)","v":false},{"$f":"IF(PARTITA!K365=1,OR(E365=\"1\",E365=\"3\",F365=TRUE),OR(E365=\"2\",E365=\"3\"))","v":false},{"$f":"IF(PARTITA!K365=2,OR(E365=\"1\",E365=\"3\",F365=TRUE),OR(E365=\"2\",E365=\"3\"))","v":false},{"$f":"AND(G365=TRUE,PARTITA!AN365=1)","v":false},{"$f":"AND(H365=TRUE,PARTITA!AN365=2)","v":false},{"$f":"IF(PARTITA!AN365=1,K364+1,0)","v":0},{"$f":"IF(PARTITA!AN365=2,L364+1,0)","v":0},{"$f":"PARTITA!A365","v":""},{"$f":"COUNTIFS(PARTITA!AN356:AN365, \"=1\")","v":0},{"$f":"COUNTIFS(PARTITA!AN356:AN365, \"=2\")","v":0},{"$f":"PARTITA!BA365","v":""}]
[{"$f":"AND(PARTITA!K366=2, COUNTIF(Tables!L$1:L$4, PARTITA!F366))","v":false},{"$f":"AND(PARTITA!K366=1, COUNTIF(Tables!L$1:L$4, PARTITA!F366))","v":false},{"$f":"AND(A366, PARTITA!AO366=0)","v":false},{"$f":"AND(B366, PARTITA!AO366=0)","v":false},{"$f":"isNetPoint(PARTITA!AC366)","v":"0"},{"$f":"OR(PARTITA!S366=1, PARTITA!T366=1)","v":false},{"$f":"IF(PARTITA!K366=1,OR(E366=\"1\",E366=\"3\",F366=TRUE),OR(E366=\"2\",E366=\"3\"))","v":false},{"$f":"IF(PARTITA!K366=2,OR(E366=\"1\",E366=\"3\",F366=TRUE),OR(E366=\"2\",E366=\"3\"))","v":false},{"$f":"AND(G366=TRUE,PARTITA!AN366=1)","v":false},{"$f":"AND(H366=TRUE,PARTITA!AN366=2)","v":false},{"$f":"IF(PARTITA!AN366=1,K365+1,0)","v":0},{"$f":"IF(PARTITA!AN366=2,L365+1,0)","v":0},{"$f":"PARTITA!A366","v":""},{"$f":"COUNTIFS(PARTITA!AN357:AN366, \"=1\")","v":0},{"$f":"COUNTIFS(PARTITA!AN357:AN366, \"=2\")","v":0},{"$f":"PARTITA!BA366","v":""}]
[{"$f":"AND(PARTITA!K367=2, COUNTIF(Tables!L$1:L$4, PARTITA!F367))","v":false},{"$f":"AND(PARTITA!K367=1, COUNTIF(Tables!L$1:L$4, PARTITA!F367))","v":false},{"$f":"AND(A367, PARTITA!AO367=0)","v":false},{"$f":"AND(B367, PARTITA!AO367=0)","v":false},{"$f":"isNetPoint(PARTITA!AC367)","v":"0"},{"$f":"OR(PARTITA!S367=1, PARTITA!T367=1)","v":false},{"$f":"IF(PARTITA!K367=1,OR(E367=\"1\",E367=\"3\",F367=TRUE),OR(E367=\"2\",E367=\"3\"))","v":false},{"$f":"IF(PARTITA!K367=2,OR(E367=\"1\",E367=\"3\",F367=TRUE),OR(E367=\"2\",E367=\"3\"))","v":false},{"$f":"AND(G367=TRUE,PARTITA!AN367=1)","v":false},{"$f":"AND(H367=TRUE,PARTITA!AN367=2)","v":false},{"$f":"IF(PARTITA!AN367=1,K366+1,0)","v":0},{"$f":"IF(PARTITA!AN367=2,L366+1,0)","v":0},{"$f":"PARTITA!A367","v":""},{"$f":"COUNTIFS(PARTITA!AN358:AN367, \"=1\")","v":0},{"$f":"COUNTIFS(PARTITA!AN358:AN367, \"=2\")","v":0},{"$f":"PARTITA!BA367","v":""}]
[{"$f":"AND(PARTITA!K368=2, COUNTIF(Tables!L$1:L$4, PARTITA!F368))","v":false},{"$f":"AND(PARTITA!K368=1, COUNTIF(Tables!L$1:L$4, PARTITA!F368))","v":false},{"$f":"AND(A368, PARTITA!AO368=0)","v":false},{"$f":"AND(B368, PARTITA!AO368=0)","v":false},{"$f":"isNetPoint(PARTITA!AC368)","v":"0"},{"$f":"OR(PARTITA!S368=1, PARTITA!T368=1)","v":false},{"$f":"IF(PARTITA!K368=1,OR(E368=\"1\",E368=\"3\",F368=TRUE),OR(E368=\"2\",E368=\"3\"))","v":false},{"$f":"IF(PARTITA!K368=2,OR(E368=\"1\",E368=\"3\",F368=TRUE),OR(E368=\"2\",E368=\"3\"))","v":false},{"$f":"AND(G368=TRUE,PARTITA!AN368=1)","v":false},{"$f":"AND(H368=TRUE,PARTITA!AN368=2)","v":false},{"$f":"IF(PARTITA!AN368=1,K367+1,0)","v":0},{"$f":"IF(PARTITA!AN368=2,L367+1,0)","v":0},{"$f":"PARTITA!A368","v":""},{"$f":"COUNTIFS(PARTITA!AN359:AN368, \"=1\")","v":0},{"$f":"COUNTIFS(PARTITA!AN359:AN368, \"=2\")","v":0},{"$f":"PARTITA!BA368","v":""}]
[{"$f":"AND(PARTITA!K369=2, COUNTIF(Tables!L$1:L$4, PARTITA!F369))","v":false},{"$f":"AND(PARTITA!K369=1, COUNTIF(Tables!L$1:L$4, PARTITA!F369))","v":false},{"$f":"AND(A369, PARTITA!AO369=0)","v":false},{"$f":"AND(B369, PARTITA!AO369=0)","v":false},{"$f":"isNetPoint(PARTITA!AC369)","v":"0"},{"$f":"OR(PARTITA!S369=1, PARTITA!T369=1)","v":false},{"$f":"IF(PARTITA!K369=1,OR(E369=\"1\",E369=\"3\",F369=TRUE),OR(E369=\"2\",E369=\"3\"))","v":false},{"$f":"IF(PARTITA!K369=2,OR(E369=\"1\",E369=\"3\",F369=TRUE),OR(E369=\"2\",E369=\"3\"))","v":false},{"$f":"AND(G369=TRUE,PARTITA!AN369=1)","v":false},{"$f":"AND(H369=TRUE,PARTITA!AN369=2)","v":false},{"$f":"IF(PARTITA!AN369=1,K368+1,0)","v":0},{"$f":"IF(PARTITA!AN369=2,L368+1,0)","v":0},{"$f":"PARTITA!A369","v":""},{"$f":"COUNTIFS(PARTITA!AN360:AN369, \"=1\")","v":0},{"$f":"COUNTIFS(PARTITA!AN360:AN369, \"=2\")","v":0},{"$f":"PARTITA!BA369","v":""}]
[{"$f":"AND(PARTITA!K370=2, COUNTIF(Tables!L$1:L$4, PARTITA!F370))","v":false},{"$f":"AND(PARTITA!K370=1, COUNTIF(Tables!L$1:L$4, PARTITA!F370))","v":false},{"$f":"AND(A370, PARTITA!AO370=0)","v":false},{"$f":"AND(B370, PARTITA!AO370=0)","v":false},{"$f":"isNetPoint(PARTITA!AC370)","v":"0"},{"$f":"OR(PARTITA!S370=1, PARTITA!T370=1)","v":false},{"$f":"IF(PARTITA!K370=1,OR(E370=\"1\",E370=\"3\",F370=TRUE),OR(E370=\"2\",E370=\"3\"))","v":false},{"$f":"IF(PARTITA!K370=2,OR(E370=\"1\",E370=\"3\",F370=TRUE),OR(E370=\"2\",E370=\"3\"))","v":false},{"$f":"AND(G370=TRUE,PARTITA!AN370=1)","v":false},{"$f":"AND(H370=TRUE,PARTITA!AN370=2)","v":false},{"$f":"IF(PARTITA!AN370=1,K369+1,0)","v":0},{"$f":"IF(PARTITA!AN370=2,L369+1,0)","v":0},{"$f":"PARTITA!A370","v":""},{"$f":"COUNTIFS(PARTITA!AN361:AN370, \"=1\")","v":0},{"$f":"COUNTIFS(PARTITA!AN361:AN370, \"=2\")","v":0},{"$f":"PARTITA!BA370","v":""}]
[{"$f":"AND(PARTITA!K371=2, COUNTIF(Tables!L$1:L$4, PARTITA!F371))","v":false},{"$f":"AND(PARTITA!K371=1, COUNTIF(Tables!L$1:L$4, PARTITA!F371))","v":false},{"$f":"AND(A371, PARTITA!AO371=0)","v":false},{"$f":"AND(B371, PARTITA!AO371=0)","v":false},{"$f":"isNetPoint(PARTITA!AC371)","v":"0"},{"$f":"OR(PARTITA!S371=1, PARTITA!T371=1)","v":false},{"$f":"IF(PARTITA!K371=1,OR(E371=\"1\",E371=\"3\",F371=TRUE),OR(E371=\"2\",E371=\"3\"))","v":false},{"$f":"IF(PARTITA!K371=2,OR(E371=\"1\",E371=\"3\",F371=TRUE),OR(E371=\"2\",E371=\"3\"))","v":false},{"$f":"AND(G371=TRUE,PARTITA!AN371=1)","v":false},{"$f":"AND(H371=TRUE,PARTITA!AN371=2)","v":false},{"$f":"IF(PARTITA!AN371=1,K370+1,0)","v":0},{"$f":"IF(PARTITA!AN371=2,L370+1,0)","v":0},{"$f":"PARTITA!A371","v":""},{"$f":"COUNTIFS(PARTITA!AN362:AN371, \"=1\")","v":0},{"$f":"COUNTIFS(PARTITA!AN362:AN371, \"=2\")","v":0},{"$f":"PARTITA!BA371","v":""}]
[{"$f":"AND(PARTITA!K372=2, COUNTIF(Tables!L$1:L$4, PARTITA!F372))","v":false},{"$f":"AND(PARTITA!K372=1, COUNTIF(Tables!L$1:L$4, PARTITA!F372))","v":false},{"$f":"AND(A372, PARTITA!AO372=0)","v":false},{"$f":"AND(B372, PARTITA!AO372=0)","v":false},{"$f":"isNetPoint(PARTITA!AC372)","v":"0"},{"$f":"OR(PARTITA!S372=1, PARTITA!T372=1)","v":false},{"$f":"IF(PARTITA!K372=1,OR(E372=\"1\",E372=\"3\",F372=TRUE),OR(E372=\"2\",E372=\"3\"))","v":false},{"$f":"IF(PARTITA!K372=2,OR(E372=\"1\",E372=\"3\",F372=TRUE),OR(E372=\"2\",E372=\"3\"))","v":false},{"$f":"AND(G372=TRUE,PARTITA!AN372=1)","v":false},{"$f":"AND(H372=TRUE,PARTITA!AN372=2)","v":false},{"$f":"IF(PARTITA!AN372=1,K371+1,0)","v":0},{"$f":"IF(PARTITA!AN372=2,L371+1,0)","v":0},{"$f":"PARTITA!A372","v":""},{"$f":"COUNTIFS(PARTITA!AN363:AN372, \"=1\")","v":0},{"$f":"COUNTIFS(PARTITA!AN363:AN372, \"=2\")","v":0},{"$f":"PARTITA!BA372","v":""}]
[{"$f":"AND(PARTITA!K373=2, COUNTIF(Tables!L$1:L$4, PARTITA!F373))","v":false},{"$f":"AND(PARTITA!K373=1, COUNTIF(Tables!L$1:L$4, PARTITA!F373))","v":false},{"$f":"AND(A373, PARTITA!AO373=0)","v":false},{"$f":"AND(B373, PARTITA!AO373=0)","v":false},{"$f":"isNetPoint(PARTITA!AC373)","v":"0"},{"$f":"OR(PARTITA!S373=1, PARTITA!T373=1)","v":false},{"$f":"IF(PARTITA!K373=1,OR(E373=\"1\",E373=\"3\",F373=TRUE),OR(E373=\"2\",E373=\"3\"))","v":false},{"$f":"IF(PARTITA!K373=2,OR(E373=\"1\",E373=\"3\",F373=TRUE),OR(E373=\"2\",E373=\"3\"))","v":false},{"$f":"AND(G373=TRUE,PARTITA!AN373=1)","v":false},{"$f":"AND(H373=TRUE,PARTITA!AN373=2)","v":false},{"$f":"IF(PARTITA!AN373=1,K372+1,0)","v":0},{"$f":"IF(PARTITA!AN373=2,L372+1,0)","v":0},{"$f":"PARTITA!A373","v":""},{"$f":"COUNTIFS(PARTITA!AN364:AN373, \"=1\")","v":0},{"$f":"COUNTIFS(PARTITA!AN364:AN373, \"=2\")","v":0},{"$f":"PARTITA!BA373","v":""}]
[{"$f":"AND(PARTITA!K374=2, COUNTIF(Tables!L$1:L$4, PARTITA!F374))","v":false},{"$f":"AND(PARTITA!K374=1, COUNTIF(Tables!L$1:L$4, PARTITA!F374))","v":false},{"$f":"AND(A374, PARTITA!AO374=0)","v":false},{"$f":"AND(B374, PARTITA!AO374=0)","v":false},{"$f":"isNetPoint(PARTITA!AC374)","v":"0"},{"$f":"OR(PARTITA!S374=1, PARTITA!T374=1)","v":false},{"$f":"IF(PARTITA!K374=1,OR(E374=\"1\",E374=\"3\",F374=TRUE),OR(E374=\"2\",E374=\"3\"))","v":false},{"$f":"IF(PARTITA!K374=2,OR(E374=\"1\",E374=\"3\",F374=TRUE),OR(E374=\"2\",E374=\"3\"))","v":false},{"$f":"AND(G374=TRUE,PARTITA!AN374=1)","v":false},{"$f":"AND(H374=TRUE,PARTITA!AN374=2)","v":false},{"$f":"IF(PARTITA!AN374=1,K373+1,0)","v":0},{"$f":"IF(PARTITA!AN374=2,L373+1,0)","v":0},{"$f":"PARTITA!A374","v":""},{"$f":"COUNTIFS(PARTITA!AN365:AN374, \"=1\")","v":0},{"$f":"COUNTIFS(PARTITA!AN365:AN374, \"=2\")","v":0},{"$f":"PARTITA!BA374","v":""}]
[{"$f":"AND(PARTITA!K375=2, COUNTIF(Tables!L$1:L$4, PARTITA!F375))","v":false},{"$f":"AND(PARTITA!K375=1, COUNTIF(Tables!L$1:L$4, PARTITA!F375))","v":false},{"$f":"AND(A375, PARTITA!AO375=0)","v":false},{"$f":"AND(B375, PARTITA!AO375=0)","v":false},{"$f":"isNetPoint(PARTITA!AC375)","v":"0"},{"$f":"OR(PARTITA!S375=1, PARTITA!T375=1)","v":false},{"$f":"IF(PARTITA!K375=1,OR(E375=\"1\",E375=\"3\",F375=TRUE),OR(E375=\"2\",E375=\"3\"))","v":false},{"$f":"IF(PARTITA!K375=2,OR(E375=\"1\",E375=\"3\",F375=TRUE),OR(E375=\"2\",E375=\"3\"))","v":false},{"$f":"AND(G375=TRUE,PARTITA!AN375=1)","v":false},{"$f":"AND(H375=TRUE,PARTITA!AN375=2)","v":false},{"$f":"IF(PARTITA!AN375=1,K374+1,0)","v":0},{"$f":"IF(PARTITA!AN375=2,L374+1,0)","v":0},{"$f":"PARTITA!A375","v":""},{"$f":"COUNTIFS(PARTITA!AN366:AN375, \"=1\")","v":0},{"$f":"COUNTIFS(PARTITA!AN366:AN375, \"=2\")","v":0},{"$f":"PARTITA!BA375","v":""}]
[{"$f":"AND(PARTITA!K376=2, COUNTIF(Tables!L$1:L$4, PARTITA!F376))","v":false},{"$f":"AND(PARTITA!K376=1, COUNTIF(Tables!L$1:L$4, PARTITA!F376))","v":false},{"$f":"AND(A376, PARTITA!AO376=0)","v":false},{"$f":"AND(B376, PARTITA!AO376=0)","v":false},{"$f":"isNetPoint(PARTITA!AC376)","v":"0"},{"$f":"OR(PARTITA!S376=1, PARTITA!T376=1)","v":false},{"$f":"IF(PARTITA!K376=1,OR(E376=\"1\",E376=\"3\",F376=TRUE),OR(E376=\"2\",E376=\"3\"))","v":false},{"$f":"IF(PARTITA!K376=2,OR(E376=\"1\",E376=\"3\",F376=TRUE),OR(E376=\"2\",E376=\"3\"))","v":false},{"$f":"AND(G376=TRUE,PARTITA!AN376=1)","v":false},{"$f":"AND(H376=TRUE,PARTITA!AN376=2)","v":false},{"$f":"IF(PARTITA!AN376=1,K375+1,0)","v":0},{"$f":"IF(PARTITA!AN376=2,L375+1,0)","v":0},{"$f":"PARTITA!A376","v":""},{"$f":"COUNTIFS(PARTITA!AN367:AN376, \"=1\")","v":0},{"$f":"COUNTIFS(PARTITA!AN367:AN376, \"=2\")","v":0},{"$f":"PARTITA!BA376","v":""}]
[{"$f":"AND(PARTITA!K377=2, COUNTIF(Tables!L$1:L$4, PARTITA!F377))","v":false},{"$f":"AND(PARTITA!K377=1, COUNTIF(Tables!L$1:L$4, PARTITA!F377))","v":false},{"$f":"AND(A377, PARTITA!AO377=0)","v":false},{"$f":"AND(B377, PARTITA!AO377=0)","v":false},{"$f":"isNetPoint(PARTITA!AC377)","v":"0"},{"$f":"OR(PARTITA!S377=1, PARTITA!T377=1)","v":false},{"$f":"IF(PARTITA!K377=1,OR(E377=\"1\",E377=\"3\",F377=TRUE),OR(E377=\"2\",E377=\"3\"))","v":false},{"$f":"IF(PARTITA!K377=2,OR(E377=\"1\",E377=\"3\",F377=TRUE),OR(E377=\"2\",E377=\"3\"))","v":false},{"$f":"AND(G377=TRUE,PARTITA!AN377=1)","v":false},{"$f":"AND(H377=TRUE,PARTITA!AN377=2)","v":false},{"$f":"IF(PARTITA!AN377=1,K376+1,0)","v":0},{"$f":"IF(PARTITA!AN377=2,L376+1,0)","v":0},{"$f":"PARTITA!A377","v":""},{"$f":"COUNTIFS(PARTITA!AN368:AN377, \"=1\")","v":0},{"$f":"COUNTIFS(PARTITA!AN368:AN377, \"=2\")","v":0},{"$f":"PARTITA!BA377","v":""}]
[{"$f":"AND(PARTITA!K378=2, COUNTIF(Tables!L$1:L$4, PARTITA!F378))","v":false},{"$f":"AND(PARTITA!K378=1, COUNTIF(Tables!L$1:L$4, PARTITA!F378))","v":false},{"$f":"AND(A378, PARTITA!AO378=0)","v":false},{"$f":"AND(B378, PARTITA!AO378=0)","v":false},{"$f":"isNetPoint(PARTITA!AC378)","v":"0"},{"$f":"OR(PARTITA!S378=1, PARTITA!T378=1)","v":false},{"$f":"IF(PARTITA!K378=1,OR(E378=\"1\",E378=\"3\",F378=TRUE),OR(E378=\"2\",E378=\"3\"))","v":false},{"$f":"IF(PARTITA!K378=2,OR(E378=\"1\",E378=\"3\",F378=TRUE),OR(E378=\"2\",E378=\"3\"))","v":false},{"$f":"AND(G378=TRUE,PARTITA!AN378=1)","v":false},{"$f":"AND(H378=TRUE,PARTITA!AN378=2)","v":false},{"$f":"IF(PARTITA!AN378=1,K377+1,0)","v":0},{"$f":"IF(PARTITA!AN378=2,L377+1,0)","v":0},{"$f":"PARTITA!A378","v":""},{"$f":"COUNTIFS(PARTITA!AN369:AN378, \"=1\")","v":0},{"$f":"COUNTIFS(PARTITA!AN369:AN378, \"=2\")","v":0},{"$f":"PARTITA!BA378","v":""}]
[{"$f":"AND(PARTITA!K379=2, COUNTIF(Tables!L$1:L$4, PARTITA!F379))","v":false},{"$f":"AND(PARTITA!K379=1, COUNTIF(Tables!L$1:L$4, PARTITA!F379))","v":false},{"$f":"AND(A379, PARTITA!AO379=0)","v":false},{"$f":"AND(B379, PARTITA!AO379=0)","v":false},{"$f":"isNetPoint(PARTITA!AC379)","v":"0"},{"$f":"OR(PARTITA!S379=1, PARTITA!T379=1)","v":false},{"$f":"IF(PARTITA!K379=1,OR(E379=\"1\",E379=\"3\",F379=TRUE),OR(E379=\"2\",E379=\"3\"))","v":false},{"$f":"IF(PARTITA!K379=2,OR(E379=\"1\",E379=\"3\",F379=TRUE),OR(E379=\"2\",E379=\"3\"))","v":false},{"$f":"AND(G379=TRUE,PARTITA!AN379=1)","v":false},{"$f":"AND(H379=TRUE,PARTITA!AN379=2)","v":false},{"$f":"IF(PARTITA!AN379=1,K378+1,0)","v":0},{"$f":"IF(PARTITA!AN379=2,L378+1,0)","v":0},{"$f":"PARTITA!A379","v":""},{"$f":"COUNTIFS(PARTITA!AN370:AN379, \"=1\")","v":0},{"$f":"COUNTIFS(PARTITA!AN370:AN379, \"=2\")","v":0},{"$f":"PARTITA!BA379","v":""}]
[{"$f":"AND(PARTITA!K380=2, COUNTIF(Tables!L$1:L$4, PARTITA!F380))","v":false},{"$f":"AND(PARTITA!K380=1, COUNTIF(Tables!L$1:L$4, PARTITA!F380))","v":false},{"$f":"AND(A380, PARTITA!AO380=0)","v":false},{"$f":"AND(B380, PARTITA!AO380=0)","v":false},{"$f":"isNetPoint(PARTITA!AC380)","v":"0"},{"$f":"OR(PARTITA!S380=1, PARTITA!T380=1)","v":false},{"$f":"IF(PARTITA!K380=1,OR(E380=\"1\",E380=\"3\",F380=TRUE),OR(E380=\"2\",E380=\"3\"))","v":false},{"$f":"IF(PARTITA!K380=2,OR(E380=\"1\",E380=\"3\",F380=TRUE),OR(E380=\"2\",E380=\"3\"))","v":false},{"$f":"AND(G380=TRUE,PARTITA!AN380=1)","v":false},{"$f":"AND(H380=TRUE,PARTITA!AN380=2)","v":false},{"$f":"IF(PARTITA!AN380=1,K379+1,0)","v":0},{"$f":"IF(PARTITA!AN380=2,L379+1,0)","v":0},{"$f":"PARTITA!A380","v":""},{"$f":"COUNTIFS(PARTITA!AN371:AN380, \"=1\")","v":0},{"$f":"COUNTIFS(PARTITA!AN371:AN380, \"=2\")","v":0},{"$f":"PARTITA!BA380","v":""}]
[{"$f":"AND(PARTITA!K381=2, COUNTIF(Tables!L$1:L$4, PARTITA!F381))","v":false},{"$f":"AND(PARTITA!K381=1, COUNTIF(Tables!L$1:L$4, PARTITA!F381))","v":false},{"$f":"AND(A381, PARTITA!AO381=0)","v":false},{"$f":"AND(B381, PARTITA!AO381=0)","v":false},{"$f":"isNetPoint(PARTITA!AC381)","v":"0"},{"$f":"OR(PARTITA!S381=1, PARTITA!T381=1)","v":false},{"$f":"IF(PARTITA!K381=1,OR(E381=\"1\",E381=\"3\",F381=TRUE),OR(E381=\"2\",E381=\"3\"))","v":false},{"$f":"IF(PARTITA!K381=2,OR(E381=\"1\",E381=\"3\",F381=TRUE),OR(E381=\"2\",E381=\"3\"))","v":false},{"$f":"AND(G381=TRUE,PARTITA!AN381=1)","v":false},{"$f":"AND(H381=TRUE,PARTITA!AN381=2)","v":false},{"$f":"IF(PARTITA!AN381=1,K380+1,0)","v":0},{"$f":"IF(PARTITA!AN381=2,L380+1,0)","v":0},{"$f":"PARTITA!A381","v":""},{"$f":"COUNTIFS(PARTITA!AN372:AN381, \"=1\")","v":0},{"$f":"COUNTIFS(PARTITA!AN372:AN381, \"=2\")","v":0},{"$f":"PARTITA!BA381","v":""}]
[{"$f":"AND(PARTITA!K382=2, COUNTIF(Tables!L$1:L$4, PARTITA!F382))","v":false},{"$f":"AND(PARTITA!K382=1, COUNTIF(Tables!L$1:L$4, PARTITA!F382))","v":false},{"$f":"AND(A382, PARTITA!AO382=0)","v":false},{"$f":"AND(B382, PARTITA!AO382=0)","v":false},{"$f":"isNetPoint(PARTITA!AC382)","v":"0"},{"$f":"OR(PARTITA!S382=1, PARTITA!T382=1)","v":false},{"$f":"IF(PARTITA!K382=1,OR(E382=\"1\",E382=\"3\",F382=TRUE),OR(E382=\"2\",E382=\"3\"))","v":false},{"$f":"IF(PARTITA!K382=2,OR(E382=\"1\",E382=\"3\",F382=TRUE),OR(E382=\"2\",E382=\"3\"))","v":false},{"$f":"AND(G382=TRUE,PARTITA!AN382=1)","v":false},{"$f":"AND(H382=TRUE,PARTITA!AN382=2)","v":false},{"$f":"IF(PARTITA!AN382=1,K381+1,0)","v":0},{"$f":"IF(PARTITA!AN382=2,L381+1,0)","v":0},{"$f":"PARTITA!A382","v":""},{"$f":"COUNTIFS(PARTITA!AN373:AN382, \"=1\")","v":0},{"$f":"COUNTIFS(PARTITA!AN373:AN382, \"=2\")","v":0},{"$f":"PARTITA!BA382","v":""}]
[{"$f":"AND(PARTITA!K383=2, COUNTIF(Tables!L$1:L$4, PARTITA!F383))","v":false},{"$f":"AND(PARTITA!K383=1, COUNTIF(Tables!L$1:L$4, PARTITA!F383))","v":false},{"$f":"AND(A383, PARTITA!AO383=0)","v":false},{"$f":"AND(B383, PARTITA!AO383=0)","v":false},{"$f":"isNetPoint(PARTITA!AC383)","v":"0"},{"$f":"OR(PARTITA!S383=1, PARTITA!T383=1)","v":false},{"$f":"IF(PARTITA!K383=1,OR(E383=\"1\",E383=\"3\",F383=TRUE),OR(E383=\"2\",E383=\"3\"))","v":false},{"$f":"IF(PARTITA!K383=2,OR(E383=\"1\",E383=\"3\",F383=TRUE),OR(E383=\"2\",E383=\"3\"))","v":false},{"$f":"AND(G383=TRUE,PARTITA!AN383=1)","v":false},{"$f":"AND(H383=TRUE,PARTITA!AN383=2)","v":false},{"$f":"IF(PARTITA!AN383=1,K382+1,0)","v":0},{"$f":"IF(PARTITA!AN383=2,L382+1,0)","v":0},{"$f":"PARTITA!A383","v":""},{"$f":"COUNTIFS(PARTITA!AN374:AN383, \"=1\")","v":0},{"$f":"COUNTIFS(PARTITA!AN374:AN383, \"=2\")","v":0},{"$f":"PARTITA!BA383","v":""}]
[{"$f":"AND(PARTITA!K384=2, COUNTIF(Tables!L$1:L$4, PARTITA!F384))","v":false},{"$f":"AND(PARTITA!K384=1, COUNTIF(Tables!L$1:L$4, PARTITA!F384))","v":false},{"$f":"AND(A384, PARTITA!AO384=0)","v":false},{"$f":"AND(B384, PARTITA!AO384=0)","v":false},{"$f":"isNetPoint(PARTITA!AC384)","v":"0"},{"$f":"OR(PARTITA!S384=1, PARTITA!T384=1)","v":false},{"$f":"IF(PARTITA!K384=1,OR(E384=\"1\",E384=\"3\",F384=TRUE),OR(E384=\"2\",E384=\"3\"))","v":false},{"$f":"IF(PARTITA!K384=2,OR(E384=\"1\",E384=\"3\",F384=TRUE),OR(E384=\"2\",E384=\"3\"))","v":false},{"$f":"AND(G384=TRUE,PARTITA!AN384=1)","v":false},{"$f":"AND(H384=TRUE,PARTITA!AN384=2)","v":false},{"$f":"IF(PARTITA!AN384=1,K383+1,0)","v":0},{"$f":"IF(PARTITA!AN384=2,L383+1,0)","v":0},{"$f":"PARTITA!A384","v":""},{"$f":"COUNTIFS(PARTITA!AN375:AN384, \"=1\")","v":0},{"$f":"COUNTIFS(PARTITA!AN375:AN384, \"=2\")","v":0},{"$f":"PARTITA!BA384","v":""}]
[{"$f":"AND(PARTITA!K385=2, COUNTIF(Tables!L$1:L$4, PARTITA!F385))","v":false},{"$f":"AND(PARTITA!K385=1, COUNTIF(Tables!L$1:L$4, PARTITA!F385))","v":false},{"$f":"AND(A385, PARTITA!AO385=0)","v":false},{"$f":"AND(B385, PARTITA!AO385=0)","v":false},{"$f":"isNetPoint(PARTITA!AC385)","v":"0"},{"$f":"OR(PARTITA!S385=1, PARTITA!T385=1)","v":false},{"$f":"IF(PARTITA!K385=1,OR(E385=\"1\",E385=\"3\",F385=TRUE),OR(E385=\"2\",E385=\"3\"))","v":false},{"$f":"IF(PARTITA!K385=2,OR(E385=\"1\",E385=\"3\",F385=TRUE),OR(E385=\"2\",E385=\"3\"))","v":false},{"$f":"AND(G385=TRUE,PARTITA!AN385=1)","v":false},{"$f":"AND(H385=TRUE,PARTITA!AN385=2)","v":false},{"$f":"IF(PARTITA!AN385=1,K384+1,0)","v":0},{"$f":"IF(PARTITA!AN385=2,L384+1,0)","v":0},{"$f":"PARTITA!A385","v":""},{"$f":"COUNTIFS(PARTITA!AN376:AN385, \"=1\")","v":0},{"$f":"COUNTIFS(PARTITA!AN376:AN385, \"=2\")","v":0},{"$f":"PARTITA!BA385","v":""}]
[{"$f":"AND(PARTITA!K386=2, COUNTIF(Tables!L$1:L$4, PARTITA!F386))","v":false},{"$f":"AND(PARTITA!K386=1, COUNTIF(Tables!L$1:L$4, PARTITA!F386))","v":false},{"$f":"AND(A386, PARTITA!AO386=0)","v":false},{"$f":"AND(B386, PARTITA!AO386=0)","v":false},{"$f":"isNetPoint(PARTITA!AC386)","v":"0"},{"$f":"OR(PARTITA!S386=1, PARTITA!T386=1)","v":false},{"$f":"IF(PARTITA!K386=1,OR(E386=\"1\",E386=\"3\",F386=TRUE),OR(E386=\"2\",E386=\"3\"))","v":false},{"$f":"IF(PARTITA!K386=2,OR(E386=\"1\",E386=\"3\",F386=TRUE),OR(E386=\"2\",E386=\"3\"))","v":false},{"$f":"AND(G386=TRUE,PARTITA!AN386=1)","v":false},{"$f":"AND(H386=TRUE,PARTITA!AN386=2)","v":false},{"$f":"IF(PARTITA!AN386=1,K385+1,0)","v":0},{"$f":"IF(PARTITA!AN386=2,L385+1,0)","v":0},{"$f":"PARTITA!A386","v":""},{"$f":"COUNTIFS(PARTITA!AN377:AN386, \"=1\")","v":0},{"$f":"COUNTIFS(PARTITA!AN377:AN386, \"=2\")","v":0},{"$f":"PARTITA!BA386","v":""}]
[{"$f":"AND(PARTITA!K387=2, COUNTIF(Tables!L$1:L$4, PARTITA!F387))","v":false},{"$f":"AND(PARTITA!K387=1, COUNTIF(Tables!L$1:L$4, PARTITA!F387))","v":false},{"$f":"AND(A387, PARTITA!AO387=0)","v":false},{"$f":"AND(B387, PARTITA!AO387=0)","v":false},{"$f":"isNetPoint(PARTITA!AC387)","v":"0"},{"$f":"OR(PARTITA!S387=1, PARTITA!T387=1)","v":false},{"$f":"IF(PARTITA!K387=1,OR(E387=\"1\",E387=\"3\",F387=TRUE),OR(E387=\"2\",E387=\"3\"))","v":false},{"$f":"IF(PARTITA!K387=2,OR(E387=\"1\",E387=\"3\",F387=TRUE),OR(E387=\"2\",E387=\"3\"))","v":false},{"$f":"AND(G387=TRUE,PARTITA!AN387=1)","v":false},{"$f":"AND(H387=TRUE,PARTITA!AN387=2)","v":false},{"$f":"IF(PARTITA!AN387=1,K386+1,0)","v":0},{"$f":"IF(PARTITA!AN387=2,L386+1,0)","v":0},{"$f":"PARTITA!A387","v":""},{"$f":"COUNTIFS(PARTITA!AN378:AN387, \"=1\")","v":0},{"$f":"COUNTIFS(PARTITA!AN378:AN387, \"=2\")","v":0},{"$f":"PARTITA!BA387","v":""}]
[{"$f":"AND(PARTITA!K388=2, COUNTIF(Tables!L$1:L$4, PARTITA!F388))","v":false},{"$f":"AND(PARTITA!K388=1, COUNTIF(Tables!L$1:L$4, PARTITA!F388))","v":false},{"$f":"AND(A388, PARTITA!AO388=0)","v":false},{"$f":"AND(B388, PARTITA!AO388=0)","v":false},{"$f":"isNetPoint(PARTITA!AC388)","v":"0"},{"$f":"OR(PARTITA!S388=1, PARTITA!T388=1)","v":false},{"$f":"IF(PARTITA!K388=1,OR(E388=\"1\",E388=\"3\",F388=TRUE),OR(E388=\"2\",E388=\"3\"))","v":false},{"$f":"IF(PARTITA!K388=2,OR(E388=\"1\",E388=\"3\",F388=TRUE),OR(E388=\"2\",E388=\"3\"))","v":false},{"$f":"AND(G388=TRUE,PARTITA!AN388=1)","v":false},{"$f":"AND(H388=TRUE,PARTITA!AN388=2)","v":false},{"$f":"IF(PARTITA!AN388=1,K387+1,0)","v":0},{"$f":"IF(PARTITA!AN388=2,L387+1,0)","v":0},{"$f":"PARTITA!A388","v":""},{"$f":"COUNTIFS(PARTITA!AN379:AN388, \"=1\")","v":0},{"$f":"COUNTIFS(PARTITA!AN379:AN388, \"=2\")","v":0},{"$f":"PARTITA!BA388","v":""}]
[{"$f":"AND(PARTITA!K389=2, COUNTIF(Tables!L$1:L$4, PARTITA!F389))","v":false},{"$f":"AND(PARTITA!K389=1, COUNTIF(Tables!L$1:L$4, PARTITA!F389))","v":false},{"$f":"AND(A389, PARTITA!AO389=0)","v":false},{"$f":"AND(B389, PARTITA!AO389=0)","v":false},{"$f":"isNetPoint(PARTITA!AC389)","v":"0"},{"$f":"OR(PARTITA!S389=1, PARTITA!T389=1)","v":false},{"$f":"IF(PARTITA!K389=1,OR(E389=\"1\",E389=\"3\",F389=TRUE),OR(E389=\"2\",E389=\"3\"))","v":false},{"$f":"IF(PARTITA!K389=2,OR(E389=\"1\",E389=\"3\",F389=TRUE),OR(E389=\"2\",E389=\"3\"))","v":false},{"$f":"AND(G389=TRUE,PARTITA!AN389=1)","v":false},{"$f":"AND(H389=TRUE,PARTITA!AN389=2)","v":false},{"$f":"IF(PARTITA!AN389=1,K388+1,0)","v":0},{"$f":"IF(PARTITA!AN389=2,L388+1,0)","v":0},{"$f":"PARTITA!A389","v":""},{"$f":"COUNTIFS(PARTITA!AN380:AN389, \"=1\")","v":0},{"$f":"COUNTIFS(PARTITA!AN380:AN389, \"=2\")","v":0},{"$f":"PARTITA!BA389","v":""}]
[{"$f":"AND(PARTITA!K390=2, COUNTIF(Tables!L$1:L$4, PARTITA!F390))","v":false},{"$f":"AND(PARTITA!K390=1, COUNTIF(Tables!L$1:L$4, PARTITA!F390))","v":false},{"$f":"AND(A390, PARTITA!AO390=0)","v":false},{"$f":"AND(B390, PARTITA!AO390=0)","v":false},{"$f":"isNetPoint(PARTITA!AC390)","v":"0"},{"$f":"OR(PARTITA!S390=1, PARTITA!T390=1)","v":false},{"$f":"IF(PARTITA!K390=1,OR(E390=\"1\",E390=\"3\",F390=TRUE),OR(E390=\"2\",E390=\"3\"))","v":false},{"$f":"IF(PARTITA!K390=2,OR(E390=\"1\",E390=\"3\",F390=TRUE),OR(E390=\"2\",E390=\"3\"))","v":false},{"$f":"AND(G390=TRUE,PARTITA!AN390=1)","v":false},{"$f":"AND(H390=TRUE,PARTITA!AN390=2)","v":false},{"$f":"IF(PARTITA!AN390=1,K389+1,0)","v":0},{"$f":"IF(PARTITA!AN390=2,L389+1,0)","v":0},{"$f":"PARTITA!A390","v":""},{"$f":"COUNTIFS(PARTITA!AN381:AN390, \"=1\")","v":0},{"$f":"COUNTIFS(PARTITA!AN381:AN390, \"=2\")","v":0},{"$f":"PARTITA!BA390","v":""}]
[{"$f":"AND(PARTITA!K391=2, COUNTIF(Tables!L$1:L$4, PARTITA!F391))","v":false},{"$f":"AND(PARTITA!K391=1, COUNTIF(Tables!L$1:L$4, PARTITA!F391))","v":false},{"$f":"AND(A391, PARTITA!AO391=0)","v":false},{"$f":"AND(B391, PARTITA!AO391=0)","v":false},{"$f":"isNetPoint(PARTITA!AC391)","v":"0"},{"$f":"OR(PARTITA!S391=1, PARTITA!T391=1)","v":false},{"$f":"IF(PARTITA!K391=1,OR(E391=\"1\",E391=\"3\",F391=TRUE),OR(E391=\"2\",E391=\"3\"))","v":false},{"$f":"IF(PARTITA!K391=2,OR(E391=\"1\",E391=\"3\",F391=TRUE),OR(E391=\"2\",E391=\"3\"))","v":false},{"$f":"AND(G391=TRUE,PARTITA!AN391=1)","v":false},{"$f":"AND(H391=TRUE,PARTITA!AN391=2)","v":false},{"$f":"IF(PARTITA!AN391=1,K390+1,0)","v":0},{"$f":"IF(PARTITA!AN391=2,L390+1,0)","v":0},{"$f":"PARTITA!A391","v":""},{"$f":"COUNTIFS(PARTITA!AN382:AN391, \"=1\")","v":0},{"$f":"COUNTIFS(PARTITA!AN382:AN391, \"=2\")","v":0},{"$f":"PARTITA!BA391","v":""}]
[{"$f":"AND(PARTITA!K392=2, COUNTIF(Tables!L$1:L$4, PARTITA!F392))","v":false},{"$f":"AND(PARTITA!K392=1, COUNTIF(Tables!L$1:L$4, PARTITA!F392))","v":false},{"$f":"AND(A392, PARTITA!AO392=0)","v":false},{"$f":"AND(B392, PARTITA!AO392=0)","v":false},{"$f":"isNetPoint(PARTITA!AC392)","v":"0"},{"$f":"OR(PARTITA!S392=1, PARTITA!T392=1)","v":false},{"$f":"IF(PARTITA!K392=1,OR(E392=\"1\",E392=\"3\",F392=TRUE),OR(E392=\"2\",E392=\"3\"))","v":false},{"$f":"IF(PARTITA!K392=2,OR(E392=\"1\",E392=\"3\",F392=TRUE),OR(E392=\"2\",E392=\"3\"))","v":false},{"$f":"AND(G392=TRUE,PARTITA!AN392=1)","v":false},{"$f":"AND(H392=TRUE,PARTITA!AN392=2)","v":false},{"$f":"IF(PARTITA!AN392=1,K391+1,0)","v":0},{"$f":"IF(PARTITA!AN392=2,L391+1,0)","v":0},{"$f":"PARTITA!A392","v":""},{"$f":"COUNTIFS(PARTITA!AN383:AN392, \"=1\")","v":0},{"$f":"COUNTIFS(PARTITA!AN383:AN392, \"=2\")","v":0},{"$f":"PARTITA!BA392","v":""}]
[{"$f":"AND(PARTITA!K393=2, COUNTIF(Tables!L$1:L$4, PARTITA!F393))","v":false},{"$f":"AND(PARTITA!K393=1, COUNTIF(Tables!L$1:L$4, PARTITA!F393))","v":false},{"$f":"AND(A393, PARTITA!AO393=0)","v":false},{"$f":"AND(B393, PARTITA!AO393=0)","v":false},{"$f":"isNetPoint(PARTITA!AC393)","v":"0"},{"$f":"OR(PARTITA!S393=1, PARTITA!T393=1)","v":false},{"$f":"IF(PARTITA!K393=1,OR(E393=\"1\",E393=\"3\",F393=TRUE),OR(E393=\"2\",E393=\"3\"))","v":false},{"$f":"IF(PARTITA!K393=2,OR(E393=\"1\",E393=\"3\",F393=TRUE),OR(E393=\"2\",E393=\"3\"))","v":false},{"$f":"AND(G393=TRUE,PARTITA!AN393=1)","v":false},{"$f":"AND(H393=TRUE,PARTITA!AN393=2)","v":false},{"$f":"IF(PARTITA!AN393=1,K392+1,0)","v":0},{"$f":"IF(PARTITA!AN393=2,L392+1,0)","v":0},{"$f":"PARTITA!A393","v":""},{"$f":"COUNTIFS(PARTITA!AN384:AN393, \"=1\")","v":0},{"$f":"COUNTIFS(PARTITA!AN384:AN393, \"=2\")","v":0},{"$f":"PARTITA!BA393","v":""}]
[{"$f":"AND(PARTITA!K394=2, COUNTIF(Tables!L$1:L$4, PARTITA!F394))","v":false},{"$f":"AND(PARTITA!K394=1, COUNTIF(Tables!L$1:L$4, PARTITA!F394))","v":false},{"$f":"AND(A394, PARTITA!AO394=0)","v":false},{"$f":"AND(B394, PARTITA!AO394=0)","v":false},{"$f":"isNetPoint(PARTITA!AC394)","v":"0"},{"$f":"OR(PARTITA!S394=1, PARTITA!T394=1)","v":false},{"$f":"IF(PARTITA!K394=1,OR(E394=\"1\",E394=\"3\",F394=TRUE),OR(E394=\"2\",E394=\"3\"))","v":false},{"$f":"IF(PARTITA!K394=2,OR(E394=\"1\",E394=\"3\",F394=TRUE),OR(E394=\"2\",E394=\"3\"))","v":false},{"$f":"AND(G394=TRUE,PARTITA!AN394=1)","v":false},{"$f":"AND(H394=TRUE,PARTITA!AN394=2)","v":false},{"$f":"IF(PARTITA!AN394=1,K393+1,0)","v":0},{"$f":"IF(PARTITA!AN394=2,L393+1,0)","v":0},{"$f":"PARTITA!A394","v":""},{"$f":"COUNTIFS(PARTITA!AN385:AN394, \"=1\")","v":0},{"$f":"COUNTIFS(PARTITA!AN385:AN394, \"=2\")","v":0},{"$f":"PARTITA!BA394","v":""}]
[{"$f":"AND(PARTITA!K395=2, COUNTIF(Tables!L$1:L$4, PARTITA!F395))","v":false},{"$f":"AND(PARTITA!K395=1, COUNTIF(Tables!L$1:L$4, PARTITA!F395))","v":false},{"$f":"AND(A395, PARTITA!AO395=0)","v":false},{"$f":"AND(B395, PARTITA!AO395=0)","v":false},{"$f":"isNetPoint(PARTITA!AC395)","v":"0"},{"$f":"OR(PARTITA!S395=1, PARTITA!T395=1)","v":false},{"$f":"IF(PARTITA!K395=1,OR(E395=\"1\",E395=\"3\",F395=TRUE),OR(E395=\"2\",E395=\"3\"))","v":false},{"$f":"IF(PARTITA!K395=2,OR(E395=\"1\",E395=\"3\",F395=TRUE),OR(E395=\"2\",E395=\"3\"))","v":false},{"$f":"AND(G395=TRUE,PARTITA!AN395=1)","v":false},{"$f":"AND(H395=TRUE,PARTITA!AN395=2)","v":false},{"$f":"IF(PARTITA!AN395=1,K394+1,0)","v":0},{"$f":"IF(PARTITA!AN395=2,L394+1,0)","v":0},{"$f":"PARTITA!A395","v":""},{"$f":"COUNTIFS(PARTITA!AN386:AN395, \"=1\")","v":0},{"$f":"COUNTIFS(PARTITA!AN386:AN395, \"=2\")","v":0},{"$f":"PARTITA!BA395","v":""}]
[{"$f":"AND(PARTITA!K396=2, COUNTIF(Tables!L$1:L$4, PARTITA!F396))","v":false},{"$f":"AND(PARTITA!K396=1, COUNTIF(Tables!L$1:L$4, PARTITA!F396))","v":false},{"$f":"AND(A396, PARTITA!AO396=0)","v":false},{"$f":"AND(B396, PARTITA!AO396=0)","v":false},{"$f":"isNetPoint(PARTITA!AC396)","v":"0"},{"$f":"OR(PARTITA!S396=1, PARTITA!T396=1)","v":false},{"$f":"IF(PARTITA!K396=1,OR(E396=\"1\",E396=\"3\",F396=TRUE),OR(E396=\"2\",E396=\"3\"))","v":false},{"$f":"IF(PARTITA!K396=2,OR(E396=\"1\",E396=\"3\",F396=TRUE),OR(E396=\"2\",E396=\"3\"))","v":false},{"$f":"AND(G396=TRUE,PARTITA!AN396=1)","v":false},{"$f":"AND(H396=TRUE,PARTITA!AN396=2)","v":false},{"$f":"IF(PARTITA!AN396=1,K395+1,0)","v":0},{"$f":"IF(PARTITA!AN396=2,L395+1,0)","v":0},{"$f":"PARTITA!A396","v":""},{"$f":"COUNTIFS(PARTITA!AN387:AN396, \"=1\")","v":0},{"$f":"COUNTIFS(PARTITA!AN387:AN396, \"=2\")","v":0},{"$f":"PARTITA!BA396","v":""}]
[{"$f":"AND(PARTITA!K397=2, COUNTIF(Tables!L$1:L$4, PARTITA!F397))","v":false},{"$f":"AND(PARTITA!K397=1, COUNTIF(Tables!L$1:L$4, PARTITA!F397))","v":false},{"$f":"AND(A397, PARTITA!AO397=0)","v":false},{"$f":"AND(B397, PARTITA!AO397=0)","v":false},{"$f":"isNetPoint(PARTITA!AC397)","v":"0"},{"$f":"OR(PARTITA!S397=1, PARTITA!T397=1)","v":false},{"$f":"IF(PARTITA!K397=1,OR(E397=\"1\",E397=\"3\",F397=TRUE),OR(E397=\"2\",E397=\"3\"))","v":false},{"$f":"IF(PARTITA!K397=2,OR(E397=\"1\",E397=\"3\",F397=TRUE),OR(E397=\"2\",E397=\"3\"))","v":false},{"$f":"AND(G397=TRUE,PARTITA!AN397=1)","v":false},{"$f":"AND(H397=TRUE,PARTITA!AN397=2)","v":false},{"$f":"IF(PARTITA!AN397=1,K396+1,0)","v":0},{"$f":"IF(PARTITA!AN397=2,L396+1,0)","v":0},{"$f":"PARTITA!A397","v":""},{"$f":"COUNTIFS(PARTITA!AN388:AN397, \"=1\")","v":0},{"$f":"COUNTIFS(PARTITA!AN388:AN397, \"=2\")","v":0},{"$f":"PARTITA!BA397","v":""}]
[{"$f":"AND(PARTITA!K398=2, COUNTIF(Tables!L$1:L$4, PARTITA!F398))","v":false},{"$f":"AND(PARTITA!K398=1, COUNTIF(Tables!L$1:L$4, PARTITA!F398))","v":false},{"$f":"AND(A398, PARTITA!AO398=0)","v":false},{"$f":"AND(B398, PARTITA!AO398=0)","v":false},{"$f":"isNetPoint(PARTITA!AC398)","v":"0"},{"$f":"OR(PARTITA!S398=1, PARTITA!T398=1)","v":false},{"$f":"IF(PARTITA!K398=1,OR(E398=\"1\",E398=\"3\",F398=TRUE),OR(E398=\"2\",E398=\"3\"))","v":false},{"$f":"IF(PARTITA!K398=2,OR(E398=\"1\",E398=\"3\",F398=TRUE),OR(E398=\"2\",E398=\"3\"))","v":false},{"$f":"AND(G398=TRUE,PARTITA!AN398=1)","v":false},{"$f":"AND(H398=TRUE,PARTITA!AN398=2)","v":false},{"$f":"IF(PARTITA!AN398=1,K397+1,0)","v":0},{"$f":"IF(PARTITA!AN398=2,L397+1,0)","v":0},{"$f":"PARTITA!A398","v":""},{"$f":"COUNTIFS(PARTITA!AN389:AN398, \"=1\")","v":0},{"$f":"COUNTIFS(PARTITA!AN389:AN398, \"=2\")","v":0},{"$f":"PARTITA!BA398","v":""}]
[{"$f":"AND(PARTITA!K399=2, COUNTIF(Tables!L$1:L$4, PARTITA!F399))","v":false},{"$f":"AND(PARTITA!K399=1, COUNTIF(Tables!L$1:L$4, PARTITA!F399))","v":false},{"$f":"AND(A399, PARTITA!AO399=0)","v":false},{"$f":"AND(B399, PARTITA!AO399=0)","v":false},{"$f":"isNetPoint(PARTITA!AC399)","v":"0"},{"$f":"OR(PARTITA!S399=1, PARTITA!T399=1)","v":false},{"$f":"IF(PARTITA!K399=1,OR(E399=\"1\",E399=\"3\",F399=TRUE),OR(E399=\"2\",E399=\"3\"))","v":false},{"$f":"IF(PARTITA!K399=2,OR(E399=\"1\",E399=\"3\",F399=TRUE),OR(E399=\"2\",E399=\"3\"))","v":false},{"$f":"AND(G399=TRUE,PARTITA!AN399=1)","v":false},{"$f":"AND(H399=TRUE,PARTITA!AN399=2)","v":false},{"$f":"IF(PARTITA!AN399=1,K398+1,0)","v":0},{"$f":"IF(PARTITA!AN399=2,L398+1,0)","v":0},{"$f":"PARTITA!A399","v":""},{"$f":"COUNTIFS(PARTITA!AN390:AN399, \"=1\")","v":0},{"$f":"COUNTIFS(PARTITA!AN390:AN399, \"=2\")","v":0},{"$f":"PARTITA!BA399","v":""}]
[{"$f":"AND(PARTITA!K400=2, COUNTIF(Tables!L$1:L$4, PARTITA!F400))","v":false},{"$f":"AND(PARTITA!K400=1, COUNTIF(Tables!L$1:L$4, PARTITA!F400))","v":false},{"$f":"AND(A400, PARTITA!AO400=0)","v":false},{"$f":"AND(B400, PARTITA!AO400=0)","v":false},{"$f":"isNetPoint(PARTITA!AC400)","v":"0"},{"$f":"OR(PARTITA!S400=1, PARTITA!T400=1)","v":false},{"$f":"IF(PARTITA!K400=1,OR(E400=\"1\",E400=\"3\",F400=TRUE),OR(E400=\"2\",E400=\"3\"))","v":false},{"$f":"IF(PARTITA!K400=2,OR(E400=\"1\",E400=\"3\",F400=TRUE),OR(E400=\"2\",E400=\"3\"))","v":false},{"$f":"AND(G400=TRUE,PARTITA!AN400=1)","v":false},{"$f":"AND(H400=TRUE,PARTITA!AN400=2)","v":false},{"$f":"IF(PARTITA!AN400=1,K399+1,0)","v":0},{"$f":"IF(PARTITA!AN400=2,L399+1,0)","v":0},{"$f":"PARTITA!A400","v":""},{"$f":"COUNTIFS(PARTITA!AN391:AN400, \"=1\")","v":0},{"$f":"COUNTIFS(PARTITA!AN391:AN400, \"=2\")","v":0},{"$f":"PARTITA!BA400","v":""}]
[{"$f":"AND(PARTITA!K401=2, COUNTIF(Tables!L$1:L$4, PARTITA!F401))","v":false},{"$f":"AND(PARTITA!K401=1, COUNTIF(Tables!L$1:L$4, PARTITA!F401))","v":false},{"$f":"AND(A401, PARTITA!AO401=0)","v":false},{"$f":"AND(B401, PARTITA!AO401=0)","v":false},{"$f":"isNetPoint(PARTITA!AC401)","v":"0"},{"$f":"OR(PARTITA!S401=1, PARTITA!T401=1)","v":false},{"$f":"IF(PARTITA!K401=1,OR(E401=\"1\",E401=\"3\",F401=TRUE),OR(E401=\"2\",E401=\"3\"))","v":false},{"$f":"IF(PARTITA!K401=2,OR(E401=\"1\",E401=\"3\",F401=TRUE),OR(E401=\"2\",E401=\"3\"))","v":false},{"$f":"AND(G401=TRUE,PARTITA!AN401=1)","v":false},{"$f":"AND(H401=TRUE,PARTITA!AN401=2)","v":false},{"$f":"IF(PARTITA!AN401=1,K400+1,0)","v":0},{"$f":"IF(PARTITA!AN401=2,L400+1,0)","v":0},{"$f":"PARTITA!A401","v":""},{"$f":"COUNTIFS(PARTITA!AN392:AN401, \"=1\")","v":0},{"$f":"COUNTIFS(PARTITA!AN392:AN401, \"=2\")","v":0},{"$f":"PARTITA!BA401","v":""}]
[{"$f":"AND(PARTITA!K402=2, COUNTIF(Tables!L$1:L$4, PARTITA!F402))","v":false},{"$f":"AND(PARTITA!K402=1, COUNTIF(Tables!L$1:L$4, PARTITA!F402))","v":false},{"$f":"AND(A402, PARTITA!AO402=0)","v":false},{"$f":"AND(B402, PARTITA!AO402=0)","v":false},{"$f":"isNetPoint(PARTITA!AC402)","v":"0"},{"$f":"OR(PARTITA!S402=1, PARTITA!T402=1)","v":false},{"$f":"IF(PARTITA!K402=1,OR(E402=\"1\",E402=\"3\",F402=TRUE),OR(E402=\"2\",E402=\"3\"))","v":false},{"$f":"IF(PARTITA!K402=2,OR(E402=\"1\",E402=\"3\",F402=TRUE),OR(E402=\"2\",E402=\"3\"))","v":false},{"$f":"AND(G402=TRUE,PARTITA!AN402=1)","v":false},{"$f":"AND(H402=TRUE,PARTITA!AN402=2)","v":false},{"$f":"IF(PARTITA!AN402=1,K401+1,0)","v":0},{"$f":"IF(PARTITA!AN402=2,L401+1,0)","v":0},{"$f":"PARTITA!A402","v":""},{"$f":"COUNTIFS(PARTITA!AN393:AN402, \"=1\")","v":0},{"$f":"COUNTIFS(PARTITA!AN393:AN402, \"=2\")","v":0},{"$f":"PARTITA!BA402","v":""}]
[{"$f":"AND(PARTITA!K403=2, COUNTIF(Tables!L$1:L$4, PARTITA!F403))","v":false},{"$f":"AND(PARTITA!K403=1, COUNTIF(Tables!L$1:L$4, PARTITA!F403))","v":false},{"$f":"AND(A403, PARTITA!AO403=0)","v":false},{"$f":"AND(B403, PARTITA!AO403=0)","v":false},{"$f":"isNetPoint(PARTITA!AC403)","v":"0"},{"$f":"OR(PARTITA!S403=1, PARTITA!T403=1)","v":false},{"$f":"IF(PARTITA!K403=1,OR(E403=\"1\",E403=\"3\",F403=TRUE),OR(E403=\"2\",E403=\"3\"))","v":false},{"$f":"IF(PARTITA!K403=2,OR(E403=\"1\",E403=\"3\",F403=TRUE),OR(E403=\"2\",E403=\"3\"))","v":false},{"$f":"AND(G403=TRUE,PARTITA!AN403=1)","v":false},{"$f":"AND(H403=TRUE,PARTITA!AN403=2)","v":false},{"$f":"IF(PARTITA!AN403=1,K402+1,0)","v":0},{"$f":"IF(PARTITA!AN403=2,L402+1,0)","v":0},{"$f":"PARTITA!A403","v":""},{"$f":"COUNTIFS(PARTITA!AN394:AN403, \"=1\")","v":0},{"$f":"COUNTIFS(PARTITA!AN394:AN403, \"=2\")","v":0},{"$f":"PARTITA!BA403","v":""}]
[{"$f":"AND(PARTITA!K404=2, COUNTIF(Tables!L$1:L$4, PARTITA!F404))","v":false},{"$f":"AND(PARTITA!K404=1, COUNTIF(Tables!L$1:L$4, PARTITA!F404))","v":false},{"$f":"AND(A404, PARTITA!AO404=0)","v":false},{"$f":"AND(B404, PARTITA!AO404=0)","v":false},{"$f":"isNetPoint(PARTITA!AC404)","v":"0"},{"$f":"OR(PARTITA!S404=1, PARTITA!T404=1)","v":false},{"$f":"IF(PARTITA!K404=1,OR(E404=\"1\",E404=\"3\",F404=TRUE),OR(E404=\"2\",E404=\"3\"))","v":false},{"$f":"IF(PARTITA!K404=2,OR(E404=\"1\",E404=\"3\",F404=TRUE),OR(E404=\"2\",E404=\"3\"))","v":false},{"$f":"AND(G404=TRUE,PARTITA!AN404=1)","v":false},{"$f":"AND(H404=TRUE,PARTITA!AN404=2)","v":false},{"$f":"IF(PARTITA!AN404=1,K403+1,0)","v":0},{"$f":"IF(PARTITA!AN404=2,L403+1,0)","v":0},{"$f":"PARTITA!A404","v":""},{"$f":"COUNTIFS(PARTITA!AN395:AN404, \"=1\")","v":0},{"$f":"COUNTIFS(PARTITA!AN395:AN404, \"=2\")","v":0},{"$f":"PARTITA!BA404","v":""}]
[{"$f":"AND(PARTITA!K405=2, COUNTIF(Tables!L$1:L$4, PARTITA!F405))","v":false},{"$f":"AND(PARTITA!K405=1, COUNTIF(Tables!L$1:L$4, PARTITA!F405))","v":false},{"$f":"AND(A405, PARTITA!AO405=0)","v":false},{"$f":"AND(B405, PARTITA!AO405=0)","v":false},{"$f":"isNetPoint(PARTITA!AC405)","v":"0"},{"$f":"OR(PARTITA!S405=1, PARTITA!T405=1)","v":false},{"$f":"IF(PARTITA!K405=1,OR(E405=\"1\",E405=\"3\",F405=TRUE),OR(E405=\"2\",E405=\"3\"))","v":false},{"$f":"IF(PARTITA!K405=2,OR(E405=\"1\",E405=\"3\",F405=TRUE),OR(E405=\"2\",E405=\"3\"))","v":false},{"$f":"AND(G405=TRUE,PARTITA!AN405=1)","v":false},{"$f":"AND(H405=TRUE,PARTITA!AN405=2)","v":false},{"$f":"IF(PARTITA!AN405=1,K404+1,0)","v":0},{"$f":"IF(PARTITA!AN405=2,L404+1,0)","v":0},{"$f":"PARTITA!A405","v":""},{"$f":"COUNTIFS(PARTITA!AN396:AN405, \"=1\")","v":0},{"$f":"COUNTIFS(PARTITA!AN396:AN405, \"=2\")","v":0},{"$f":"PARTITA!BA405","v":""}]
[{"$f":"AND(PARTITA!K406=2, COUNTIF(Tables!L$1:L$4, PARTITA!F406))","v":false},{"$f":"AND(PARTITA!K406=1, COUNTIF(Tables!L$1:L$4, PARTITA!F406))","v":false},{"$f":"AND(A406, PARTITA!AO406=0)","v":false},{"$f":"AND(B406, PARTITA!AO406=0)","v":false},{"$f":"isNetPoint(PARTITA!AC406)","v":"0"},{"$f":"OR(PARTITA!S406=1, PARTITA!T406=1)","v":false},{"$f":"IF(PARTITA!K406=1,OR(E406=\"1\",E406=\"3\",F406=TRUE),OR(E406=\"2\",E406=\"3\"))","v":false},{"$f":"IF(PARTITA!K406=2,OR(E406=\"1\",E406=\"3\",F406=TRUE),OR(E406=\"2\",E406=\"3\"))","v":false},{"$f":"AND(G406=TRUE,PARTITA!AN406=1)","v":false},{"$f":"AND(H406=TRUE,PARTITA!AN406=2)","v":false},{"$f":"IF(PARTITA!AN406=1,K405+1,0)","v":0},{"$f":"IF(PARTITA!AN406=2,L405+1,0)","v":0},{"$f":"PARTITA!A406","v":""},{"$f":"COUNTIFS(PARTITA!AN397:AN406, \"=1\")","v":0},{"$f":"COUNTIFS(PARTITA!AN397:AN406, \"=2\")","v":0},{"$f":"PARTITA!BA406","v":""}]
[{"$f":"AND(PARTITA!K407=2, COUNTIF(Tables!L$1:L$4, PARTITA!F407))","v":false},{"$f":"AND(PARTITA!K407=1, COUNTIF(Tables!L$1:L$4, PARTITA!F407))","v":false},{"$f":"AND(A407, PARTITA!AO407=0)","v":false},{"$f":"AND(B407, PARTITA!AO407=0)","v":false},{"$f":"isNetPoint(PARTITA!AC407)","v":"0"},{"$f":"OR(PARTITA!S407=1, PARTITA!T407=1)","v":false},{"$f":"IF(PARTITA!K407=1,OR(E407=\"1\",E407=\"3\",F407=TRUE),OR(E407=\"2\",E407=\"3\"))","v":false},{"$f":"IF(PARTITA!K407=2,OR(E407=\"1\",E407=\"3\",F407=TRUE),OR(E407=\"2\",E407=\"3\"))","v":false},{"$f":"AND(G407=TRUE,PARTITA!AN407=1)","v":false},{"$f":"AND(H407=TRUE,PARTITA!AN407=2)","v":false},{"$f":"IF(PARTITA!AN407=1,K406+1,0)","v":0},{"$f":"IF(PARTITA!AN407=2,L406+1,0)","v":0},{"$f":"PARTITA!A407","v":""},{"$f":"COUNTIFS(PARTITA!AN398:AN407, \"=1\")","v":0},{"$f":"COUNTIFS(PARTITA!AN398:AN407, \"=2\")","v":0},{"$f":"PARTITA!BA407","v":""}]
[{"$f":"AND(PARTITA!K408=2, COUNTIF(Tables!L$1:L$4, PARTITA!F408))","v":false},{"$f":"AND(PARTITA!K408=1, COUNTIF(Tables!L$1:L$4, PARTITA!F408))","v":false},{"$f":"AND(A408, PARTITA!AO408=0)","v":false},{"$f":"AND(B408, PARTITA!AO408=0)","v":false},{"$f":"isNetPoint(PARTITA!AC408)","v":"0"},{"$f":"OR(PARTITA!S408=1, PARTITA!T408=1)","v":false},{"$f":"IF(PARTITA!K408=1,OR(E408=\"1\",E408=\"3\",F408=TRUE),OR(E408=\"2\",E408=\"3\"))","v":false},{"$f":"IF(PARTITA!K408=2,OR(E408=\"1\",E408=\"3\",F408=TRUE),OR(E408=\"2\",E408=\"3\"))","v":false},{"$f":"AND(G408=TRUE,PARTITA!AN408=1)","v":false},{"$f":"AND(H408=TRUE,PARTITA!AN408=2)","v":false},{"$f":"IF(PARTITA!AN408=1,K407+1,0)","v":0},{"$f":"IF(PARTITA!AN408=2,L407+1,0)","v":0},{"$f":"PARTITA!A408","v":""},{"$f":"COUNTIFS(PARTITA!AN399:AN408, \"=1\")","v":0},{"$f":"COUNTIFS(PARTITA!AN399:AN408, \"=2\")","v":0},{"$f":"PARTITA!BA408","v":""}]
[{"$f":"AND(PARTITA!K409=2, COUNTIF(Tables!L$1:L$4, PARTITA!F409))","v":false},{"$f":"AND(PARTITA!K409=1, COUNTIF(Tables!L$1:L$4, PARTITA!F409))","v":false},{"$f":"AND(A409, PARTITA!AO409=0)","v":false},{"$f":"AND(B409, PARTITA!AO409=0)","v":false},{"$f":"isNetPoint(PARTITA!AC409)","v":"0"},{"$f":"OR(PARTITA!S409=1, PARTITA!T409=1)","v":false},{"$f":"IF(PARTITA!K409=1,OR(E409=\"1\",E409=\"3\",F409=TRUE),OR(E409=\"2\",E409=\"3\"))","v":false},{"$f":"IF(PARTITA!K409=2,OR(E409=\"1\",E409=\"3\",F409=TRUE),OR(E409=\"2\",E409=\"3\"))","v":false},{"$f":"AND(G409=TRUE,PARTITA!AN409=1)","v":false},{"$f":"AND(H409=TRUE,PARTITA!AN409=2)","v":false},{"$f":"IF(PARTITA!AN409=1,K408+1,0)","v":0},{"$f":"IF(PARTITA!AN409=2,L408+1,0)","v":0},{"$f":"PARTITA!A409","v":""},{"$f":"COUNTIFS(PARTITA!AN400:AN409, \"=1\")","v":0},{"$f":"COUNTIFS(PARTITA!AN400:AN409, \"=2\")","v":0},{"$f":"PARTITA!BA409","v":""}]
[{"$f":"AND(PARTITA!K410=2, COUNTIF(Tables!L$1:L$4, PARTITA!F410))","v":false},{"$f":"AND(PARTITA!K410=1, COUNTIF(Tables!L$1:L$4, PARTITA!F410))","v":false},{"$f":"AND(A410, PARTITA!AO410=0)","v":false},{"$f":"AND(B410, PARTITA!AO410=0)","v":false},{"$f":"isNetPoint(PARTITA!AC410)","v":"0"},{"$f":"OR(PARTITA!S410=1, PARTITA!T410=1)","v":false},{"$f":"IF(PARTITA!K410=1,OR(E410=\"1\",E410=\"3\",F410=TRUE),OR(E410=\"2\",E410=\"3\"))","v":false},{"$f":"IF(PARTITA!K410=2,OR(E410=\"1\",E410=\"3\",F410=TRUE),OR(E410=\"2\",E410=\"3\"))","v":false},{"$f":"AND(G410=TRUE,PARTITA!AN410=1)","v":false},{"$f":"AND(H410=TRUE,PARTITA!AN410=2)","v":false},{"$f":"IF(PARTITA!AN410=1,K409+1,0)","v":0},{"$f":"IF(PARTITA!AN410=2,L409+1,0)","v":0},{"$f":"PARTITA!A410","v":""},{"$f":"COUNTIFS(PARTITA!AN401:AN410, \"=1\")","v":0},{"$f":"COUNTIFS(PARTITA!AN401:AN410, \"=2\")","v":0},{"$f":"PARTITA!BA410","v":""}]
[{"$f":"AND(PARTITA!K411=2, COUNTIF(Tables!L$1:L$4, PARTITA!F411))","v":false},{"$f":"AND(PARTITA!K411=1, COUNTIF(Tables!L$1:L$4, PARTITA!F411))","v":false},{"$f":"AND(A411, PARTITA!AO411=0)","v":false},{"$f":"AND(B411, PARTITA!AO411=0)","v":false},{"$f":"isNetPoint(PARTITA!AC411)","v":"0"},{"$f":"OR(PARTITA!S411=1, PARTITA!T411=1)","v":false},{"$f":"IF(PARTITA!K411=1,OR(E411=\"1\",E411=\"3\",F411=TRUE),OR(E411=\"2\",E411=\"3\"))","v":false},{"$f":"IF(PARTITA!K411=2,OR(E411=\"1\",E411=\"3\",F411=TRUE),OR(E411=\"2\",E411=\"3\"))","v":false},{"$f":"AND(G411=TRUE,PARTITA!AN411=1)","v":false},{"$f":"AND(H411=TRUE,PARTITA!AN411=2)","v":false},{"$f":"IF(PARTITA!AN411=1,K410+1,0)","v":0},{"$f":"IF(PARTITA!AN411=2,L410+1,0)","v":0},{"$f":"PARTITA!A411","v":""},{"$f":"COUNTIFS(PARTITA!AN402:AN411, \"=1\")","v":0},{"$f":"COUNTIFS(PARTITA!AN402:AN411, \"=2\")","v":0},{"$f":"PARTITA!BA411","v":""}]
[{"$f":"AND(PARTITA!K412=2, COUNTIF(Tables!L$1:L$4, PARTITA!F412))","v":false},{"$f":"AND(PARTITA!K412=1, COUNTIF(Tables!L$1:L$4, PARTITA!F412))","v":false},{"$f":"AND(A412, PARTITA!AO412=0)","v":false},{"$f":"AND(B412, PARTITA!AO412=0)","v":false},{"$f":"isNetPoint(PARTITA!AC412)","v":"0"},{"$f":"OR(PARTITA!S412=1, PARTITA!T412=1)","v":false},{"$f":"IF(PARTITA!K412=1,OR(E412=\"1\",E412=\"3\",F412=TRUE),OR(E412=\"2\",E412=\"3\"))","v":false},{"$f":"IF(PARTITA!K412=2,OR(E412=\"1\",E412=\"3\",F412=TRUE),OR(E412=\"2\",E412=\"3\"))","v":false},{"$f":"AND(G412=TRUE,PARTITA!AN412=1)","v":false},{"$f":"AND(H412=TRUE,PARTITA!AN412=2)","v":false},{"$f":"IF(PARTITA!AN412=1,K411+1,0)","v":0},{"$f":"IF(PARTITA!AN412=2,L411+1,0)","v":0},{"$f":"PARTITA!A412","v":""},{"$f":"COUNTIFS(PARTITA!AN403:AN412, \"=1\")","v":0},{"$f":"COUNTIFS(PARTITA!AN403:AN412, \"=2\")","v":0},{"$f":"PARTITA!BA412","v":""}]
[{"$f":"AND(PARTITA!K413=2, COUNTIF(Tables!L$1:L$4, PARTITA!F413))","v":false},{"$f":"AND(PARTITA!K413=1, COUNTIF(Tables!L$1:L$4, PARTITA!F413))","v":false},{"$f":"AND(A413, PARTITA!AO413=0)","v":false},{"$f":"AND(B413, PARTITA!AO413=0)","v":false},{"$f":"isNetPoint(PARTITA!AC413)","v":"0"},{"$f":"OR(PARTITA!S413=1, PARTITA!T413=1)","v":false},{"$f":"IF(PARTITA!K413=1,OR(E413=\"1\",E413=\"3\",F413=TRUE),OR(E413=\"2\",E413=\"3\"))","v":false},{"$f":"IF(PARTITA!K413=2,OR(E413=\"1\",E413=\"3\",F413=TRUE),OR(E413=\"2\",E413=\"3\"))","v":false},{"$f":"AND(G413=TRUE,PARTITA!AN413=1)","v":false},{"$f":"AND(H413=TRUE,PARTITA!AN413=2)","v":false},{"$f":"IF(PARTITA!AN413=1,K412+1,0)","v":0},{"$f":"IF(PARTITA!AN413=2,L412+1,0)","v":0},{"$f":"PARTITA!A413","v":""},{"$f":"COUNTIFS(PARTITA!AN404:AN413, \"=1\")","v":0},{"$f":"COUNTIFS(PARTITA!AN404:AN413, \"=2\")","v":0},{"$f":"PARTITA!BA413","v":""}]
[{"$f":"AND(PARTITA!K414=2, COUNTIF(Tables!L$1:L$4, PARTITA!F414))","v":false},{"$f":"AND(PARTITA!K414=1, COUNTIF(Tables!L$1:L$4, PARTITA!F414))","v":false},{"$f":"AND(A414, PARTITA!AO414=0)","v":false},{"$f":"AND(B414, PARTITA!AO414=0)","v":false},{"$f":"isNetPoint(PARTITA!AC414)","v":"0"},{"$f":"OR(PARTITA!S414=1, PARTITA!T414=1)","v":false},{"$f":"IF(PARTITA!K414=1,OR(E414=\"1\",E414=\"3\",F414=TRUE),OR(E414=\"2\",E414=\"3\"))","v":false},{"$f":"IF(PARTITA!K414=2,OR(E414=\"1\",E414=\"3\",F414=TRUE),OR(E414=\"2\",E414=\"3\"))","v":false},{"$f":"AND(G414=TRUE,PARTITA!AN414=1)","v":false},{"$f":"AND(H414=TRUE,PARTITA!AN414=2)","v":false},{"$f":"IF(PARTITA!AN414=1,K413+1,0)","v":0},{"$f":"IF(PARTITA!AN414=2,L413+1,0)","v":0},{"$f":"PARTITA!A414","v":""},{"$f":"COUNTIFS(PARTITA!AN405:AN414, \"=1\")","v":0},{"$f":"COUNTIFS(PARTITA!AN405:AN414, \"=2\")","v":0},{"$f":"PARTITA!BA414","v":""}]
[{"$f":"AND(PARTITA!K415=2, COUNTIF(Tables!L$1:L$4, PARTITA!F415))","v":false},{"$f":"AND(PARTITA!K415=1, COUNTIF(Tables!L$1:L$4, PARTITA!F415))","v":false},{"$f":"AND(A415, PARTITA!AO415=0)","v":false},{"$f":"AND(B415, PARTITA!AO415=0)","v":false},{"$f":"isNetPoint(PARTITA!AC415)","v":"0"},{"$f":"OR(PARTITA!S415=1, PARTITA!T415=1)","v":false},{"$f":"IF(PARTITA!K415=1,OR(E415=\"1\",E415=\"3\",F415=TRUE),OR(E415=\"2\",E415=\"3\"))","v":false},{"$f":"IF(PARTITA!K415=2,OR(E415=\"1\",E415=\"3\",F415=TRUE),OR(E415=\"2\",E415=\"3\"))","v":false},{"$f":"AND(G415=TRUE,PARTITA!AN415=1)","v":false},{"$f":"AND(H415=TRUE,PARTITA!AN415=2)","v":false},{"$f":"IF(PARTITA!AN415=1,K414+1,0)","v":0},{"$f":"IF(PARTITA!AN415=2,L414+1,0)","v":0},{"$f":"PARTITA!A415","v":""},{"$f":"COUNTIFS(PARTITA!AN406:AN415, \"=1\")","v":0},{"$f":"COUNTIFS(PARTITA!AN406:AN415, \"=2\")","v":0},{"$f":"PARTITA!BA415","v":""}]
[{"$f":"AND(PARTITA!K416=2, COUNTIF(Tables!L$1:L$4, PARTITA!F416))","v":false},{"$f":"AND(PARTITA!K416=1, COUNTIF(Tables!L$1:L$4, PARTITA!F416))","v":false},{"$f":"AND(A416, PARTITA!AO416=0)","v":false},{"$f":"AND(B416, PARTITA!AO416=0)","v":false},{"$f":"isNetPoint(PARTITA!AC416)","v":"0"},{"$f":"OR(PARTITA!S416=1, PARTITA!T416=1)","v":false},{"$f":"IF(PARTITA!K416=1,OR(E416=\"1\",E416=\"3\",F416=TRUE),OR(E416=\"2\",E416=\"3\"))","v":false},{"$f":"IF(PARTITA!K416=2,OR(E416=\"1\",E416=\"3\",F416=TRUE),OR(E416=\"2\",E416=\"3\"))","v":false},{"$f":"AND(G416=TRUE,PARTITA!AN416=1)","v":false},{"$f":"AND(H416=TRUE,PARTITA!AN416=2)","v":false},{"$f":"IF(PARTITA!AN416=1,K415+1,0)","v":0},{"$f":"IF(PARTITA!AN416=2,L415+1,0)","v":0},{"$f":"PARTITA!A416","v":""},{"$f":"COUNTIFS(PARTITA!AN407:AN416, \"=1\")","v":0},{"$f":"COUNTIFS(PARTITA!AN407:AN416, \"=2\")","v":0},{"$f":"PARTITA!BA416","v":""}]
[{"$f":"AND(PARTITA!K417=2, COUNTIF(Tables!L$1:L$4, PARTITA!F417))","v":false},{"$f":"AND(PARTITA!K417=1, COUNTIF(Tables!L$1:L$4, PARTITA!F417))","v":false},{"$f":"AND(A417, PARTITA!AO417=0)","v":false},{"$f":"AND(B417, PARTITA!AO417=0)","v":false},{"$f":"isNetPoint(PARTITA!AC417)","v":"0"},{"$f":"OR(PARTITA!S417=1, PARTITA!T417=1)","v":false},{"$f":"IF(PARTITA!K417=1,OR(E417=\"1\",E417=\"3\",F417=TRUE),OR(E417=\"2\",E417=\"3\"))","v":false},{"$f":"IF(PARTITA!K417=2,OR(E417=\"1\",E417=\"3\",F417=TRUE),OR(E417=\"2\",E417=\"3\"))","v":false},{"$f":"AND(G417=TRUE,PARTITA!AN417=1)","v":false},{"$f":"AND(H417=TRUE,PARTITA!AN417=2)","v":false},{"$f":"IF(PARTITA!AN417=1,K416+1,0)","v":0},{"$f":"IF(PARTITA!AN417=2,L416+1,0)","v":0},{"$f":"PARTITA!A417","v":""},{"$f":"COUNTIFS(PARTITA!AN408:AN417, \"=1\")","v":0},{"$f":"COUNTIFS(PARTITA!AN408:AN417, \"=2\")","v":0},{"$f":"PARTITA!BA417","v":""}]
[{"$f":"AND(PARTITA!K418=2, COUNTIF(Tables!L$1:L$4, PARTITA!F418))","v":false},{"$f":"AND(PARTITA!K418=1, COUNTIF(Tables!L$1:L$4, PARTITA!F418))","v":false},{"$f":"AND(A418, PARTITA!AO418=0)","v":false},{"$f":"AND(B418, PARTITA!AO418=0)","v":false},{"$f":"isNetPoint(PARTITA!AC418)","v":"0"},{"$f":"OR(PARTITA!S418=1, PARTITA!T418=1)","v":false},{"$f":"IF(PARTITA!K418=1,OR(E418=\"1\",E418=\"3\",F418=TRUE),OR(E418=\"2\",E418=\"3\"))","v":false},{"$f":"IF(PARTITA!K418=2,OR(E418=\"1\",E418=\"3\",F418=TRUE),OR(E418=\"2\",E418=\"3\"))","v":false},{"$f":"AND(G418=TRUE,PARTITA!AN418=1)","v":false},{"$f":"AND(H418=TRUE,PARTITA!AN418=2)","v":false},{"$f":"IF(PARTITA!AN418=1,K417+1,0)","v":0},{"$f":"IF(PARTITA!AN418=2,L417+1,0)","v":0},{"$f":"PARTITA!A418","v":""},{"$f":"COUNTIFS(PARTITA!AN409:AN418, \"=1\")","v":0},{"$f":"COUNTIFS(PARTITA!AN409:AN418, \"=2\")","v":0},{"$f":"PARTITA!BA418","v":""}]
[{"$f":"AND(PARTITA!K419=2, COUNTIF(Tables!L$1:L$4, PARTITA!F419))","v":false},{"$f":"AND(PARTITA!K419=1, COUNTIF(Tables!L$1:L$4, PARTITA!F419))","v":false},{"$f":"AND(A419, PARTITA!AO419=0)","v":false},{"$f":"AND(B419, PARTITA!AO419=0)","v":false},{"$f":"isNetPoint(PARTITA!AC419)","v":"0"},{"$f":"OR(PARTITA!S419=1, PARTITA!T419=1)","v":false},{"$f":"IF(PARTITA!K419=1,OR(E419=\"1\",E419=\"3\",F419=TRUE),OR(E419=\"2\",E419=\"3\"))","v":false},{"$f":"IF(PARTITA!K419=2,OR(E419=\"1\",E419=\"3\",F419=TRUE),OR(E419=\"2\",E419=\"3\"))","v":false},{"$f":"AND(G419=TRUE,PARTITA!AN419=1)","v":false},{"$f":"AND(H419=TRUE,PARTITA!AN419=2)","v":false},{"$f":"IF(PARTITA!AN419=1,K418+1,0)","v":0},{"$f":"IF(PARTITA!AN419=2,L418+1,0)","v":0},{"$f":"PARTITA!A419","v":""},{"$f":"COUNTIFS(PARTITA!AN410:AN419, \"=1\")","v":0},{"$f":"COUNTIFS(PARTITA!AN410:AN419, \"=2\")","v":0},{"$f":"PARTITA!BA419","v":""}]
[{"$f":"AND(PARTITA!K420=2, COUNTIF(Tables!L$1:L$4, PARTITA!F420))","v":false},{"$f":"AND(PARTITA!K420=1, COUNTIF(Tables!L$1:L$4, PARTITA!F420))","v":false},{"$f":"AND(A420, PARTITA!AO420=0)","v":false},{"$f":"AND(B420, PARTITA!AO420=0)","v":false},{"$f":"isNetPoint(PARTITA!AC420)","v":"0"},{"$f":"OR(PARTITA!S420=1, PARTITA!T420=1)","v":false},{"$f":"IF(PARTITA!K420=1,OR(E420=\"1\",E420=\"3\",F420=TRUE),OR(E420=\"2\",E420=\"3\"))","v":false},{"$f":"IF(PARTITA!K420=2,OR(E420=\"1\",E420=\"3\",F420=TRUE),OR(E420=\"2\",E420=\"3\"))","v":false},{"$f":"AND(G420=TRUE,PARTITA!AN420=1)","v":false},{"$f":"AND(H420=TRUE,PARTITA!AN420=2)","v":false},{"$f":"IF(PARTITA!AN420=1,K419+1,0)","v":0},{"$f":"IF(PARTITA!AN420=2,L419+1,0)","v":0},{"$f":"PARTITA!A420","v":""},{"$f":"COUNTIFS(PARTITA!AN411:AN420, \"=1\")","v":0},{"$f":"COUNTIFS(PARTITA!AN411:AN420, \"=2\")","v":0},{"$f":"PARTITA!BA420","v":""}]
[{"$f":"AND(PARTITA!K421=2, COUNTIF(Tables!L$1:L$4, PARTITA!F421))","v":false},{"$f":"AND(PARTITA!K421=1, COUNTIF(Tables!L$1:L$4, PARTITA!F421))","v":false},{"$f":"AND(A421, PARTITA!AO421=0)","v":false},{"$f":"AND(B421, PARTITA!AO421=0)","v":false},{"$f":"isNetPoint(PARTITA!AC421)","v":"0"},{"$f":"OR(PARTITA!S421=1, PARTITA!T421=1)","v":false},{"$f":"IF(PARTITA!K421=1,OR(E421=\"1\",E421=\"3\",F421=TRUE),OR(E421=\"2\",E421=\"3\"))","v":false},{"$f":"IF(PARTITA!K421=2,OR(E421=\"1\",E421=\"3\",F421=TRUE),OR(E421=\"2\",E421=\"3\"))","v":false},{"$f":"AND(G421=TRUE,PARTITA!AN421=1)","v":false},{"$f":"AND(H421=TRUE,PARTITA!AN421=2)","v":false},{"$f":"IF(PARTITA!AN421=1,K420+1,0)","v":0},{"$f":"IF(PARTITA!AN421=2,L420+1,0)","v":0},{"$f":"PARTITA!A421","v":""},{"$f":"COUNTIFS(PARTITA!AN412:AN421, \"=1\")","v":0},{"$f":"COUNTIFS(PARTITA!AN412:AN421, \"=2\")","v":0},{"$f":"PARTITA!BA421","v":""}]
[{"$f":"AND(PARTITA!K422=2, COUNTIF(Tables!L$1:L$4, PARTITA!F422))","v":false},{"$f":"AND(PARTITA!K422=1, COUNTIF(Tables!L$1:L$4, PARTITA!F422))","v":false},{"$f":"AND(A422, PARTITA!AO422=0)","v":false},{"$f":"AND(B422, PARTITA!AO422=0)","v":false},{"$f":"isNetPoint(PARTITA!AC422)","v":"0"},{"$f":"OR(PARTITA!S422=1, PARTITA!T422=1)","v":false},{"$f":"IF(PARTITA!K422=1,OR(E422=\"1\",E422=\"3\",F422=TRUE),OR(E422=\"2\",E422=\"3\"))","v":false},{"$f":"IF(PARTITA!K422=2,OR(E422=\"1\",E422=\"3\",F422=TRUE),OR(E422=\"2\",E422=\"3\"))","v":false},{"$f":"AND(G422=TRUE,PARTITA!AN422=1)","v":false},{"$f":"AND(H422=TRUE,PARTITA!AN422=2)","v":false},{"$f":"IF(PARTITA!AN422=1,K421+1,0)","v":0},{"$f":"IF(PARTITA!AN422=2,L421+1,0)","v":0},{"$f":"PARTITA!A422","v":""},{"$f":"COUNTIFS(PARTITA!AN413:AN422, \"=1\")","v":0},{"$f":"COUNTIFS(PARTITA!AN413:AN422, \"=2\")","v":0},{"$f":"PARTITA!BA422","v":""}]
[{"$f":"AND(PARTITA!K423=2, COUNTIF(Tables!L$1:L$4, PARTITA!F423))","v":false},{"$f":"AND(PARTITA!K423=1, COUNTIF(Tables!L$1:L$4, PARTITA!F423))","v":false},{"$f":"AND(A423, PARTITA!AO423=0)","v":false},{"$f":"AND(B423, PARTITA!AO423=0)","v":false},{"$f":"isNetPoint(PARTITA!AC423)","v":"0"},{"$f":"OR(PARTITA!S423=1, PARTITA!T423=1)","v":false},{"$f":"IF(PARTITA!K423=1,OR(E423=\"1\",E423=\"3\",F423=TRUE),OR(E423=\"2\",E423=\"3\"))","v":false},{"$f":"IF(PARTITA!K423=2,OR(E423=\"1\",E423=\"3\",F423=TRUE),OR(E423=\"2\",E423=\"3\"))","v":false},{"$f":"AND(G423=TRUE,PARTITA!AN423=1)","v":false},{"$f":"AND(H423=TRUE,PARTITA!AN423=2)","v":false},{"$f":"IF(PARTITA!AN423=1,K422+1,0)","v":0},{"$f":"IF(PARTITA!AN423=2,L422+1,0)","v":0},{"$f":"PARTITA!A423","v":""},{"$f":"COUNTIFS(PARTITA!AN414:AN423, \"=1\")","v":0},{"$f":"COUNTIFS(PARTITA!AN414:AN423, \"=2\")","v":0},{"$f":"PARTITA!BA423","v":""}]
[{"$f":"AND(PARTITA!K424=2, COUNTIF(Tables!L$1:L$4, PARTITA!F424))","v":false},{"$f":"AND(PARTITA!K424=1, COUNTIF(Tables!L$1:L$4, PARTITA!F424))","v":false},{"$f":"AND(A424, PARTITA!AO424=0)","v":false},{"$f":"AND(B424, PARTITA!AO424=0)","v":false},{"$f":"isNetPoint(PARTITA!AC424)","v":"0"},{"$f":"OR(PARTITA!S424=1, PARTITA!T424=1)","v":false},{"$f":"IF(PARTITA!K424=1,OR(E424=\"1\",E424=\"3\",F424=TRUE),OR(E424=\"2\",E424=\"3\"))","v":false},{"$f":"IF(PARTITA!K424=2,OR(E424=\"1\",E424=\"3\",F424=TRUE),OR(E424=\"2\",E424=\"3\"))","v":false},{"$f":"AND(G424=TRUE,PARTITA!AN424=1)","v":false},{"$f":"AND(H424=TRUE,PARTITA!AN424=2)","v":false},{"$f":"IF(PARTITA!AN424=1,K423+1,0)","v":0},{"$f":"IF(PARTITA!AN424=2,L423+1,0)","v":0},{"$f":"PARTITA!A424","v":""},{"$f":"COUNTIFS(PARTITA!AN415:AN424, \"=1\")","v":0},{"$f":"COUNTIFS(PARTITA!AN415:AN424, \"=2\")","v":0},{"$f":"PARTITA!BA424","v":""}]
[{"$f":"AND(PARTITA!K425=2, COUNTIF(Tables!L$1:L$4, PARTITA!F425))","v":false},{"$f":"AND(PARTITA!K425=1, COUNTIF(Tables!L$1:L$4, PARTITA!F425))","v":false},{"$f":"AND(A425, PARTITA!AO425=0)","v":false},{"$f":"AND(B425, PARTITA!AO425=0)","v":false},{"$f":"isNetPoint(PARTITA!AC425)","v":"0"},{"$f":"OR(PARTITA!S425=1, PARTITA!T425=1)","v":false},{"$f":"IF(PARTITA!K425=1,OR(E425=\"1\",E425=\"3\",F425=TRUE),OR(E425=\"2\",E425=\"3\"))","v":false},{"$f":"IF(PARTITA!K425=2,OR(E425=\"1\",E425=\"3\",F425=TRUE),OR(E425=\"2\",E425=\"3\"))","v":false},{"$f":"AND(G425=TRUE,PARTITA!AN425=1)","v":false},{"$f":"AND(H425=TRUE,PARTITA!AN425=2)","v":false},{"$f":"IF(PARTITA!AN425=1,K424+1,0)","v":0},{"$f":"IF(PARTITA!AN425=2,L424+1,0)","v":0},{"$f":"PARTITA!A425","v":""},{"$f":"COUNTIFS(PARTITA!AN416:AN425, \"=1\")","v":0},{"$f":"COUNTIFS(PARTITA!AN416:AN425, \"=2\")","v":0},{"$f":"PARTITA!BA425","v":""}]
[{"$f":"AND(PARTITA!K426=2, COUNTIF(Tables!L$1:L$4, PARTITA!F426))","v":false},{"$f":"AND(PARTITA!K426=1, COUNTIF(Tables!L$1:L$4, PARTITA!F426))","v":false},{"$f":"AND(A426, PARTITA!AO426=0)","v":false},{"$f":"AND(B426, PARTITA!AO426=0)","v":false},{"$f":"isNetPoint(PARTITA!AC426)","v":"0"},{"$f":"OR(PARTITA!S426=1, PARTITA!T426=1)","v":false},{"$f":"IF(PARTITA!K426=1,OR(E426=\"1\",E426=\"3\",F426=TRUE),OR(E426=\"2\",E426=\"3\"))","v":false},{"$f":"IF(PARTITA!K426=2,OR(E426=\"1\",E426=\"3\",F426=TRUE),OR(E426=\"2\",E426=\"3\"))","v":false},{"$f":"AND(G426=TRUE,PARTITA!AN426=1)","v":false},{"$f":"AND(H426=TRUE,PARTITA!AN426=2)","v":false},{"$f":"IF(PARTITA!AN426=1,K425+1,0)","v":0},{"$f":"IF(PARTITA!AN426=2,L425+1,0)","v":0},{"$f":"PARTITA!A426","v":""},{"$f":"COUNTIFS(PARTITA!AN417:AN426, \"=1\")","v":0},{"$f":"COUNTIFS(PARTITA!AN417:AN426, \"=2\")","v":0},{"$f":"PARTITA!BA426","v":""}]
[{"$f":"AND(PARTITA!K427=2, COUNTIF(Tables!L$1:L$4, PARTITA!F427))","v":false},{"$f":"AND(PARTITA!K427=1, COUNTIF(Tables!L$1:L$4, PARTITA!F427))","v":false},{"$f":"AND(A427, PARTITA!AO427=0)","v":false},{"$f":"AND(B427, PARTITA!AO427=0)","v":false},{"$f":"isNetPoint(PARTITA!AC427)","v":"0"},{"$f":"OR(PARTITA!S427=1, PARTITA!T427=1)","v":false},{"$f":"IF(PARTITA!K427=1,OR(E427=\"1\",E427=\"3\",F427=TRUE),OR(E427=\"2\",E427=\"3\"))","v":false},{"$f":"IF(PARTITA!K427=2,OR(E427=\"1\",E427=\"3\",F427=TRUE),OR(E427=\"2\",E427=\"3\"))","v":false},{"$f":"AND(G427=TRUE,PARTITA!AN427=1)","v":false},{"$f":"AND(H427=TRUE,PARTITA!AN427=2)","v":false},{"$f":"IF(PARTITA!AN427=1,K426+1,0)","v":0},{"$f":"IF(PARTITA!AN427=2,L426+1,0)","v":0},{"$f":"PARTITA!A427","v":""},{"$f":"COUNTIFS(PARTITA!AN418:AN427, \"=1\")","v":0},{"$f":"COUNTIFS(PARTITA!AN418:AN427, \"=2\")","v":0},{"$f":"PARTITA!BA427","v":""}]
[{"$f":"AND(PARTITA!K428=2, COUNTIF(Tables!L$1:L$4, PARTITA!F428))","v":false},{"$f":"AND(PARTITA!K428=1, COUNTIF(Tables!L$1:L$4, PARTITA!F428))","v":false},{"$f":"AND(A428, PARTITA!AO428=0)","v":false},{"$f":"AND(B428, PARTITA!AO428=0)","v":false},{"$f":"isNetPoint(PARTITA!AC428)","v":"0"},{"$f":"OR(PARTITA!S428=1, PARTITA!T428=1)","v":false},{"$f":"IF(PARTITA!K428=1,OR(E428=\"1\",E428=\"3\",F428=TRUE),OR(E428=\"2\",E428=\"3\"))","v":false},{"$f":"IF(PARTITA!K428=2,OR(E428=\"1\",E428=\"3\",F428=TRUE),OR(E428=\"2\",E428=\"3\"))","v":false},{"$f":"AND(G428=TRUE,PARTITA!AN428=1)","v":false},{"$f":"AND(H428=TRUE,PARTITA!AN428=2)","v":false},{"$f":"IF(PARTITA!AN428=1,K427+1,0)","v":0},{"$f":"IF(PARTITA!AN428=2,L427+1,0)","v":0},{"$f":"PARTITA!A428","v":""},{"$f":"COUNTIFS(PARTITA!AN419:AN428, \"=1\")","v":0},{"$f":"COUNTIFS(PARTITA!AN419:AN428, \"=2\")","v":0},{"$f":"PARTITA!BA428","v":""}]
[{"$f":"AND(PARTITA!K429=2, COUNTIF(Tables!L$1:L$4, PARTITA!F429))","v":false},{"$f":"AND(PARTITA!K429=1, COUNTIF(Tables!L$1:L$4, PARTITA!F429))","v":false},{"$f":"AND(A429, PARTITA!AO429=0)","v":false},{"$f":"AND(B429, PARTITA!AO429=0)","v":false},{"$f":"isNetPoint(PARTITA!AC429)","v":"0"},{"$f":"OR(PARTITA!S429=1, PARTITA!T429=1)","v":false},{"$f":"IF(PARTITA!K429=1,OR(E429=\"1\",E429=\"3\",F429=TRUE),OR(E429=\"2\",E429=\"3\"))","v":false},{"$f":"IF(PARTITA!K429=2,OR(E429=\"1\",E429=\"3\",F429=TRUE),OR(E429=\"2\",E429=\"3\"))","v":false},{"$f":"AND(G429=TRUE,PARTITA!AN429=1)","v":false},{"$f":"AND(H429=TRUE,PARTITA!AN429=2)","v":false},{"$f":"IF(PARTITA!AN429=1,K428+1,0)","v":0},{"$f":"IF(PARTITA!AN429=2,L428+1,0)","v":0},{"$f":"PARTITA!A429","v":""},{"$f":"COUNTIFS(PARTITA!AN420:AN429, \"=1\")","v":0},{"$f":"COUNTIFS(PARTITA!AN420:AN429, \"=2\")","v":0},{"$f":"PARTITA!BA429","v":""}]
[{"$f":"AND(PARTITA!K430=2, COUNTIF(Tables!L$1:L$4, PARTITA!F430))","v":false},{"$f":"AND(PARTITA!K430=1, COUNTIF(Tables!L$1:L$4, PARTITA!F430))","v":false},{"$f":"AND(A430, PARTITA!AO430=0)","v":false},{"$f":"AND(B430, PARTITA!AO430=0)","v":false},{"$f":"isNetPoint(PARTITA!AC430)","v":"0"},{"$f":"OR(PARTITA!S430=1, PARTITA!T430=1)","v":false},{"$f":"IF(PARTITA!K430=1,OR(E430=\"1\",E430=\"3\",F430=TRUE),OR(E430=\"2\",E430=\"3\"))","v":false},{"$f":"IF(PARTITA!K430=2,OR(E430=\"1\",E430=\"3\",F430=TRUE),OR(E430=\"2\",E430=\"3\"))","v":false},{"$f":"AND(G430=TRUE,PARTITA!AN430=1)","v":false},{"$f":"AND(H430=TRUE,PARTITA!AN430=2)","v":false},{"$f":"IF(PARTITA!AN430=1,K429+1,0)","v":0},{"$f":"IF(PARTITA!AN430=2,L429+1,0)","v":0},{"$f":"PARTITA!A430","v":""},{"$f":"COUNTIFS(PARTITA!AN421:AN430, \"=1\")","v":0},{"$f":"COUNTIFS(PARTITA!AN421:AN430, \"=2\")","v":0},{"$f":"PARTITA!BA430","v":""}]
[{"$f":"AND(PARTITA!K431=2, COUNTIF(Tables!L$1:L$4, PARTITA!F431))","v":false},{"$f":"AND(PARTITA!K431=1, COUNTIF(Tables!L$1:L$4, PARTITA!F431))","v":false},{"$f":"AND(A431, PARTITA!AO431=0)","v":false},{"$f":"AND(B431, PARTITA!AO431=0)","v":false},{"$f":"isNetPoint(PARTITA!AC431)","v":"0"},{"$f":"OR(PARTITA!S431=1, PARTITA!T431=1)","v":false},{"$f":"IF(PARTITA!K431=1,OR(E431=\"1\",E431=\"3\",F431=TRUE),OR(E431=\"2\",E431=\"3\"))","v":false},{"$f":"IF(PARTITA!K431=2,OR(E431=\"1\",E431=\"3\",F431=TRUE),OR(E431=\"2\",E431=\"3\"))","v":false},{"$f":"AND(G431=TRUE,PARTITA!AN431=1)","v":false},{"$f":"AND(H431=TRUE,PARTITA!AN431=2)","v":false},{"$f":"IF(PARTITA!AN431=1,K430+1,0)","v":0},{"$f":"IF(PARTITA!AN431=2,L430+1,0)","v":0},{"$f":"PARTITA!A431","v":""},{"$f":"COUNTIFS(PARTITA!AN422:AN431, \"=1\")","v":0},{"$f":"COUNTIFS(PARTITA!AN422:AN431, \"=2\")","v":0},{"$f":"PARTITA!BA431","v":""}]
[{"$f":"AND(PARTITA!K432=2, COUNTIF(Tables!L$1:L$4, PARTITA!F432))","v":false},{"$f":"AND(PARTITA!K432=1, COUNTIF(Tables!L$1:L$4, PARTITA!F432))","v":false},{"$f":"AND(A432, PARTITA!AO432=0)","v":false},{"$f":"AND(B432, PARTITA!AO432=0)","v":false},{"$f":"isNetPoint(PARTITA!AC432)","v":"0"},{"$f":"OR(PARTITA!S432=1, PARTITA!T432=1)","v":false},{"$f":"IF(PARTITA!K432=1,OR(E432=\"1\",E432=\"3\",F432=TRUE),OR(E432=\"2\",E432=\"3\"))","v":false},{"$f":"IF(PARTITA!K432=2,OR(E432=\"1\",E432=\"3\",F432=TRUE),OR(E432=\"2\",E432=\"3\"))","v":false},{"$f":"AND(G432=TRUE,PARTITA!AN432=1)","v":false},{"$f":"AND(H432=TRUE,PARTITA!AN432=2)","v":false},{"$f":"IF(PARTITA!AN432=1,K431+1,0)","v":0},{"$f":"IF(PARTITA!AN432=2,L431+1,0)","v":0},{"$f":"PARTITA!A432","v":""},{"$f":"COUNTIFS(PARTITA!AN423:AN432, \"=1\")","v":0},{"$f":"COUNTIFS(PARTITA!AN423:AN432, \"=2\")","v":0},{"$f":"PARTITA!BA432","v":""}]
[{"$f":"AND(PARTITA!K433=2, COUNTIF(Tables!L$1:L$4, PARTITA!F433))","v":false},{"$f":"AND(PARTITA!K433=1, COUNTIF(Tables!L$1:L$4, PARTITA!F433))","v":false},{"$f":"AND(A433, PARTITA!AO433=0)","v":false},{"$f":"AND(B433, PARTITA!AO433=0)","v":false},{"$f":"isNetPoint(PARTITA!AC433)","v":"0"},{"$f":"OR(PARTITA!S433=1, PARTITA!T433=1)","v":false},{"$f":"IF(PARTITA!K433=1,OR(E433=\"1\",E433=\"3\",F433=TRUE),OR(E433=\"2\",E433=\"3\"))","v":false},{"$f":"IF(PARTITA!K433=2,OR(E433=\"1\",E433=\"3\",F433=TRUE),OR(E433=\"2\",E433=\"3\"))","v":false},{"$f":"AND(G433=TRUE,PARTITA!AN433=1)","v":false},{"$f":"AND(H433=TRUE,PARTITA!AN433=2)","v":false},{"$f":"IF(PARTITA!AN433=1,K432+1,0)","v":0},{"$f":"IF(PARTITA!AN433=2,L432+1,0)","v":0},{"$f":"PARTITA!A433","v":""},{"$f":"COUNTIFS(PARTITA!AN424:AN433, \"=1\")","v":0},{"$f":"COUNTIFS(PARTITA!AN424:AN433, \"=2\")","v":0},{"$f":"PARTITA!BA433","v":""}]
[{"$f":"AND(PARTITA!K434=2, COUNTIF(Tables!L$1:L$4, PARTITA!F434))","v":false},{"$f":"AND(PARTITA!K434=1, COUNTIF(Tables!L$1:L$4, PARTITA!F434))","v":false},{"$f":"AND(A434, PARTITA!AO434=0)","v":false},{"$f":"AND(B434, PARTITA!AO434=0)","v":false},{"$f":"isNetPoint(PARTITA!AC434)","v":"0"},{"$f":"OR(PARTITA!S434=1, PARTITA!T434=1)","v":false},{"$f":"IF(PARTITA!K434=1,OR(E434=\"1\",E434=\"3\",F434=TRUE),OR(E434=\"2\",E434=\"3\"))","v":false},{"$f":"IF(PARTITA!K434=2,OR(E434=\"1\",E434=\"3\",F434=TRUE),OR(E434=\"2\",E434=\"3\"))","v":false},{"$f":"AND(G434=TRUE,PARTITA!AN434=1)","v":false},{"$f":"AND(H434=TRUE,PARTITA!AN434=2)","v":false},{"$f":"IF(PARTITA!AN434=1,K433+1,0)","v":0},{"$f":"IF(PARTITA!AN434=2,L433+1,0)","v":0},{"$f":"PARTITA!A434","v":""},{"$f":"COUNTIFS(PARTITA!AN425:AN434, \"=1\")","v":0},{"$f":"COUNTIFS(PARTITA!AN425:AN434, \"=2\")","v":0},{"$f":"PARTITA!BA434","v":""}]
[{"$f":"AND(PARTITA!K435=2, COUNTIF(Tables!L$1:L$4, PARTITA!F435))","v":false},{"$f":"AND(PARTITA!K435=1, COUNTIF(Tables!L$1:L$4, PARTITA!F435))","v":false},{"$f":"AND(A435, PARTITA!AO435=0)","v":false},{"$f":"AND(B435, PARTITA!AO435=0)","v":false},{"$f":"isNetPoint(PARTITA!AC435)","v":"0"},{"$f":"OR(PARTITA!S435=1, PARTITA!T435=1)","v":false},{"$f":"IF(PARTITA!K435=1,OR(E435=\"1\",E435=\"3\",F435=TRUE),OR(E435=\"2\",E435=\"3\"))","v":false},{"$f":"IF(PARTITA!K435=2,OR(E435=\"1\",E435=\"3\",F435=TRUE),OR(E435=\"2\",E435=\"3\"))","v":false},{"$f":"AND(G435=TRUE,PARTITA!AN435=1)","v":false},{"$f":"AND(H435=TRUE,PARTITA!AN435=2)","v":false},{"$f":"IF(PARTITA!AN435=1,K434+1,0)","v":0},{"$f":"IF(PARTITA!AN435=2,L434+1,0)","v":0},{"$f":"PARTITA!A435","v":""},{"$f":"COUNTIFS(PARTITA!AN426:AN435, \"=1\")","v":0},{"$f":"COUNTIFS(PARTITA!AN426:AN435, \"=2\")","v":0},{"$f":"PARTITA!BA435","v":""}]
[{"$f":"AND(PARTITA!K436=2, COUNTIF(Tables!L$1:L$4, PARTITA!F436))","v":false},{"$f":"AND(PARTITA!K436=1, COUNTIF(Tables!L$1:L$4, PARTITA!F436))","v":false},{"$f":"AND(A436, PARTITA!AO436=0)","v":false},{"$f":"AND(B436, PARTITA!AO436=0)","v":false},{"$f":"isNetPoint(PARTITA!AC436)","v":"0"},{"$f":"OR(PARTITA!S436=1, PARTITA!T436=1)","v":false},{"$f":"IF(PARTITA!K436=1,OR(E436=\"1\",E436=\"3\",F436=TRUE),OR(E436=\"2\",E436=\"3\"))","v":false},{"$f":"IF(PARTITA!K436=2,OR(E436=\"1\",E436=\"3\",F436=TRUE),OR(E436=\"2\",E436=\"3\"))","v":false},{"$f":"AND(G436=TRUE,PARTITA!AN436=1)","v":false},{"$f":"AND(H436=TRUE,PARTITA!AN436=2)","v":false},{"$f":"IF(PARTITA!AN436=1,K435+1,0)","v":0},{"$f":"IF(PARTITA!AN436=2,L435+1,0)","v":0},{"$f":"PARTITA!A436","v":""},{"$f":"COUNTIFS(PARTITA!AN427:AN436, \"=1\")","v":0},{"$f":"COUNTIFS(PARTITA!AN427:AN436, \"=2\")","v":0},{"$f":"PARTITA!BA436","v":""}]
[{"$f":"AND(PARTITA!K437=2, COUNTIF(Tables!L$1:L$4, PARTITA!F437))","v":false},{"$f":"AND(PARTITA!K437=1, COUNTIF(Tables!L$1:L$4, PARTITA!F437))","v":false},{"$f":"AND(A437, PARTITA!AO437=0)","v":false},{"$f":"AND(B437, PARTITA!AO437=0)","v":false},{"$f":"isNetPoint(PARTITA!AC437)","v":"0"},{"$f":"OR(PARTITA!S437=1, PARTITA!T437=1)","v":false},{"$f":"IF(PARTITA!K437=1,OR(E437=\"1\",E437=\"3\",F437=TRUE),OR(E437=\"2\",E437=\"3\"))","v":false},{"$f":"IF(PARTITA!K437=2,OR(E437=\"1\",E437=\"3\",F437=TRUE),OR(E437=\"2\",E437=\"3\"))","v":false},{"$f":"AND(G437=TRUE,PARTITA!AN437=1)","v":false},{"$f":"AND(H437=TRUE,PARTITA!AN437=2)","v":false},{"$f":"IF(PARTITA!AN437=1,K436+1,0)","v":0},{"$f":"IF(PARTITA!AN437=2,L436+1,0)","v":0},{"$f":"PARTITA!A437","v":""},{"$f":"COUNTIFS(PARTITA!AN428:AN437, \"=1\")","v":0},{"$f":"COUNTIFS(PARTITA!AN428:AN437, \"=2\")","v":0},{"$f":"PARTITA!BA437","v":""}]
[{"$f":"AND(PARTITA!K438=2, COUNTIF(Tables!L$1:L$4, PARTITA!F438))","v":false},{"$f":"AND(PARTITA!K438=1, COUNTIF(Tables!L$1:L$4, PARTITA!F438))","v":false},{"$f":"AND(A438, PARTITA!AO438=0)","v":false},{"$f":"AND(B438, PARTITA!AO438=0)","v":false},{"$f":"isNetPoint(PARTITA!AC438)","v":"0"},{"$f":"OR(PARTITA!S438=1, PARTITA!T438=1)","v":false},{"$f":"IF(PARTITA!K438=1,OR(E438=\"1\",E438=\"3\",F438=TRUE),OR(E438=\"2\",E438=\"3\"))","v":false},{"$f":"IF(PARTITA!K438=2,OR(E438=\"1\",E438=\"3\",F438=TRUE),OR(E438=\"2\",E438=\"3\"))","v":false},{"$f":"AND(G438=TRUE,PARTITA!AN438=1)","v":false},{"$f":"AND(H438=TRUE,PARTITA!AN438=2)","v":false},{"$f":"IF(PARTITA!AN438=1,K437+1,0)","v":0},{"$f":"IF(PARTITA!AN438=2,L437+1,0)","v":0},{"$f":"PARTITA!A438","v":""},{"$f":"COUNTIFS(PARTITA!AN429:AN438, \"=1\")","v":0},{"$f":"COUNTIFS(PARTITA!AN429:AN438, \"=2\")","v":0},{"$f":"PARTITA!BA438","v":""}]
[{"$f":"AND(PARTITA!K439=2, COUNTIF(Tables!L$1:L$4, PARTITA!F439))","v":false},{"$f":"AND(PARTITA!K439=1, COUNTIF(Tables!L$1:L$4, PARTITA!F439))","v":false},{"$f":"AND(A439, PARTITA!AO439=0)","v":false},{"$f":"AND(B439, PARTITA!AO439=0)","v":false},{"$f":"isNetPoint(PARTITA!AC439)","v":"0"},{"$f":"OR(PARTITA!S439=1, PARTITA!T439=1)","v":false},{"$f":"IF(PARTITA!K439=1,OR(E439=\"1\",E439=\"3\",F439=TRUE),OR(E439=\"2\",E439=\"3\"))","v":false},{"$f":"IF(PARTITA!K439=2,OR(E439=\"1\",E439=\"3\",F439=TRUE),OR(E439=\"2\",E439=\"3\"))","v":false},{"$f":"AND(G439=TRUE,PARTITA!AN439=1)","v":false},{"$f":"AND(H439=TRUE,PARTITA!AN439=2)","v":false},{"$f":"IF(PARTITA!AN439=1,K438+1,0)","v":0},{"$f":"IF(PARTITA!AN439=2,L438+1,0)","v":0},{"$f":"PARTITA!A439","v":""},{"$f":"COUNTIFS(PARTITA!AN430:AN439, \"=1\")","v":0},{"$f":"COUNTIFS(PARTITA!AN430:AN439, \"=2\")","v":0},{"$f":"PARTITA!BA439","v":""}]
[{"$f":"AND(PARTITA!K440=2, COUNTIF(Tables!L$1:L$4, PARTITA!F440))","v":false},{"$f":"AND(PARTITA!K440=1, COUNTIF(Tables!L$1:L$4, PARTITA!F440))","v":false},{"$f":"AND(A440, PARTITA!AO440=0)","v":false},{"$f":"AND(B440, PARTITA!AO440=0)","v":false},{"$f":"isNetPoint(PARTITA!AC440)","v":"0"},{"$f":"OR(PARTITA!S440=1, PARTITA!T440=1)","v":false},{"$f":"IF(PARTITA!K440=1,OR(E440=\"1\",E440=\"3\",F440=TRUE),OR(E440=\"2\",E440=\"3\"))","v":false},{"$f":"IF(PARTITA!K440=2,OR(E440=\"1\",E440=\"3\",F440=TRUE),OR(E440=\"2\",E440=\"3\"))","v":false},{"$f":"AND(G440=TRUE,PARTITA!AN440=1)","v":false},{"$f":"AND(H440=TRUE,PARTITA!AN440=2)","v":false},{"$f":"IF(PARTITA!AN440=1,K439+1,0)","v":0},{"$f":"IF(PARTITA!AN440=2,L439+1,0)","v":0},{"$f":"PARTITA!A440","v":""},{"$f":"COUNTIFS(PARTITA!AN431:AN440, \"=1\")","v":0},{"$f":"COUNTIFS(PARTITA!AN431:AN440, \"=2\")","v":0},{"$f":"PARTITA!BA440","v":""}]
[{"$f":"AND(PARTITA!K441=2, COUNTIF(Tables!L$1:L$4, PARTITA!F441))","v":false},{"$f":"AND(PARTITA!K441=1, COUNTIF(Tables!L$1:L$4, PARTITA!F441))","v":false},{"$f":"AND(A441, PARTITA!AO441=0)","v":false},{"$f":"AND(B441, PARTITA!AO441=0)","v":false},{"$f":"isNetPoint(PARTITA!AC441)","v":"0"},{"$f":"OR(PARTITA!S441=1, PARTITA!T441=1)","v":false},{"$f":"IF(PARTITA!K441=1,OR(E441=\"1\",E441=\"3\",F441=TRUE),OR(E441=\"2\",E441=\"3\"))","v":false},{"$f":"IF(PARTITA!K441=2,OR(E441=\"1\",E441=\"3\",F441=TRUE),OR(E441=\"2\",E441=\"3\"))","v":false},{"$f":"AND(G441=TRUE,PARTITA!AN441=1)","v":false},{"$f":"AND(H441=TRUE,PARTITA!AN441=2)","v":false},{"$f":"IF(PARTITA!AN441=1,K440+1,0)","v":0},{"$f":"IF(PARTITA!AN441=2,L440+1,0)","v":0},{"$f":"PARTITA!A441","v":""},{"$f":"COUNTIFS(PARTITA!AN432:AN441, \"=1\")","v":0},{"$f":"COUNTIFS(PARTITA!AN432:AN441, \"=2\")","v":0},{"$f":"PARTITA!BA441","v":""}]
[{"$f":"AND(PARTITA!K442=2, COUNTIF(Tables!L$1:L$4, PARTITA!F442))","v":false},{"$f":"AND(PARTITA!K442=1, COUNTIF(Tables!L$1:L$4, PARTITA!F442))","v":false},{"$f":"AND(A442, PARTITA!AO442=0)","v":false},{"$f":"AND(B442, PARTITA!AO442=0)","v":false},{"$f":"isNetPoint(PARTITA!AC442)","v":"0"},{"$f":"OR(PARTITA!S442=1, PARTITA!T442=1)","v":false},{"$f":"IF(PARTITA!K442=1,OR(E442=\"1\",E442=\"3\",F442=TRUE),OR(E442=\"2\",E442=\"3\"))","v":false},{"$f":"IF(PARTITA!K442=2,OR(E442=\"1\",E442=\"3\",F442=TRUE),OR(E442=\"2\",E442=\"3\"))","v":false},{"$f":"AND(G442=TRUE,PARTITA!AN442=1)","v":false},{"$f":"AND(H442=TRUE,PARTITA!AN442=2)","v":false},{"$f":"IF(PARTITA!AN442=1,K441+1,0)","v":0},{"$f":"IF(PARTITA!AN442=2,L441+1,0)","v":0},{"$f":"PARTITA!A442","v":""},{"$f":"COUNTIFS(PARTITA!AN433:AN442, \"=1\")","v":0},{"$f":"COUNTIFS(PARTITA!AN433:AN442, \"=2\")","v":0},{"$f":"PARTITA!BA442","v":""}]
[{"$f":"AND(PARTITA!K443=2, COUNTIF(Tables!L$1:L$4, PARTITA!F443))","v":false},{"$f":"AND(PARTITA!K443=1, COUNTIF(Tables!L$1:L$4, PARTITA!F443))","v":false},{"$f":"AND(A443, PARTITA!AO443=0)","v":false},{"$f":"AND(B443, PARTITA!AO443=0)","v":false},{"$f":"isNetPoint(PARTITA!AC443)","v":"0"},{"$f":"OR(PARTITA!S443=1, PARTITA!T443=1)","v":false},{"$f":"IF(PARTITA!K443=1,OR(E443=\"1\",E443=\"3\",F443=TRUE),OR(E443=\"2\",E443=\"3\"))","v":false},{"$f":"IF(PARTITA!K443=2,OR(E443=\"1\",E443=\"3\",F443=TRUE),OR(E443=\"2\",E443=\"3\"))","v":false},{"$f":"AND(G443=TRUE,PARTITA!AN443=1)","v":false},{"$f":"AND(H443=TRUE,PARTITA!AN443=2)","v":false},{"$f":"IF(PARTITA!AN443=1,K442+1,0)","v":0},{"$f":"IF(PARTITA!AN443=2,L442+1,0)","v":0},{"$f":"PARTITA!A443","v":""},{"$f":"COUNTIFS(PARTITA!AN434:AN443, \"=1\")","v":0},{"$f":"COUNTIFS(PARTITA!AN434:AN443, \"=2\")","v":0},{"$f":"PARTITA!BA443","v":""}]
[{"$f":"AND(PARTITA!K444=2, COUNTIF(Tables!L$1:L$4, PARTITA!F444))","v":false},{"$f":"AND(PARTITA!K444=1, COUNTIF(Tables!L$1:L$4, PARTITA!F444))","v":false},{"$f":"AND(A444, PARTITA!AO444=0)","v":false},{"$f":"AND(B444, PARTITA!AO444=0)","v":false},{"$f":"isNetPoint(PARTITA!AC444)","v":"0"},{"$f":"OR(PARTITA!S444=1, PARTITA!T444=1)","v":false},{"$f":"IF(PARTITA!K444=1,OR(E444=\"1\",E444=\"3\",F444=TRUE),OR(E444=\"2\",E444=\"3\"))","v":false},{"$f":"IF(PARTITA!K444=2,OR(E444=\"1\",E444=\"3\",F444=TRUE),OR(E444=\"2\",E444=\"3\"))","v":false},{"$f":"AND(G444=TRUE,PARTITA!AN444=1)","v":false},{"$f":"AND(H444=TRUE,PARTITA!AN444=2)","v":false},{"$f":"IF(PARTITA!AN444=1,K443+1,0)","v":0},{"$f":"IF(PARTITA!AN444=2,L443+1,0)","v":0},{"$f":"PARTITA!A444","v":""},{"$f":"COUNTIFS(PARTITA!AN435:AN444, \"=1\")","v":0},{"$f":"COUNTIFS(PARTITA!AN435:AN444, \"=2\")","v":0},{"$f":"PARTITA!BA444","v":""}]
[{"$f":"AND(PARTITA!K445=2, COUNTIF(Tables!L$1:L$4, PARTITA!F445))","v":false},{"$f":"AND(PARTITA!K445=1, COUNTIF(Tables!L$1:L$4, PARTITA!F445))","v":false},{"$f":"AND(A445, PARTITA!AO445=0)","v":false},{"$f":"AND(B445, PARTITA!AO445=0)","v":false},{"$f":"isNetPoint(PARTITA!AC445)","v":"0"},{"$f":"OR(PARTITA!S445=1, PARTITA!T445=1)","v":false},{"$f":"IF(PARTITA!K445=1,OR(E445=\"1\",E445=\"3\",F445=TRUE),OR(E445=\"2\",E445=\"3\"))","v":false},{"$f":"IF(PARTITA!K445=2,OR(E445=\"1\",E445=\"3\",F445=TRUE),OR(E445=\"2\",E445=\"3\"))","v":false},{"$f":"AND(G445=TRUE,PARTITA!AN445=1)","v":false},{"$f":"AND(H445=TRUE,PARTITA!AN445=2)","v":false},{"$f":"IF(PARTITA!AN445=1,K444+1,0)","v":0},{"$f":"IF(PARTITA!AN445=2,L444+1,0)","v":0},{"$f":"PARTITA!A445","v":""},{"$f":"COUNTIFS(PARTITA!AN436:AN445, \"=1\")","v":0},{"$f":"COUNTIFS(PARTITA!AN436:AN445, \"=2\")","v":0},{"$f":"PARTITA!BA445","v":""}]
[{"$f":"AND(PARTITA!K446=2, COUNTIF(Tables!L$1:L$4, PARTITA!F446))","v":false},{"$f":"AND(PARTITA!K446=1, COUNTIF(Tables!L$1:L$4, PARTITA!F446))","v":false},{"$f":"AND(A446, PARTITA!AO446=0)","v":false},{"$f":"AND(B446, PARTITA!AO446=0)","v":false},{"$f":"isNetPoint(PARTITA!AC446)","v":"0"},{"$f":"OR(PARTITA!S446=1, PARTITA!T446=1)","v":false},{"$f":"IF(PARTITA!K446=1,OR(E446=\"1\",E446=\"3\",F446=TRUE),OR(E446=\"2\",E446=\"3\"))","v":false},{"$f":"IF(PARTITA!K446=2,OR(E446=\"1\",E446=\"3\",F446=TRUE),OR(E446=\"2\",E446=\"3\"))","v":false},{"$f":"AND(G446=TRUE,PARTITA!AN446=1)","v":false},{"$f":"AND(H446=TRUE,PARTITA!AN446=2)","v":false},{"$f":"IF(PARTITA!AN446=1,K445+1,0)","v":0},{"$f":"IF(PARTITA!AN446=2,L445+1,0)","v":0},{"$f":"PARTITA!A446","v":""},{"$f":"COUNTIFS(PARTITA!AN437:AN446, \"=1\")","v":0},{"$f":"COUNTIFS(PARTITA!AN437:AN446, \"=2\")","v":0},{"$f":"PARTITA!BA446","v":""}]
[{"$f":"AND(PARTITA!K447=2, COUNTIF(Tables!L$1:L$4, PARTITA!F447))","v":false},{"$f":"AND(PARTITA!K447=1, COUNTIF(Tables!L$1:L$4, PARTITA!F447))","v":false},{"$f":"AND(A447, PARTITA!AO447=0)","v":false},{"$f":"AND(B447, PARTITA!AO447=0)","v":false},{"$f":"isNetPoint(PARTITA!AC447)","v":"0"},{"$f":"OR(PARTITA!S447=1, PARTITA!T447=1)","v":false},{"$f":"IF(PARTITA!K447=1,OR(E447=\"1\",E447=\"3\",F447=TRUE),OR(E447=\"2\",E447=\"3\"))","v":false},{"$f":"IF(PARTITA!K447=2,OR(E447=\"1\",E447=\"3\",F447=TRUE),OR(E447=\"2\",E447=\"3\"))","v":false},{"$f":"AND(G447=TRUE,PARTITA!AN447=1)","v":false},{"$f":"AND(H447=TRUE,PARTITA!AN447=2)","v":false},{"$f":"IF(PARTITA!AN447=1,K446+1,0)","v":0},{"$f":"IF(PARTITA!AN447=2,L446+1,0)","v":0},{"$f":"PARTITA!A447","v":""},{"$f":"COUNTIFS(PARTITA!AN438:AN447, \"=1\")","v":0},{"$f":"COUNTIFS(PARTITA!AN438:AN447, \"=2\")","v":0},{"$f":"PARTITA!BA447","v":""}]
[{"$f":"AND(PARTITA!K448=2, COUNTIF(Tables!L$1:L$4, PARTITA!F448))","v":false},{"$f":"AND(PARTITA!K448=1, COUNTIF(Tables!L$1:L$4, PARTITA!F448))","v":false},{"$f":"AND(A448, PARTITA!AO448=0)","v":false},{"$f":"AND(B448, PARTITA!AO448=0)","v":false},{"$f":"isNetPoint(PARTITA!AC448)","v":"0"},{"$f":"OR(PARTITA!S448=1, PARTITA!T448=1)","v":false},{"$f":"IF(PARTITA!K448=1,OR(E448=\"1\",E448=\"3\",F448=TRUE),OR(E448=\"2\",E448=\"3\"))","v":false},{"$f":"IF(PARTITA!K448=2,OR(E448=\"1\",E448=\"3\",F448=TRUE),OR(E448=\"2\",E448=\"3\"))","v":false},{"$f":"AND(G448=TRUE,PARTITA!AN448=1)","v":false},{"$f":"AND(H448=TRUE,PARTITA!AN448=2)","v":false},{"$f":"IF(PARTITA!AN448=1,K447+1,0)","v":0},{"$f":"IF(PARTITA!AN448=2,L447+1,0)","v":0},{"$f":"PARTITA!A448","v":""},{"$f":"COUNTIFS(PARTITA!AN439:AN448, \"=1\")","v":0},{"$f":"COUNTIFS(PARTITA!AN439:AN448, \"=2\")","v":0},{"$f":"PARTITA!BA448","v":""}]
[{"$f":"AND(PARTITA!K449=2, COUNTIF(Tables!L$1:L$4, PARTITA!F449))","v":false},{"$f":"AND(PARTITA!K449=1, COUNTIF(Tables!L$1:L$4, PARTITA!F449))","v":false},{"$f":"AND(A449, PARTITA!AO449=0)","v":false},{"$f":"AND(B449, PARTITA!AO449=0)","v":false},{"$f":"isNetPoint(PARTITA!AC449)","v":"0"},{"$f":"OR(PARTITA!S449=1, PARTITA!T449=1)","v":false},{"$f":"IF(PARTITA!K449=1,OR(E449=\"1\",E449=\"3\",F449=TRUE),OR(E449=\"2\",E449=\"3\"))","v":false},{"$f":"IF(PARTITA!K449=2,OR(E449=\"1\",E449=\"3\",F449=TRUE),OR(E449=\"2\",E449=\"3\"))","v":false},{"$f":"AND(G449=TRUE,PARTITA!AN449=1)","v":false},{"$f":"AND(H449=TRUE,PARTITA!AN449=2)","v":false},{"$f":"IF(PARTITA!AN449=1,K448+1,0)","v":0},{"$f":"IF(PARTITA!AN449=2,L448+1,0)","v":0},{"$f":"PARTITA!A449","v":""},{"$f":"COUNTIFS(PARTITA!AN440:AN449, \"=1\")","v":0},{"$f":"COUNTIFS(PARTITA!AN440:AN449, \"=2\")","v":0},{"$f":"PARTITA!BA449","v":""}]
[{"$f":"AND(PARTITA!K450=2, COUNTIF(Tables!L$1:L$4, PARTITA!F450))","v":false},{"$f":"AND(PARTITA!K450=1, COUNTIF(Tables!L$1:L$4, PARTITA!F450))","v":false},{"$f":"AND(A450, PARTITA!AO450=0)","v":false},{"$f":"AND(B450, PARTITA!AO450=0)","v":false},{"$f":"isNetPoint(PARTITA!AC450)","v":"0"},{"$f":"OR(PARTITA!S450=1, PARTITA!T450=1)","v":false},{"$f":"IF(PARTITA!K450=1,OR(E450=\"1\",E450=\"3\",F450=TRUE),OR(E450=\"2\",E450=\"3\"))","v":false},{"$f":"IF(PARTITA!K450=2,OR(E450=\"1\",E450=\"3\",F450=TRUE),OR(E450=\"2\",E450=\"3\"))","v":false},{"$f":"AND(G450=TRUE,PARTITA!AN450=1)","v":false},{"$f":"AND(H450=TRUE,PARTITA!AN450=2)","v":false},{"$f":"IF(PARTITA!AN450=1,K449+1,0)","v":0},{"$f":"IF(PARTITA!AN450=2,L449+1,0)","v":0},{"$f":"PARTITA!A450","v":""},{"$f":"COUNTIFS(PARTITA!AN441:AN450, \"=1\")","v":0},{"$f":"COUNTIFS(PARTITA!AN441:AN450, \"=2\")","v":0},{"$f":"PARTITA!BA450","v":""}]
[{"$f":"AND(PARTITA!K451=2, COUNTIF(Tables!L$1:L$4, PARTITA!F451))","v":false},{"$f":"AND(PARTITA!K451=1, COUNTIF(Tables!L$1:L$4, PARTITA!F451))","v":false},{"$f":"AND(A451, PARTITA!AO451=0)","v":false},{"$f":"AND(B451, PARTITA!AO451=0)","v":false},{"$f":"isNetPoint(PARTITA!AC451)","v":"0"},{"$f":"OR(PARTITA!S451=1, PARTITA!T451=1)","v":false},{"$f":"IF(PARTITA!K451=1,OR(E451=\"1\",E451=\"3\",F451=TRUE),OR(E451=\"2\",E451=\"3\"))","v":false},{"$f":"IF(PARTITA!K451=2,OR(E451=\"1\",E451=\"3\",F451=TRUE),OR(E451=\"2\",E451=\"3\"))","v":false},{"$f":"AND(G451=TRUE,PARTITA!AN451=1)","v":false},{"$f":"AND(H451=TRUE,PARTITA!AN451=2)","v":false},{"$f":"IF(PARTITA!AN451=1,K450+1,0)","v":0},{"$f":"IF(PARTITA!AN451=2,L450+1,0)","v":0},{"$f":"PARTITA!A451","v":""},{"$f":"COUNTIFS(PARTITA!AN442:AN451, \"=1\")","v":0},{"$f":"COUNTIFS(PARTITA!AN442:AN451, \"=2\")","v":0},{"$f":"PARTITA!BA451","v":""}]
[{"$f":"AND(PARTITA!K452=2, COUNTIF(Tables!L$1:L$4, PARTITA!F452))","v":false},{"$f":"AND(PARTITA!K452=1, COUNTIF(Tables!L$1:L$4, PARTITA!F452))","v":false},{"$f":"AND(A452, PARTITA!AO452=0)","v":false},{"$f":"AND(B452, PARTITA!AO452=0)","v":false},{"$f":"isNetPoint(PARTITA!AC452)","v":"0"},{"$f":"OR(PARTITA!S452=1, PARTITA!T452=1)","v":false},{"$f":"IF(PARTITA!K452=1,OR(E452=\"1\",E452=\"3\",F452=TRUE),OR(E452=\"2\",E452=\"3\"))","v":false},{"$f":"IF(PARTITA!K452=2,OR(E452=\"1\",E452=\"3\",F452=TRUE),OR(E452=\"2\",E452=\"3\"))","v":false},{"$f":"AND(G452=TRUE,PARTITA!AN452=1)","v":false},{"$f":"AND(H452=TRUE,PARTITA!AN452=2)","v":false},{"$f":"IF(PARTITA!AN452=1,K451+1,0)","v":0},{"$f":"IF(PARTITA!AN452=2,L451+1,0)","v":0},{"$f":"PARTITA!A452","v":""},{"$f":"COUNTIFS(PARTITA!AN443:AN452, \"=1\")","v":0},{"$f":"COUNTIFS(PARTITA!AN443:AN452, \"=2\")","v":0},{"$f":"PARTITA!BA452","v":""}]
[{"$f":"AND(PARTITA!K453=2, COUNTIF(Tables!L$1:L$4, PARTITA!F453))","v":false},{"$f":"AND(PARTITA!K453=1, COUNTIF(Tables!L$1:L$4, PARTITA!F453))","v":false},{"$f":"AND(A453, PARTITA!AO453=0)","v":false},{"$f":"AND(B453, PARTITA!AO453=0)","v":false},{"$f":"isNetPoint(PARTITA!AC453)","v":"0"},{"$f":"OR(PARTITA!S453=1, PARTITA!T453=1)","v":false},{"$f":"IF(PARTITA!K453=1,OR(E453=\"1\",E453=\"3\",F453=TRUE),OR(E453=\"2\",E453=\"3\"))","v":false},{"$f":"IF(PARTITA!K453=2,OR(E453=\"1\",E453=\"3\",F453=TRUE),OR(E453=\"2\",E453=\"3\"))","v":false},{"$f":"AND(G453=TRUE,PARTITA!AN453=1)","v":false},{"$f":"AND(H453=TRUE,PARTITA!AN453=2)","v":false},{"$f":"IF(PARTITA!AN453=1,K452+1,0)","v":0},{"$f":"IF(PARTITA!AN453=2,L452+1,0)","v":0},{"$f":"PARTITA!A453","v":""},{"$f":"COUNTIFS(PARTITA!AN444:AN453, \"=1\")","v":0},{"$f":"COUNTIFS(PARTITA!AN444:AN453, \"=2\")","v":0},{"$f":"PARTITA!BA453","v":""}]
[{"$f":"AND(PARTITA!K454=2, COUNTIF(Tables!L$1:L$4, PARTITA!F454))","v":false},{"$f":"AND(PARTITA!K454=1, COUNTIF(Tables!L$1:L$4, PARTITA!F454))","v":false},{"$f":"AND(A454, PARTITA!AO454=0)","v":false},{"$f":"AND(B454, PARTITA!AO454=0)","v":false},{"$f":"isNetPoint(PARTITA!AC454)","v":"0"},{"$f":"OR(PARTITA!S454=1, PARTITA!T454=1)","v":false},{"$f":"IF(PARTITA!K454=1,OR(E454=\"1\",E454=\"3\",F454=TRUE),OR(E454=\"2\",E454=\"3\"))","v":false},{"$f":"IF(PARTITA!K454=2,OR(E454=\"1\",E454=\"3\",F454=TRUE),OR(E454=\"2\",E454=\"3\"))","v":false},{"$f":"AND(G454=TRUE,PARTITA!AN454=1)","v":false},{"$f":"AND(H454=TRUE,PARTITA!AN454=2)","v":false},{"$f":"IF(PARTITA!AN454=1,K453+1,0)","v":0},{"$f":"IF(PARTITA!AN454=2,L453+1,0)","v":0},{"$f":"PARTITA!A454","v":""},{"$f":"COUNTIFS(PARTITA!AN445:AN454, \"=1\")","v":0},{"$f":"COUNTIFS(PARTITA!AN445:AN454, \"=2\")","v":0},{"$f":"PARTITA!BA454","v":""}]
[{"$f":"AND(PARTITA!K455=2, COUNTIF(Tables!L$1:L$4, PARTITA!F455))","v":false},{"$f":"AND(PARTITA!K455=1, COUNTIF(Tables!L$1:L$4, PARTITA!F455))","v":false},{"$f":"AND(A455, PARTITA!AO455=0)","v":false},{"$f":"AND(B455, PARTITA!AO455=0)","v":false},{"$f":"isNetPoint(PARTITA!AC455)","v":"0"},{"$f":"OR(PARTITA!S455=1, PARTITA!T455=1)","v":false},{"$f":"IF(PARTITA!K455=1,OR(E455=\"1\",E455=\"3\",F455=TRUE),OR(E455=\"2\",E455=\"3\"))","v":false},{"$f":"IF(PARTITA!K455=2,OR(E455=\"1\",E455=\"3\",F455=TRUE),OR(E455=\"2\",E455=\"3\"))","v":false},{"$f":"AND(G455=TRUE,PARTITA!AN455=1)","v":false},{"$f":"AND(H455=TRUE,PARTITA!AN455=2)","v":false},{"$f":"IF(PARTITA!AN455=1,K454+1,0)","v":0},{"$f":"IF(PARTITA!AN455=2,L454+1,0)","v":0},{"$f":"PARTITA!A455","v":""},{"$f":"COUNTIFS(PARTITA!AN446:AN455, \"=1\")","v":0},{"$f":"COUNTIFS(PARTITA!AN446:AN455, \"=2\")","v":0},{"$f":"PARTITA!BA455","v":""}]
[{"$f":"AND(PARTITA!K456=2, COUNTIF(Tables!L$1:L$4, PARTITA!F456))","v":false},{"$f":"AND(PARTITA!K456=1, COUNTIF(Tables!L$1:L$4, PARTITA!F456))","v":false},{"$f":"AND(A456, PARTITA!AO456=0)","v":false},{"$f":"AND(B456, PARTITA!AO456=0)","v":false},{"$f":"isNetPoint(PARTITA!AC456)","v":"0"},{"$f":"OR(PARTITA!S456=1, PARTITA!T456=1)","v":false},{"$f":"IF(PARTITA!K456=1,OR(E456=\"1\",E456=\"3\",F456=TRUE),OR(E456=\"2\",E456=\"3\"))","v":false},{"$f":"IF(PARTITA!K456=2,OR(E456=\"1\",E456=\"3\",F456=TRUE),OR(E456=\"2\",E456=\"3\"))","v":false},{"$f":"AND(G456=TRUE,PARTITA!AN456=1)","v":false},{"$f":"AND(H456=TRUE,PARTITA!AN456=2)","v":false},{"$f":"IF(PARTITA!AN456=1,K455+1,0)","v":0},{"$f":"IF(PARTITA!AN456=2,L455+1,0)","v":0},{"$f":"PARTITA!A456","v":""},{"$f":"COUNTIFS(PARTITA!AN447:AN456, \"=1\")","v":0},{"$f":"COUNTIFS(PARTITA!AN447:AN456, \"=2\")","v":0},{"$f":"PARTITA!BA456","v":""}]
[{"$f":"AND(PARTITA!K457=2, COUNTIF(Tables!L$1:L$4, PARTITA!F457))","v":false},{"$f":"AND(PARTITA!K457=1, COUNTIF(Tables!L$1:L$4, PARTITA!F457))","v":false},{"$f":"AND(A457, PARTITA!AO457=0)","v":false},{"$f":"AND(B457, PARTITA!AO457=0)","v":false},{"$f":"isNetPoint(PARTITA!AC457)","v":"0"},{"$f":"OR(PARTITA!S457=1, PARTITA!T457=1)","v":false},{"$f":"IF(PARTITA!K457=1,OR(E457=\"1\",E457=\"3\",F457=TRUE),OR(E457=\"2\",E457=\"3\"))","v":false},{"$f":"IF(PARTITA!K457=2,OR(E457=\"1\",E457=\"3\",F457=TRUE),OR(E457=\"2\",E457=\"3\"))","v":false},{"$f":"AND(G457=TRUE,PARTITA!AN457=1)","v":false},{"$f":"AND(H457=TRUE,PARTITA!AN457=2)","v":false},{"$f":"IF(PARTITA!AN457=1,K456+1,0)","v":0},{"$f":"IF(PARTITA!AN457=2,L456+1,0)","v":0},{"$f":"PARTITA!A457","v":""},{"$f":"COUNTIFS(PARTITA!AN448:AN457, \"=1\")","v":0},{"$f":"COUNTIFS(PARTITA!AN448:AN457, \"=2\")","v":0},{"$f":"PARTITA!BA457","v":""}]
[{"$f":"AND(PARTITA!K458=2, COUNTIF(Tables!L$1:L$4, PARTITA!F458))","v":false},{"$f":"AND(PARTITA!K458=1, COUNTIF(Tables!L$1:L$4, PARTITA!F458))","v":false},{"$f":"AND(A458, PARTITA!AO458=0)","v":false},{"$f":"AND(B458, PARTITA!AO458=0)","v":false},{"$f":"isNetPoint(PARTITA!AC458)","v":"0"},{"$f":"OR(PARTITA!S458=1, PARTITA!T458=1)","v":false},{"$f":"IF(PARTITA!K458=1,OR(E458=\"1\",E458=\"3\",F458=TRUE),OR(E458=\"2\",E458=\"3\"))","v":false},{"$f":"IF(PARTITA!K458=2,OR(E458=\"1\",E458=\"3\",F458=TRUE),OR(E458=\"2\",E458=\"3\"))","v":false},{"$f":"AND(G458=TRUE,PARTITA!AN458=1)","v":false},{"$f":"AND(H458=TRUE,PARTITA!AN458=2)","v":false},{"$f":"IF(PARTITA!AN458=1,K457+1,0)","v":0},{"$f":"IF(PARTITA!AN458=2,L457+1,0)","v":0},{"$f":"PARTITA!A458","v":""},{"$f":"COUNTIFS(PARTITA!AN449:AN458, \"=1\")","v":0},{"$f":"COUNTIFS(PARTITA!AN449:AN458, \"=2\")","v":0},{"$f":"PARTITA!BA458","v":""}]
[{"$f":"AND(PARTITA!K459=2, COUNTIF(Tables!L$1:L$4, PARTITA!F459))","v":false},{"$f":"AND(PARTITA!K459=1, COUNTIF(Tables!L$1:L$4, PARTITA!F459))","v":false},{"$f":"AND(A459, PARTITA!AO459=0)","v":false},{"$f":"AND(B459, PARTITA!AO459=0)","v":false},{"$f":"isNetPoint(PARTITA!AC459)","v":"0"},{"$f":"OR(PARTITA!S459=1, PARTITA!T459=1)","v":false},{"$f":"IF(PARTITA!K459=1,OR(E459=\"1\",E459=\"3\",F459=TRUE),OR(E459=\"2\",E459=\"3\"))","v":false},{"$f":"IF(PARTITA!K459=2,OR(E459=\"1\",E459=\"3\",F459=TRUE),OR(E459=\"2\",E459=\"3\"))","v":false},{"$f":"AND(G459=TRUE,PARTITA!AN459=1)","v":false},{"$f":"AND(H459=TRUE,PARTITA!AN459=2)","v":false},{"$f":"IF(PARTITA!AN459=1,K458+1,0)","v":0},{"$f":"IF(PARTITA!AN459=2,L458+1,0)","v":0},{"$f":"PARTITA!A459","v":""},{"$f":"COUNTIFS(PARTITA!AN450:AN459, \"=1\")","v":0},{"$f":"COUNTIFS(PARTITA!AN450:AN459, \"=2\")","v":0},{"$f":"PARTITA!BA459","v":""}]
[{"$f":"AND(PARTITA!K460=2, COUNTIF(Tables!L$1:L$4, PARTITA!F460))","v":false},{"$f":"AND(PARTITA!K460=1, COUNTIF(Tables!L$1:L$4, PARTITA!F460))","v":false},{"$f":"AND(A460, PARTITA!AO460=0)","v":false},{"$f":"AND(B460, PARTITA!AO460=0)","v":false},{"$f":"isNetPoint(PARTITA!AC460)","v":"0"},{"$f":"OR(PARTITA!S460=1, PARTITA!T460=1)","v":false},{"$f":"IF(PARTITA!K460=1,OR(E460=\"1\",E460=\"3\",F460=TRUE),OR(E460=\"2\",E460=\"3\"))","v":false},{"$f":"IF(PARTITA!K460=2,OR(E460=\"1\",E460=\"3\",F460=TRUE),OR(E460=\"2\",E460=\"3\"))","v":false},{"$f":"AND(G460=TRUE,PARTITA!AN460=1)","v":false},{"$f":"AND(H460=TRUE,PARTITA!AN460=2)","v":false},{"$f":"IF(PARTITA!AN460=1,K459+1,0)","v":0},{"$f":"IF(PARTITA!AN460=2,L459+1,0)","v":0},{"$f":"PARTITA!A460","v":""},{"$f":"COUNTIFS(PARTITA!AN451:AN460, \"=1\")","v":0},{"$f":"COUNTIFS(PARTITA!AN451:AN460, \"=2\")","v":0},{"$f":"PARTITA!BA460","v":""}]
[{"$f":"AND(PARTITA!K461=2, COUNTIF(Tables!L$1:L$4, PARTITA!F461))","v":false},{"$f":"AND(PARTITA!K461=1, COUNTIF(Tables!L$1:L$4, PARTITA!F461))","v":false},{"$f":"AND(A461, PARTITA!AO461=0)","v":false},{"$f":"AND(B461, PARTITA!AO461=0)","v":false},{"$f":"isNetPoint(PARTITA!AC461)","v":"0"},{"$f":"OR(PARTITA!S461=1, PARTITA!T461=1)","v":false},{"$f":"IF(PARTITA!K461=1,OR(E461=\"1\",E461=\"3\",F461=TRUE),OR(E461=\"2\",E461=\"3\"))","v":false},{"$f":"IF(PARTITA!K461=2,OR(E461=\"1\",E461=\"3\",F461=TRUE),OR(E461=\"2\",E461=\"3\"))","v":false},{"$f":"AND(G461=TRUE,PARTITA!AN461=1)","v":false},{"$f":"AND(H461=TRUE,PARTITA!AN461=2)","v":false},{"$f":"IF(PARTITA!AN461=1,K460+1,0)","v":0},{"$f":"IF(PARTITA!AN461=2,L460+1,0)","v":0},{"$f":"PARTITA!A461","v":""},{"$f":"COUNTIFS(PARTITA!AN452:AN461, \"=1\")","v":0},{"$f":"COUNTIFS(PARTITA!AN452:AN461, \"=2\")","v":0},{"$f":"PARTITA!BA461","v":""}]
[{"$f":"AND(PARTITA!K462=2, COUNTIF(Tables!L$1:L$4, PARTITA!F462))","v":false},{"$f":"AND(PARTITA!K462=1, COUNTIF(Tables!L$1:L$4, PARTITA!F462))","v":false},{"$f":"AND(A462, PARTITA!AO462=0)","v":false},{"$f":"AND(B462, PARTITA!AO462=0)","v":false},{"$f":"isNetPoint(PARTITA!AC462)","v":"0"},{"$f":"OR(PARTITA!S462=1, PARTITA!T462=1)","v":false},{"$f":"IF(PARTITA!K462=1,OR(E462=\"1\",E462=\"3\",F462=TRUE),OR(E462=\"2\",E462=\"3\"))","v":false},{"$f":"IF(PARTITA!K462=2,OR(E462=\"1\",E462=\"3\",F462=TRUE),OR(E462=\"2\",E462=\"3\"))","v":false},{"$f":"AND(G462=TRUE,PARTITA!AN462=1)","v":false},{"$f":"AND(H462=TRUE,PARTITA!AN462=2)","v":false},{"$f":"IF(PARTITA!AN462=1,K461+1,0)","v":0},{"$f":"IF(PARTITA!AN462=2,L461+1,0)","v":0},{"$f":"PARTITA!A462","v":""},{"$f":"COUNTIFS(PARTITA!AN453:AN462, \"=1\")","v":0},{"$f":"COUNTIFS(PARTITA!AN453:AN462, \"=2\")","v":0},{"$f":"PARTITA!BA462","v":""}]
[{"$f":"AND(PARTITA!K463=2, COUNTIF(Tables!L$1:L$4, PARTITA!F463))","v":false},{"$f":"AND(PARTITA!K463=1, COUNTIF(Tables!L$1:L$4, PARTITA!F463))","v":false},{"$f":"AND(A463, PARTITA!AO463=0)","v":false},{"$f":"AND(B463, PARTITA!AO463=0)","v":false},{"$f":"isNetPoint(PARTITA!AC463)","v":"0"},{"$f":"OR(PARTITA!S463=1, PARTITA!T463=1)","v":false},{"$f":"IF(PARTITA!K463=1,OR(E463=\"1\",E463=\"3\",F463=TRUE),OR(E463=\"2\",E463=\"3\"))","v":false},{"$f":"IF(PARTITA!K463=2,OR(E463=\"1\",E463=\"3\",F463=TRUE),OR(E463=\"2\",E463=\"3\"))","v":false},{"$f":"AND(G463=TRUE,PARTITA!AN463=1)","v":false},{"$f":"AND(H463=TRUE,PARTITA!AN463=2)","v":false},{"$f":"IF(PARTITA!AN463=1,K462+1,0)","v":0},{"$f":"IF(PARTITA!AN463=2,L462+1,0)","v":0},{"$f":"PARTITA!A463","v":""},{"$f":"COUNTIFS(PARTITA!AN454:AN463, \"=1\")","v":0},{"$f":"COUNTIFS(PARTITA!AN454:AN463, \"=2\")","v":0},{"$f":"PARTITA!BA463","v":""}]
[{"$f":"AND(PARTITA!K464=2, COUNTIF(Tables!L$1:L$4, PARTITA!F464))","v":false},{"$f":"AND(PARTITA!K464=1, COUNTIF(Tables!L$1:L$4, PARTITA!F464))","v":false},{"$f":"AND(A464, PARTITA!AO464=0)","v":false},{"$f":"AND(B464, PARTITA!AO464=0)","v":false},{"$f":"isNetPoint(PARTITA!AC464)","v":"0"},{"$f":"OR(PARTITA!S464=1, PARTITA!T464=1)","v":false},{"$f":"IF(PARTITA!K464=1,OR(E464=\"1\",E464=\"3\",F464=TRUE),OR(E464=\"2\",E464=\"3\"))","v":false},{"$f":"IF(PARTITA!K464=2,OR(E464=\"1\",E464=\"3\",F464=TRUE),OR(E464=\"2\",E464=\"3\"))","v":false},{"$f":"AND(G464=TRUE,PARTITA!AN464=1)","v":false},{"$f":"AND(H464=TRUE,PARTITA!AN464=2)","v":false},{"$f":"IF(PARTITA!AN464=1,K463+1,0)","v":0},{"$f":"IF(PARTITA!AN464=2,L463+1,0)","v":0},{"$f":"PARTITA!A464","v":""},{"$f":"COUNTIFS(PARTITA!AN455:AN464, \"=1\")","v":0},{"$f":"COUNTIFS(PARTITA!AN455:AN464, \"=2\")","v":0},{"$f":"PARTITA!BA464","v":""}]
[{"$f":"AND(PARTITA!K465=2, COUNTIF(Tables!L$1:L$4, PARTITA!F465))","v":false},{"$f":"AND(PARTITA!K465=1, COUNTIF(Tables!L$1:L$4, PARTITA!F465))","v":false},{"$f":"AND(A465, PARTITA!AO465=0)","v":false},{"$f":"AND(B465, PARTITA!AO465=0)","v":false},{"$f":"isNetPoint(PARTITA!AC465)","v":"0"},{"$f":"OR(PARTITA!S465=1, PARTITA!T465=1)","v":false},{"$f":"IF(PARTITA!K465=1,OR(E465=\"1\",E465=\"3\",F465=TRUE),OR(E465=\"2\",E465=\"3\"))","v":false},{"$f":"IF(PARTITA!K465=2,OR(E465=\"1\",E465=\"3\",F465=TRUE),OR(E465=\"2\",E465=\"3\"))","v":false},{"$f":"AND(G465=TRUE,PARTITA!AN465=1)","v":false},{"$f":"AND(H465=TRUE,PARTITA!AN465=2)","v":false},{"$f":"IF(PARTITA!AN465=1,K464+1,0)","v":0},{"$f":"IF(PARTITA!AN465=2,L464+1,0)","v":0},{"$f":"PARTITA!A465","v":""},{"$f":"COUNTIFS(PARTITA!AN456:AN465, \"=1\")","v":0},{"$f":"COUNTIFS(PARTITA!AN456:AN465, \"=2\")","v":0},{"$f":"PARTITA!BA465","v":""}]
[{"$f":"AND(PARTITA!K466=2, COUNTIF(Tables!L$1:L$4, PARTITA!F466))","v":false},{"$f":"AND(PARTITA!K466=1, COUNTIF(Tables!L$1:L$4, PARTITA!F466))","v":false},{"$f":"AND(A466, PARTITA!AO466=0)","v":false},{"$f":"AND(B466, PARTITA!AO466=0)","v":false},{"$f":"isNetPoint(PARTITA!AC466)","v":"0"},{"$f":"OR(PARTITA!S466=1, PARTITA!T466=1)","v":false},{"$f":"IF(PARTITA!K466=1,OR(E466=\"1\",E466=\"3\",F466=TRUE),OR(E466=\"2\",E466=\"3\"))","v":false},{"$f":"IF(PARTITA!K466=2,OR(E466=\"1\",E466=\"3\",F466=TRUE),OR(E466=\"2\",E466=\"3\"))","v":false},{"$f":"AND(G466=TRUE,PARTITA!AN466=1)","v":false},{"$f":"AND(H466=TRUE,PARTITA!AN466=2)","v":false},{"$f":"IF(PARTITA!AN466=1,K465+1,0)","v":0},{"$f":"IF(PARTITA!AN466=2,L465+1,0)","v":0},{"$f":"PARTITA!A466","v":""},{"$f":"COUNTIFS(PARTITA!AN457:AN466, \"=1\")","v":0},{"$f":"COUNTIFS(PARTITA!AN457:AN466, \"=2\")","v":0},{"$f":"PARTITA!BA466","v":""}]
[{"$f":"AND(PARTITA!K467=2, COUNTIF(Tables!L$1:L$4, PARTITA!F467))","v":false},{"$f":"AND(PARTITA!K467=1, COUNTIF(Tables!L$1:L$4, PARTITA!F467))","v":false},{"$f":"AND(A467, PARTITA!AO467=0)","v":false},{"$f":"AND(B467, PARTITA!AO467=0)","v":false},{"$f":"isNetPoint(PARTITA!AC467)","v":"0"},{"$f":"OR(PARTITA!S467=1, PARTITA!T467=1)","v":false},{"$f":"IF(PARTITA!K467=1,OR(E467=\"1\",E467=\"3\",F467=TRUE),OR(E467=\"2\",E467=\"3\"))","v":false},{"$f":"IF(PARTITA!K467=2,OR(E467=\"1\",E467=\"3\",F467=TRUE),OR(E467=\"2\",E467=\"3\"))","v":false},{"$f":"AND(G467=TRUE,PARTITA!AN467=1)","v":false},{"$f":"AND(H467=TRUE,PARTITA!AN467=2)","v":false},{"$f":"IF(PARTITA!AN467=1,K466+1,0)","v":0},{"$f":"IF(PARTITA!AN467=2,L466+1,0)","v":0},{"$f":"PARTITA!A467","v":""},{"$f":"COUNTIFS(PARTITA!AN458:AN467, \"=1\")","v":0},{"$f":"COUNTIFS(PARTITA!AN458:AN467, \"=2\")","v":0},{"$f":"PARTITA!BA467","v":""}]
[{"$f":"AND(PARTITA!K468=2, COUNTIF(Tables!L$1:L$4, PARTITA!F468))","v":false},{"$f":"AND(PARTITA!K468=1, COUNTIF(Tables!L$1:L$4, PARTITA!F468))","v":false},{"$f":"AND(A468, PARTITA!AO468=0)","v":false},{"$f":"AND(B468, PARTITA!AO468=0)","v":false},{"$f":"isNetPoint(PARTITA!AC468)","v":"0"},{"$f":"OR(PARTITA!S468=1, PARTITA!T468=1)","v":false},{"$f":"IF(PARTITA!K468=1,OR(E468=\"1\",E468=\"3\",F468=TRUE),OR(E468=\"2\",E468=\"3\"))","v":false},{"$f":"IF(PARTITA!K468=2,OR(E468=\"1\",E468=\"3\",F468=TRUE),OR(E468=\"2\",E468=\"3\"))","v":false},{"$f":"AND(G468=TRUE,PARTITA!AN468=1)","v":false},{"$f":"AND(H468=TRUE,PARTITA!AN468=2)","v":false},{"$f":"IF(PARTITA!AN468=1,K467+1,0)","v":0},{"$f":"IF(PARTITA!AN468=2,L467+1,0)","v":0},{"$f":"PARTITA!A468","v":""},{"$f":"COUNTIFS(PARTITA!AN459:AN468, \"=1\")","v":0},{"$f":"COUNTIFS(PARTITA!AN459:AN468, \"=2\")","v":0},{"$f":"PARTITA!BA468","v":""}]
[{"$f":"AND(PARTITA!K469=2, COUNTIF(Tables!L$1:L$4, PARTITA!F469))","v":false},{"$f":"AND(PARTITA!K469=1, COUNTIF(Tables!L$1:L$4, PARTITA!F469))","v":false},{"$f":"AND(A469, PARTITA!AO469=0)","v":false},{"$f":"AND(B469, PARTITA!AO469=0)","v":false},{"$f":"isNetPoint(PARTITA!AC469)","v":"0"},{"$f":"OR(PARTITA!S469=1, PARTITA!T469=1)","v":false},{"$f":"IF(PARTITA!K469=1,OR(E469=\"1\",E469=\"3\",F469=TRUE),OR(E469=\"2\",E469=\"3\"))","v":false},{"$f":"IF(PARTITA!K469=2,OR(E469=\"1\",E469=\"3\",F469=TRUE),OR(E469=\"2\",E469=\"3\"))","v":false},{"$f":"AND(G469=TRUE,PARTITA!AN469=1)","v":false},{"$f":"AND(H469=TRUE,PARTITA!AN469=2)","v":false},{"$f":"IF(PARTITA!AN469=1,K468+1,0)","v":0},{"$f":"IF(PARTITA!AN469=2,L468+1,0)","v":0},{"$f":"PARTITA!A469","v":""},{"$f":"COUNTIFS(PARTITA!AN460:AN469, \"=1\")","v":0},{"$f":"COUNTIFS(PARTITA!AN460:AN469, \"=2\")","v":0},{"$f":"PARTITA!BA469","v":""}]
[{"$f":"AND(PARTITA!K470=2, COUNTIF(Tables!L$1:L$4, PARTITA!F470))","v":false},{"$f":"AND(PARTITA!K470=1, COUNTIF(Tables!L$1:L$4, PARTITA!F470))","v":false},{"$f":"AND(A470, PARTITA!AO470=0)","v":false},{"$f":"AND(B470, PARTITA!AO470=0)","v":false},{"$f":"isNetPoint(PARTITA!AC470)","v":"0"},{"$f":"OR(PARTITA!S470=1, PARTITA!T470=1)","v":false},{"$f":"IF(PARTITA!K470=1,OR(E470=\"1\",E470=\"3\",F470=TRUE),OR(E470=\"2\",E470=\"3\"))","v":false},{"$f":"IF(PARTITA!K470=2,OR(E470=\"1\",E470=\"3\",F470=TRUE),OR(E470=\"2\",E470=\"3\"))","v":false},{"$f":"AND(G470=TRUE,PARTITA!AN470=1)","v":false},{"$f":"AND(H470=TRUE,PARTITA!AN470=2)","v":false},{"$f":"IF(PARTITA!AN470=1,K469+1,0)","v":0},{"$f":"IF(PARTITA!AN470=2,L469+1,0)","v":0},{"$f":"PARTITA!A470","v":""},{"$f":"COUNTIFS(PARTITA!AN461:AN470, \"=1\")","v":0},{"$f":"COUNTIFS(PARTITA!AN461:AN470, \"=2\")","v":0},{"$f":"PARTITA!BA470","v":""}]
[{"$f":"AND(PARTITA!K471=2, COUNTIF(Tables!L$1:L$4, PARTITA!F471))","v":false},{"$f":"AND(PARTITA!K471=1, COUNTIF(Tables!L$1:L$4, PARTITA!F471))","v":false},{"$f":"AND(A471, PARTITA!AO471=0)","v":false},{"$f":"AND(B471, PARTITA!AO471=0)","v":false},{"$f":"isNetPoint(PARTITA!AC471)","v":"0"},{"$f":"OR(PARTITA!S471=1, PARTITA!T471=1)","v":false},{"$f":"IF(PARTITA!K471=1,OR(E471=\"1\",E471=\"3\",F471=TRUE),OR(E471=\"2\",E471=\"3\"))","v":false},{"$f":"IF(PARTITA!K471=2,OR(E471=\"1\",E471=\"3\",F471=TRUE),OR(E471=\"2\",E471=\"3\"))","v":false},{"$f":"AND(G471=TRUE,PARTITA!AN471=1)","v":false},{"$f":"AND(H471=TRUE,PARTITA!AN471=2)","v":false},{"$f":"IF(PARTITA!AN471=1,K470+1,0)","v":0},{"$f":"IF(PARTITA!AN471=2,L470+1,0)","v":0},{"$f":"PARTITA!A471","v":""},{"$f":"COUNTIFS(PARTITA!AN462:AN471, \"=1\")","v":0},{"$f":"COUNTIFS(PARTITA!AN462:AN471, \"=2\")","v":0},{"$f":"PARTITA!BA471","v":""}]
[{"$f":"AND(PARTITA!K472=2, COUNTIF(Tables!L$1:L$4, PARTITA!F472))","v":false},{"$f":"AND(PARTITA!K472=1, COUNTIF(Tables!L$1:L$4, PARTITA!F472))","v":false},{"$f":"AND(A472, PARTITA!AO472=0)","v":false},{"$f":"AND(B472, PARTITA!AO472=0)","v":false},{"$f":"isNetPoint(PARTITA!AC472)","v":"0"},{"$f":"OR(PARTITA!S472=1, PARTITA!T472=1)","v":false},{"$f":"IF(PARTITA!K472=1,OR(E472=\"1\",E472=\"3\",F472=TRUE),OR(E472=\"2\",E472=\"3\"))","v":false},{"$f":"IF(PARTITA!K472=2,OR(E472=\"1\",E472=\"3\",F472=TRUE),OR(E472=\"2\",E472=\"3\"))","v":false},{"$f":"AND(G472=TRUE,PARTITA!AN472=1)","v":false},{"$f":"AND(H472=TRUE,PARTITA!AN472=2)","v":false},{"$f":"IF(PARTITA!AN472=1,K471+1,0)","v":0},{"$f":"IF(PARTITA!AN472=2,L471+1,0)","v":0},{"$f":"PARTITA!A472","v":""},{"$f":"COUNTIFS(PARTITA!AN463:AN472, \"=1\")","v":0},{"$f":"COUNTIFS(PARTITA!AN463:AN472, \"=2\")","v":0},{"$f":"PARTITA!BA472","v":""}]
[{"$f":"AND(PARTITA!K473=2, COUNTIF(Tables!L$1:L$4, PARTITA!F473))","v":false},{"$f":"AND(PARTITA!K473=1, COUNTIF(Tables!L$1:L$4, PARTITA!F473))","v":false},{"$f":"AND(A473, PARTITA!AO473=0)","v":false},{"$f":"AND(B473, PARTITA!AO473=0)","v":false},{"$f":"isNetPoint(PARTITA!AC473)","v":"0"},{"$f":"OR(PARTITA!S473=1, PARTITA!T473=1)","v":false},{"$f":"IF(PARTITA!K473=1,OR(E473=\"1\",E473=\"3\",F473=TRUE),OR(E473=\"2\",E473=\"3\"))","v":false},{"$f":"IF(PARTITA!K473=2,OR(E473=\"1\",E473=\"3\",F473=TRUE),OR(E473=\"2\",E473=\"3\"))","v":false},{"$f":"AND(G473=TRUE,PARTITA!AN473=1)","v":false},{"$f":"AND(H473=TRUE,PARTITA!AN473=2)","v":false},{"$f":"IF(PARTITA!AN473=1,K472+1,0)","v":0},{"$f":"IF(PARTITA!AN473=2,L472+1,0)","v":0},{"$f":"PARTITA!A473","v":""},{"$f":"COUNTIFS(PARTITA!AN464:AN473, \"=1\")","v":0},{"$f":"COUNTIFS(PARTITA!AN464:AN473, \"=2\")","v":0},{"$f":"PARTITA!BA473","v":""}]
[{"$f":"AND(PARTITA!K474=2, COUNTIF(Tables!L$1:L$4, PARTITA!F474))","v":false},{"$f":"AND(PARTITA!K474=1, COUNTIF(Tables!L$1:L$4, PARTITA!F474))","v":false},{"$f":"AND(A474, PARTITA!AO474=0)","v":false},{"$f":"AND(B474, PARTITA!AO474=0)","v":false},{"$f":"isNetPoint(PARTITA!AC474)","v":"0"},{"$f":"OR(PARTITA!S474=1, PARTITA!T474=1)","v":false},{"$f":"IF(PARTITA!K474=1,OR(E474=\"1\",E474=\"3\",F474=TRUE),OR(E474=\"2\",E474=\"3\"))","v":false},{"$f":"IF(PARTITA!K474=2,OR(E474=\"1\",E474=\"3\",F474=TRUE),OR(E474=\"2\",E474=\"3\"))","v":false},{"$f":"AND(G474=TRUE,PARTITA!AN474=1)","v":false},{"$f":"AND(H474=TRUE,PARTITA!AN474=2)","v":false},{"$f":"IF(PARTITA!AN474=1,K473+1,0)","v":0},{"$f":"IF(PARTITA!AN474=2,L473+1,0)","v":0},{"$f":"PARTITA!A474","v":""},{"$f":"COUNTIFS(PARTITA!AN465:AN474, \"=1\")","v":0},{"$f":"COUNTIFS(PARTITA!AN465:AN474, \"=2\")","v":0},{"$f":"PARTITA!BA474","v":""}]
[{"$f":"AND(PARTITA!K475=2, COUNTIF(Tables!L$1:L$4, PARTITA!F475))","v":false},{"$f":"AND(PARTITA!K475=1, COUNTIF(Tables!L$1:L$4, PARTITA!F475))","v":false},{"$f":"AND(A475, PARTITA!AO475=0)","v":false},{"$f":"AND(B475, PARTITA!AO475=0)","v":false},{"$f":"isNetPoint(PARTITA!AC475)","v":"0"},{"$f":"OR(PARTITA!S475=1, PARTITA!T475=1)","v":false},{"$f":"IF(PARTITA!K475=1,OR(E475=\"1\",E475=\"3\",F475=TRUE),OR(E475=\"2\",E475=\"3\"))","v":false},{"$f":"IF(PARTITA!K475=2,OR(E475=\"1\",E475=\"3\",F475=TRUE),OR(E475=\"2\",E475=\"3\"))","v":false},{"$f":"AND(G475=TRUE,PARTITA!AN475=1)","v":false},{"$f":"AND(H475=TRUE,PARTITA!AN475=2)","v":false},{"$f":"IF(PARTITA!AN475=1,K474+1,0)","v":0},{"$f":"IF(PARTITA!AN475=2,L474+1,0)","v":0},{"$f":"PARTITA!A475","v":""},{"$f":"COUNTIFS(PARTITA!AN466:AN475, \"=1\")","v":0},{"$f":"COUNTIFS(PARTITA!AN466:AN475, \"=2\")","v":0},{"$f":"PARTITA!BA475","v":""}]
[{"$f":"AND(PARTITA!K476=2, COUNTIF(Tables!L$1:L$4, PARTITA!F476))","v":false},{"$f":"AND(PARTITA!K476=1, COUNTIF(Tables!L$1:L$4, PARTITA!F476))","v":false},{"$f":"AND(A476, PARTITA!AO476=0)","v":false},{"$f":"AND(B476, PARTITA!AO476=0)","v":false},{"$f":"isNetPoint(PARTITA!AC476)","v":"0"},{"$f":"OR(PARTITA!S476=1, PARTITA!T476=1)","v":false},{"$f":"IF(PARTITA!K476=1,OR(E476=\"1\",E476=\"3\",F476=TRUE),OR(E476=\"2\",E476=\"3\"))","v":false},{"$f":"IF(PARTITA!K476=2,OR(E476=\"1\",E476=\"3\",F476=TRUE),OR(E476=\"2\",E476=\"3\"))","v":false},{"$f":"AND(G476=TRUE,PARTITA!AN476=1)","v":false},{"$f":"AND(H476=TRUE,PARTITA!AN476=2)","v":false},{"$f":"IF(PARTITA!AN476=1,K475+1,0)","v":0},{"$f":"IF(PARTITA!AN476=2,L475+1,0)","v":0},{"$f":"PARTITA!A476","v":""},{"$f":"COUNTIFS(PARTITA!AN467:AN476, \"=1\")","v":0},{"$f":"COUNTIFS(PARTITA!AN467:AN476, \"=2\")","v":0},{"$f":"PARTITA!BA476","v":""}]
[{"$f":"AND(PARTITA!K477=2, COUNTIF(Tables!L$1:L$4, PARTITA!F477))","v":false},{"$f":"AND(PARTITA!K477=1, COUNTIF(Tables!L$1:L$4, PARTITA!F477))","v":false},{"$f":"AND(A477, PARTITA!AO477=0)","v":false},{"$f":"AND(B477, PARTITA!AO477=0)","v":false},{"$f":"isNetPoint(PARTITA!AC477)","v":"0"},{"$f":"OR(PARTITA!S477=1, PARTITA!T477=1)","v":false},{"$f":"IF(PARTITA!K477=1,OR(E477=\"1\",E477=\"3\",F477=TRUE),OR(E477=\"2\",E477=\"3\"))","v":false},{"$f":"IF(PARTITA!K477=2,OR(E477=\"1\",E477=\"3\",F477=TRUE),OR(E477=\"2\",E477=\"3\"))","v":false},{"$f":"AND(G477=TRUE,PARTITA!AN477=1)","v":false},{"$f":"AND(H477=TRUE,PARTITA!AN477=2)","v":false},{"$f":"IF(PARTITA!AN477=1,K476+1,0)","v":0},{"$f":"IF(PARTITA!AN477=2,L476+1,0)","v":0},{"$f":"PARTITA!A477","v":""},{"$f":"COUNTIFS(PARTITA!AN468:AN477, \"=1\")","v":0},{"$f":"COUNTIFS(PARTITA!AN468:AN477, \"=2\")","v":0},{"$f":"PARTITA!BA477","v":""}]
[{"$f":"AND(PARTITA!K478=2, COUNTIF(Tables!L$1:L$4, PARTITA!F478))","v":false},{"$f":"AND(PARTITA!K478=1, COUNTIF(Tables!L$1:L$4, PARTITA!F478))","v":false},{"$f":"AND(A478, PARTITA!AO478=0)","v":false},{"$f":"AND(B478, PARTITA!AO478=0)","v":false},{"$f":"isNetPoint(PARTITA!AC478)","v":"0"},{"$f":"OR(PARTITA!S478=1, PARTITA!T478=1)","v":false},{"$f":"IF(PARTITA!K478=1,OR(E478=\"1\",E478=\"3\",F478=TRUE),OR(E478=\"2\",E478=\"3\"))","v":false},{"$f":"IF(PARTITA!K478=2,OR(E478=\"1\",E478=\"3\",F478=TRUE),OR(E478=\"2\",E478=\"3\"))","v":false},{"$f":"AND(G478=TRUE,PARTITA!AN478=1)","v":false},{"$f":"AND(H478=TRUE,PARTITA!AN478=2)","v":false},{"$f":"IF(PARTITA!AN478=1,K477+1,0)","v":0},{"$f":"IF(PARTITA!AN478=2,L477+1,0)","v":0},{"$f":"PARTITA!A478","v":""},{"$f":"COUNTIFS(PARTITA!AN469:AN478, \"=1\")","v":0},{"$f":"COUNTIFS(PARTITA!AN469:AN478, \"=2\")","v":0},{"$f":"PARTITA!BA478","v":""}]
[{"$f":"AND(PARTITA!K479=2, COUNTIF(Tables!L$1:L$4, PARTITA!F479))","v":false},{"$f":"AND(PARTITA!K479=1, COUNTIF(Tables!L$1:L$4, PARTITA!F479))","v":false},{"$f":"AND(A479, PARTITA!AO479=0)","v":false},{"$f":"AND(B479, PARTITA!AO479=0)","v":false},{"$f":"isNetPoint(PARTITA!AC479)","v":"0"},{"$f":"OR(PARTITA!S479=1, PARTITA!T479=1)","v":false},{"$f":"IF(PARTITA!K479=1,OR(E479=\"1\",E479=\"3\",F479=TRUE),OR(E479=\"2\",E479=\"3\"))","v":false},{"$f":"IF(PARTITA!K479=2,OR(E479=\"1\",E479=\"3\",F479=TRUE),OR(E479=\"2\",E479=\"3\"))","v":false},{"$f":"AND(G479=TRUE,PARTITA!AN479=1)","v":false},{"$f":"AND(H479=TRUE,PARTITA!AN479=2)","v":false},{"$f":"IF(PARTITA!AN479=1,K478+1,0)","v":0},{"$f":"IF(PARTITA!AN479=2,L478+1,0)","v":0},{"$f":"PARTITA!A479","v":""},{"$f":"COUNTIFS(PARTITA!AN470:AN479, \"=1\")","v":0},{"$f":"COUNTIFS(PARTITA!AN470:AN479, \"=2\")","v":0},{"$f":"PARTITA!BA479","v":""}]
[{"$f":"AND(PARTITA!K480=2, COUNTIF(Tables!L$1:L$4, PARTITA!F480))","v":false},{"$f":"AND(PARTITA!K480=1, COUNTIF(Tables!L$1:L$4, PARTITA!F480))","v":false},{"$f":"AND(A480, PARTITA!AO480=0)","v":false},{"$f":"AND(B480, PARTITA!AO480=0)","v":false},{"$f":"isNetPoint(PARTITA!AC480)","v":"0"},{"$f":"OR(PARTITA!S480=1, PARTITA!T480=1)","v":false},{"$f":"IF(PARTITA!K480=1,OR(E480=\"1\",E480=\"3\",F480=TRUE),OR(E480=\"2\",E480=\"3\"))","v":false},{"$f":"IF(PARTITA!K480=2,OR(E480=\"1\",E480=\"3\",F480=TRUE),OR(E480=\"2\",E480=\"3\"))","v":false},{"$f":"AND(G480=TRUE,PARTITA!AN480=1)","v":false},{"$f":"AND(H480=TRUE,PARTITA!AN480=2)","v":false},{"$f":"IF(PARTITA!AN480=1,K479+1,0)","v":0},{"$f":"IF(PARTITA!AN480=2,L479+1,0)","v":0},{"$f":"PARTITA!A480","v":""},{"$f":"COUNTIFS(PARTITA!AN471:AN480, \"=1\")","v":0},{"$f":"COUNTIFS(PARTITA!AN471:AN480, \"=2\")","v":0},{"$f":"PARTITA!BA480","v":""}]
[{"$f":"AND(PARTITA!K481=2, COUNTIF(Tables!L$1:L$4, PARTITA!F481))","v":false},{"$f":"AND(PARTITA!K481=1, COUNTIF(Tables!L$1:L$4, PARTITA!F481))","v":false},{"$f":"AND(A481, PARTITA!AO481=0)","v":false},{"$f":"AND(B481, PARTITA!AO481=0)","v":false},{"$f":"isNetPoint(PARTITA!AC481)","v":"0"},{"$f":"OR(PARTITA!S481=1, PARTITA!T481=1)","v":false},{"$f":"IF(PARTITA!K481=1,OR(E481=\"1\",E481=\"3\",F481=TRUE),OR(E481=\"2\",E481=\"3\"))","v":false},{"$f":"IF(PARTITA!K481=2,OR(E481=\"1\",E481=\"3\",F481=TRUE),OR(E481=\"2\",E481=\"3\"))","v":false},{"$f":"AND(G481=TRUE,PARTITA!AN481=1)","v":false},{"$f":"AND(H481=TRUE,PARTITA!AN481=2)","v":false},{"$f":"IF(PARTITA!AN481=1,K480+1,0)","v":0},{"$f":"IF(PARTITA!AN481=2,L480+1,0)","v":0},{"$f":"PARTITA!A481","v":""},{"$f":"COUNTIFS(PARTITA!AN472:AN481, \"=1\")","v":0},{"$f":"COUNTIFS(PARTITA!AN472:AN481, \"=2\")","v":0},{"$f":"PARTITA!BA481","v":""}]
[{"$f":"AND(PARTITA!K482=2, COUNTIF(Tables!L$1:L$4, PARTITA!F482))","v":false},{"$f":"AND(PARTITA!K482=1, COUNTIF(Tables!L$1:L$4, PARTITA!F482))","v":false},{"$f":"AND(A482, PARTITA!AO482=0)","v":false},{"$f":"AND(B482, PARTITA!AO482=0)","v":false},{"$f":"isNetPoint(PARTITA!AC482)","v":"0"},{"$f":"OR(PARTITA!S482=1, PARTITA!T482=1)","v":false},{"$f":"IF(PARTITA!K482=1,OR(E482=\"1\",E482=\"3\",F482=TRUE),OR(E482=\"2\",E482=\"3\"))","v":false},{"$f":"IF(PARTITA!K482=2,OR(E482=\"1\",E482=\"3\",F482=TRUE),OR(E482=\"2\",E482=\"3\"))","v":false},{"$f":"AND(G482=TRUE,PARTITA!AN482=1)","v":false},{"$f":"AND(H482=TRUE,PARTITA!AN482=2)","v":false},{"$f":"IF(PARTITA!AN482=1,K481+1,0)","v":0},{"$f":"IF(PARTITA!AN482=2,L481+1,0)","v":0},{"$f":"PARTITA!A482","v":""},{"$f":"COUNTIFS(PARTITA!AN473:AN482, \"=1\")","v":0},{"$f":"COUNTIFS(PARTITA!AN473:AN482, \"=2\")","v":0},{"$f":"PARTITA!BA482","v":""}]
[{"$f":"AND(PARTITA!K483=2, COUNTIF(Tables!L$1:L$4, PARTITA!F483))","v":false},{"$f":"AND(PARTITA!K483=1, COUNTIF(Tables!L$1:L$4, PARTITA!F483))","v":false},{"$f":"AND(A483, PARTITA!AO483=0)","v":false},{"$f":"AND(B483, PARTITA!AO483=0)","v":false},{"$f":"isNetPoint(PARTITA!AC483)","v":"0"},{"$f":"OR(PARTITA!S483=1, PARTITA!T483=1)","v":false},{"$f":"IF(PARTITA!K483=1,OR(E483=\"1\",E483=\"3\",F483=TRUE),OR(E483=\"2\",E483=\"3\"))","v":false},{"$f":"IF(PARTITA!K483=2,OR(E483=\"1\",E483=\"3\",F483=TRUE),OR(E483=\"2\",E483=\"3\"))","v":false},{"$f":"AND(G483=TRUE,PARTITA!AN483=1)","v":false},{"$f":"AND(H483=TRUE,PARTITA!AN483=2)","v":false},{"$f":"IF(PARTITA!AN483=1,K482+1,0)","v":0},{"$f":"IF(PARTITA!AN483=2,L482+1,0)","v":0},{"$f":"PARTITA!A483","v":""},{"$f":"COUNTIFS(PARTITA!AN474:AN483, \"=1\")","v":0},{"$f":"COUNTIFS(PARTITA!AN474:AN483, \"=2\")","v":0},{"$f":"PARTITA!BA483","v":""}]
[{"$f":"AND(PARTITA!K484=2, COUNTIF(Tables!L$1:L$4, PARTITA!F484))","v":false},{"$f":"AND(PARTITA!K484=1, COUNTIF(Tables!L$1:L$4, PARTITA!F484))","v":false},{"$f":"AND(A484, PARTITA!AO484=0)","v":false},{"$f":"AND(B484, PARTITA!AO484=0)","v":false},{"$f":"isNetPoint(PARTITA!AC484)","v":"0"},{"$f":"OR(PARTITA!S484=1, PARTITA!T484=1)","v":false},{"$f":"IF(PARTITA!K484=1,OR(E484=\"1\",E484=\"3\",F484=TRUE),OR(E484=\"2\",E484=\"3\"))","v":false},{"$f":"IF(PARTITA!K484=2,OR(E484=\"1\",E484=\"3\",F484=TRUE),OR(E484=\"2\",E484=\"3\"))","v":false},{"$f":"AND(G484=TRUE,PARTITA!AN484=1)","v":false},{"$f":"AND(H484=TRUE,PARTITA!AN484=2)","v":false},{"$f":"IF(PARTITA!AN484=1,K483+1,0)","v":0},{"$f":"IF(PARTITA!AN484=2,L483+1,0)","v":0},{"$f":"PARTITA!A484","v":""},{"$f":"COUNTIFS(PARTITA!AN475:AN484, \"=1\")","v":0},{"$f":"COUNTIFS(PARTITA!AN475:AN484, \"=2\")","v":0},{"$f":"PARTITA!BA484","v":""}]
[{"$f":"AND(PARTITA!K485=2, COUNTIF(Tables!L$1:L$4, PARTITA!F485))","v":false},{"$f":"AND(PARTITA!K485=1, COUNTIF(Tables!L$1:L$4, PARTITA!F485))","v":false},{"$f":"AND(A485, PARTITA!AO485=0)","v":false},{"$f":"AND(B485, PARTITA!AO485=0)","v":false},{"$f":"isNetPoint(PARTITA!AC485)","v":"0"},{"$f":"OR(PARTITA!S485=1, PARTITA!T485=1)","v":false},{"$f":"IF(PARTITA!K485=1,OR(E485=\"1\",E485=\"3\",F485=TRUE),OR(E485=\"2\",E485=\"3\"))","v":false},{"$f":"IF(PARTITA!K485=2,OR(E485=\"1\",E485=\"3\",F485=TRUE),OR(E485=\"2\",E485=\"3\"))","v":false},{"$f":"AND(G485=TRUE,PARTITA!AN485=1)","v":false},{"$f":"AND(H485=TRUE,PARTITA!AN485=2)","v":false},{"$f":"IF(PARTITA!AN485=1,K484+1,0)","v":0},{"$f":"IF(PARTITA!AN485=2,L484+1,0)","v":0},{"$f":"PARTITA!A485","v":""},{"$f":"COUNTIFS(PARTITA!AN476:AN485, \"=1\")","v":0},{"$f":"COUNTIFS(PARTITA!AN476:AN485, \"=2\")","v":0},{"$f":"PARTITA!BA485","v":""}]
[{"$f":"AND(PARTITA!K486=2, COUNTIF(Tables!L$1:L$4, PARTITA!F486))","v":false},{"$f":"AND(PARTITA!K486=1, COUNTIF(Tables!L$1:L$4, PARTITA!F486))","v":false},{"$f":"AND(A486, PARTITA!AO486=0)","v":false},{"$f":"AND(B486, PARTITA!AO486=0)","v":false},{"$f":"isNetPoint(PARTITA!AC486)","v":"0"},{"$f":"OR(PARTITA!S486=1, PARTITA!T486=1)","v":false},{"$f":"IF(PARTITA!K486=1,OR(E486=\"1\",E486=\"3\",F486=TRUE),OR(E486=\"2\",E486=\"3\"))","v":false},{"$f":"IF(PARTITA!K486=2,OR(E486=\"1\",E486=\"3\",F486=TRUE),OR(E486=\"2\",E486=\"3\"))","v":false},{"$f":"AND(G486=TRUE,PARTITA!AN486=1)","v":false},{"$f":"AND(H486=TRUE,PARTITA!AN486=2)","v":false},{"$f":"IF(PARTITA!AN486=1,K485+1,0)","v":0},{"$f":"IF(PARTITA!AN486=2,L485+1,0)","v":0},{"$f":"PARTITA!A486","v":""},{"$f":"COUNTIFS(PARTITA!AN477:AN486, \"=1\")","v":0},{"$f":"COUNTIFS(PARTITA!AN477:AN486, \"=2\")","v":0},{"$f":"PARTITA!BA486","v":""}]
[{"$f":"AND(PARTITA!K487=2, COUNTIF(Tables!L$1:L$4, PARTITA!F487))","v":false},{"$f":"AND(PARTITA!K487=1, COUNTIF(Tables!L$1:L$4, PARTITA!F487))","v":false},{"$f":"AND(A487, PARTITA!AO487=0)","v":false},{"$f":"AND(B487, PARTITA!AO487=0)","v":false},{"$f":"isNetPoint(PARTITA!AC487)","v":"0"},{"$f":"OR(PARTITA!S487=1, PARTITA!T487=1)","v":false},{"$f":"IF(PARTITA!K487=1,OR(E487=\"1\",E487=\"3\",F487=TRUE),OR(E487=\"2\",E487=\"3\"))","v":false},{"$f":"IF(PARTITA!K487=2,OR(E487=\"1\",E487=\"3\",F487=TRUE),OR(E487=\"2\",E487=\"3\"))","v":false},{"$f":"AND(G487=TRUE,PARTITA!AN487=1)","v":false},{"$f":"AND(H487=TRUE,PARTITA!AN487=2)","v":false},{"$f":"IF(PARTITA!AN487=1,K486+1,0)","v":0},{"$f":"IF(PARTITA!AN487=2,L486+1,0)","v":0},{"$f":"PARTITA!A487","v":""},{"$f":"COUNTIFS(PARTITA!AN478:AN487, \"=1\")","v":0},{"$f":"COUNTIFS(PARTITA!AN478:AN487, \"=2\")","v":0},{"$f":"PARTITA!BA487","v":""}]
[{"$f":"AND(PARTITA!K488=2, COUNTIF(Tables!L$1:L$4, PARTITA!F488))","v":false},{"$f":"AND(PARTITA!K488=1, COUNTIF(Tables!L$1:L$4, PARTITA!F488))","v":false},{"$f":"AND(A488, PARTITA!AO488=0)","v":false},{"$f":"AND(B488, PARTITA!AO488=0)","v":false},{"$f":"isNetPoint(PARTITA!AC488)","v":"0"},{"$f":"OR(PARTITA!S488=1, PARTITA!T488=1)","v":false},{"$f":"IF(PARTITA!K488=1,OR(E488=\"1\",E488=\"3\",F488=TRUE),OR(E488=\"2\",E488=\"3\"))","v":false},{"$f":"IF(PARTITA!K488=2,OR(E488=\"1\",E488=\"3\",F488=TRUE),OR(E488=\"2\",E488=\"3\"))","v":false},{"$f":"AND(G488=TRUE,PARTITA!AN488=1)","v":false},{"$f":"AND(H488=TRUE,PARTITA!AN488=2)","v":false},{"$f":"IF(PARTITA!AN488=1,K487+1,0)","v":0},{"$f":"IF(PARTITA!AN488=2,L487+1,0)","v":0},{"$f":"PARTITA!A488","v":""},{"$f":"COUNTIFS(PARTITA!AN479:AN488, \"=1\")","v":0},{"$f":"COUNTIFS(PARTITA!AN479:AN488, \"=2\")","v":0},{"$f":"PARTITA!BA488","v":""}]
[{"$f":"AND(PARTITA!K489=2, COUNTIF(Tables!L$1:L$4, PARTITA!F489))","v":false},{"$f":"AND(PARTITA!K489=1, COUNTIF(Tables!L$1:L$4, PARTITA!F489))","v":false},{"$f":"AND(A489, PARTITA!AO489=0)","v":false},{"$f":"AND(B489, PARTITA!AO489=0)","v":false},{"$f":"isNetPoint(PARTITA!AC489)","v":"0"},{"$f":"OR(PARTITA!S489=1, PARTITA!T489=1)","v":false},{"$f":"IF(PARTITA!K489=1,OR(E489=\"1\",E489=\"3\",F489=TRUE),OR(E489=\"2\",E489=\"3\"))","v":false},{"$f":"IF(PARTITA!K489=2,OR(E489=\"1\",E489=\"3\",F489=TRUE),OR(E489=\"2\",E489=\"3\"))","v":false},{"$f":"AND(G489=TRUE,PARTITA!AN489=1)","v":false},{"$f":"AND(H489=TRUE,PARTITA!AN489=2)","v":false},{"$f":"IF(PARTITA!AN489=1,K488+1,0)","v":0},{"$f":"IF(PARTITA!AN489=2,L488+1,0)","v":0},{"$f":"PARTITA!A489","v":""},{"$f":"COUNTIFS(PARTITA!AN480:AN489, \"=1\")","v":0},{"$f":"COUNTIFS(PARTITA!AN480:AN489, \"=2\")","v":0},{"$f":"PARTITA!BA489","v":""}]
[{"$f":"AND(PARTITA!K490=2, COUNTIF(Tables!L$1:L$4, PARTITA!F490))","v":false},{"$f":"AND(PARTITA!K490=1, COUNTIF(Tables!L$1:L$4, PARTITA!F490))","v":false},{"$f":"AND(A490, PARTITA!AO490=0)","v":false},{"$f":"AND(B490, PARTITA!AO490=0)","v":false},{"$f":"isNetPoint(PARTITA!AC490)","v":"0"},{"$f":"OR(PARTITA!S490=1, PARTITA!T490=1)","v":false},{"$f":"IF(PARTITA!K490=1,OR(E490=\"1\",E490=\"3\",F490=TRUE),OR(E490=\"2\",E490=\"3\"))","v":false},{"$f":"IF(PARTITA!K490=2,OR(E490=\"1\",E490=\"3\",F490=TRUE),OR(E490=\"2\",E490=\"3\"))","v":false},{"$f":"AND(G490=TRUE,PARTITA!AN490=1)","v":false},{"$f":"AND(H490=TRUE,PARTITA!AN490=2)","v":false},{"$f":"IF(PARTITA!AN490=1,K489+1,0)","v":0},{"$f":"IF(PARTITA!AN490=2,L489+1,0)","v":0},{"$f":"PARTITA!A490","v":""},{"$f":"COUNTIFS(PARTITA!AN481:AN490, \"=1\")","v":0},{"$f":"COUNTIFS(PARTITA!AN481:AN490, \"=2\")","v":0},{"$f":"PARTITA!BA490","v":""}]
[{"$f":"AND(PARTITA!K491=2, COUNTIF(Tables!L$1:L$4, PARTITA!F491))","v":false},{"$f":"AND(PARTITA!K491=1, COUNTIF(Tables!L$1:L$4, PARTITA!F491))","v":false},{"$f":"AND(A491, PARTITA!AO491=0)","v":false},{"$f":"AND(B491, PARTITA!AO491=0)","v":false},{"$f":"isNetPoint(PARTITA!AC491)","v":"0"},{"$f":"OR(PARTITA!S491=1, PARTITA!T491=1)","v":false},{"$f":"IF(PARTITA!K491=1,OR(E491=\"1\",E491=\"3\",F491=TRUE),OR(E491=\"2\",E491=\"3\"))","v":false},{"$f":"IF(PARTITA!K491=2,OR(E491=\"1\",E491=\"3\",F491=TRUE),OR(E491=\"2\",E491=\"3\"))","v":false},{"$f":"AND(G491=TRUE,PARTITA!AN491=1)","v":false},{"$f":"AND(H491=TRUE,PARTITA!AN491=2)","v":false},{"$f":"IF(PARTITA!AN491=1,K490+1,0)","v":0},{"$f":"IF(PARTITA!AN491=2,L490+1,0)","v":0},{"$f":"PARTITA!A491","v":""},{"$f":"COUNTIFS(PARTITA!AN482:AN491, \"=1\")","v":0},{"$f":"COUNTIFS(PARTITA!AN482:AN491, \"=2\")","v":0},{"$f":"PARTITA!BA491","v":""}]
[{"$f":"AND(PARTITA!K492=2, COUNTIF(Tables!L$1:L$4, PARTITA!F492))","v":false},{"$f":"AND(PARTITA!K492=1, COUNTIF(Tables!L$1:L$4, PARTITA!F492))","v":false},{"$f":"AND(A492, PARTITA!AO492=0)","v":false},{"$f":"AND(B492, PARTITA!AO492=0)","v":false},{"$f":"isNetPoint(PARTITA!AC492)","v":"0"},{"$f":"OR(PARTITA!S492=1, PARTITA!T492=1)","v":false},{"$f":"IF(PARTITA!K492=1,OR(E492=\"1\",E492=\"3\",F492=TRUE),OR(E492=\"2\",E492=\"3\"))","v":false},{"$f":"IF(PARTITA!K492=2,OR(E492=\"1\",E492=\"3\",F492=TRUE),OR(E492=\"2\",E492=\"3\"))","v":false},{"$f":"AND(G492=TRUE,PARTITA!AN492=1)","v":false},{"$f":"AND(H492=TRUE,PARTITA!AN492=2)","v":false},{"$f":"IF(PARTITA!AN492=1,K491+1,0)","v":0},{"$f":"IF(PARTITA!AN492=2,L491+1,0)","v":0},{"$f":"PARTITA!A492","v":""},{"$f":"COUNTIFS(PARTITA!AN483:AN492, \"=1\")","v":0},{"$f":"COUNTIFS(PARTITA!AN483:AN492, \"=2\")","v":0},{"$f":"PARTITA!BA492","v":""}]
[{"$f":"AND(PARTITA!K493=2, COUNTIF(Tables!L$1:L$4, PARTITA!F493))","v":false},{"$f":"AND(PARTITA!K493=1, COUNTIF(Tables!L$1:L$4, PARTITA!F493))","v":false},{"$f":"AND(A493, PARTITA!AO493=0)","v":false},{"$f":"AND(B493, PARTITA!AO493=0)","v":false},{"$f":"isNetPoint(PARTITA!AC493)","v":"0"},{"$f":"OR(PARTITA!S493=1, PARTITA!T493=1)","v":false},{"$f":"IF(PARTITA!K493=1,OR(E493=\"1\",E493=\"3\",F493=TRUE),OR(E493=\"2\",E493=\"3\"))","v":false},{"$f":"IF(PARTITA!K493=2,OR(E493=\"1\",E493=\"3\",F493=TRUE),OR(E493=\"2\",E493=\"3\"))","v":false},{"$f":"AND(G493=TRUE,PARTITA!AN493=1)","v":false},{"$f":"AND(H493=TRUE,PARTITA!AN493=2)","v":false},{"$f":"IF(PARTITA!AN493=1,K492+1,0)","v":0},{"$f":"IF(PARTITA!AN493=2,L492+1,0)","v":0},{"$f":"PARTITA!A493","v":""},{"$f":"COUNTIFS(PARTITA!AN484:AN493, \"=1\")","v":0},{"$f":"COUNTIFS(PARTITA!AN484:AN493, \"=2\")","v":0},{"$f":"PARTITA!BA493","v":""}]
[{"$f":"AND(PARTITA!K494=2, COUNTIF(Tables!L$1:L$4, PARTITA!F494))","v":false},{"$f":"AND(PARTITA!K494=1, COUNTIF(Tables!L$1:L$4, PARTITA!F494))","v":false},{"$f":"AND(A494, PARTITA!AO494=0)","v":false},{"$f":"AND(B494, PARTITA!AO494=0)","v":false},{"$f":"isNetPoint(PARTITA!AC494)","v":"0"},{"$f":"OR(PARTITA!S494=1, PARTITA!T494=1)","v":false},{"$f":"IF(PARTITA!K494=1,OR(E494=\"1\",E494=\"3\",F494=TRUE),OR(E494=\"2\",E494=\"3\"))","v":false},{"$f":"IF(PARTITA!K494=2,OR(E494=\"1\",E494=\"3\",F494=TRUE),OR(E494=\"2\",E494=\"3\"))","v":false},{"$f":"AND(G494=TRUE,PARTITA!AN494=1)","v":false},{"$f":"AND(H494=TRUE,PARTITA!AN494=2)","v":false},{"$f":"IF(PARTITA!AN494=1,K493+1,0)","v":0},{"$f":"IF(PARTITA!AN494=2,L493+1,0)","v":0},{"$f":"PARTITA!A494","v":""},{"$f":"COUNTIFS(PARTITA!AN485:AN494, \"=1\")","v":0},{"$f":"COUNTIFS(PARTITA!AN485:AN494, \"=2\")","v":0},{"$f":"PARTITA!BA494","v":""}]
[{"$f":"AND(PARTITA!K495=2, COUNTIF(Tables!L$1:L$4, PARTITA!F495))","v":false},{"$f":"AND(PARTITA!K495=1, COUNTIF(Tables!L$1:L$4, PARTITA!F495))","v":false},{"$f":"AND(A495, PARTITA!AO495=0)","v":false},{"$f":"AND(B495, PARTITA!AO495=0)","v":false},{"$f":"isNetPoint(PARTITA!AC495)","v":"0"},{"$f":"OR(PARTITA!S495=1, PARTITA!T495=1)","v":false},{"$f":"IF(PARTITA!K495=1,OR(E495=\"1\",E495=\"3\",F495=TRUE),OR(E495=\"2\",E495=\"3\"))","v":false},{"$f":"IF(PARTITA!K495=2,OR(E495=\"1\",E495=\"3\",F495=TRUE),OR(E495=\"2\",E495=\"3\"))","v":false},{"$f":"AND(G495=TRUE,PARTITA!AN495=1)","v":false},{"$f":"AND(H495=TRUE,PARTITA!AN495=2)","v":false},{"$f":"IF(PARTITA!AN495=1,K494+1,0)","v":0},{"$f":"IF(PARTITA!AN495=2,L494+1,0)","v":0},{"$f":"PARTITA!A495","v":""},{"$f":"COUNTIFS(PARTITA!AN486:AN495, \"=1\")","v":0},{"$f":"COUNTIFS(PARTITA!AN486:AN495, \"=2\")","v":0},{"$f":"PARTITA!BA495","v":""}]
[{"$f":"AND(PARTITA!K496=2, COUNTIF(Tables!L$1:L$4, PARTITA!F496))","v":false},{"$f":"AND(PARTITA!K496=1, COUNTIF(Tables!L$1:L$4, PARTITA!F496))","v":false},{"$f":"AND(A496, PARTITA!AO496=0)","v":false},{"$f":"AND(B496, PARTITA!AO496=0)","v":false},{"$f":"isNetPoint(PARTITA!AC496)","v":"0"},{"$f":"OR(PARTITA!S496=1, PARTITA!T496=1)","v":false},{"$f":"IF(PARTITA!K496=1,OR(E496=\"1\",E496=\"3\",F496=TRUE),OR(E496=\"2\",E496=\"3\"))","v":false},{"$f":"IF(PARTITA!K496=2,OR(E496=\"1\",E496=\"3\",F496=TRUE),OR(E496=\"2\",E496=\"3\"))","v":false},{"$f":"AND(G496=TRUE,PARTITA!AN496=1)","v":false},{"$f":"AND(H496=TRUE,PARTITA!AN496=2)","v":false},{"$f":"IF(PARTITA!AN496=1,K495+1,0)","v":0},{"$f":"IF(PARTITA!AN496=2,L495+1,0)","v":0},{"$f":"PARTITA!A496","v":""},{"$f":"COUNTIFS(PARTITA!AN487:AN496, \"=1\")","v":0},{"$f":"COUNTIFS(PARTITA!AN487:AN496, \"=2\")","v":0},{"$f":"PARTITA!BA496","v":""}]
[{"$f":"AND(PARTITA!K497=2, COUNTIF(Tables!L$1:L$4, PARTITA!F497))","v":false},{"$f":"AND(PARTITA!K497=1, COUNTIF(Tables!L$1:L$4, PARTITA!F497))","v":false},{"$f":"AND(A497, PARTITA!AO497=0)","v":false},{"$f":"AND(B497, PARTITA!AO497=0)","v":false},{"$f":"isNetPoint(PARTITA!AC497)","v":"0"},{"$f":"OR(PARTITA!S497=1, PARTITA!T497=1)","v":false},{"$f":"IF(PARTITA!K497=1,OR(E497=\"1\",E497=\"3\",F497=TRUE),OR(E497=\"2\",E497=\"3\"))","v":false},{"$f":"IF(PARTITA!K497=2,OR(E497=\"1\",E497=\"3\",F497=TRUE),OR(E497=\"2\",E497=\"3\"))","v":false},{"$f":"AND(G497=TRUE,PARTITA!AN497=1)","v":false},{"$f":"AND(H497=TRUE,PARTITA!AN497=2)","v":false},{"$f":"IF(PARTITA!AN497=1,K496+1,0)","v":0},{"$f":"IF(PARTITA!AN497=2,L496+1,0)","v":0},{"$f":"PARTITA!A497","v":""},{"$f":"COUNTIFS(PARTITA!AN488:AN497, \"=1\")","v":0},{"$f":"COUNTIFS(PARTITA!AN488:AN497, \"=2\")","v":0},{"$f":"PARTITA!BA497","v":""}]
[{"$f":"AND(PARTITA!K498=2, COUNTIF(Tables!L$1:L$4, PARTITA!F498))","v":false},{"$f":"AND(PARTITA!K498=1, COUNTIF(Tables!L$1:L$4, PARTITA!F498))","v":false},{"$f":"AND(A498, PARTITA!AO498=0)","v":false},{"$f":"AND(B498, PARTITA!AO498=0)","v":false},{"$f":"isNetPoint(PARTITA!AC498)","v":"0"},{"$f":"OR(PARTITA!S498=1, PARTITA!T498=1)","v":false},{"$f":"IF(PARTITA!K498=1,OR(E498=\"1\",E498=\"3\",F498=TRUE),OR(E498=\"2\",E498=\"3\"))","v":false},{"$f":"IF(PARTITA!K498=2,OR(E498=\"1\",E498=\"3\",F498=TRUE),OR(E498=\"2\",E498=\"3\"))","v":false},{"$f":"AND(G498=TRUE,PARTITA!AN498=1)","v":false},{"$f":"AND(H498=TRUE,PARTITA!AN498=2)","v":false},{"$f":"IF(PARTITA!AN498=1,K497+1,0)","v":0},{"$f":"IF(PARTITA!AN498=2,L497+1,0)","v":0},{"$f":"PARTITA!A498","v":""},{"$f":"COUNTIFS(PARTITA!AN489:AN498, \"=1\")","v":0},{"$f":"COUNTIFS(PARTITA!AN489:AN498, \"=2\")","v":0},{"$f":"PARTITA!BA498","v":""}]
[{"$f":"AND(PARTITA!K499=2, COUNTIF(Tables!L$1:L$4, PARTITA!F499))","v":false},{"$f":"AND(PARTITA!K499=1, COUNTIF(Tables!L$1:L$4, PARTITA!F499))","v":false},{"$f":"AND(A499, PARTITA!AO499=0)","v":false},{"$f":"AND(B499, PARTITA!AO499=0)","v":false},{"$f":"isNetPoint(PARTITA!AC499)","v":"0"},{"$f":"OR(PARTITA!S499=1, PARTITA!T499=1)","v":false},{"$f":"IF(PARTITA!K499=1,OR(E499=\"1\",E499=\"3\",F499=TRUE),OR(E499=\"2\",E499=\"3\"))","v":false},{"$f":"IF(PARTITA!K499=2,OR(E499=\"1\",E499=\"3\",F499=TRUE),OR(E499=\"2\",E499=\"3\"))","v":false},{"$f":"AND(G499=TRUE,PARTITA!AN499=1)","v":false},{"$f":"AND(H499=TRUE,PARTITA!AN499=2)","v":false},{"$f":"IF(PARTITA!AN499=1,K498+1,0)","v":0},{"$f":"IF(PARTITA!AN499=2,L498+1,0)","v":0},{"$f":"PARTITA!A499","v":""},{"$f":"COUNTIFS(PARTITA!AN490:AN499, \"=1\")","v":0},{"$f":"COUNTIFS(PARTITA!AN490:AN499, \"=2\")","v":0},{"$f":"PARTITA!BA499","v":""}]
[{"$f":"AND(PARTITA!K500=2, COUNTIF(Tables!L$1:L$4, PARTITA!F500))","v":false},{"$f":"AND(PARTITA!K500=1, COUNTIF(Tables!L$1:L$4, PARTITA!F500))","v":false},{"$f":"AND(A500, PARTITA!AO500=0)","v":false},{"$f":"AND(B500, PARTITA!AO500=0)","v":false},{"$f":"isNetPoint(PARTITA!AC500)","v":"0"},{"$f":"OR(PARTITA!S500=1, PARTITA!T500=1)","v":false},{"$f":"IF(PARTITA!K500=1,OR(E500=\"1\",E500=\"3\",F500=TRUE),OR(E500=\"2\",E500=\"3\"))","v":false},{"$f":"IF(PARTITA!K500=2,OR(E500=\"1\",E500=\"3\",F500=TRUE),OR(E500=\"2\",E500=\"3\"))","v":false},{"$f":"AND(G500=TRUE,PARTITA!AN500=1)","v":false},{"$f":"AND(H500=TRUE,PARTITA!AN500=2)","v":false},{"$f":"IF(PARTITA!AN500=1,K499+1,0)","v":0},{"$f":"IF(PARTITA!AN500=2,L499+1,0)","v":0},{"$f":"PARTITA!A500","v":""},{"$f":"COUNTIFS(PARTITA!AN491:AN500, \"=1\")","v":0},{"$f":"COUNTIFS(PARTITA!AN491:AN500, \"=2\")","v":0},{"$f":"PARTITA!BA500","v":""}]

{"sheet":"Istruzioni","index":4,"n_rows":240,"n_cols":1,"rows_kept":240,"cut":false,"hidden":false,"merged":[]}
["Prima di iniziare, salvate il file con un nuovo nome identificativo della partita che state mappando, ad esempio \"MatchChart 0.2.0 2013 US Open Djokovic Nadal\"."]
[]
["Aggiunte e cambiamenti della nuova versione 0.2.0 sono evidenziati in giallo."]
[]
["Per iniziare, scrivete nella cella B1 il nome del giocatore che serve per primo e, nella cella B2, quello del suo avversario. Nella cella B3 e B4 va specificata la mano dominante di ciascun giocatore, quindi destra o sinistra. "]
["Scrivete il maggior numero di informazioni nelle celle da B5 a B15. Le celle obbligatorie sono quelle con l'asterisco (*)."]
["Esempi e indicazioni per la compilazione di molte delle celle si trovano nella colonna C. Se in dubbio, provate a seguire il formato (per nomi dei giocatori, tornei e turni) usato su www.tennisabstract.com."]
[]
["Set/tiebreak: la cella B14 indica le regole che governano la partita. È quasi sempre \"1\", che significa che l'ultimo set si chiude con al tiebreak."]
["Se l'ultimo set non si chiude al tiebreak (ad esempio, una partita di singolare di uno Slam a eccezione degli US Open), scrivete \"0\""]
["Se l'ultimo set è un super-tiebreak a 10 punti, scrivete \"S\""]
["Se il tiebreak è giocato su una situazione di punteggio di 8-8- invece di 6-6 (come ad esempio a Wimbledon negli anni '70), scrivete \"W\""]
["Se non è previsto il tibreak (ogni set va ai \"vantaggi\", si gioca cioè finché qualcuno vince di due con uno scarto di due game), scrivete \"V\""]
[]
["Ogni punto ha la sua riga. In ogni riga si possono compilare fino a 3 celle: la prima di servizio (Prima), la seconda di servizio (Seconda) e le Note.  "]
["Iniziate con il primo punto nella cella N18 e O18. Se la prima di servizio è buona, la cella O18 (\"Seconda\") per la seconda di servizio rimane vuota. La cella \"Note\" solitamente non viene compilata."]
[]
["Una volta compilate le celle con tutti i colpi di un punto, il punteggio viene automaticamente aggiornato nella cella AP in modo da non distrarsi dalla mappatura della partita."]
["Se il punteggio che appare automaticamente nella cella AP non riflette quello della partita, è possibile che abbiate fatto un errore nella riga precedente. Specialmente negli scambi lunghi è facile perdere un colpo."]
[]
["Quando la mappatura di una partita è completata, inviate il file a Jeff Sackmann, jeffsackmann@gmail.com, per il caricamento su www.tennisabstract.com."]
[]
["PRINCIPI GENERALI"]
[]
["Ogni singolo colpo, compresi i servizi, deve essere inserito."]
["Per indicare direzione e profondità del colpo si usano i numeri, mentre le lettere si usano per indicare il tipo di colpo [ad esempio \"f\" corrisponde a \"dritto (forehand)\"] e il tipo di errore [\"n\" corrisponde a \"rete (net)\"]."]
["Alcuni simboli sono usati per altri scopi, come la tipologia di errori (ad esempio \"@\" corrisponde a \"errore non forzato\" e \"+\" indica l'approccio a rete immediatamente dopo un colpo)."]
[]
["Se la prima di servizio è buona, l'intero punto è inserito nella cella \"Prima\" (N18). "]
["Se la prima di servizio è fuori, nella cella \"Prima\" (N18)  va inserita solo la prima (la sua direzione e il tipo di errore). La seconda di servizio e lo scambio che ne consegue vanno inseriti nella cella \"Seconda\" (O18)."]
[]
["Guardate l'esempio qui sotto. Nel primo punto, la prima di servizio è buona nella direzione \"6\" e lo scambio successivo \"f27b1*\" viene compilato di seguito."]
["Nel secondo punto, la prima di servizio non è valida nella direzione \"5d\". La seconda di servizio è buona nella direzione \"4\" e lo scambio che ne consegue \"s39b3b1w@\" è inserito di seguito nella colonna \"Seconda\"."]
["Fate sempre riferimento alle istruzioni per sapere esattamente il significato dei numeri, delle lettere e dei simboli!"]
[]
[]
[]
[]
[]
[]
["SERVIZIO"]
[]
["Per ciascun servizio, usate un numero per indicare la direzione."]
["Direzione: 4 = servizio esterno, 5 = servizio al corpo, e 6 = servizio al centro. (Questi numeri sono gli stessi per il lato delle parità e per il lato dei vantaggi)."]
["Se non doveste conoscere la direzione del servizio potete utilizzare il numero 0."]
[]
["Se il servizio è un fallo (perché fuori dal rettangolo del servizio o perché in rete) si usa una lettera minuscola per indicare il tipo di fallo. Ci sono cinque tipi di fallo:"]
["n = rete (net), qualsiasi servizio che finisce in rete, compresi i servizi che toccano il nastro ed escono dal rettangolo di servizio"]
["w = largo (wide), per entrambi i rettangoli del servizio"]
["d = lungo (deep) per entrambi i rettangoli del servizio"]
["x = largo e lungo (wide, deep) per entrambi i rettangoli del servizio"]
["g = fallo di piede"]
["Potete utilizzare la lettera 'e' per un tipo di fallo che non conoscete (ad esempio se non l'avete visto o se le immagini inquadravano altrove)."]
["Nei rari casi in cui i giocatori steccano il servizio, utilizzate \"!\" invece della lettera per indicare il tipo di errore."]
[]
["Quando il giocatore al servizio incorre in una violazione del tempo a disposizione, utilizzate la lettera \"V\" (maiuscola)."]
[]
["Infine, per quanto non obbligatorio, potete segnare anche i nastri (lets) che comportano la ripetizione del servizio.  La lettera per i nastri è \"c\" e può essere utilizzata tutte le volte in cui il servizio tocca il nastro e viene ripetuto.  "]
[]
["ESEMPI"]
["6 = servizio al centro dentro il rettangolo del servizio."]
["4 = servizio esterno dentro il rettangolo del servizio."]
["6x = servizio al centro che è largo e lungo."]
["5d = servizio al corpo che è lungo"]
["cc4e = due nastri, seguiti da un servizio esterno che esce dal rettangolo del servizio ma non sapete in che modo (se lungo o largo o entrambi)."]
[]
["Esiste anche un simbolo opzionale \"+\" per indicare i tentativi di servizio-e-volée, che potete usare sia quando il servizio è buono, sia quando è fuori."]
["Ad esempio, un tentativo di servizio-e-volée su un servizio esterno lungo viene indicato come \"4+w\"."]
["Se il servizio è buono, iniziate con la direzione e il segno +, seguiti dall'inserimento dello scambio come mostrato in seguito."]
[]
["ESITO DEL SERVIZIO"]
[]
["Ci sono quattro categorie per quei punti che non vanno oltre il servizio:"]
[]
["1. Ace: aggiungete un * alla notazione per il servizio e lasciate vuoto lo spazio per lo scambio. Ad esempio \"5*\" indica un ace al corpo."]
["2. Servizi vincenti (unreturnable): come per gli ace, solamente aggiungete un #. Quindi, \"6#\" è un servizio al centro che l'altro giocatore tocca in qualche modo ma a cui non riesce a rispondere (altre informazioni più avanti)."]
["3. Errori forzati: inserite la risposta come mostrato più avanti (in SEQUENZA DELLO SCAMBIO) insieme alla notazione per l'errore forzato'#'. Ad esempio: 6f#"]
["4. Errori non forzati: inserite la risposta come mostrato più avanti insieme alla notazione per l'errore non forzato '@'. Ad esempio: 6f2d@"]
[]
["Come regola generale, i \"servizi vincenti\" sono quelli in cui il giocatore alla risposta non riesce a colpire la pallina con tutto il piatto corde (compreso quando stecca), non riesce a mandare la risposta fino alla rete o manda la pallina lontano dal campo o sugli spalti."]
["Tutte le altre risposte sono errori forzati o errori non forzati. "]
["Distinguere tra errori forzati e non forzati in risposta al servizio è sempre una questione spinosa. "]
["Come intepretazione molto generale, errori in risposta alla prima di servizio sono di solito forzati, mentre errori in risposta alla seconda di servizio sono spesso non forzati."]
["Tuttatavia, specialmente tra gli uomini, molti errori in risposta alla seconda di servizio sono forzati."]
[]
["SEQUENZA DELLO SCAMBIO"]
[]
["Qualsiasi colpo dopo il servizio (con l'eccezione delle risposte al servizio e degli errori forzati che concludono il punto. Altre informazioni su questo più avanti) richiede due caratteri:"]
["una lettera per indicare il tipo di colpo e un numero per la direzione."]
[]
["Questo è l'elenco di lettere che identificano la tipologia di colpi. Per molti tipi di colpi ci sono lettere differenti per il lato del dritto e per il lato del rovescio."]
[]
["f = dritto a rimbalzo piatto o in topspin (esclusi slice, chip, etc.)"]
["b = rovescio a rimbalzo piatto o in topspin (esclusi slice, chip, etc.)"]
[]
["r = dritto tagliato (compresi chip difensivi ma non le palle corte)"]
["s = rovescio tagliato (compresi chip difensivi ma non le palle corte)"]
[]
["v = volée di dritto (bassa o alta)"]
["z = volée di rovescio (bassa o alta)"]
["(vedere più avanti nella sezione [OPZIONALE] POSIZIONE IN CAMPO per il codice aggiuntivo di identificazione delle volée smorzate)"]
[]
["o = smash classico o recupero in allungo su un pallonetto (colpito di dritto)"]
["p = veronica o recupero in allungo su un pallonetto (colpito di rovescio)"]
[]
["u = palla corta di dritto"]
["y = palla corta di rovescio"]
[]
["l = pallonetto di dritto"]
["m = pallonetto di rovescio"]
[]
["h = demi-volée di dritto"]
["i = demi-volée di rovescio"]
[]
["j = dritto al volo"]
["k = rovescio al volo"]
[]
["t = tutti i colpi inusuali, compresi quelli dietro la schiena, tra le gambe, \"tweeners\", etc."]
[]
["q = qualsiasi colpo diverso dai precedenti"]
[]
["Questi sono i numeri che indicano la direzione:"]
["1 = lato del dritto per un destro / lato del rovescio per un mancino"]
["2 = al centro del campo"]
["3 = lato del rovescio per un destro / lato del dritto per un mancino"]
[]
["\"Al centro del campo\" rappresenta poco più di un terzo del campo. Per quanto non serve la precisione millimetrica, "]
[" può essere utile pensare a 2 per il 40% del campo, mentre 1 e 3 indicano il 30% più esterno, da un lato e dell'altro. "]
["Può essere più facile pensare a un colpo \"al centro del campo\" come a un classico scambio da fondo, anche se richiede all'altro giocatore di doversi spostare uno o due passi verso il lato destro o sinistro del campo."]
[]
["In generale, la direzione del colpo deve indicare la parte del campo dove il colpo ha incrociato (o avrebbe incrociato) la linea di fondo del lato di campo dell'avversario. Ad esempio, se il giocatore 1"]
["serve esterno nel lato delle parità e il giocatore 2 risponde incrociato, la pallina può rimbalzare al centro del campo ma incrociare poi la linea di fondo nell'angolo."]
["In un caso come questo, la direzione è 1 (sul lato del dritto per un destro), non 2 (al centro del campo)."]
[]
["Come con il servizio, si può utilizzare il numero 0 per indicare una direzione sconosciuta."]
[]
["La direzione del colpo non è obbligatoria, e nella mappatura delle prime partite, suggerisco di concentrarsi sulla tipologia di colpi."]
["Con il tempo, imparate ad aggiungere la direzione del colpo, perché consente una dimensione di analisi molto più ampia. "]
[]
["ESEMPI"]
["f1 = dritto in topspin sul lato del dritto (se è un destro); questo è il tipico dritto incrociato"]
["s2 = rovescio in slice al centro del campo"]
["u3 = palla corta di dritto sul lato del rovescio dell'avversario (se è un destro)"]
["b3s3b1f1v2 = (ipotizzando che entrambi i giocatori siano destri) rovescio in topspin incrociato, rovescio in slice incrociato, rovescio in topspin lungolinea, dritto in topspin incrociato, volée di dritto al centro."]
["fbh = dritto in topspin, rovescio in topspin, demi-volée di dritto, tutti colpi senza che ne sia specificata la direzione. Come detto, questa notazione può andare bene. "]
[]
["TERMINE DELLO SCAMBIO"]
[]
["Vincenti: inserite lo scambio come nell'esempio precedente aggiungendo un * per indicare il colpo vincente."]
["Esempio: f3* = dritto in topspin vincente lungolinea"]
[]
["Errori: inserite lo scambio come nell'esempio precedente, compreso il colpo finale tentato dal giocatore che ha poi perso il punto. "]
["Aggiungete uno dei tipi di errore [gli stessi utilizzati per un servizio sbagliato: n = rete (net), w = largo (wide), d = lungo (deep), x = largo e lungo (wide, deep), ! = steccata,  e = sconosciuto] alla fine dell'ultimo colpo."]
["Infine, aggiungete uno di questi due caratteri in fondo: @ = errore non forzato o # = errore forzato."]
[]
["Nel caso in cui lo scambio termini con un errore, potete usare fino a quattro elementi per descrivere il colpo falloso:"]
["tipo di colpo (ad esempio 'f') / direzione (ad esempio '1') / tipo di errore (ad esempio 'n') / forzato o non forzato (ad esempio '#')"]
[]
["Per gli errori non forzati, il tipo di colpo, il tipo di errore e il simbolo dell'errore non forzato \"@\" sono obbligatori; la direzione (come per gli altri colpi dopo il servizio) è opzionale."]
["Per gli errori forzati, solo il tipo di colpo e il simbolo per dell'errore forzato \"#\" sono obbligatori. Ad esempio \"b#\" va bene. Se volete aggiungere più informazioni (ad esempio \"b3d#\"), ancora meglio."]
[]
["Esempio: f2f1f1v2n@ = dritto in topspin al centro, dritto in topspin incrociato, dritto in topspin incrociato, volée di dritto al centro in rete (errore non forzato)."]
[]
["Ricordate che la notazione dello scambio è inserita nella stessa cella del servizio valido (Prima o Seconda), quindi la notazione completa è:"]
["5f2f1f1v2n@ = servizio al corpo, seguito dallo scambio descritto nell'esempio precedente."]
[]
["[OPZIONALE] PROFONDITA' DELLA RISPOSTA AL SERVIZIO"]
[]
["La profondità della risposta è molto importante e quando le risposte al servizio rimangono in campo, aggiungiamo una notazione numerica specifica:"]
["7 = dentro ai rettangoli del servizio. 8 = oltre la linea del servizio, ma più vicina alla linea del servizio che alla linea di fondo. 9 = più vicina alla linea di fondo che alla linea del servizio."]
[]
["Quindi, la risposta al servizio richiede tre elementi: (1) il tipo di colpo, (2) la direzione del colpo, e (3) la profondità del colpo."]
[]
["Esempio: f37 = risposta di dritto in topspin sul lato del rovescio dell'avversario (se è un destro) che rimbalza dentro al rettangolo del servizio o vicino alla linea di servizio."]
[]
["Fate attenzione a non fermarvi troppo a pensare alla profondità, perché lo scambio va avanti veloce! Potete sempre utilizzare 0 se non sapete indicare la profondità o tralasciarla del tutto."]
["Come la direzione del colpo, anche quest'indicazione è opzionale, ma averla è davvero molto utile!"]
[]
["[OPZIONALE] POSIZIONE IN CAMPO"]
[]
["Nella maggior parte dei casi, la notazione del colpo indica già la posizione in campo. Se un giocatore deve recupare una palla corta, o colpire una volée, o uno smash"]
["probabilmente è già venuto a rete. Per gli altri colpi, probabilmente non si trova a rete, ma a fondo campo. Tuttavia, vogliamo essere più precisi."]
[]
["Per indicare un colpo di approccio a rete, aggiungete un + subito dopo la notazione per il colpo. Ad esempio, \"b+2\" è un approccio di rovescio al centro."]
["Questo non solo aiuta nell'identificazione degli approcci a rete, ma permette anche di identificare i passanti e i tentativi di passante."]
["Come detto, il + indica anche i tentativi di servizio-e-volée, quindi ad esempio \"4+b27v1*\" è un punto con un servizio esterno seguito a rete, una risposta di rovescio in topspin centrale all'interno della linea del servizio, "]
["una volée di dritto vincente."]
[]
["Voleè, demi-volée, dritto o rovescio al volo, e smash si presume vengano colpiti a rete. Colpi di scambio, palle corte, pallonetti e colpi inusuali, si presume siano colpiti a fondo campo. "]
["Nel caso non sia così, utilizzate \"-\" e \"=\" subito dopo la notazione per il colpo.  Il segno - significa che il colpo è stato giocato a rete, il segno = significa che il colpo è stato giocato a fondo campo."]
["Esempi: \"f-1\" è un dritto in topspin sul lato del dritto dell'avversario (se è un destro) giocato vicino in prossimità della rete; \"o=2\" è uno smash al centro colpito in prossimità della linea di fondo."]
[]
["Infine, un \";\" può essere aggiunto per ogni colpo che ha colpito il nastro. Ad esempio \"f;1*\" è un dritto in topspin vincente sul lato del dritto dell'avversario (se è un destro) che ha colpito il nastro prima di rimbalzare sul campo dell'avversario."]
[]
["Volée smorzate: se una volée è colpita in modo da finire vicino alla rete (come se fosse una palla corta), usate il codice aggiuntivo \"^\". Ad esempio, \"z^2*\" è una volée di rovescio (\"z\") smorzata (\"^\") al centro (\"2\") vincente (\"*\")."]
[]
["Come per altre notazioni opzionali, la mappatura della partita può essere analizzata anche in assenza di questi quattro elementi. La posizione in campio è sicuramente utile, ma ha anche l'importanza minore tra tutte le indicazioni discusse fino a questo momento."]
[]
["SITUAZIONI NON COMUNI"]
[]
["Se per qualche ragione vi capita di non riuscire a mappare uno o due punti, va bene lo stesso. Una 'S' (maiuscola) nella cella Prima assegna quel punto al giocatore al servizio; una 'R' (maiuscola) assegna il punto al giocatore alla risposta.  "]
["Se non riuscite a mappare diversi punti e non siete sicuri della sequenza…andate avanti e provate a fare un'ipotesi. Aggiungete una nota nella colonna Note per segnalare le informazioni mancanti."]
[]
["Un evento raro ma comunque importante è il punto di penalità. Se per qualche ragione un giocatore è penalizzato di un punto, usate un solo carattere nella cella Prima per la prima di servizio."]
["P (maiuscola) = punto di penalità contro il giocatore al servizio, e Q (maiuscola) = punto di penalità contro il giocatore alla risposta. "]
[]
["Per il momento, il sistema non tiene conto dei challenge con Hawk-Eye e altre decisioni prese direttamente dal giudice di sedia (gli overrule). "]
["Se un punto viene rigiocato dall'inizio, cancellate semplicemente il punto inserito e cominciate da capo con il nuovo punto sostitutivo."]
["Se un challenge determina il risutalto di un punto, modificate quanto inserito in modo che tenga conto dell'esito del challenge."]
[]
["Infine, la colonna Note è a disposizione per inserire informazioni su tutto quanto non rientri nelle precedenti categorie."]
["Inserite nella colonna Note i challenge, i time-out medici, le interruzioni per pioggia, l'ingresso dell'allenatore in campo per le partite WTA, l'avvertimento per violazione del tempo a disposizione, e qualsiasi altra informazione che ritenete degna di nota."]
["Non c'è una modalità predefinita, ma per favore evitate di usare le virgole."]
[]
["Come regola generale, se succede qualcosa tra un punto e l'altro (ad esempio un time-out medico successivo alla conclusione di un game), inseritelo nella colonna Note nella cella del punto *precedente*."]
[]
[]
["SUGGERIMENTI"]
[]
["Inizialmente, ci vorrà del tempo prima di familiarizzare con questo sistema. Provate quindi a mappare partite registrate (ce ne sono molte su YouTube ad esempio) e preparatevi a usare"]
["le funzioni di pausa e riavvolgimento frequentemente."]
[]
["All'inizio, ignorate la direzione del colpo. Concentratevi sulla tipologia del colpo in modo da imparare la notazione dei singoli colpi, degli errori (@ e #) e della tipologia di errore."]
["Successivamente, aggiungete la direzione del colpo (1, 2, e 3).  Quando iniziate ad aggiugere la direzione, vi consiglio vivamente di mappare una partita tra due giocatori destri, non importa quanto vogliate farne una di Nadal o della Kvitova."]
["Una volta che avete acquisito dimestichezza con la direzione del colpo, provate ad aggiungere la profondità della risposta (7, 8 e 9). Questo probabilmente è il passaggio più difficile, "]
["perché dovete inserire la notazione per il servizio e per gli altri tre elementi (la tipologia di colpo, la direzione e la profondità della risposta) in una quantità di tempo davvero breve."]
["Infine, aggiungete la posizione in campo, per i colpi di approccio e altri colpi che vengono giocati in punti del campo non usuali, come gli smash da fondo."]
[]
["Con un po' di allenamento, dovreste essere in grado di mappare una partita in diretta.  "]
["Il maggior ostacolo è semplicemente quello di pensare troppo. Se vi fermate a riflettere se un colpo era al centro o lungolinea, perderete il colpo successivo."]
["Questo ha conseguenze maggiori per la risposta al servizio. Non abbiate timore a usare la notazione per la direzione sconosciuta (\"0\") o ometterla del tutto."]
[]
["Considerate che il sistema prevede notazioni \"sconosciute\" per qualsiasi passaggio del processo. Se vi sieti persi la direzione del servizio o di un colpo, usate \"0\". Se vi siete persi il tipo di colpo, usate \"q\"."]
["Se un colpo è uscito ma non sapete in quale direzione, usate \"e\". Se vi perdete un punto intero, usate \"R\" (maiuscola) se è stato vinto dal giocatore alla risposta o \"S\" (maiuscola) se è stato vinto dal giocatore al servizio."]
[]
["A volte, sono le stesse immagini televisive a costringervi a usare queste notazioni, perché ad esempio ripartono quando il punto è gia in corso di svolgimento"]
[" o tengono la telecamera fissa sul giocatore al servizio durante tutto il punto. Sfortunatamente, non tutte le partite mappate potranno essere complete. "]
["Tuttavia, avere il 95% dei dati di una partita è sufficiente a identificare sviluppi e tendenze, e 95% è molto meglio di niente!"]
[]
["Per qualsiasi domanda o suggerimento, mandate pure una mail a Jeff Sackmann (jeffsackmann@gmail.com) o a 76@settesei.it."]

{"sheet":"Licenza_Attribuzione","index":5,"n_rows":15,"n_cols":2,"rows_kept":15,"cut":false,"hidden":false,"merged":[]}
[null,"LICENZA LIMITATA"]
[]
[null,"Questo template MatchChart è di unica ed esclusiva proprietà di Jeff Sackmann/Tennis Abstract. E' concesso in utilizzo secondo la licenza Internazionale Creative Commons"]
[null,"Attribution-NonCommercial-ShareAlike 4.0 (http://creativecommons.org/licenses/by-nc-sa/4.0/) esclusivamente per il vostro utilizzo finalizzato"]
[null,"a contribuire a Tennis Abstract e al MatchCharting Project."]
[]
[null,"ATTRIBUZIONE"]
[]
[null,"Utilizzando questo template e inviandone i contenuti a Jeff Sackmann/Tennis Abstract, assegnate e trasferite a Jeff Sackmann/Tennis Abstract"]
[null,"qualsiasi diritto potreste vantare su qualsiasi parte o contenuto di questo file e di altri file utilizzando un template MatchChart fornito da"]
[null,"Jeff Sackmann/Tennis Abstract, e tutti i relativi diritti di proprietà intellettuale, compreso qualsiasi diritto d'autore applicabile in tutto il mondo."]
[null,"Riconoscete che: (1) Jeff Sackmann/Tennis Abstract possano mostrare, distribuire copie, effettuare analisi, riprodurre e utilizzare"]
[null,"tutti i contenuti del file in relazione a Tennis Abstract, al Match Charting Project e a tutte le attività a essi legate,"]
[null,"compresa la combinazione dei contenuti con altro materiale e l'adattamento dei contenuti in diversa forma(e), e (2) non vantate alcun diritto sui contenuti del file,"]
[null,"o cedete qualsiasi diritto potreste vantare di remunerazione di questa attività o del vostro contributo al Match Charting Project."]